{"text_format":"1","workbook":"xlsx","n_sheets":6,"sheets":["Stammdaten Betrieb & Abteilung","Stammdaten Mitarbeitende","Saisonale Ausfallstunden","Abrechnung von Kurzarbeit","Hilfsdaten","Übersetzungstexte"],"not_rendered":{"charts":0,"images":0,"macros":1,"external_links":0,"defined_names":1,"comments":0,"pivot_tables":0},"unopened":[],"bounds":{"document_bytes":16777216,"sheet_cells":100000,"rows_first":2000,"rows_last":500,"rows_between":2000,"halvings":0,"cell_chars":16384,"cell_head_chars":4096},"cells_cut":0,"cells_raw":0,"read":"whole","date_system":"1900"}

{"sheet":"Stammdaten Betrieb & Abteilung","index":0,"n_rows":34,"n_cols":5,"rows_kept":34,"cut":false,"hidden":false,"merged":[[25,0,25,1],[11,0,11,1]]}
[{"$f":"Übersetzungstexte!A95","v":"BUR-Nr."},null,null,{"$f":"CONCATENATE(TEXT(B1,\"#\"),\"  \",B2)","v":"  "}]
[{"$f":"Übersetzungstexte!A96","v":"Firmenname"}]
[{"$f":"Übersetzungstexte!A97","v":"Strasse/Nr."},null,null,{"$f":"CONCATENATE(B3,\" \")","v":" "}]
[{"$f":"Übersetzungstexte!A98","v":"PLZ"},null,null,{"$f":"CONCATENATE(B4,\" \",B5)","v":" "}]
[{"$f":"Übersetzungstexte!A99","v":"Ort"}]
[]
[{"$f":"Übersetzungstexte!A100","v":"Ansprechperson"}]
[{"$f":"Übersetzungstexte!A101","v":"Telefon"}]
[{"$f":"Übersetzungstexte!A102","v":"Telefax"}]
[{"$f":"Übersetzungstexte!A103","v":"e-Mail"}]
[{"$f":"Übersetzungstexte!A104","v":"Zahlungsverbindung"}]
[{"$f":"E12","v":""},null,null,{"$f":"CONCATENATE(Übersetzungstexte!A109,\"  \",TEXT(DAY(B15),\"00\"),\".\",TEXT(MONTH(B15),\"00\"),\".\",YEAR(B15))","v":{"$error":"#VALUE!"}},{"$f":"IF(AND(NOT($B$14=\"\"),OR($B$14<DATE(2023,1,1),$B$14>DATE(2023,3,31))),Übersetzungstexte!A106,\"\")","v":""}]
[{"$f":"Übersetzungstexte!A105","v":"Betrieb/Betriebsabteilung"},null,null,{"$f":"CONCATENATE(B13,\" \")","v":" "}]
[{"$f":"Übersetzungstexte!A107","v":"Abrechnungsperiode"},null,null,{"$f":"IF(B14=\"\",\"\",CONCATENATE(TEXT(MONTH(B14),\"00\"),\".\",YEAR(B14)))","v":""}]
[{"$f":"Übersetzungstexte!A108","v":"Eingabefrist"},{"$f":"IF(D15=\"\",\"\",IF(D15+4>12,DATE(YEAR(B14)+1,D15-8,1)-1,DATE(YEAR(B14),D15+4,1)-1))","v":""},null,{"$f":"IF(B14=\"\",\"\",MONTH(B14))","v":""}]
[{"$f":"Übersetzungstexte!A110","v":"Beginn Kurzarbeit"},null,null,{"$f":"CONCATENATE(IF(B16=\"\",\"\",CONCATENATE(TEXT(DAY(B16),\"00\"),\".\",TEXT(MONTH(B16),\"00\"),\".\",YEAR(B16))),IF(B17=\"\",\"\",\" / \"),IF(B17=\"\",\"\",CONCATENATE(TEXT(DAY(B17),\"00\"),\".\",TEXT(MONTH(B17),\"00\"),\".\",YEAR(B17))))","v":""}]
[{"$f":"Übersetzungstexte!A111","v":"Ende Kurzarbeit"}]
[{"$f":"Übersetzungstexte!A112","v":"Betriebsgrösse"},null,null,{"$f":"IF(NOT(B18=\"\"),VLOOKUP(B$18,Hilfsdaten!$F$3:'Hilfsdaten'!$G$25,2,TRUE),\"\")","v":""}]
[null,{"$f":"IF(AND(D19<>\"\",D19>0),Übersetzungstexte!A128,\"\")","v":""},null,{"$f":"IF(NOT(B18=\"\"),VLOOKUP(B$18,Hilfsdaten!$F$3:'Hilfsdaten'!$H$25,3,TRUE),\"\")","v":""}]
[{"$f":"Übersetzungstexte!A113","v":"Anzahl Arbeitstage/Jahr"},{"$f":"IF(NOT(B14=\"\"),VLOOKUP(B$14,Hilfsdaten!$A$3:'Hilfsdaten'!$D$40,2,TRUE),\"\")","v":""}]
[{"$f":"Übersetzungstexte!A114","v":"Jahresd. wöchentl. Normalarbeitsz."}]
[{"$f":"Übersetzungstexte!A115","v":"Max. massgeb. Verdienst"},{"$f":"IF(NOT(B14=\"\"),VLOOKUP(B$14,Hilfsdaten!$A$3:'Hilfsdaten'!$D$40,3,TRUE),\"\")","v":""}]
[{"$f":"Übersetzungstexte!A116","v":"Saisonal bed. Arbeitsausfall %"},{"$f":"'Saisonale Ausfallstunden'!M1440","v":0}]
[{"$f":"Übersetzungstexte!A117","v":"Karenztage"},{"$f":"D24","v":""},null,{"$f":"IF(NOT(B14=\"\"),VLOOKUP(B$14,Hilfsdaten!$J$20:'Hilfsdaten'!$K$28,2,TRUE),\"\")","v":""}]
[{"$f":"Übersetzungstexte!A118","v":"Beitragssatz AHV/IV/EO/ALV%"},{"$f":"IF(NOT(B14=\"\"),VLOOKUP(B$14,Hilfsdaten!$A$3:'Hilfsdaten'!$D$40,4,TRUE),\"\")","v":""}]
[{"$f":"Übersetzungstexte!A123","v":"Formular anwendbar bei Kurzarbeit (ordentliches Verfahren) - Gültig von Januar bis März 2023 "}]
[{"$f":"Übersetzungstexte!A120","v":"TCRD Beilage-Nr."}]
[{"$f":"Übersetzungstexte!A121","v":"TCRD Verfügungs-Nr."}]
[{"$f":"Übersetzungstexte!A122","v":"TCRD Kurzzeichen Inspektor"}]
[]
[{"$f":"Übersetzungstexte!A124","v":"Farbcode Ein-/Ausgabefelder"}]
[{"$f":"Übersetzungstexte!A125","v":"Eingabe erforderlich"}]
[{"$f":"Übersetzungstexte!A126","v":"Wert fehlerhaft"}]
[{"$f":"Übersetzungstexte!A127","v":"Ausgabefeld"}]

{"sheet":"Stammdaten Mitarbeitende","index":1,"n_rows":1437,"n_cols":27,"rows_kept":1437,"cut":false,"hidden":false,"merged":[[3,0,3,11]]}
[{"$f":"'Stammdaten Betrieb & Abteilung'!D$1","v":"  "},null,null,null,null,null,{"$f":"Übersetzungstexte!A$135","v":"Betrieb / Betriebsabteilung"},{"$f":"'Stammdaten Betrieb & Abteilung'!D$13","v":" "},null,null,null,null,null,null,null,null,null,null,null,null,null,null,null,null,null,null,"Mit Versicherten-Nr."]
[{"$f":"'Stammdaten Betrieb & Abteilung'!D$3","v":" "},null,null,null,null,null,{"$f":"Übersetzungstexte!A$136","v":"Abrechnungsperiode"},{"$f":"'Stammdaten Betrieb & Abteilung'!D$14","v":""},null,null,null,null,null,{"$f":"YEAR('Stammdaten Betrieb & Abteilung'!B$14)","v":1900},null,null,null,null,null,null,null,null,null,null,null,null,{"$f":"IF(AND(A10=\"\",B10=\"\",C10=\"\"),\"\",IF(A10<>\"\",CONCATENATE(TEXT(A10,\"000\\.0000\\.0000\\.00\"),\"                                   \",B10,\",\",C10),CONCATENATE(\"                                                                 \",B10,\",\",C10)))","v":""}]
[{"$f":"'Stammdaten Betrieb & Abteilung'!D$4","v":" "},null,null,null,null,null,{"$f":"Übersetzungstexte!A$137","v":"Beginn / Ende der Kurzarbeit"},{"$f":"'Stammdaten Betrieb & Abteilung'!D$16","v":""},null,null,null,null,null,{"$f":"Hilfsdaten!K11","v":18}]
[{"$f":"Übersetzungstexte!A123","v":"Formular anwendbar bei Kurzarbeit (ordentliches Verfahren) - Gültig von Januar bis März 2023 "},null,null,null,null,null,null,null,null,null,null,null,null,{"$f":"'Stammdaten Betrieb & Abteilung'!B$20","v":""},null,null,null,null,null,null,null,null,{"$f":"'Stammdaten Betrieb & Abteilung'!B$22-1","v":{"$error":"#VALUE!"}}]
[{"$f":"Übersetzungstexte!A$138","v":""},{"$f":"Übersetzungstexte!A$142","v":""},{"$f":"Übersetzungstexte!A$146","v":""},{"$f":"Übersetzungstexte!A$150","v":""},{"$f":"Übersetzungstexte!A$154","v":""},{"$f":"Übersetzungstexte!A$158","v":""},{"$f":"Übersetzungstexte!A$162","v":"Anzahl bez."},{"$f":"Übersetzungstexte!A$166","v":"Weitere"},{"$f":"Übersetzungstexte!A$170","v":"Jahres-"},{"$f":"Übersetzungstexte!A$174","v":""},{"$f":"Übersetzungstexte!A$178","v":""},{"$f":"Übersetzungstexte!A$182","v":"Anrechen-"},null,null,"Anzahl","Regel 7",null,"Regel 9","Regel 10","Regel 11","Regel 12","Regel 13","Regel 14","Regel 10-14","Regel 14","Regel 14"]
[{"$f":"Übersetzungstexte!A$139","v":""},{"$f":"Übersetzungstexte!A$143","v":""},{"$f":"Übersetzungstexte!A$147","v":""},{"$f":"Übersetzungstexte!A$151","v":""},{"$f":"Übersetzungstexte!A$155","v":""},{"$f":"Übersetzungstexte!A$159","v":""},{"$f":"Übersetzungstexte!A$163","v":"Monate "},{"$f":"Übersetzungstexte!A$167","v":"Lohn-"},{"$f":"Übersetzungstexte!A$171","v":"durchschn."},{"$f":"Übersetzungstexte!A$175","v":"Anzahl"},{"$f":"Übersetzungstexte!A$179","v":"Anzahl"},{"$f":"Übersetzungstexte!A$183","v":"barer"},null,null,"bezugs-","  FF12","S13 / 12","  deApM","Std. Lohn","Std. Lohn","Monatslohn","Monatslohn","Vergleichs-","Anrechenb.","Anrechenb.","Warnungs-"]
[{"$f":"Übersetzungstexte!A$140","v":""},{"$f":"Übersetzungstexte!A$144","v":""},{"$f":"Übersetzungstexte!A$148","v":""},{"$f":"Übersetzungstexte!A$152","v":"Geburts-"},{"$f":"Übersetzungstexte!A$156","v":"Monats-"},{"$f":"Übersetzungstexte!A$160","v":"Stunden-"},{"$f":"Übersetzungstexte!A$164","v":"pro Jahr"},{"$f":"Übersetzungstexte!A$168","v":"bestand-"},{"$f":"Übersetzungstexte!A$172","v":"wöchentl."},{"$f":"Übersetzungstexte!A$176","v":"Ferientage"},{"$f":"Übersetzungstexte!A$180","v":"Feiertage"},{"$f":"Übersetzungstexte!A$184","v":"Stunden-"},null,"AHV-","berechtigte",null,null,null,"ohne","mit","ohne","mit","wert","Std.-Verd.","Std.-","anzeige"]
[{"$f":"Übersetzungstexte!A$141","v":"Versicherten-Nr."},{"$f":"Übersetzungstexte!A$145","v":"Name"},{"$f":"Übersetzungstexte!A$149","v":"Vorname"},{"$f":"Übersetzungstexte!A$153","v":"datum"},{"$f":"Übersetzungstexte!A$157","v":"lohn"},{"$f":"Übersetzungstexte!A$161","v":"lohn"},{"$f":"Übersetzungstexte!A$165","v":"(12/13)"},{"$f":"Übersetzungstexte!A$169","v":"teile p. Jahr"},{"$f":"Übersetzungstexte!A$173","v":"Arbeitszeit"},{"$f":"Übersetzungstexte!A$177","v":"pro Jahr"},{"$f":"Übersetzungstexte!A$181","v":"pro Jahr"},{"$f":"Übersetzungstexte!A$185","v":"Verdienst"},null,"pflichtig","Mitarbeiter",null,null,null,"Prämie","Prämie","Prämie","Prämie",null,"aSV","Verdienst",null,"Name,Vorname"]
[7561234567895,"Mustermann","Hans","1960-06-30",5000,null,12,5000,40,20,6,{"$f":"Y9","v":{"$error":"#VALUE!"}},{"$f":"Z9","v":{"$error":"#VALUE!"}},{"$f":"IF(N$2-YEAR(D9)<N$3,0,1)","v":0},{"$f":"IF(L9=\"\",0,1)","v":{"$error":"#VALUE!"}},{"$f":"IF(AND(A9=\"\",B9=\"\",C9=\"\"),\"\",ROUND((K9+J9)/(N$4-(K9+J9))*100,2))","v":{"$error":"#VALUE!"}},{"$f":"ROUND(G9,0)/12","v":1},{"$f":"IF(AND(A9=\"\",B9=\"\",C9=\"\"),\"\",ROUND((N$4-(K9+J9))*I9/60,1))","v":{"$error":"#VALUE!"}},{"$f":"IF(OR(AND(A9=\"\",B9=\"\",C9=\"\"),F9=0,F9=\"\"),\"\",ROUND((1+P9/100)*Q9*F9,2))","v":""},{"$f":"IF(OR(AND(A9=\"\",B9=\"\",C9=\"\"),F9=0,F9=\"\",I9=0,I9=\"\"),\"\",ROUND((1+P9/100)*(H9/(N$4*I9/5)+Q9*F9),2))","v":""},{"$f":"IF(OR(AND(A9=\"\",B9=\"\",C9=\"\"),E9=0,E9=\"\",R9=0,R9=\"\"),\"\",ROUND((Q9*E9/R9),2))","v":{"$error":"#VALUE!"}},{"$f":"IF(OR(AND(A9=\"\",B9=\"\",C9=\"\"),E9=0,E9=\"\",R9=0,R9=\"\"),\"\",ROUND((H9/(12*Q9*E9)+1)*Q9*E9/R9,2))","v":{"$error":"#VALUE!"}},{"$f":"IF(OR(AND(A9=\"\",B9=\"\",C9=\"\"),R9=0,R9=\"\"),\"\",ROUND(W$4 / R9,1))","v":{"$error":"#VALUE!"}},{"$f":"IF(OR(AND(A9=\"\",B9=\"\",C9=\"\"),N$4=\"\"),\"\",IF(AND(F9>0,H9>0),T9, IF(F9>0,S9, IF(AND(E9>0,H9>0),V9,U9))))","v":""},{"$f":"IF(W9<X9,W9,X9)","v":{"$error":"#VALUE!"}},{"$f":"IF(W9<X9,Übersetzungstexte!A$186,\"\")","v":{"$error":"#VALUE!"}},{"$f":"IF(AND(B9=\"\",C9=\"\"),\"\",CONCATENATE(B9,\",\",C9))","v":"Mustermann,Hans"}]
[null,null,null,null,null,null,null,null,null,null,null,{"$f":"Y10","v":""},{"$f":"Z10","v":""},{"$f":"IF(N$2-YEAR(D10)<N$3,0,1)","v":0},{"$f":"IF(L10=\"\",0,1)","v":0},{"$f":"IF(AND(A10=\"\",B10=\"\",C10=\"\"),\"\",ROUND((K10+J10)/(N$4-(K10+J10))*100,2))","v":""},{"$f":"ROUND(G10,0)/12","v":0},{"$f":"IF(AND(A10=\"\",B10=\"\",C10=\"\"),\"\",ROUND((N$4-(K10+J10))*I10/60,1))","v":""},{"$f":"IF(OR(AND(A10=\"\",B10=\"\",C10=\"\"),F10=0,F10=\"\"),\"\",ROUND((1+P10/100)*Q10*F10,2))","v":""},{"$f":"IF(OR(AND(A10=\"\",B10=\"\",C10=\"\"),F10=0,F10=\"\",I10=0,I10=\"\"),\"\",ROUND((1+P10/100)*(H10/(N$4*I10/5)+Q10*F10),2))","v":""},{"$f":"IF(OR(AND(A10=\"\",B10=\"\",C10=\"\"),E10=0,E10=\"\",R10=0,R10=\"\"),\"\",ROUND((Q10*E10/R10),2))","v":""},{"$f":"IF(OR(AND(A10=\"\",B10=\"\",C10=\"\"),E10=0,E10=\"\",R10=0,R10=\"\"),\"\",ROUND((H10/(12*Q10*E10)+1)*Q10*E10/R10,2))","v":""},{"$f":"IF(OR(AND(A10=\"\",B10=\"\",C10=\"\"),R10=0,R10=\"\"),\"\",ROUND(W$4 / R10,1))","v":""},{"$f":"IF(OR(AND(A10=\"\",B10=\"\",C10=\"\"),N$4=\"\"),\"\",IF(AND(F10>0,H10>0),T10, IF(F10>0,S10, IF(AND(E10>0,H10>0),V10,U10))))","v":""},{"$f":"IF(W10<X10,W10,X10)","v":""},{"$f":"IF(W10<X10,Übersetzungstexte!A$186,\"\")","v":""},{"$f":"IF(AND(B10=\"\",C10=\"\"),\"\",CONCATENATE(B10,\",\",C10))","v":""}]
[null,null,null,null,null,null,null,null,null,null,null,{"$f":"Y11","v":""},{"$f":"Z11","v":""},0,0,"",0,"","","","","","","","",{"$f":"IF(W11<X11,Übersetzungstexte!A$186,\"\")","v":""},""]
[null,null,null,null,null,null,null,null,null,null,null,"","",0,0,"",0,"","","","","","","","",{"$f":"IF(W12<X12,Übersetzungstexte!A$186,\"\")","v":""},""]
[null,null,null,null,null,null,null,null,null,null,null,"","",0,0,"",0,"","","","","","","","",{"$f":"IF(W13<X13,Übersetzungstexte!A$186,\"\")","v":""},""]
[null,null,null,null,null,null,null,null,null,null,null,"","",0,0,"",0,"","","","","","","","",{"$f":"IF(W14<X14,Übersetzungstexte!A$186,\"\")","v":""},""]
[null,null,null,null,null,null,null,null,null,null,null,"","",0,0,"",0,"","","","","","","","",{"$f":"IF(W15<X15,Übersetzungstexte!A$186,\"\")","v":""},""]
[null,null,null,null,null,null,null,null,null,null,null,"","",0,0,"",0,"","","","","","","","",{"$f":"IF(W16<X16,Übersetzungstexte!A$186,\"\")","v":""},""]
[null,null,null,null,null,null,null,null,null,null,null,"","",0,0,"",0,"","","","","","","","",{"$f":"IF(W17<X17,Übersetzungstexte!A$186,\"\")","v":""},""]
[null,null,null,null,null,null,null,null,null,null,null,"","",0,0,"",0,"","","","","","","","",{"$f":"IF(W18<X18,Übersetzungstexte!A$186,\"\")","v":""},""]
[null,null,null,null,null,null,null,null,null,null,null,"","",0,0,"",0,"","","","","","","","",{"$f":"IF(W19<X19,Übersetzungstexte!A$186,\"\")","v":""},""]
[null,null,null,null,null,null,null,null,null,null,null,"","",0,0,"",0,"","","","","","","","",{"$f":"IF(W20<X20,Übersetzungstexte!A$186,\"\")","v":""},""]
[null,null,null,null,null,null,null,null,null,null,null,"","",0,0,"",0,"","","","","","","","",{"$f":"IF(W21<X21,Übersetzungstexte!A$186,\"\")","v":""},""]
[null,null,null,null,null,null,null,null,null,null,null,"","",0,0,"",0,"","","","","","","","",{"$f":"IF(W22<X22,Übersetzungstexte!A$186,\"\")","v":""},""]
[null,null,null,null,null,null,null,null,null,null,null,"","",0,0,"",0,"","","","","","","","",{"$f":"IF(W23<X23,Übersetzungstexte!A$186,\"\")","v":""},""]
[null,null,null,null,null,null,null,null,null,null,null,"","",0,0,"",0,"","","","","","","","",{"$f":"IF(W24<X24,Übersetzungstexte!A$186,\"\")","v":""},""]
[null,null,null,null,null,null,null,null,null,null,null,"","",0,0,"",0,"","","","","","","","",{"$f":"IF(W25<X25,Übersetzungstexte!A$186,\"\")","v":""},""]
[null,null,null,null,null,null,null,null,null,null,null,"","",0,0,"",0,"","","","","","","","",{"$f":"IF(W26<X26,Übersetzungstexte!A$186,\"\")","v":""},""]
[null,null,null,null,null,null,null,null,null,null,null,"","",0,0,"",0,"","","","","","","","",{"$f":"IF(W27<X27,Übersetzungstexte!A$186,\"\")","v":""},""]
[null,null,null,null,null,null,null,null,null,null,null,"","",0,0,"",0,"","","","","","","","",{"$f":"IF(W28<X28,Übersetzungstexte!A$186,\"\")","v":""},""]
[null,null,null,null,null,null,null,null,null,null,null,"","",0,0,"",0,"","","","","","","","",{"$f":"IF(W29<X29,Übersetzungstexte!A$186,\"\")","v":""},""]
[]
[{"$f":"'Stammdaten Betrieb & Abteilung'!D$1","v":"  "},null,null,null,null,null,{"$f":"Übersetzungstexte!A$135","v":"Betrieb / Betriebsabteilung"},{"$f":"'Stammdaten Betrieb & Abteilung'!D$13","v":" "}]
[{"$f":"'Stammdaten Betrieb & Abteilung'!D$3","v":" "},null,null,null,null,null,{"$f":"Übersetzungstexte!A$136","v":"Abrechnungsperiode"},{"$f":"'Stammdaten Betrieb & Abteilung'!D$14","v":""}]
[{"$f":"'Stammdaten Betrieb & Abteilung'!D$4","v":" "},null,null,null,null,null,{"$f":"Übersetzungstexte!A$137","v":"Beginn / Ende der Kurzarbeit"},{"$f":"'Stammdaten Betrieb & Abteilung'!D$16","v":""}]
[]
[{"$f":"Übersetzungstexte!A$138","v":""},{"$f":"Übersetzungstexte!A$142","v":""},{"$f":"Übersetzungstexte!A$146","v":""},{"$f":"Übersetzungstexte!A$150","v":""},{"$f":"Übersetzungstexte!A$154","v":""},{"$f":"Übersetzungstexte!A$158","v":""},{"$f":"Übersetzungstexte!A$162","v":"Anzahl bez."},{"$f":"Übersetzungstexte!A$166","v":"Weitere"},{"$f":"Übersetzungstexte!A$170","v":"Jahres-"},{"$f":"Übersetzungstexte!A$174","v":""},{"$f":"Übersetzungstexte!A$178","v":""},{"$f":"Übersetzungstexte!A$182","v":"Anrechen-"},null,null,"Anzahl","Regel 7",null,"Regel 9","Regel 10","Regel 11","Regel 12","Regel 13","Regel 14","Regel 10-14","Regel 14","Regel 14"]
[{"$f":"Übersetzungstexte!A$139","v":""},{"$f":"Übersetzungstexte!A$143","v":""},{"$f":"Übersetzungstexte!A$147","v":""},{"$f":"Übersetzungstexte!A$151","v":""},{"$f":"Übersetzungstexte!A$155","v":""},{"$f":"Übersetzungstexte!A$159","v":""},{"$f":"Übersetzungstexte!A$163","v":"Monate "},{"$f":"Übersetzungstexte!A$167","v":"Lohn-"},{"$f":"Übersetzungstexte!A$171","v":"durchschn."},{"$f":"Übersetzungstexte!A$175","v":"Anzahl"},{"$f":"Übersetzungstexte!A$179","v":"Anzahl"},{"$f":"Übersetzungstexte!A$183","v":"barer"},null,null,"bezugs-","  FF12","S13 / 12","  deApM","Std. Lohn","Std. Lohn","Monatslohn","Monatslohn","Vergleichs-","Anrechenb.","Anrechenb.","Warnungs-"]
[{"$f":"Übersetzungstexte!A$140","v":""},{"$f":"Übersetzungstexte!A$144","v":""},{"$f":"Übersetzungstexte!A$148","v":""},{"$f":"Übersetzungstexte!A$152","v":"Geburts-"},{"$f":"Übersetzungstexte!A$156","v":"Monats-"},{"$f":"Übersetzungstexte!A$160","v":"Stunden-"},{"$f":"Übersetzungstexte!A$164","v":"pro Jahr"},{"$f":"Übersetzungstexte!A$168","v":"bestand-"},{"$f":"Übersetzungstexte!A$172","v":"wöchentl."},{"$f":"Übersetzungstexte!A$176","v":"Ferientage"},{"$f":"Übersetzungstexte!A$180","v":"Feiertage"},{"$f":"Übersetzungstexte!A$184","v":"Stunden-"},null,"AHV-","berechtigte",null,null,null,"ohne","mit","ohne","mit","wert","Std.-Verd.","Std.-","anzeige"]
[{"$f":"Übersetzungstexte!A$141","v":"Versicherten-Nr."},{"$f":"Übersetzungstexte!A$145","v":"Name"},{"$f":"Übersetzungstexte!A$149","v":"Vorname"},{"$f":"Übersetzungstexte!A$153","v":"datum"},{"$f":"Übersetzungstexte!A$157","v":"lohn"},{"$f":"Übersetzungstexte!A$161","v":"lohn"},{"$f":"Übersetzungstexte!A$165","v":"(12/13)"},{"$f":"Übersetzungstexte!A$169","v":"teile p. Jahr"},{"$f":"Übersetzungstexte!A$173","v":"Arbeitszeit"},{"$f":"Übersetzungstexte!A$177","v":"pro Jahr"},{"$f":"Übersetzungstexte!A$181","v":"pro Jahr"},{"$f":"Übersetzungstexte!A$185","v":"Verdienst"},null,"pflichtig","Mitarbeiter",null,null,null,"Prämie","Prämie","Prämie","Prämie",null,"aSV","Verdienst",null,"Name,Vorname"]
[null,null,null,null,null,null,null,null,null,null,null,{"$f":"Y39","v":""},{"$f":"Z39","v":""},{"$f":"IF(N$2-YEAR(D39)<N$3,0,1)","v":0},{"$f":"IF(L39=\"\",0,1)","v":0},{"$f":"IF(AND(A39=\"\",B39=\"\",C39=\"\"),\"\",ROUND((K39+J39)/(N$4-(K39+J39))*100,2))","v":""},{"$f":"ROUND(G39,0)/12","v":0},{"$f":"IF(AND(A39=\"\",B39=\"\",C39=\"\"),\"\",ROUND((N$4-(K39+J39))*I39/60,1))","v":""},{"$f":"IF(OR(AND(A39=\"\",B39=\"\",C39=\"\"),F39=0,F39=\"\"),\"\",ROUND((1+P39/100)*Q39*F39,2))","v":""},{"$f":"IF(OR(AND(A39=\"\",B39=\"\",C39=\"\"),F39=0,F39=\"\",I39=0,I39=\"\"),\"\",ROUND((1+P39/100)*(H39/(N$4*I39/5)+Q39*F39),2))","v":""},{"$f":"IF(OR(AND(A39=\"\",B39=\"\",C39=\"\"),E39=0,E39=\"\",R39=0,R39=\"\"),\"\",ROUND((Q39*E39/R39),2))","v":""},{"$f":"IF(OR(AND(A39=\"\",B39=\"\",C39=\"\"),E39=0,E39=\"\",R39=0,R39=\"\"),\"\",ROUND((H39/(12*Q39*E39)+1)*Q39*E39/R39,2))","v":""},{"$f":"IF(OR(AND(A39=\"\",B39=\"\",C39=\"\"),R39=0,R39=\"\"),\"\",ROUND(W$4 / R39,1))","v":""},{"$f":"IF(OR(AND(A39=\"\",B39=\"\",C39=\"\"),N$4=\"\"),\"\",IF(AND(F39>0,H39>0),T39, IF(F39>0,S39, IF(AND(E39>0,H39>0),V39,U39))))","v":""},{"$f":"IF(W39<X39,W39,X39)","v":""},{"$f":"IF(W39<X39,Übersetzungstexte!A$186,\"\")","v":""},{"$f":"IF(AND(B39=\"\",C39=\"\"),\"\",CONCATENATE(B39,\",\",C39))","v":""}]
[null,null,null,null,null,null,null,null,null,null,null,"","",0,0,"",0,"","","","","","","","",{"$f":"IF(W40<X40,Übersetzungstexte!A$186,\"\")","v":""},""]
[null,null,null,null,null,null,null,null,null,null,null,"","",0,0,"",0,"","","","","","","","",{"$f":"IF(W41<X41,Übersetzungstexte!A$186,\"\")","v":""},""]
[null,null,null,null,null,null,null,null,null,null,null,"","",0,0,"",0,"","","","","","","","",{"$f":"IF(W42<X42,Übersetzungstexte!A$186,\"\")","v":""},""]
[null,null,null,null,null,null,null,null,null,null,null,"","",0,0,"",0,"","","","","","","","",{"$f":"IF(W43<X43,Übersetzungstexte!A$186,\"\")","v":""},""]
[null,null,null,null,null,null,null,null,null,null,null,"","",0,0,"",0,"","","","","","","","",{"$f":"IF(W44<X44,Übersetzungstexte!A$186,\"\")","v":""},""]
[null,null,null,null,null,null,null,null,null,null,null,"","",0,0,"",0,"","","","","","","","",{"$f":"IF(W45<X45,Übersetzungstexte!A$186,\"\")","v":""},""]
[null,null,null,null,null,null,null,null,null,null,null,"","",0,0,"",0,"","","","","","","","",{"$f":"IF(W46<X46,Übersetzungstexte!A$186,\"\")","v":""},""]
[null,null,null,null,null,null,null,null,null,null,null,"","",0,0,"",0,"","","","","","","","",{"$f":"IF(W47<X47,Übersetzungstexte!A$186,\"\")","v":""},""]
[null,null,null,null,null,null,null,null,null,null,null,"","",0,0,"",0,"","","","","","","","",{"$f":"IF(W48<X48,Übersetzungstexte!A$186,\"\")","v":""},""]
[null,null,null,null,null,null,null,null,null,null,null,"","",0,0,"",0,"","","","","","","","",{"$f":"IF(W49<X49,Übersetzungstexte!A$186,\"\")","v":""},""]
[null,null,null,null,null,null,null,null,null,null,null,"","",0,0,"",0,"","","","","","","","",{"$f":"IF(W50<X50,Übersetzungstexte!A$186,\"\")","v":""},""]
[null,null,null,null,null,null,null,null,null,null,null,"","",0,0,"",0,"","","","","","","","",{"$f":"IF(W51<X51,Übersetzungstexte!A$186,\"\")","v":""},""]
[null,null,null,null,null,null,null,null,null,null,null,"","",0,0,"",0,"","","","","","","","",{"$f":"IF(W52<X52,Übersetzungstexte!A$186,\"\")","v":""},""]
[null,null,null,null,null,null,null,null,null,null,null,"","",0,0,"",0,"","","","","","","","",{"$f":"IF(W53<X53,Übersetzungstexte!A$186,\"\")","v":""},""]
[null,null,null,null,null,null,null,null,null,null,null,"","",0,0,"",0,"","","","","","","","",{"$f":"IF(W54<X54,Übersetzungstexte!A$186,\"\")","v":""},""]
[null,null,null,null,null,null,null,null,null,null,null,"","",0,0,"",0,"","","","","","","","",{"$f":"IF(W55<X55,Übersetzungstexte!A$186,\"\")","v":""},""]
[null,null,null,null,null,null,null,null,null,null,null,"","",0,0,"",0,"","","","","","","","",{"$f":"IF(W56<X56,Übersetzungstexte!A$186,\"\")","v":""},""]
[null,null,null,null,null,null,null,null,null,null,null,"","",0,0,"",0,"","","","","","","","",{"$f":"IF(W57<X57,Übersetzungstexte!A$186,\"\")","v":""},""]
[null,null,null,null,null,null,null,null,null,null,null,"",{"$f":"Z58","v":""},{"$f":"IF(N$2-YEAR(D58)<N$3,0,1)","v":0},{"$f":"IF(L58=\"\",0,1)","v":0},{"$f":"IF(AND(A58=\"\",B58=\"\",C58=\"\"),\"\",ROUND((K58+J58)/(N$4-(K58+J58))*100,2))","v":""},{"$f":"ROUND(G58,0)/12","v":0},{"$f":"IF(AND(A58=\"\",B58=\"\",C58=\"\"),\"\",ROUND((N$4-(K58+J58))*I58/60,1))","v":""},{"$f":"IF(OR(AND(A58=\"\",B58=\"\",C58=\"\"),F58=0,F58=\"\"),\"\",ROUND((1+P58/100)*Q58*F58,2))","v":""},{"$f":"IF(OR(AND(A58=\"\",B58=\"\",C58=\"\"),F58=0,F58=\"\",I58=0,I58=\"\"),\"\",ROUND((1+P58/100)*(H58/(N$4*I58/5)+Q58*F58),2))","v":""},{"$f":"IF(OR(AND(A58=\"\",B58=\"\",C58=\"\"),E58=0,E58=\"\",R58=0,R58=\"\"),\"\",ROUND((Q58*E58/R58),2))","v":""},{"$f":"IF(OR(AND(A58=\"\",B58=\"\",C58=\"\"),E58=0,E58=\"\",R58=0,R58=\"\"),\"\",ROUND((H58/(12*Q58*E58)+1)*Q58*E58/R58,2))","v":""},{"$f":"IF(OR(AND(A58=\"\",B58=\"\",C58=\"\"),R58=0,R58=\"\"),\"\",ROUND(W$4 / R58,1))","v":""},{"$f":"IF(OR(AND(A58=\"\",B58=\"\",C58=\"\"),N$4=\"\"),\"\",IF(AND(F58>0,H58>0),T58, IF(F58>0,S58, IF(AND(E58>0,H58>0),V58,U58))))","v":""},{"$f":"IF(W58<X58,W58,X58)","v":""},{"$f":"IF(W58<X58,Übersetzungstexte!A$186,\"\")","v":""},{"$f":"IF(AND(B58=\"\",C58=\"\"),\"\",CONCATENATE(B58,\",\",C58))","v":""}]
[null,null,null,null,null,null,null,null,null,null,null,"",{"$f":"Z59","v":""},{"$f":"IF(N$2-YEAR(D59)<N$3,0,1)","v":0},{"$f":"IF(L59=\"\",0,1)","v":0},{"$f":"IF(AND(A59=\"\",B59=\"\",C59=\"\"),\"\",ROUND((K59+J59)/(N$4-(K59+J59))*100,2))","v":""},{"$f":"ROUND(G59,0)/12","v":0},{"$f":"IF(AND(A59=\"\",B59=\"\",C59=\"\"),\"\",ROUND((N$4-(K59+J59))*I59/60,1))","v":""},{"$f":"IF(OR(AND(A59=\"\",B59=\"\",C59=\"\"),F59=0,F59=\"\"),\"\",ROUND((1+P59/100)*Q59*F59,2))","v":""},{"$f":"IF(OR(AND(A59=\"\",B59=\"\",C59=\"\"),F59=0,F59=\"\",I59=0,I59=\"\"),\"\",ROUND((1+P59/100)*(H59/(N$4*I59/5)+Q59*F59),2))","v":""},{"$f":"IF(OR(AND(A59=\"\",B59=\"\",C59=\"\"),E59=0,E59=\"\",R59=0,R59=\"\"),\"\",ROUND((Q59*E59/R59),2))","v":""},{"$f":"IF(OR(AND(A59=\"\",B59=\"\",C59=\"\"),E59=0,E59=\"\",R59=0,R59=\"\"),\"\",ROUND((H59/(12*Q59*E59)+1)*Q59*E59/R59,2))","v":""},{"$f":"IF(OR(AND(A59=\"\",B59=\"\",C59=\"\"),R59=0,R59=\"\"),\"\",ROUND(W$4 / R59,1))","v":""},{"$f":"IF(OR(AND(A59=\"\",B59=\"\",C59=\"\"),N$4=\"\"),\"\",IF(AND(F59>0,H59>0),T59, IF(F59>0,S59, IF(AND(E59>0,H59>0),V59,U59))))","v":""},{"$f":"IF(W59<X59,W59,X59)","v":""},{"$f":"IF(W59<X59,Übersetzungstexte!A$186,\"\")","v":""},{"$f":"IF(AND(B59=\"\",C59=\"\"),\"\",CONCATENATE(B59,\",\",C59))","v":""}]
[]
[{"$f":"'Stammdaten Betrieb & Abteilung'!D$1","v":"  "},null,null,null,null,null,{"$f":"Übersetzungstexte!A$135","v":"Betrieb / Betriebsabteilung"},{"$f":"'Stammdaten Betrieb & Abteilung'!D$13","v":" "}]
[{"$f":"'Stammdaten Betrieb & Abteilung'!D$3","v":" "},null,null,null,null,null,{"$f":"Übersetzungstexte!A$136","v":"Abrechnungsperiode"},{"$f":"'Stammdaten Betrieb & Abteilung'!D$14","v":""}]
[{"$f":"'Stammdaten Betrieb & Abteilung'!D$4","v":" "},null,null,null,null,null,{"$f":"Übersetzungstexte!A$137","v":"Beginn / Ende der Kurzarbeit"},{"$f":"'Stammdaten Betrieb & Abteilung'!D$16","v":""}]
[]
[{"$f":"Übersetzungstexte!A$138","v":""},{"$f":"Übersetzungstexte!A$142","v":""},{"$f":"Übersetzungstexte!A$146","v":""},{"$f":"Übersetzungstexte!A$150","v":""},{"$f":"Übersetzungstexte!A$154","v":""},{"$f":"Übersetzungstexte!A$158","v":""},{"$f":"Übersetzungstexte!A$162","v":"Anzahl bez."},{"$f":"Übersetzungstexte!A$166","v":"Weitere"},{"$f":"Übersetzungstexte!A$170","v":"Jahres-"},{"$f":"Übersetzungstexte!A$174","v":""},{"$f":"Übersetzungstexte!A$178","v":""},{"$f":"Übersetzungstexte!A$182","v":"Anrechen-"},null,null,"Anzahl","Regel 7",null,"Regel 9","Regel 10","Regel 11","Regel 12","Regel 13","Regel 14","Regel 10-14","Regel 14","Regel 14"]
[{"$f":"Übersetzungstexte!A$139","v":""},{"$f":"Übersetzungstexte!A$143","v":""},{"$f":"Übersetzungstexte!A$147","v":""},{"$f":"Übersetzungstexte!A$151","v":""},{"$f":"Übersetzungstexte!A$155","v":""},{"$f":"Übersetzungstexte!A$159","v":""},{"$f":"Übersetzungstexte!A$163","v":"Monate "},{"$f":"Übersetzungstexte!A$167","v":"Lohn-"},{"$f":"Übersetzungstexte!A$171","v":"durchschn."},{"$f":"Übersetzungstexte!A$175","v":"Anzahl"},{"$f":"Übersetzungstexte!A$179","v":"Anzahl"},{"$f":"Übersetzungstexte!A$183","v":"barer"},null,null,"bezugs-","  FF12","S13 / 12","  deApM","Std. Lohn","Std. Lohn","Monatslohn","Monatslohn","Vergleichs-","Anrechenb.","Anrechenb.","Warnungs-"]
[{"$f":"Übersetzungstexte!A$140","v":""},{"$f":"Übersetzungstexte!A$144","v":""},{"$f":"Übersetzungstexte!A$148","v":""},{"$f":"Übersetzungstexte!A$152","v":"Geburts-"},{"$f":"Übersetzungstexte!A$156","v":"Monats-"},{"$f":"Übersetzungstexte!A$160","v":"Stunden-"},{"$f":"Übersetzungstexte!A$164","v":"pro Jahr"},{"$f":"Übersetzungstexte!A$168","v":"bestand-"},{"$f":"Übersetzungstexte!A$172","v":"wöchentl."},{"$f":"Übersetzungstexte!A$176","v":"Ferientage"},{"$f":"Übersetzungstexte!A$180","v":"Feiertage"},{"$f":"Übersetzungstexte!A$184","v":"Stunden-"},null,"AHV-","berechtigte",null,null,null,"ohne","mit","ohne","mit","wert","Std.-Verd.","Std.-","anzeige"]
[{"$f":"Übersetzungstexte!A$141","v":"Versicherten-Nr."},{"$f":"Übersetzungstexte!A$145","v":"Name"},{"$f":"Übersetzungstexte!A$149","v":"Vorname"},{"$f":"Übersetzungstexte!A$153","v":"datum"},{"$f":"Übersetzungstexte!A$157","v":"lohn"},{"$f":"Übersetzungstexte!A$161","v":"lohn"},{"$f":"Übersetzungstexte!A$165","v":"(12/13)"},{"$f":"Übersetzungstexte!A$169","v":"teile p. Jahr"},{"$f":"Übersetzungstexte!A$173","v":"Arbeitszeit"},{"$f":"Übersetzungstexte!A$177","v":"pro Jahr"},{"$f":"Übersetzungstexte!A$181","v":"pro Jahr"},{"$f":"Übersetzungstexte!A$185","v":"Verdienst"},null,"pflichtig","Mitarbeiter",null,null,null,"Prämie","Prämie","Prämie","Prämie",null,"aSV","Verdienst",null,"Name,Vorname"]
[null,null,null,null,null,null,null,null,null,null,null,{"$f":"Y69","v":""},{"$f":"Z69","v":""},{"$f":"IF(N$2-YEAR(D69)<N$3,0,1)","v":0},{"$f":"IF(L69=\"\",0,1)","v":0},{"$f":"IF(AND(A69=\"\",B69=\"\",C69=\"\"),\"\",ROUND((K69+J69)/(N$4-(K69+J69))*100,2))","v":""},{"$f":"ROUND(G69,0)/12","v":0},{"$f":"IF(AND(A69=\"\",B69=\"\",C69=\"\"),\"\",ROUND((N$4-(K69+J69))*I69/60,1))","v":""},{"$f":"IF(OR(AND(A69=\"\",B69=\"\",C69=\"\"),F69=0,F69=\"\"),\"\",ROUND((1+P69/100)*Q69*F69,2))","v":""},{"$f":"IF(OR(AND(A69=\"\",B69=\"\",C69=\"\"),F69=0,F69=\"\",I69=0,I69=\"\"),\"\",ROUND((1+P69/100)*(H69/(N$4*I69/5)+Q69*F69),2))","v":""},{"$f":"IF(OR(AND(A69=\"\",B69=\"\",C69=\"\"),E69=0,E69=\"\",R69=0,R69=\"\"),\"\",ROUND((Q69*E69/R69),2))","v":""},{"$f":"IF(OR(AND(A69=\"\",B69=\"\",C69=\"\"),E69=0,E69=\"\",R69=0,R69=\"\"),\"\",ROUND((H69/(12*Q69*E69)+1)*Q69*E69/R69,2))","v":""},{"$f":"IF(OR(AND(A69=\"\",B69=\"\",C69=\"\"),R69=0,R69=\"\"),\"\",ROUND(W$4 / R69,1))","v":""},{"$f":"IF(OR(AND(A69=\"\",B69=\"\",C69=\"\"),N$4=\"\"),\"\",IF(AND(F69>0,H69>0),T69, IF(F69>0,S69, IF(AND(E69>0,H69>0),V69,U69))))","v":""},{"$f":"IF(W69<X69,W69,X69)","v":""},{"$f":"IF(W69<X69,Übersetzungstexte!A$186,\"\")","v":""},{"$f":"IF(AND(B69=\"\",C69=\"\"),\"\",CONCATENATE(B69,\",\",C69))","v":""}]
[null,null,null,null,null,null,null,null,null,null,null,"","",0,0,"",0,"","","","","","","","",{"$f":"IF(W70<X70,Übersetzungstexte!A$186,\"\")","v":""},""]
[null,null,null,null,null,null,null,null,null,null,null,"","",0,0,"",0,"","","","","","","","",{"$f":"IF(W71<X71,Übersetzungstexte!A$186,\"\")","v":""},""]
[null,null,null,null,null,null,null,null,null,null,null,"","",0,0,"",0,"","","","","","","","",{"$f":"IF(W72<X72,Übersetzungstexte!A$186,\"\")","v":""},""]
[null,null,null,null,null,null,null,null,null,null,null,"","",0,0,"",0,"","","","","","","","",{"$f":"IF(W73<X73,Übersetzungstexte!A$186,\"\")","v":""},""]
[null,null,null,null,null,null,null,null,null,null,null,"","",0,0,"",0,"","","","","","","","",{"$f":"IF(W74<X74,Übersetzungstexte!A$186,\"\")","v":""},""]
[null,null,null,null,null,null,null,null,null,null,null,"","",0,0,"",0,"","","","","","","","",{"$f":"IF(W75<X75,Übersetzungstexte!A$186,\"\")","v":""},""]
[null,null,null,null,null,null,null,null,null,null,null,"","",0,0,"",0,"","","","","","","","",{"$f":"IF(W76<X76,Übersetzungstexte!A$186,\"\")","v":""},""]
[null,null,null,null,null,null,null,null,null,null,null,"","",0,0,"",0,"","","","","","","","",{"$f":"IF(W77<X77,Übersetzungstexte!A$186,\"\")","v":""},""]
[null,null,null,null,null,null,null,null,null,null,null,"","",0,0,"",0,"","","","","","","","",{"$f":"IF(W78<X78,Übersetzungstexte!A$186,\"\")","v":""},""]
[null,null,null,null,null,null,null,null,null,null,null,"","",0,0,"",0,"","","","","","","","",{"$f":"IF(W79<X79,Übersetzungstexte!A$186,\"\")","v":""},""]
[null,null,null,null,null,null,null,null,null,null,null,"","",0,0,"",0,"","","","","","","","",{"$f":"IF(W80<X80,Übersetzungstexte!A$186,\"\")","v":""},""]
[null,null,null,null,null,null,null,null,null,null,null,"","",0,0,"",0,"","","","","","","","",{"$f":"IF(W81<X81,Übersetzungstexte!A$186,\"\")","v":""},""]
[null,null,null,null,null,null,null,null,null,null,null,"","",0,0,"",0,"","","","","","","","",{"$f":"IF(W82<X82,Übersetzungstexte!A$186,\"\")","v":""},""]
[null,null,null,null,null,null,null,null,null,null,null,"","",0,0,"",0,"","","","","","","","",{"$f":"IF(W83<X83,Übersetzungstexte!A$186,\"\")","v":""},""]
[null,null,null,null,null,null,null,null,null,null,null,"","",0,0,"",0,"","","","","","","","",{"$f":"IF(W84<X84,Übersetzungstexte!A$186,\"\")","v":""},""]
[null,null,null,null,null,null,null,null,null,null,null,"","",0,0,"",0,"","","","","","","","",{"$f":"IF(W85<X85,Übersetzungstexte!A$186,\"\")","v":""},""]
[null,null,null,null,null,null,null,null,null,null,null,"","",0,0,"",0,"","","","","","","","",{"$f":"IF(W86<X86,Übersetzungstexte!A$186,\"\")","v":""},""]
[null,null,null,null,null,null,null,null,null,null,null,"","",0,0,"",0,"","","","","","","","",{"$f":"IF(W87<X87,Übersetzungstexte!A$186,\"\")","v":""},""]
[null,null,null,null,null,null,null,null,null,null,null,"",{"$f":"Z88","v":""},{"$f":"IF(N$2-YEAR(D88)<N$3,0,1)","v":0},{"$f":"IF(L88=\"\",0,1)","v":0},{"$f":"IF(AND(A88=\"\",B88=\"\",C88=\"\"),\"\",ROUND((K88+J88)/(N$4-(K88+J88))*100,2))","v":""},{"$f":"ROUND(G88,0)/12","v":0},{"$f":"IF(AND(A88=\"\",B88=\"\",C88=\"\"),\"\",ROUND((N$4-(K88+J88))*I88/60,1))","v":""},{"$f":"IF(OR(AND(A88=\"\",B88=\"\",C88=\"\"),F88=0,F88=\"\"),\"\",ROUND((1+P88/100)*Q88*F88,2))","v":""},{"$f":"IF(OR(AND(A88=\"\",B88=\"\",C88=\"\"),F88=0,F88=\"\",I88=0,I88=\"\"),\"\",ROUND((1+P88/100)*(H88/(N$4*I88/5)+Q88*F88),2))","v":""},{"$f":"IF(OR(AND(A88=\"\",B88=\"\",C88=\"\"),E88=0,E88=\"\",R88=0,R88=\"\"),\"\",ROUND((Q88*E88/R88),2))","v":""},{"$f":"IF(OR(AND(A88=\"\",B88=\"\",C88=\"\"),E88=0,E88=\"\",R88=0,R88=\"\"),\"\",ROUND((H88/(12*Q88*E88)+1)*Q88*E88/R88,2))","v":""},{"$f":"IF(OR(AND(A88=\"\",B88=\"\",C88=\"\"),R88=0,R88=\"\"),\"\",ROUND(W$4 / R88,1))","v":""},{"$f":"IF(OR(AND(A88=\"\",B88=\"\",C88=\"\"),N$4=\"\"),\"\",IF(AND(F88>0,H88>0),T88, IF(F88>0,S88, IF(AND(E88>0,H88>0),V88,U88))))","v":""},{"$f":"IF(W88<X88,W88,X88)","v":""},{"$f":"IF(W88<X88,Übersetzungstexte!A$186,\"\")","v":""},{"$f":"IF(AND(B88=\"\",C88=\"\"),\"\",CONCATENATE(B88,\",\",C88))","v":""}]
[null,null,null,null,null,null,null,null,null,null,null,"",{"$f":"Z89","v":""},{"$f":"IF(N$2-YEAR(D89)<N$3,0,1)","v":0},{"$f":"IF(L89=\"\",0,1)","v":0},{"$f":"IF(AND(A89=\"\",B89=\"\",C89=\"\"),\"\",ROUND((K89+J89)/(N$4-(K89+J89))*100,2))","v":""},{"$f":"ROUND(G89,0)/12","v":0},{"$f":"IF(AND(A89=\"\",B89=\"\",C89=\"\"),\"\",ROUND((N$4-(K89+J89))*I89/60,1))","v":""},{"$f":"IF(OR(AND(A89=\"\",B89=\"\",C89=\"\"),F89=0,F89=\"\"),\"\",ROUND((1+P89/100)*Q89*F89,2))","v":""},{"$f":"IF(OR(AND(A89=\"\",B89=\"\",C89=\"\"),F89=0,F89=\"\",I89=0,I89=\"\"),\"\",ROUND((1+P89/100)*(H89/(N$4*I89/5)+Q89*F89),2))","v":""},{"$f":"IF(OR(AND(A89=\"\",B89=\"\",C89=\"\"),E89=0,E89=\"\",R89=0,R89=\"\"),\"\",ROUND((Q89*E89/R89),2))","v":""},{"$f":"IF(OR(AND(A89=\"\",B89=\"\",C89=\"\"),E89=0,E89=\"\",R89=0,R89=\"\"),\"\",ROUND((H89/(12*Q89*E89)+1)*Q89*E89/R89,2))","v":""},{"$f":"IF(OR(AND(A89=\"\",B89=\"\",C89=\"\"),R89=0,R89=\"\"),\"\",ROUND(W$4 / R89,1))","v":""},{"$f":"IF(OR(AND(A89=\"\",B89=\"\",C89=\"\"),N$4=\"\"),\"\",IF(AND(F89>0,H89>0),T89, IF(F89>0,S89, IF(AND(E89>0,H89>0),V89,U89))))","v":""},{"$f":"IF(W89<X89,W89,X89)","v":""},{"$f":"IF(W89<X89,Übersetzungstexte!A$186,\"\")","v":""},{"$f":"IF(AND(B89=\"\",C89=\"\"),\"\",CONCATENATE(B89,\",\",C89))","v":""}]
[]
[{"$f":"'Stammdaten Betrieb & Abteilung'!D$1","v":"  "},null,null,null,null,null,{"$f":"Übersetzungstexte!A$135","v":"Betrieb / Betriebsabteilung"},{"$f":"'Stammdaten Betrieb & Abteilung'!D$13","v":" "}]
[{"$f":"'Stammdaten Betrieb & Abteilung'!D$3","v":" "},null,null,null,null,null,{"$f":"Übersetzungstexte!A$136","v":"Abrechnungsperiode"},{"$f":"'Stammdaten Betrieb & Abteilung'!D$14","v":""}]
[{"$f":"'Stammdaten Betrieb & Abteilung'!D$4","v":" "},null,null,null,null,null,{"$f":"Übersetzungstexte!A$137","v":"Beginn / Ende der Kurzarbeit"},{"$f":"'Stammdaten Betrieb & Abteilung'!D$16","v":""}]
[]
[{"$f":"Übersetzungstexte!A$138","v":""},{"$f":"Übersetzungstexte!A$142","v":""},{"$f":"Übersetzungstexte!A$146","v":""},{"$f":"Übersetzungstexte!A$150","v":""},{"$f":"Übersetzungstexte!A$154","v":""},{"$f":"Übersetzungstexte!A$158","v":""},{"$f":"Übersetzungstexte!A$162","v":"Anzahl bez."},{"$f":"Übersetzungstexte!A$166","v":"Weitere"},{"$f":"Übersetzungstexte!A$170","v":"Jahres-"},{"$f":"Übersetzungstexte!A$174","v":""},{"$f":"Übersetzungstexte!A$178","v":""},{"$f":"Übersetzungstexte!A$182","v":"Anrechen-"},null,null,"Anzahl","Regel 7",null,"Regel 9","Regel 10","Regel 11","Regel 12","Regel 13","Regel 14","Regel 10-14","Regel 14","Regel 14"]
[{"$f":"Übersetzungstexte!A$139","v":""},{"$f":"Übersetzungstexte!A$143","v":""},{"$f":"Übersetzungstexte!A$147","v":""},{"$f":"Übersetzungstexte!A$151","v":""},{"$f":"Übersetzungstexte!A$155","v":""},{"$f":"Übersetzungstexte!A$159","v":""},{"$f":"Übersetzungstexte!A$163","v":"Monate "},{"$f":"Übersetzungstexte!A$167","v":"Lohn-"},{"$f":"Übersetzungstexte!A$171","v":"durchschn."},{"$f":"Übersetzungstexte!A$175","v":"Anzahl"},{"$f":"Übersetzungstexte!A$179","v":"Anzahl"},{"$f":"Übersetzungstexte!A$183","v":"barer"},null,null,"bezugs-","  FF12","S13 / 12","  deApM","Std. Lohn","Std. Lohn","Monatslohn","Monatslohn","Vergleichs-","Anrechenb.","Anrechenb.","Warnungs-"]
[{"$f":"Übersetzungstexte!A$140","v":""},{"$f":"Übersetzungstexte!A$144","v":""},{"$f":"Übersetzungstexte!A$148","v":""},{"$f":"Übersetzungstexte!A$152","v":"Geburts-"},{"$f":"Übersetzungstexte!A$156","v":"Monats-"},{"$f":"Übersetzungstexte!A$160","v":"Stunden-"},{"$f":"Übersetzungstexte!A$164","v":"pro Jahr"},{"$f":"Übersetzungstexte!A$168","v":"bestand-"},{"$f":"Übersetzungstexte!A$172","v":"wöchentl."},{"$f":"Übersetzungstexte!A$176","v":"Ferientage"},{"$f":"Übersetzungstexte!A$180","v":"Feiertage"},{"$f":"Übersetzungstexte!A$184","v":"Stunden-"},null,"AHV-","berechtigte",null,null,null,"ohne","mit","ohne","mit","wert","Std.-Verd.","Std.-","anzeige"]
[{"$f":"Übersetzungstexte!A$141","v":"Versicherten-Nr."},{"$f":"Übersetzungstexte!A$145","v":"Name"},{"$f":"Übersetzungstexte!A$149","v":"Vorname"},{"$f":"Übersetzungstexte!A$153","v":"datum"},{"$f":"Übersetzungstexte!A$157","v":"lohn"},{"$f":"Übersetzungstexte!A$161","v":"lohn"},{"$f":"Übersetzungstexte!A$165","v":"(12/13)"},{"$f":"Übersetzungstexte!A$169","v":"teile p. Jahr"},{"$f":"Übersetzungstexte!A$173","v":"Arbeitszeit"},{"$f":"Übersetzungstexte!A$177","v":"pro Jahr"},{"$f":"Übersetzungstexte!A$181","v":"pro Jahr"},{"$f":"Übersetzungstexte!A$185","v":"Verdienst"},null,"pflichtig","Mitarbeiter",null,null,null,"Prämie","Prämie","Prämie","Prämie",null,"aSV","Verdienst",null,"Name,Vorname"]
[null,null,null,null,null,null,null,null,null,null,null,{"$f":"Y99","v":""},{"$f":"Z99","v":""},{"$f":"IF(N$2-YEAR(D99)<N$3,0,1)","v":0},{"$f":"IF(L99=\"\",0,1)","v":0},{"$f":"IF(AND(A99=\"\",B99=\"\",C99=\"\"),\"\",ROUND((K99+J99)/(N$4-(K99+J99))*100,2))","v":""},{"$f":"ROUND(G99,0)/12","v":0},{"$f":"IF(AND(A99=\"\",B99=\"\",C99=\"\"),\"\",ROUND((N$4-(K99+J99))*I99/60,1))","v":""},{"$f":"IF(OR(AND(A99=\"\",B99=\"\",C99=\"\"),F99=0,F99=\"\"),\"\",ROUND((1+P99/100)*Q99*F99,2))","v":""},{"$f":"IF(OR(AND(A99=\"\",B99=\"\",C99=\"\"),F99=0,F99=\"\",I99=0,I99=\"\"),\"\",ROUND((1+P99/100)*(H99/(N$4*I99/5)+Q99*F99),2))","v":""},{"$f":"IF(OR(AND(A99=\"\",B99=\"\",C99=\"\"),E99=0,E99=\"\",R99=0,R99=\"\"),\"\",ROUND((Q99*E99/R99),2))","v":""},{"$f":"IF(OR(AND(A99=\"\",B99=\"\",C99=\"\"),E99=0,E99=\"\",R99=0,R99=\"\"),\"\",ROUND((H99/(12*Q99*E99)+1)*Q99*E99/R99,2))","v":""},{"$f":"IF(OR(AND(A99=\"\",B99=\"\",C99=\"\"),R99=0,R99=\"\"),\"\",ROUND(W$4 / R99,1))","v":""},{"$f":"IF(OR(AND(A99=\"\",B99=\"\",C99=\"\"),N$4=\"\"),\"\",IF(AND(F99>0,H99>0),T99, IF(F99>0,S99, IF(AND(E99>0,H99>0),V99,U99))))","v":""},{"$f":"IF(W99<X99,W99,X99)","v":""},{"$f":"IF(W99<X99,Übersetzungstexte!A$186,\"\")","v":""},{"$f":"IF(AND(B99=\"\",C99=\"\"),\"\",CONCATENATE(B99,\",\",C99))","v":""}]
[null,null,null,null,null,null,null,null,null,null,null,"","",0,0,"",0,"","","","","","","","",{"$f":"IF(W100<X100,Übersetzungstexte!A$186,\"\")","v":""},""]
[null,null,null,null,null,null,null,null,null,null,null,"","",0,0,"",0,"","","","","","","","",{"$f":"IF(W101<X101,Übersetzungstexte!A$186,\"\")","v":""},""]
[null,null,null,null,null,null,null,null,null,null,null,"","",0,0,"",0,"","","","","","","","",{"$f":"IF(W102<X102,Übersetzungstexte!A$186,\"\")","v":""},""]
[null,null,null,null,null,null,null,null,null,null,null,"","",0,0,"",0,"","","","","","","","",{"$f":"IF(W103<X103,Übersetzungstexte!A$186,\"\")","v":""},""]
[null,null,null,null,null,null,null,null,null,null,null,"","",0,0,"",0,"","","","","","","","",{"$f":"IF(W104<X104,Übersetzungstexte!A$186,\"\")","v":""},""]
[null,null,null,null,null,null,null,null,null,null,null,"","",0,0,"",0,"","","","","","","","",{"$f":"IF(W105<X105,Übersetzungstexte!A$186,\"\")","v":""},""]
[null,null,null,null,null,null,null,null,null,null,null,"","",0,0,"",0,"","","","","","","","",{"$f":"IF(W106<X106,Übersetzungstexte!A$186,\"\")","v":""},""]
[null,null,null,null,null,null,null,null,null,null,null,"","",0,0,"",0,"","","","","","","","",{"$f":"IF(W107<X107,Übersetzungstexte!A$186,\"\")","v":""},""]
[null,null,null,null,null,null,null,null,null,null,null,"","",0,0,"",0,"","","","","","","","",{"$f":"IF(W108<X108,Übersetzungstexte!A$186,\"\")","v":""},""]
[null,null,null,null,null,null,null,null,null,null,null,"","",0,0,"",0,"","","","","","","","",{"$f":"IF(W109<X109,Übersetzungstexte!A$186,\"\")","v":""},""]
[null,null,null,null,null,null,null,null,null,null,null,"","",0,0,"",0,"","","","","","","","",{"$f":"IF(W110<X110,Übersetzungstexte!A$186,\"\")","v":""},""]
[null,null,null,null,null,null,null,null,null,null,null,"","",0,0,"",0,"","","","","","","","",{"$f":"IF(W111<X111,Übersetzungstexte!A$186,\"\")","v":""},""]
[null,null,null,null,null,null,null,null,null,null,null,"","",0,0,"",0,"","","","","","","","",{"$f":"IF(W112<X112,Übersetzungstexte!A$186,\"\")","v":""},""]
[null,null,null,null,null,null,null,null,null,null,null,"","",0,0,"",0,"","","","","","","","",{"$f":"IF(W113<X113,Übersetzungstexte!A$186,\"\")","v":""},""]
[null,null,null,null,null,null,null,null,null,null,null,"","",0,0,"",0,"","","","","","","","",{"$f":"IF(W114<X114,Übersetzungstexte!A$186,\"\")","v":""},""]
[null,null,null,null,null,null,null,null,null,null,null,"","",0,0,"",0,"","","","","","","","",{"$f":"IF(W115<X115,Übersetzungstexte!A$186,\"\")","v":""},""]
[null,null,null,null,null,null,null,null,null,null,null,"","",0,0,"",0,"","","","","","","","",{"$f":"IF(W116<X116,Übersetzungstexte!A$186,\"\")","v":""},""]
[null,null,null,null,null,null,null,null,null,null,null,"","",0,0,"",0,"","","","","","","","",{"$f":"IF(W117<X117,Übersetzungstexte!A$186,\"\")","v":""},""]
[null,null,null,null,null,null,null,null,null,null,null,"",{"$f":"Z118","v":""},{"$f":"IF(N$2-YEAR(D118)<N$3,0,1)","v":0},{"$f":"IF(L118=\"\",0,1)","v":0},{"$f":"IF(AND(A118=\"\",B118=\"\",C118=\"\"),\"\",ROUND((K118+J118)/(N$4-(K118+J118))*100,2))","v":""},{"$f":"ROUND(G118,0)/12","v":0},{"$f":"IF(AND(A118=\"\",B118=\"\",C118=\"\"),\"\",ROUND((N$4-(K118+J118))*I118/60,1))","v":""},{"$f":"IF(OR(AND(A118=\"\",B118=\"\",C118=\"\"),F118=0,F118=\"\"),\"\",ROUND((1+P118/100)*Q118*F118,2))","v":""},{"$f":"IF(OR(AND(A118=\"\",B118=\"\",C118=\"\"),F118=0,F118=\"\",I118=0,I118=\"\"),\"\",ROUND((1+P118/100)*(H118/(N$4*I118/5)+Q118*F118),2))","v":""},{"$f":"IF(OR(AND(A118=\"\",B118=\"\",C118=\"\"),E118=0,E118=\"\",R118=0,R118=\"\"),\"\",ROUND((Q118*E118/R118),2))","v":""},{"$f":"IF(OR(AND(A118=\"\",B118=\"\",C118=\"\"),E118=0,E118=\"\",R118=0,R118=\"\"),\"\",ROUND((H118/(12*Q118*E118)+1)*Q118*E118/R118,2))","v":""},{"$f":"IF(OR(AND(A118=\"\",B118=\"\",C118=\"\"),R118=0,R118=\"\"),\"\",ROUND(W$4 / R118,1))","v":""},{"$f":"IF(OR(AND(A118=\"\",B118=\"\",C118=\"\"),N$4=\"\"),\"\",IF(AND(F118>0,H118>0),T118, IF(F118>0,S118, IF(AND(E118>0,H118>0),V118,U118))))","v":""},{"$f":"IF(W118<X118,W118,X118)","v":""},{"$f":"IF(W118<X118,Übersetzungstexte!A$186,\"\")","v":""},{"$f":"IF(AND(B118=\"\",C118=\"\"),\"\",CONCATENATE(B118,\",\",C118))","v":""}]
[null,null,null,null,null,null,null,null,null,null,null,"",{"$f":"Z119","v":""},{"$f":"IF(N$2-YEAR(D119)<N$3,0,1)","v":0},{"$f":"IF(L119=\"\",0,1)","v":0},{"$f":"IF(AND(A119=\"\",B119=\"\",C119=\"\"),\"\",ROUND((K119+J119)/(N$4-(K119+J119))*100,2))","v":""},{"$f":"ROUND(G119,0)/12","v":0},{"$f":"IF(AND(A119=\"\",B119=\"\",C119=\"\"),\"\",ROUND((N$4-(K119+J119))*I119/60,1))","v":""},{"$f":"IF(OR(AND(A119=\"\",B119=\"\",C119=\"\"),F119=0,F119=\"\"),\"\",ROUND((1+P119/100)*Q119*F119,2))","v":""},{"$f":"IF(OR(AND(A119=\"\",B119=\"\",C119=\"\"),F119=0,F119=\"\",I119=0,I119=\"\"),\"\",ROUND((1+P119/100)*(H119/(N$4*I119/5)+Q119*F119),2))","v":""},{"$f":"IF(OR(AND(A119=\"\",B119=\"\",C119=\"\"),E119=0,E119=\"\",R119=0,R119=\"\"),\"\",ROUND((Q119*E119/R119),2))","v":""},{"$f":"IF(OR(AND(A119=\"\",B119=\"\",C119=\"\"),E119=0,E119=\"\",R119=0,R119=\"\"),\"\",ROUND((H119/(12*Q119*E119)+1)*Q119*E119/R119,2))","v":""},{"$f":"IF(OR(AND(A119=\"\",B119=\"\",C119=\"\"),R119=0,R119=\"\"),\"\",ROUND(W$4 / R119,1))","v":""},{"$f":"IF(OR(AND(A119=\"\",B119=\"\",C119=\"\"),N$4=\"\"),\"\",IF(AND(F119>0,H119>0),T119, IF(F119>0,S119, IF(AND(E119>0,H119>0),V119,U119))))","v":""},{"$f":"IF(W119<X119,W119,X119)","v":""},{"$f":"IF(W119<X119,Übersetzungstexte!A$186,\"\")","v":""},{"$f":"IF(AND(B119=\"\",C119=\"\"),\"\",CONCATENATE(B119,\",\",C119))","v":""}]
[]
[{"$f":"'Stammdaten Betrieb & Abteilung'!D$1","v":"  "},null,null,null,null,null,{"$f":"Übersetzungstexte!A$135","v":"Betrieb / Betriebsabteilung"},{"$f":"'Stammdaten Betrieb & Abteilung'!D$13","v":" "}]
[{"$f":"'Stammdaten Betrieb & Abteilung'!D$3","v":" "},null,null,null,null,null,{"$f":"Übersetzungstexte!A$136","v":"Abrechnungsperiode"},{"$f":"'Stammdaten Betrieb & Abteilung'!D$14","v":""}]
[{"$f":"'Stammdaten Betrieb & Abteilung'!D$4","v":" "},null,null,null,null,null,{"$f":"Übersetzungstexte!A$137","v":"Beginn / Ende der Kurzarbeit"},{"$f":"'Stammdaten Betrieb & Abteilung'!D$16","v":""}]
[]
[{"$f":"Übersetzungstexte!A$138","v":""},{"$f":"Übersetzungstexte!A$142","v":""},{"$f":"Übersetzungstexte!A$146","v":""},{"$f":"Übersetzungstexte!A$150","v":""},{"$f":"Übersetzungstexte!A$154","v":""},{"$f":"Übersetzungstexte!A$158","v":""},{"$f":"Übersetzungstexte!A$162","v":"Anzahl bez."},{"$f":"Übersetzungstexte!A$166","v":"Weitere"},{"$f":"Übersetzungstexte!A$170","v":"Jahres-"},{"$f":"Übersetzungstexte!A$174","v":""},{"$f":"Übersetzungstexte!A$178","v":""},{"$f":"Übersetzungstexte!A$182","v":"Anrechen-"},null,null,"Anzahl","Regel 7",null,"Regel 9","Regel 10","Regel 11","Regel 12","Regel 13","Regel 14","Regel 10-14","Regel 14","Regel 14"]
[{"$f":"Übersetzungstexte!A$139","v":""},{"$f":"Übersetzungstexte!A$143","v":""},{"$f":"Übersetzungstexte!A$147","v":""},{"$f":"Übersetzungstexte!A$151","v":""},{"$f":"Übersetzungstexte!A$155","v":""},{"$f":"Übersetzungstexte!A$159","v":""},{"$f":"Übersetzungstexte!A$163","v":"Monate "},{"$f":"Übersetzungstexte!A$167","v":"Lohn-"},{"$f":"Übersetzungstexte!A$171","v":"durchschn."},{"$f":"Übersetzungstexte!A$175","v":"Anzahl"},{"$f":"Übersetzungstexte!A$179","v":"Anzahl"},{"$f":"Übersetzungstexte!A$183","v":"barer"},null,null,"bezugs-","  FF12","S13 / 12","  deApM","Std. Lohn","Std. Lohn","Monatslohn","Monatslohn","Vergleichs-","Anrechenb.","Anrechenb.","Warnungs-"]
[{"$f":"Übersetzungstexte!A$140","v":""},{"$f":"Übersetzungstexte!A$144","v":""},{"$f":"Übersetzungstexte!A$148","v":""},{"$f":"Übersetzungstexte!A$152","v":"Geburts-"},{"$f":"Übersetzungstexte!A$156","v":"Monats-"},{"$f":"Übersetzungstexte!A$160","v":"Stunden-"},{"$f":"Übersetzungstexte!A$164","v":"pro Jahr"},{"$f":"Übersetzungstexte!A$168","v":"bestand-"},{"$f":"Übersetzungstexte!A$172","v":"wöchentl."},{"$f":"Übersetzungstexte!A$176","v":"Ferientage"},{"$f":"Übersetzungstexte!A$180","v":"Feiertage"},{"$f":"Übersetzungstexte!A$184","v":"Stunden-"},null,"AHV-","berechtigte",null,null,null,"ohne","mit","ohne","mit","wert","Std.-Verd.","Std.-","anzeige"]
[{"$f":"Übersetzungstexte!A$141","v":"Versicherten-Nr."},{"$f":"Übersetzungstexte!A$145","v":"Name"},{"$f":"Übersetzungstexte!A$149","v":"Vorname"},{"$f":"Übersetzungstexte!A$153","v":"datum"},{"$f":"Übersetzungstexte!A$157","v":"lohn"},{"$f":"Übersetzungstexte!A$161","v":"lohn"},{"$f":"Übersetzungstexte!A$165","v":"(12/13)"},{"$f":"Übersetzungstexte!A$169","v":"teile p. Jahr"},{"$f":"Übersetzungstexte!A$173","v":"Arbeitszeit"},{"$f":"Übersetzungstexte!A$177","v":"pro Jahr"},{"$f":"Übersetzungstexte!A$181","v":"pro Jahr"},{"$f":"Übersetzungstexte!A$185","v":"Verdienst"},null,"pflichtig","Mitarbeiter",null,null,null,"Prämie","Prämie","Prämie","Prämie",null,"aSV","Verdienst",null,"Name,Vorname"]
[null,null,null,null,null,null,null,null,null,null,null,{"$f":"Y129","v":""},{"$f":"Z129","v":""},{"$f":"IF(N$2-YEAR(D129)<N$3,0,1)","v":0},{"$f":"IF(L129=\"\",0,1)","v":0},{"$f":"IF(AND(A129=\"\",B129=\"\",C129=\"\"),\"\",ROUND((K129+J129)/(N$4-(K129+J129))*100,2))","v":""},{"$f":"ROUND(G129,0)/12","v":0},{"$f":"IF(AND(A129=\"\",B129=\"\",C129=\"\"),\"\",ROUND((N$4-(K129+J129))*I129/60,1))","v":""},{"$f":"IF(OR(AND(A129=\"\",B129=\"\",C129=\"\"),F129=0,F129=\"\"),\"\",ROUND((1+P129/100)*Q129*F129,2))","v":""},{"$f":"IF(OR(AND(A129=\"\",B129=\"\",C129=\"\"),F129=0,F129=\"\",I129=0,I129=\"\"),\"\",ROUND((1+P129/100)*(H129/(N$4*I129/5)+Q129*F129),2))","v":""},{"$f":"IF(OR(AND(A129=\"\",B129=\"\",C129=\"\"),E129=0,E129=\"\",R129=0,R129=\"\"),\"\",ROUND((Q129*E129/R129),2))","v":""},{"$f":"IF(OR(AND(A129=\"\",B129=\"\",C129=\"\"),E129=0,E129=\"\",R129=0,R129=\"\"),\"\",ROUND((H129/(12*Q129*E129)+1)*Q129*E129/R129,2))","v":""},{"$f":"IF(OR(AND(A129=\"\",B129=\"\",C129=\"\"),R129=0,R129=\"\"),\"\",ROUND(W$4 / R129,1))","v":""},{"$f":"IF(OR(AND(A129=\"\",B129=\"\",C129=\"\"),N$4=\"\"),\"\",IF(AND(F129>0,H129>0),T129, IF(F129>0,S129, IF(AND(E129>0,H129>0),V129,U129))))","v":""},{"$f":"IF(W129<X129,W129,X129)","v":""},{"$f":"IF(W129<X129,Übersetzungstexte!A$186,\"\")","v":""},{"$f":"IF(AND(B129=\"\",C129=\"\"),\"\",CONCATENATE(B129,\",\",C129))","v":""}]
[null,null,null,null,null,null,null,null,null,null,null,"","",0,0,"",0,"","","","","","","","",{"$f":"IF(W130<X130,Übersetzungstexte!A$186,\"\")","v":""},""]
[null,null,null,null,null,null,null,null,null,null,null,"","",0,0,"",0,"","","","","","","","",{"$f":"IF(W131<X131,Übersetzungstexte!A$186,\"\")","v":""},""]
[null,null,null,null,null,null,null,null,null,null,null,"","",0,0,"",0,"","","","","","","","",{"$f":"IF(W132<X132,Übersetzungstexte!A$186,\"\")","v":""},""]
[null,null,null,null,null,null,null,null,null,null,null,"","",0,0,"",0,"","","","","","","","",{"$f":"IF(W133<X133,Übersetzungstexte!A$186,\"\")","v":""},""]
[null,null,null,null,null,null,null,null,null,null,null,"","",0,0,"",0,"","","","","","","","",{"$f":"IF(W134<X134,Übersetzungstexte!A$186,\"\")","v":""},""]
[null,null,null,null,null,null,null,null,null,null,null,"","",0,0,"",0,"","","","","","","","",{"$f":"IF(W135<X135,Übersetzungstexte!A$186,\"\")","v":""},""]
[null,null,null,null,null,null,null,null,null,null,null,"","",0,0,"",0,"","","","","","","","",{"$f":"IF(W136<X136,Übersetzungstexte!A$186,\"\")","v":""},""]
[null,null,null,null,null,null,null,null,null,null,null,"","",0,0,"",0,"","","","","","","","",{"$f":"IF(W137<X137,Übersetzungstexte!A$186,\"\")","v":""},""]
[null,null,null,null,null,null,null,null,null,null,null,"","",0,0,"",0,"","","","","","","","",{"$f":"IF(W138<X138,Übersetzungstexte!A$186,\"\")","v":""},""]
[null,null,null,null,null,null,null,null,null,null,null,"","",0,0,"",0,"","","","","","","","",{"$f":"IF(W139<X139,Übersetzungstexte!A$186,\"\")","v":""},""]
[null,null,null,null,null,null,null,null,null,null,null,"","",0,0,"",0,"","","","","","","","",{"$f":"IF(W140<X140,Übersetzungstexte!A$186,\"\")","v":""},""]
[null,null,null,null,null,null,null,null,null,null,null,"","",0,0,"",0,"","","","","","","","",{"$f":"IF(W141<X141,Übersetzungstexte!A$186,\"\")","v":""},""]
[null,null,null,null,null,null,null,null,null,null,null,"","",0,0,"",0,"","","","","","","","",{"$f":"IF(W142<X142,Übersetzungstexte!A$186,\"\")","v":""},""]
[null,null,null,null,null,null,null,null,null,null,null,"","",0,0,"",0,"","","","","","","","",{"$f":"IF(W143<X143,Übersetzungstexte!A$186,\"\")","v":""},""]
[null,null,null,null,null,null,null,null,null,null,null,"","",0,0,"",0,"","","","","","","","",{"$f":"IF(W144<X144,Übersetzungstexte!A$186,\"\")","v":""},""]
[null,null,null,null,null,null,null,null,null,null,null,"","",0,0,"",0,"","","","","","","","",{"$f":"IF(W145<X145,Übersetzungstexte!A$186,\"\")","v":""},""]
[null,null,null,null,null,null,null,null,null,null,null,"","",0,0,"",0,"","","","","","","","",{"$f":"IF(W146<X146,Übersetzungstexte!A$186,\"\")","v":""},""]
[null,null,null,null,null,null,null,null,null,null,null,"","",0,0,"",0,"","","","","","","","",{"$f":"IF(W147<X147,Übersetzungstexte!A$186,\"\")","v":""},""]
[null,null,null,null,null,null,null,null,null,null,null,"",{"$f":"Z148","v":""},{"$f":"IF(N$2-YEAR(D148)<N$3,0,1)","v":0},{"$f":"IF(L148=\"\",0,1)","v":0},{"$f":"IF(AND(A148=\"\",B148=\"\",C148=\"\"),\"\",ROUND((K148+J148)/(N$4-(K148+J148))*100,2))","v":""},{"$f":"ROUND(G148,0)/12","v":0},{"$f":"IF(AND(A148=\"\",B148=\"\",C148=\"\"),\"\",ROUND((N$4-(K148+J148))*I148/60,1))","v":""},{"$f":"IF(OR(AND(A148=\"\",B148=\"\",C148=\"\"),F148=0,F148=\"\"),\"\",ROUND((1+P148/100)*Q148*F148,2))","v":""},{"$f":"IF(OR(AND(A148=\"\",B148=\"\",C148=\"\"),F148=0,F148=\"\",I148=0,I148=\"\"),\"\",ROUND((1+P148/100)*(H148/(N$4*I148/5)+Q148*F148),2))","v":""},{"$f":"IF(OR(AND(A148=\"\",B148=\"\",C148=\"\"),E148=0,E148=\"\",R148=0,R148=\"\"),\"\",ROUND((Q148*E148/R148),2))","v":""},{"$f":"IF(OR(AND(A148=\"\",B148=\"\",C148=\"\"),E148=0,E148=\"\",R148=0,R148=\"\"),\"\",ROUND((H148/(12*Q148*E148)+1)*Q148*E148/R148,2))","v":""},{"$f":"IF(OR(AND(A148=\"\",B148=\"\",C148=\"\"),R148=0,R148=\"\"),\"\",ROUND(W$4 / R148,1))","v":""},{"$f":"IF(OR(AND(A148=\"\",B148=\"\",C148=\"\"),N$4=\"\"),\"\",IF(AND(F148>0,H148>0),T148, IF(F148>0,S148, IF(AND(E148>0,H148>0),V148,U148))))","v":""},{"$f":"IF(W148<X148,W148,X148)","v":""},{"$f":"IF(W148<X148,Übersetzungstexte!A$186,\"\")","v":""},{"$f":"IF(AND(B148=\"\",C148=\"\"),\"\",CONCATENATE(B148,\",\",C148))","v":""}]
[null,null,null,null,null,null,null,null,null,null,null,"",{"$f":"Z149","v":""},{"$f":"IF(N$2-YEAR(D149)<N$3,0,1)","v":0},{"$f":"IF(L149=\"\",0,1)","v":0},{"$f":"IF(AND(A149=\"\",B149=\"\",C149=\"\"),\"\",ROUND((K149+J149)/(N$4-(K149+J149))*100,2))","v":""},{"$f":"ROUND(G149,0)/12","v":0},{"$f":"IF(AND(A149=\"\",B149=\"\",C149=\"\"),\"\",ROUND((N$4-(K149+J149))*I149/60,1))","v":""},{"$f":"IF(OR(AND(A149=\"\",B149=\"\",C149=\"\"),F149=0,F149=\"\"),\"\",ROUND((1+P149/100)*Q149*F149,2))","v":""},{"$f":"IF(OR(AND(A149=\"\",B149=\"\",C149=\"\"),F149=0,F149=\"\",I149=0,I149=\"\"),\"\",ROUND((1+P149/100)*(H149/(N$4*I149/5)+Q149*F149),2))","v":""},{"$f":"IF(OR(AND(A149=\"\",B149=\"\",C149=\"\"),E149=0,E149=\"\",R149=0,R149=\"\"),\"\",ROUND((Q149*E149/R149),2))","v":""},{"$f":"IF(OR(AND(A149=\"\",B149=\"\",C149=\"\"),E149=0,E149=\"\",R149=0,R149=\"\"),\"\",ROUND((H149/(12*Q149*E149)+1)*Q149*E149/R149,2))","v":""},{"$f":"IF(OR(AND(A149=\"\",B149=\"\",C149=\"\"),R149=0,R149=\"\"),\"\",ROUND(W$4 / R149,1))","v":""},{"$f":"IF(OR(AND(A149=\"\",B149=\"\",C149=\"\"),N$4=\"\"),\"\",IF(AND(F149>0,H149>0),T149, IF(F149>0,S149, IF(AND(E149>0,H149>0),V149,U149))))","v":""},{"$f":"IF(W149<X149,W149,X149)","v":""},{"$f":"IF(W149<X149,Übersetzungstexte!A$186,\"\")","v":""},{"$f":"IF(AND(B149=\"\",C149=\"\"),\"\",CONCATENATE(B149,\",\",C149))","v":""}]
[]
[{"$f":"'Stammdaten Betrieb & Abteilung'!D$1","v":"  "},null,null,null,null,null,{"$f":"Übersetzungstexte!A$135","v":"Betrieb / Betriebsabteilung"},{"$f":"'Stammdaten Betrieb & Abteilung'!D$13","v":" "}]
[{"$f":"'Stammdaten Betrieb & Abteilung'!D$3","v":" "},null,null,null,null,null,{"$f":"Übersetzungstexte!A$136","v":"Abrechnungsperiode"},{"$f":"'Stammdaten Betrieb & Abteilung'!D$14","v":""}]
[{"$f":"'Stammdaten Betrieb & Abteilung'!D$4","v":" "},null,null,null,null,null,{"$f":"Übersetzungstexte!A$137","v":"Beginn / Ende der Kurzarbeit"},{"$f":"'Stammdaten Betrieb & Abteilung'!D$16","v":""}]
[]
[{"$f":"Übersetzungstexte!A$138","v":""},{"$f":"Übersetzungstexte!A$142","v":""},{"$f":"Übersetzungstexte!A$146","v":""},{"$f":"Übersetzungstexte!A$150","v":""},{"$f":"Übersetzungstexte!A$154","v":""},{"$f":"Übersetzungstexte!A$158","v":""},{"$f":"Übersetzungstexte!A$162","v":"Anzahl bez."},{"$f":"Übersetzungstexte!A$166","v":"Weitere"},{"$f":"Übersetzungstexte!A$170","v":"Jahres-"},{"$f":"Übersetzungstexte!A$174","v":""},{"$f":"Übersetzungstexte!A$178","v":""},{"$f":"Übersetzungstexte!A$182","v":"Anrechen-"},null,null,"Anzahl","Regel 7",null,"Regel 9","Regel 10","Regel 11","Regel 12","Regel 13","Regel 14","Regel 10-14","Regel 14","Regel 14"]
[{"$f":"Übersetzungstexte!A$139","v":""},{"$f":"Übersetzungstexte!A$143","v":""},{"$f":"Übersetzungstexte!A$147","v":""},{"$f":"Übersetzungstexte!A$151","v":""},{"$f":"Übersetzungstexte!A$155","v":""},{"$f":"Übersetzungstexte!A$159","v":""},{"$f":"Übersetzungstexte!A$163","v":"Monate "},{"$f":"Übersetzungstexte!A$167","v":"Lohn-"},{"$f":"Übersetzungstexte!A$171","v":"durchschn."},{"$f":"Übersetzungstexte!A$175","v":"Anzahl"},{"$f":"Übersetzungstexte!A$179","v":"Anzahl"},{"$f":"Übersetzungstexte!A$183","v":"barer"},null,null,"bezugs-","  FF12","S13 / 12","  deApM","Std. Lohn","Std. Lohn","Monatslohn","Monatslohn","Vergleichs-","Anrechenb.","Anrechenb.","Warnungs-"]
[{"$f":"Übersetzungstexte!A$140","v":""},{"$f":"Übersetzungstexte!A$144","v":""},{"$f":"Übersetzungstexte!A$148","v":""},{"$f":"Übersetzungstexte!A$152","v":"Geburts-"},{"$f":"Übersetzungstexte!A$156","v":"Monats-"},{"$f":"Übersetzungstexte!A$160","v":"Stunden-"},{"$f":"Übersetzungstexte!A$164","v":"pro Jahr"},{"$f":"Übersetzungstexte!A$168","v":"bestand-"},{"$f":"Übersetzungstexte!A$172","v":"wöchentl."},{"$f":"Übersetzungstexte!A$176","v":"Ferientage"},{"$f":"Übersetzungstexte!A$180","v":"Feiertage"},{"$f":"Übersetzungstexte!A$184","v":"Stunden-"},null,"AHV-","berechtigte",null,null,null,"ohne","mit","ohne","mit","wert","Std.-Verd.","Std.-","anzeige"]
[{"$f":"Übersetzungstexte!A$141","v":"Versicherten-Nr."},{"$f":"Übersetzungstexte!A$145","v":"Name"},{"$f":"Übersetzungstexte!A$149","v":"Vorname"},{"$f":"Übersetzungstexte!A$153","v":"datum"},{"$f":"Übersetzungstexte!A$157","v":"lohn"},{"$f":"Übersetzungstexte!A$161","v":"lohn"},{"$f":"Übersetzungstexte!A$165","v":"(12/13)"},{"$f":"Übersetzungstexte!A$169","v":"teile p. Jahr"},{"$f":"Übersetzungstexte!A$173","v":"Arbeitszeit"},{"$f":"Übersetzungstexte!A$177","v":"pro Jahr"},{"$f":"Übersetzungstexte!A$181","v":"pro Jahr"},{"$f":"Übersetzungstexte!A$185","v":"Verdienst"},null,"pflichtig","Mitarbeiter",null,null,null,"Prämie","Prämie","Prämie","Prämie",null,"aSV","Verdienst",null,"Name,Vorname"]
[null,null,null,null,null,null,null,null,null,null,null,{"$f":"Y159","v":""},{"$f":"Z159","v":""},{"$f":"IF(N$2-YEAR(D159)<N$3,0,1)","v":0},{"$f":"IF(L159=\"\",0,1)","v":0},{"$f":"IF(AND(A159=\"\",B159=\"\",C159=\"\"),\"\",ROUND((K159+J159)/(N$4-(K159+J159))*100,2))","v":""},{"$f":"ROUND(G159,0)/12","v":0},{"$f":"IF(AND(A159=\"\",B159=\"\",C159=\"\"),\"\",ROUND((N$4-(K159+J159))*I159/60,1))","v":""},{"$f":"IF(OR(AND(A159=\"\",B159=\"\",C159=\"\"),F159=0,F159=\"\"),\"\",ROUND((1+P159/100)*Q159*F159,2))","v":""},{"$f":"IF(OR(AND(A159=\"\",B159=\"\",C159=\"\"),F159=0,F159=\"\",I159=0,I159=\"\"),\"\",ROUND((1+P159/100)*(H159/(N$4*I159/5)+Q159*F159),2))","v":""},{"$f":"IF(OR(AND(A159=\"\",B159=\"\",C159=\"\"),E159=0,E159=\"\",R159=0,R159=\"\"),\"\",ROUND((Q159*E159/R159),2))","v":""},{"$f":"IF(OR(AND(A159=\"\",B159=\"\",C159=\"\"),E159=0,E159=\"\",R159=0,R159=\"\"),\"\",ROUND((H159/(12*Q159*E159)+1)*Q159*E159/R159,2))","v":""},{"$f":"IF(OR(AND(A159=\"\",B159=\"\",C159=\"\"),R159=0,R159=\"\"),\"\",ROUND(W$4 / R159,1))","v":""},{"$f":"IF(OR(AND(A159=\"\",B159=\"\",C159=\"\"),N$4=\"\"),\"\",IF(AND(F159>0,H159>0),T159, IF(F159>0,S159, IF(AND(E159>0,H159>0),V159,U159))))","v":""},{"$f":"IF(W159<X159,W159,X159)","v":""},{"$f":"IF(W159<X159,Übersetzungstexte!A$186,\"\")","v":""},{"$f":"IF(AND(B159=\"\",C159=\"\"),\"\",CONCATENATE(B159,\",\",C159))","v":""}]
[null,null,null,null,null,null,null,null,null,null,null,"","",0,0,"",0,"","","","","","","","",{"$f":"IF(W160<X160,Übersetzungstexte!A$186,\"\")","v":""},""]
[null,null,null,null,null,null,null,null,null,null,null,"","",0,0,"",0,"","","","","","","","",{"$f":"IF(W161<X161,Übersetzungstexte!A$186,\"\")","v":""},""]
[null,null,null,null,null,null,null,null,null,null,null,"","",0,0,"",0,"","","","","","","","",{"$f":"IF(W162<X162,Übersetzungstexte!A$186,\"\")","v":""},""]
[null,null,null,null,null,null,null,null,null,null,null,"","",0,0,"",0,"","","","","","","","",{"$f":"IF(W163<X163,Übersetzungstexte!A$186,\"\")","v":""},""]
[null,null,null,null,null,null,null,null,null,null,null,"","",0,0,"",0,"","","","","","","","",{"$f":"IF(W164<X164,Übersetzungstexte!A$186,\"\")","v":""},""]
[null,null,null,null,null,null,null,null,null,null,null,"","",0,0,"",0,"","","","","","","","",{"$f":"IF(W165<X165,Übersetzungstexte!A$186,\"\")","v":""},""]
[null,null,null,null,null,null,null,null,null,null,null,"","",0,0,"",0,"","","","","","","","",{"$f":"IF(W166<X166,Übersetzungstexte!A$186,\"\")","v":""},""]
[null,null,null,null,null,null,null,null,null,null,null,"","",0,0,"",0,"","","","","","","","",{"$f":"IF(W167<X167,Übersetzungstexte!A$186,\"\")","v":""},""]
[null,null,null,null,null,null,null,null,null,null,null,"","",0,0,"",0,"","","","","","","","",{"$f":"IF(W168<X168,Übersetzungstexte!A$186,\"\")","v":""},""]
[null,null,null,null,null,null,null,null,null,null,null,"","",0,0,"",0,"","","","","","","","",{"$f":"IF(W169<X169,Übersetzungstexte!A$186,\"\")","v":""},""]
[null,null,null,null,null,null,null,null,null,null,null,"","",0,0,"",0,"","","","","","","","",{"$f":"IF(W170<X170,Übersetzungstexte!A$186,\"\")","v":""},""]
[null,null,null,null,null,null,null,null,null,null,null,"","",0,0,"",0,"","","","","","","","",{"$f":"IF(W171<X171,Übersetzungstexte!A$186,\"\")","v":""},""]
[null,null,null,null,null,null,null,null,null,null,null,"","",0,0,"",0,"","","","","","","","",{"$f":"IF(W172<X172,Übersetzungstexte!A$186,\"\")","v":""},""]
[null,null,null,null,null,null,null,null,null,null,null,"","",0,0,"",0,"","","","","","","","",{"$f":"IF(W173<X173,Übersetzungstexte!A$186,\"\")","v":""},""]
[null,null,null,null,null,null,null,null,null,null,null,"","",0,0,"",0,"","","","","","","","",{"$f":"IF(W174<X174,Übersetzungstexte!A$186,\"\")","v":""},""]
[null,null,null,null,null,null,null,null,null,null,null,"","",0,0,"",0,"","","","","","","","",{"$f":"IF(W175<X175,Übersetzungstexte!A$186,\"\")","v":""},""]
[null,null,null,null,null,null,null,null,null,null,null,"","",0,0,"",0,"","","","","","","","",{"$f":"IF(W176<X176,Übersetzungstexte!A$186,\"\")","v":""},""]
[null,null,null,null,null,null,null,null,null,null,null,"","",0,0,"",0,"","","","","","","","",{"$f":"IF(W177<X177,Übersetzungstexte!A$186,\"\")","v":""},""]
[null,null,null,null,null,null,null,null,null,null,null,"",{"$f":"Z178","v":""},{"$f":"IF(N$2-YEAR(D178)<N$3,0,1)","v":0},{"$f":"IF(L178=\"\",0,1)","v":0},{"$f":"IF(AND(A178=\"\",B178=\"\",C178=\"\"),\"\",ROUND((K178+J178)/(N$4-(K178+J178))*100,2))","v":""},{"$f":"ROUND(G178,0)/12","v":0},{"$f":"IF(AND(A178=\"\",B178=\"\",C178=\"\"),\"\",ROUND((N$4-(K178+J178))*I178/60,1))","v":""},{"$f":"IF(OR(AND(A178=\"\",B178=\"\",C178=\"\"),F178=0,F178=\"\"),\"\",ROUND((1+P178/100)*Q178*F178,2))","v":""},{"$f":"IF(OR(AND(A178=\"\",B178=\"\",C178=\"\"),F178=0,F178=\"\",I178=0,I178=\"\"),\"\",ROUND((1+P178/100)*(H178/(N$4*I178/5)+Q178*F178),2))","v":""},{"$f":"IF(OR(AND(A178=\"\",B178=\"\",C178=\"\"),E178=0,E178=\"\",R178=0,R178=\"\"),\"\",ROUND((Q178*E178/R178),2))","v":""},{"$f":"IF(OR(AND(A178=\"\",B178=\"\",C178=\"\"),E178=0,E178=\"\",R178=0,R178=\"\"),\"\",ROUND((H178/(12*Q178*E178)+1)*Q178*E178/R178,2))","v":""},{"$f":"IF(OR(AND(A178=\"\",B178=\"\",C178=\"\"),R178=0,R178=\"\"),\"\",ROUND(W$4 / R178,1))","v":""},{"$f":"IF(OR(AND(A178=\"\",B178=\"\",C178=\"\"),N$4=\"\"),\"\",IF(AND(F178>0,H178>0),T178, IF(F178>0,S178, IF(AND(E178>0,H178>0),V178,U178))))","v":""},{"$f":"IF(W178<X178,W178,X178)","v":""},{"$f":"IF(W178<X178,Übersetzungstexte!A$186,\"\")","v":""},{"$f":"IF(AND(B178=\"\",C178=\"\"),\"\",CONCATENATE(B178,\",\",C178))","v":""}]
[null,null,null,null,null,null,null,null,null,null,null,"",{"$f":"Z179","v":""},{"$f":"IF(N$2-YEAR(D179)<N$3,0,1)","v":0},{"$f":"IF(L179=\"\",0,1)","v":0},{"$f":"IF(AND(A179=\"\",B179=\"\",C179=\"\"),\"\",ROUND((K179+J179)/(N$4-(K179+J179))*100,2))","v":""},{"$f":"ROUND(G179,0)/12","v":0},{"$f":"IF(AND(A179=\"\",B179=\"\",C179=\"\"),\"\",ROUND((N$4-(K179+J179))*I179/60,1))","v":""},{"$f":"IF(OR(AND(A179=\"\",B179=\"\",C179=\"\"),F179=0,F179=\"\"),\"\",ROUND((1+P179/100)*Q179*F179,2))","v":""},{"$f":"IF(OR(AND(A179=\"\",B179=\"\",C179=\"\"),F179=0,F179=\"\",I179=0,I179=\"\"),\"\",ROUND((1+P179/100)*(H179/(N$4*I179/5)+Q179*F179),2))","v":""},{"$f":"IF(OR(AND(A179=\"\",B179=\"\",C179=\"\"),E179=0,E179=\"\",R179=0,R179=\"\"),\"\",ROUND((Q179*E179/R179),2))","v":""},{"$f":"IF(OR(AND(A179=\"\",B179=\"\",C179=\"\"),E179=0,E179=\"\",R179=0,R179=\"\"),\"\",ROUND((H179/(12*Q179*E179)+1)*Q179*E179/R179,2))","v":""},{"$f":"IF(OR(AND(A179=\"\",B179=\"\",C179=\"\"),R179=0,R179=\"\"),\"\",ROUND(W$4 / R179,1))","v":""},{"$f":"IF(OR(AND(A179=\"\",B179=\"\",C179=\"\"),N$4=\"\"),\"\",IF(AND(F179>0,H179>0),T179, IF(F179>0,S179, IF(AND(E179>0,H179>0),V179,U179))))","v":""},{"$f":"IF(W179<X179,W179,X179)","v":""},{"$f":"IF(W179<X179,Übersetzungstexte!A$186,\"\")","v":""},{"$f":"IF(AND(B179=\"\",C179=\"\"),\"\",CONCATENATE(B179,\",\",C179))","v":""}]
[]
[{"$f":"'Stammdaten Betrieb & Abteilung'!D$1","v":"  "},null,null,null,null,null,{"$f":"Übersetzungstexte!A$135","v":"Betrieb / Betriebsabteilung"},{"$f":"'Stammdaten Betrieb & Abteilung'!D$13","v":" "}]
[{"$f":"'Stammdaten Betrieb & Abteilung'!D$3","v":" "},null,null,null,null,null,{"$f":"Übersetzungstexte!A$136","v":"Abrechnungsperiode"},{"$f":"'Stammdaten Betrieb & Abteilung'!D$14","v":""}]
[{"$f":"'Stammdaten Betrieb & Abteilung'!D$4","v":" "},null,null,null,null,null,{"$f":"Übersetzungstexte!A$137","v":"Beginn / Ende der Kurzarbeit"},{"$f":"'Stammdaten Betrieb & Abteilung'!D$16","v":""}]
[]
[{"$f":"Übersetzungstexte!A$138","v":""},{"$f":"Übersetzungstexte!A$142","v":""},{"$f":"Übersetzungstexte!A$146","v":""},{"$f":"Übersetzungstexte!A$150","v":""},{"$f":"Übersetzungstexte!A$154","v":""},{"$f":"Übersetzungstexte!A$158","v":""},{"$f":"Übersetzungstexte!A$162","v":"Anzahl bez."},{"$f":"Übersetzungstexte!A$166","v":"Weitere"},{"$f":"Übersetzungstexte!A$170","v":"Jahres-"},{"$f":"Übersetzungstexte!A$174","v":""},{"$f":"Übersetzungstexte!A$178","v":""},{"$f":"Übersetzungstexte!A$182","v":"Anrechen-"},null,null,"Anzahl","Regel 7",null,"Regel 9","Regel 10","Regel 11","Regel 12","Regel 13","Regel 14","Regel 10-14","Regel 14","Regel 14"]
[{"$f":"Übersetzungstexte!A$139","v":""},{"$f":"Übersetzungstexte!A$143","v":""},{"$f":"Übersetzungstexte!A$147","v":""},{"$f":"Übersetzungstexte!A$151","v":""},{"$f":"Übersetzungstexte!A$155","v":""},{"$f":"Übersetzungstexte!A$159","v":""},{"$f":"Übersetzungstexte!A$163","v":"Monate "},{"$f":"Übersetzungstexte!A$167","v":"Lohn-"},{"$f":"Übersetzungstexte!A$171","v":"durchschn."},{"$f":"Übersetzungstexte!A$175","v":"Anzahl"},{"$f":"Übersetzungstexte!A$179","v":"Anzahl"},{"$f":"Übersetzungstexte!A$183","v":"barer"},null,null,"bezugs-","  FF12","S13 / 12","  deApM","Std. Lohn","Std. Lohn","Monatslohn","Monatslohn","Vergleichs-","Anrechenb.","Anrechenb.","Warnungs-"]
[{"$f":"Übersetzungstexte!A$140","v":""},{"$f":"Übersetzungstexte!A$144","v":""},{"$f":"Übersetzungstexte!A$148","v":""},{"$f":"Übersetzungstexte!A$152","v":"Geburts-"},{"$f":"Übersetzungstexte!A$156","v":"Monats-"},{"$f":"Übersetzungstexte!A$160","v":"Stunden-"},{"$f":"Übersetzungstexte!A$164","v":"pro Jahr"},{"$f":"Übersetzungstexte!A$168","v":"bestand-"},{"$f":"Übersetzungstexte!A$172","v":"wöchentl."},{"$f":"Übersetzungstexte!A$176","v":"Ferientage"},{"$f":"Übersetzungstexte!A$180","v":"Feiertage"},{"$f":"Übersetzungstexte!A$184","v":"Stunden-"},null,"AHV-","berechtigte",null,null,null,"ohne","mit","ohne","mit","wert","Std.-Verd.","Std.-","anzeige"]
[{"$f":"Übersetzungstexte!A$141","v":"Versicherten-Nr."},{"$f":"Übersetzungstexte!A$145","v":"Name"},{"$f":"Übersetzungstexte!A$149","v":"Vorname"},{"$f":"Übersetzungstexte!A$153","v":"datum"},{"$f":"Übersetzungstexte!A$157","v":"lohn"},{"$f":"Übersetzungstexte!A$161","v":"lohn"},{"$f":"Übersetzungstexte!A$165","v":"(12/13)"},{"$f":"Übersetzungstexte!A$169","v":"teile p. Jahr"},{"$f":"Übersetzungstexte!A$173","v":"Arbeitszeit"},{"$f":"Übersetzungstexte!A$177","v":"pro Jahr"},{"$f":"Übersetzungstexte!A$181","v":"pro Jahr"},{"$f":"Übersetzungstexte!A$185","v":"Verdienst"},null,"pflichtig","Mitarbeiter",null,null,null,"Prämie","Prämie","Prämie","Prämie",null,"aSV","Verdienst",null,"Name,Vorname"]
[null,null,null,null,null,null,null,null,null,null,null,{"$f":"Y189","v":""},{"$f":"Z189","v":""},{"$f":"IF(N$2-YEAR(D189)<N$3,0,1)","v":0},{"$f":"IF(L189=\"\",0,1)","v":0},{"$f":"IF(AND(A189=\"\",B189=\"\",C189=\"\"),\"\",ROUND((K189+J189)/(N$4-(K189+J189))*100,2))","v":""},{"$f":"ROUND(G189,0)/12","v":0},{"$f":"IF(AND(A189=\"\",B189=\"\",C189=\"\"),\"\",ROUND((N$4-(K189+J189))*I189/60,1))","v":""},{"$f":"IF(OR(AND(A189=\"\",B189=\"\",C189=\"\"),F189=0,F189=\"\"),\"\",ROUND((1+P189/100)*Q189*F189,2))","v":""},{"$f":"IF(OR(AND(A189=\"\",B189=\"\",C189=\"\"),F189=0,F189=\"\",I189=0,I189=\"\"),\"\",ROUND((1+P189/100)*(H189/(N$4*I189/5)+Q189*F189),2))","v":""},{"$f":"IF(OR(AND(A189=\"\",B189=\"\",C189=\"\"),E189=0,E189=\"\",R189=0,R189=\"\"),\"\",ROUND((Q189*E189/R189),2))","v":""},{"$f":"IF(OR(AND(A189=\"\",B189=\"\",C189=\"\"),E189=0,E189=\"\",R189=0,R189=\"\"),\"\",ROUND((H189/(12*Q189*E189)+1)*Q189*E189/R189,2))","v":""},{"$f":"IF(OR(AND(A189=\"\",B189=\"\",C189=\"\"),R189=0,R189=\"\"),\"\",ROUND(W$4 / R189,1))","v":""},{"$f":"IF(OR(AND(A189=\"\",B189=\"\",C189=\"\"),N$4=\"\"),\"\",IF(AND(F189>0,H189>0),T189, IF(F189>0,S189, IF(AND(E189>0,H189>0),V189,U189))))","v":""},{"$f":"IF(W189<X189,W189,X189)","v":""},{"$f":"IF(W189<X189,Übersetzungstexte!A$186,\"\")","v":""},{"$f":"IF(AND(B189=\"\",C189=\"\"),\"\",CONCATENATE(B189,\",\",C189))","v":""}]
[null,null,null,null,null,null,null,null,null,null,null,"","",0,0,"",0,"","","","","","","","",{"$f":"IF(W190<X190,Übersetzungstexte!A$186,\"\")","v":""},""]
[null,null,null,null,null,null,null,null,null,null,null,"","",0,0,"",0,"","","","","","","","",{"$f":"IF(W191<X191,Übersetzungstexte!A$186,\"\")","v":""},""]
[null,null,null,null,null,null,null,null,null,null,null,"","",0,0,"",0,"","","","","","","","",{"$f":"IF(W192<X192,Übersetzungstexte!A$186,\"\")","v":""},""]
[null,null,null,null,null,null,null,null,null,null,null,"","",0,0,"",0,"","","","","","","","",{"$f":"IF(W193<X193,Übersetzungstexte!A$186,\"\")","v":""},""]
[null,null,null,null,null,null,null,null,null,null,null,"","",0,0,"",0,"","","","","","","","",{"$f":"IF(W194<X194,Übersetzungstexte!A$186,\"\")","v":""},""]
[null,null,null,null,null,null,null,null,null,null,null,"","",0,0,"",0,"","","","","","","","",{"$f":"IF(W195<X195,Übersetzungstexte!A$186,\"\")","v":""},""]
[null,null,null,null,null,null,null,null,null,null,null,"","",0,0,"",0,"","","","","","","","",{"$f":"IF(W196<X196,Übersetzungstexte!A$186,\"\")","v":""},""]
[null,null,null,null,null,null,null,null,null,null,null,"","",0,0,"",0,"","","","","","","","",{"$f":"IF(W197<X197,Übersetzungstexte!A$186,\"\")","v":""},""]
[null,null,null,null,null,null,null,null,null,null,null,"","",0,0,"",0,"","","","","","","","",{"$f":"IF(W198<X198,Übersetzungstexte!A$186,\"\")","v":""},""]
[null,null,null,null,null,null,null,null,null,null,null,"","",0,0,"",0,"","","","","","","","",{"$f":"IF(W199<X199,Übersetzungstexte!A$186,\"\")","v":""},""]
[null,null,null,null,null,null,null,null,null,null,null,"","",0,0,"",0,"","","","","","","","",{"$f":"IF(W200<X200,Übersetzungstexte!A$186,\"\")","v":""},""]
[null,null,null,null,null,null,null,null,null,null,null,"","",0,0,"",0,"","","","","","","","",{"$f":"IF(W201<X201,Übersetzungstexte!A$186,\"\")","v":""},""]
[null,null,null,null,null,null,null,null,null,null,null,"","",0,0,"",0,"","","","","","","","",{"$f":"IF(W202<X202,Übersetzungstexte!A$186,\"\")","v":""},""]
[null,null,null,null,null,null,null,null,null,null,null,"","",0,0,"",0,"","","","","","","","",{"$f":"IF(W203<X203,Übersetzungstexte!A$186,\"\")","v":""},""]
[null,null,null,null,null,null,null,null,null,null,null,"","",0,0,"",0,"","","","","","","","",{"$f":"IF(W204<X204,Übersetzungstexte!A$186,\"\")","v":""},""]
[null,null,null,null,null,null,null,null,null,null,null,"","",0,0,"",0,"","","","","","","","",{"$f":"IF(W205<X205,Übersetzungstexte!A$186,\"\")","v":""},""]
[null,null,null,null,null,null,null,null,null,null,null,"","",0,0,"",0,"","","","","","","","",{"$f":"IF(W206<X206,Übersetzungstexte!A$186,\"\")","v":""},""]
[null,null,null,null,null,null,null,null,null,null,null,"","",0,0,"",0,"","","","","","","","",{"$f":"IF(W207<X207,Übersetzungstexte!A$186,\"\")","v":""},""]
[null,null,null,null,null,null,null,null,null,null,null,"",{"$f":"Z208","v":""},{"$f":"IF(N$2-YEAR(D208)<N$3,0,1)","v":0},{"$f":"IF(L208=\"\",0,1)","v":0},{"$f":"IF(AND(A208=\"\",B208=\"\",C208=\"\"),\"\",ROUND((K208+J208)/(N$4-(K208+J208))*100,2))","v":""},{"$f":"ROUND(G208,0)/12","v":0},{"$f":"IF(AND(A208=\"\",B208=\"\",C208=\"\"),\"\",ROUND((N$4-(K208+J208))*I208/60,1))","v":""},{"$f":"IF(OR(AND(A208=\"\",B208=\"\",C208=\"\"),F208=0,F208=\"\"),\"\",ROUND((1+P208/100)*Q208*F208,2))","v":""},{"$f":"IF(OR(AND(A208=\"\",B208=\"\",C208=\"\"),F208=0,F208=\"\",I208=0,I208=\"\"),\"\",ROUND((1+P208/100)*(H208/(N$4*I208/5)+Q208*F208),2))","v":""},{"$f":"IF(OR(AND(A208=\"\",B208=\"\",C208=\"\"),E208=0,E208=\"\",R208=0,R208=\"\"),\"\",ROUND((Q208*E208/R208),2))","v":""},{"$f":"IF(OR(AND(A208=\"\",B208=\"\",C208=\"\"),E208=0,E208=\"\",R208=0,R208=\"\"),\"\",ROUND((H208/(12*Q208*E208)+1)*Q208*E208/R208,2))","v":""},{"$f":"IF(OR(AND(A208=\"\",B208=\"\",C208=\"\"),R208=0,R208=\"\"),\"\",ROUND(W$4 / R208,1))","v":""},{"$f":"IF(OR(AND(A208=\"\",B208=\"\",C208=\"\"),N$4=\"\"),\"\",IF(AND(F208>0,H208>0),T208, IF(F208>0,S208, IF(AND(E208>0,H208>0),V208,U208))))","v":""},{"$f":"IF(W208<X208,W208,X208)","v":""},{"$f":"IF(W208<X208,Übersetzungstexte!A$186,\"\")","v":""},{"$f":"IF(AND(B208=\"\",C208=\"\"),\"\",CONCATENATE(B208,\",\",C208))","v":""}]
[null,null,null,null,null,null,null,null,null,null,null,"",{"$f":"Z209","v":""},{"$f":"IF(N$2-YEAR(D209)<N$3,0,1)","v":0},{"$f":"IF(L209=\"\",0,1)","v":0},{"$f":"IF(AND(A209=\"\",B209=\"\",C209=\"\"),\"\",ROUND((K209+J209)/(N$4-(K209+J209))*100,2))","v":""},{"$f":"ROUND(G209,0)/12","v":0},{"$f":"IF(AND(A209=\"\",B209=\"\",C209=\"\"),\"\",ROUND((N$4-(K209+J209))*I209/60,1))","v":""},{"$f":"IF(OR(AND(A209=\"\",B209=\"\",C209=\"\"),F209=0,F209=\"\"),\"\",ROUND((1+P209/100)*Q209*F209,2))","v":""},{"$f":"IF(OR(AND(A209=\"\",B209=\"\",C209=\"\"),F209=0,F209=\"\",I209=0,I209=\"\"),\"\",ROUND((1+P209/100)*(H209/(N$4*I209/5)+Q209*F209),2))","v":""},{"$f":"IF(OR(AND(A209=\"\",B209=\"\",C209=\"\"),E209=0,E209=\"\",R209=0,R209=\"\"),\"\",ROUND((Q209*E209/R209),2))","v":""},{"$f":"IF(OR(AND(A209=\"\",B209=\"\",C209=\"\"),E209=0,E209=\"\",R209=0,R209=\"\"),\"\",ROUND((H209/(12*Q209*E209)+1)*Q209*E209/R209,2))","v":""},{"$f":"IF(OR(AND(A209=\"\",B209=\"\",C209=\"\"),R209=0,R209=\"\"),\"\",ROUND(W$4 / R209,1))","v":""},{"$f":"IF(OR(AND(A209=\"\",B209=\"\",C209=\"\"),N$4=\"\"),\"\",IF(AND(F209>0,H209>0),T209, IF(F209>0,S209, IF(AND(E209>0,H209>0),V209,U209))))","v":""},{"$f":"IF(W209<X209,W209,X209)","v":""},{"$f":"IF(W209<X209,Übersetzungstexte!A$186,\"\")","v":""},{"$f":"IF(AND(B209=\"\",C209=\"\"),\"\",CONCATENATE(B209,\",\",C209))","v":""}]
[]
[{"$f":"'Stammdaten Betrieb & Abteilung'!D$1","v":"  "},null,null,null,null,null,{"$f":"Übersetzungstexte!A$135","v":"Betrieb / Betriebsabteilung"},{"$f":"'Stammdaten Betrieb & Abteilung'!D$13","v":" "}]
[{"$f":"'Stammdaten Betrieb & Abteilung'!D$3","v":" "},null,null,null,null,null,{"$f":"Übersetzungstexte!A$136","v":"Abrechnungsperiode"},{"$f":"'Stammdaten Betrieb & Abteilung'!D$14","v":""}]
[{"$f":"'Stammdaten Betrieb & Abteilung'!D$4","v":" "},null,null,null,null,null,{"$f":"Übersetzungstexte!A$137","v":"Beginn / Ende der Kurzarbeit"},{"$f":"'Stammdaten Betrieb & Abteilung'!D$16","v":""}]
[]
[{"$f":"Übersetzungstexte!A$138","v":""},{"$f":"Übersetzungstexte!A$142","v":""},{"$f":"Übersetzungstexte!A$146","v":""},{"$f":"Übersetzungstexte!A$150","v":""},{"$f":"Übersetzungstexte!A$154","v":""},{"$f":"Übersetzungstexte!A$158","v":""},{"$f":"Übersetzungstexte!A$162","v":"Anzahl bez."},{"$f":"Übersetzungstexte!A$166","v":"Weitere"},{"$f":"Übersetzungstexte!A$170","v":"Jahres-"},{"$f":"Übersetzungstexte!A$174","v":""},{"$f":"Übersetzungstexte!A$178","v":""},{"$f":"Übersetzungstexte!A$182","v":"Anrechen-"},null,null,"Anzahl","Regel 7",null,"Regel 9","Regel 10","Regel 11","Regel 12","Regel 13","Regel 14","Regel 10-14","Regel 14","Regel 14"]
[{"$f":"Übersetzungstexte!A$139","v":""},{"$f":"Übersetzungstexte!A$143","v":""},{"$f":"Übersetzungstexte!A$147","v":""},{"$f":"Übersetzungstexte!A$151","v":""},{"$f":"Übersetzungstexte!A$155","v":""},{"$f":"Übersetzungstexte!A$159","v":""},{"$f":"Übersetzungstexte!A$163","v":"Monate "},{"$f":"Übersetzungstexte!A$167","v":"Lohn-"},{"$f":"Übersetzungstexte!A$171","v":"durchschn."},{"$f":"Übersetzungstexte!A$175","v":"Anzahl"},{"$f":"Übersetzungstexte!A$179","v":"Anzahl"},{"$f":"Übersetzungstexte!A$183","v":"barer"},null,null,"bezugs-","  FF12","S13 / 12","  deApM","Std. Lohn","Std. Lohn","Monatslohn","Monatslohn","Vergleichs-","Anrechenb.","Anrechenb.","Warnungs-"]
[{"$f":"Übersetzungstexte!A$140","v":""},{"$f":"Übersetzungstexte!A$144","v":""},{"$f":"Übersetzungstexte!A$148","v":""},{"$f":"Übersetzungstexte!A$152","v":"Geburts-"},{"$f":"Übersetzungstexte!A$156","v":"Monats-"},{"$f":"Übersetzungstexte!A$160","v":"Stunden-"},{"$f":"Übersetzungstexte!A$164","v":"pro Jahr"},{"$f":"Übersetzungstexte!A$168","v":"bestand-"},{"$f":"Übersetzungstexte!A$172","v":"wöchentl."},{"$f":"Übersetzungstexte!A$176","v":"Ferientage"},{"$f":"Übersetzungstexte!A$180","v":"Feiertage"},{"$f":"Übersetzungstexte!A$184","v":"Stunden-"},null,"AHV-","berechtigte",null,null,null,"ohne","mit","ohne","mit","wert","Std.-Verd.","Std.-","anzeige"]
[{"$f":"Übersetzungstexte!A$141","v":"Versicherten-Nr."},{"$f":"Übersetzungstexte!A$145","v":"Name"},{"$f":"Übersetzungstexte!A$149","v":"Vorname"},{"$f":"Übersetzungstexte!A$153","v":"datum"},{"$f":"Übersetzungstexte!A$157","v":"lohn"},{"$f":"Übersetzungstexte!A$161","v":"lohn"},{"$f":"Übersetzungstexte!A$165","v":"(12/13)"},{"$f":"Übersetzungstexte!A$169","v":"teile p. Jahr"},{"$f":"Übersetzungstexte!A$173","v":"Arbeitszeit"},{"$f":"Übersetzungstexte!A$177","v":"pro Jahr"},{"$f":"Übersetzungstexte!A$181","v":"pro Jahr"},{"$f":"Übersetzungstexte!A$185","v":"Verdienst"},null,"pflichtig","Mitarbeiter",null,null,null,"Prämie","Prämie","Prämie","Prämie",null,"aSV","Verdienst",null,"Name,Vorname"]
[null,null,null,null,null,null,null,null,null,null,null,{"$f":"Y219","v":""},{"$f":"Z219","v":""},{"$f":"IF(N$2-YEAR(D219)<N$3,0,1)","v":0},{"$f":"IF(L219=\"\",0,1)","v":0},{"$f":"IF(AND(A219=\"\",B219=\"\",C219=\"\"),\"\",ROUND((K219+J219)/(N$4-(K219+J219))*100,2))","v":""},{"$f":"ROUND(G219,0)/12","v":0},{"$f":"IF(AND(A219=\"\",B219=\"\",C219=\"\"),\"\",ROUND((N$4-(K219+J219))*I219/60,1))","v":""},{"$f":"IF(OR(AND(A219=\"\",B219=\"\",C219=\"\"),F219=0,F219=\"\"),\"\",ROUND((1+P219/100)*Q219*F219,2))","v":""},{"$f":"IF(OR(AND(A219=\"\",B219=\"\",C219=\"\"),F219=0,F219=\"\",I219=0,I219=\"\"),\"\",ROUND((1+P219/100)*(H219/(N$4*I219/5)+Q219*F219),2))","v":""},{"$f":"IF(OR(AND(A219=\"\",B219=\"\",C219=\"\"),E219=0,E219=\"\",R219=0,R219=\"\"),\"\",ROUND((Q219*E219/R219),2))","v":""},{"$f":"IF(OR(AND(A219=\"\",B219=\"\",C219=\"\"),E219=0,E219=\"\",R219=0,R219=\"\"),\"\",ROUND((H219/(12*Q219*E219)+1)*Q219*E219/R219,2))","v":""},{"$f":"IF(OR(AND(A219=\"\",B219=\"\",C219=\"\"),R219=0,R219=\"\"),\"\",ROUND(W$4 / R219,1))","v":""},{"$f":"IF(OR(AND(A219=\"\",B219=\"\",C219=\"\"),N$4=\"\"),\"\",IF(AND(F219>0,H219>0),T219, IF(F219>0,S219, IF(AND(E219>0,H219>0),V219,U219))))","v":""},{"$f":"IF(W219<X219,W219,X219)","v":""},{"$f":"IF(W219<X219,Übersetzungstexte!A$186,\"\")","v":""},{"$f":"IF(AND(B219=\"\",C219=\"\"),\"\",CONCATENATE(B219,\",\",C219))","v":""}]
[null,null,null,null,null,null,null,null,null,null,null,"","",0,0,"",0,"","","","","","","","",{"$f":"IF(W220<X220,Übersetzungstexte!A$186,\"\")","v":""},""]
[null,null,null,null,null,null,null,null,null,null,null,"","",0,0,"",0,"","","","","","","","",{"$f":"IF(W221<X221,Übersetzungstexte!A$186,\"\")","v":""},""]
[null,null,null,null,null,null,null,null,null,null,null,"","",0,0,"",0,"","","","","","","","",{"$f":"IF(W222<X222,Übersetzungstexte!A$186,\"\")","v":""},""]
[null,null,null,null,null,null,null,null,null,null,null,"","",0,0,"",0,"","","","","","","","",{"$f":"IF(W223<X223,Übersetzungstexte!A$186,\"\")","v":""},""]
[null,null,null,null,null,null,null,null,null,null,null,"","",0,0,"",0,"","","","","","","","",{"$f":"IF(W224<X224,Übersetzungstexte!A$186,\"\")","v":""},""]
[null,null,null,null,null,null,null,null,null,null,null,"","",0,0,"",0,"","","","","","","","",{"$f":"IF(W225<X225,Übersetzungstexte!A$186,\"\")","v":""},""]
[null,null,null,null,null,null,null,null,null,null,null,"","",0,0,"",0,"","","","","","","","",{"$f":"IF(W226<X226,Übersetzungstexte!A$186,\"\")","v":""},""]
[null,null,null,null,null,null,null,null,null,null,null,"","",0,0,"",0,"","","","","","","","",{"$f":"IF(W227<X227,Übersetzungstexte!A$186,\"\")","v":""},""]
[null,null,null,null,null,null,null,null,null,null,null,"","",0,0,"",0,"","","","","","","","",{"$f":"IF(W228<X228,Übersetzungstexte!A$186,\"\")","v":""},""]
[null,null,null,null,null,null,null,null,null,null,null,"","",0,0,"",0,"","","","","","","","",{"$f":"IF(W229<X229,Übersetzungstexte!A$186,\"\")","v":""},""]
[null,null,null,null,null,null,null,null,null,null,null,"","",0,0,"",0,"","","","","","","","",{"$f":"IF(W230<X230,Übersetzungstexte!A$186,\"\")","v":""},""]
[null,null,null,null,null,null,null,null,null,null,null,"","",0,0,"",0,"","","","","","","","",{"$f":"IF(W231<X231,Übersetzungstexte!A$186,\"\")","v":""},""]
[null,null,null,null,null,null,null,null,null,null,null,"","",0,0,"",0,"","","","","","","","",{"$f":"IF(W232<X232,Übersetzungstexte!A$186,\"\")","v":""},""]
[null,null,null,null,null,null,null,null,null,null,null,"","",0,0,"",0,"","","","","","","","",{"$f":"IF(W233<X233,Übersetzungstexte!A$186,\"\")","v":""},""]
[null,null,null,null,null,null,null,null,null,null,null,"","",0,0,"",0,"","","","","","","","",{"$f":"IF(W234<X234,Übersetzungstexte!A$186,\"\")","v":""},""]
[null,null,null,null,null,null,null,null,null,null,null,"","",0,0,"",0,"","","","","","","","",{"$f":"IF(W235<X235,Übersetzungstexte!A$186,\"\")","v":""},""]
[null,null,null,null,null,null,null,null,null,null,null,"","",0,0,"",0,"","","","","","","","",{"$f":"IF(W236<X236,Übersetzungstexte!A$186,\"\")","v":""},""]
[null,null,null,null,null,null,null,null,null,null,null,"","",0,0,"",0,"","","","","","","","",{"$f":"IF(W237<X237,Übersetzungstexte!A$186,\"\")","v":""},""]
[null,null,null,null,null,null,null,null,null,null,null,"",{"$f":"Z238","v":""},{"$f":"IF(N$2-YEAR(D238)<N$3,0,1)","v":0},{"$f":"IF(L238=\"\",0,1)","v":0},{"$f":"IF(AND(A238=\"\",B238=\"\",C238=\"\"),\"\",ROUND((K238+J238)/(N$4-(K238+J238))*100,2))","v":""},{"$f":"ROUND(G238,0)/12","v":0},{"$f":"IF(AND(A238=\"\",B238=\"\",C238=\"\"),\"\",ROUND((N$4-(K238+J238))*I238/60,1))","v":""},{"$f":"IF(OR(AND(A238=\"\",B238=\"\",C238=\"\"),F238=0,F238=\"\"),\"\",ROUND((1+P238/100)*Q238*F238,2))","v":""},{"$f":"IF(OR(AND(A238=\"\",B238=\"\",C238=\"\"),F238=0,F238=\"\",I238=0,I238=\"\"),\"\",ROUND((1+P238/100)*(H238/(N$4*I238/5)+Q238*F238),2))","v":""},{"$f":"IF(OR(AND(A238=\"\",B238=\"\",C238=\"\"),E238=0,E238=\"\",R238=0,R238=\"\"),\"\",ROUND((Q238*E238/R238),2))","v":""},{"$f":"IF(OR(AND(A238=\"\",B238=\"\",C238=\"\"),E238=0,E238=\"\",R238=0,R238=\"\"),\"\",ROUND((H238/(12*Q238*E238)+1)*Q238*E238/R238,2))","v":""},{"$f":"IF(OR(AND(A238=\"\",B238=\"\",C238=\"\"),R238=0,R238=\"\"),\"\",ROUND(W$4 / R238,1))","v":""},{"$f":"IF(OR(AND(A238=\"\",B238=\"\",C238=\"\"),N$4=\"\"),\"\",IF(AND(F238>0,H238>0),T238, IF(F238>0,S238, IF(AND(E238>0,H238>0),V238,U238))))","v":""},{"$f":"IF(W238<X238,W238,X238)","v":""},{"$f":"IF(W238<X238,Übersetzungstexte!A$186,\"\")","v":""},{"$f":"IF(AND(B238=\"\",C238=\"\"),\"\",CONCATENATE(B238,\",\",C238))","v":""}]
[null,null,null,null,null,null,null,null,null,null,null,"",{"$f":"Z239","v":""},{"$f":"IF(N$2-YEAR(D239)<N$3,0,1)","v":0},{"$f":"IF(L239=\"\",0,1)","v":0},{"$f":"IF(AND(A239=\"\",B239=\"\",C239=\"\"),\"\",ROUND((K239+J239)/(N$4-(K239+J239))*100,2))","v":""},{"$f":"ROUND(G239,0)/12","v":0},{"$f":"IF(AND(A239=\"\",B239=\"\",C239=\"\"),\"\",ROUND((N$4-(K239+J239))*I239/60,1))","v":""},{"$f":"IF(OR(AND(A239=\"\",B239=\"\",C239=\"\"),F239=0,F239=\"\"),\"\",ROUND((1+P239/100)*Q239*F239,2))","v":""},{"$f":"IF(OR(AND(A239=\"\",B239=\"\",C239=\"\"),F239=0,F239=\"\",I239=0,I239=\"\"),\"\",ROUND((1+P239/100)*(H239/(N$4*I239/5)+Q239*F239),2))","v":""},{"$f":"IF(OR(AND(A239=\"\",B239=\"\",C239=\"\"),E239=0,E239=\"\",R239=0,R239=\"\"),\"\",ROUND((Q239*E239/R239),2))","v":""},{"$f":"IF(OR(AND(A239=\"\",B239=\"\",C239=\"\"),E239=0,E239=\"\",R239=0,R239=\"\"),\"\",ROUND((H239/(12*Q239*E239)+1)*Q239*E239/R239,2))","v":""},{"$f":"IF(OR(AND(A239=\"\",B239=\"\",C239=\"\"),R239=0,R239=\"\"),\"\",ROUND(W$4 / R239,1))","v":""},{"$f":"IF(OR(AND(A239=\"\",B239=\"\",C239=\"\"),N$4=\"\"),\"\",IF(AND(F239>0,H239>0),T239, IF(F239>0,S239, IF(AND(E239>0,H239>0),V239,U239))))","v":""},{"$f":"IF(W239<X239,W239,X239)","v":""},{"$f":"IF(W239<X239,Übersetzungstexte!A$186,\"\")","v":""},{"$f":"IF(AND(B239=\"\",C239=\"\"),\"\",CONCATENATE(B239,\",\",C239))","v":""}]
[]
[{"$f":"'Stammdaten Betrieb & Abteilung'!D$1","v":"  "},null,null,null,null,null,{"$f":"Übersetzungstexte!A$135","v":"Betrieb / Betriebsabteilung"},{"$f":"'Stammdaten Betrieb & Abteilung'!D$13","v":" "}]
[{"$f":"'Stammdaten Betrieb & Abteilung'!D$3","v":" "},null,null,null,null,null,{"$f":"Übersetzungstexte!A$136","v":"Abrechnungsperiode"},{"$f":"'Stammdaten Betrieb & Abteilung'!D$14","v":""}]
[{"$f":"'Stammdaten Betrieb & Abteilung'!D$4","v":" "},null,null,null,null,null,{"$f":"Übersetzungstexte!A$137","v":"Beginn / Ende der Kurzarbeit"},{"$f":"'Stammdaten Betrieb & Abteilung'!D$16","v":""}]
[]
[{"$f":"Übersetzungstexte!A$138","v":""},{"$f":"Übersetzungstexte!A$142","v":""},{"$f":"Übersetzungstexte!A$146","v":""},{"$f":"Übersetzungstexte!A$150","v":""},{"$f":"Übersetzungstexte!A$154","v":""},{"$f":"Übersetzungstexte!A$158","v":""},{"$f":"Übersetzungstexte!A$162","v":"Anzahl bez."},{"$f":"Übersetzungstexte!A$166","v":"Weitere"},{"$f":"Übersetzungstexte!A$170","v":"Jahres-"},{"$f":"Übersetzungstexte!A$174","v":""},{"$f":"Übersetzungstexte!A$178","v":""},{"$f":"Übersetzungstexte!A$182","v":"Anrechen-"},null,null,"Anzahl","Regel 7",null,"Regel 9","Regel 10","Regel 11","Regel 12","Regel 13","Regel 14","Regel 10-14","Regel 14","Regel 14"]
[{"$f":"Übersetzungstexte!A$139","v":""},{"$f":"Übersetzungstexte!A$143","v":""},{"$f":"Übersetzungstexte!A$147","v":""},{"$f":"Übersetzungstexte!A$151","v":""},{"$f":"Übersetzungstexte!A$155","v":""},{"$f":"Übersetzungstexte!A$159","v":""},{"$f":"Übersetzungstexte!A$163","v":"Monate "},{"$f":"Übersetzungstexte!A$167","v":"Lohn-"},{"$f":"Übersetzungstexte!A$171","v":"durchschn."},{"$f":"Übersetzungstexte!A$175","v":"Anzahl"},{"$f":"Übersetzungstexte!A$179","v":"Anzahl"},{"$f":"Übersetzungstexte!A$183","v":"barer"},null,null,"bezugs-","  FF12","S13 / 12","  deApM","Std. Lohn","Std. Lohn","Monatslohn","Monatslohn","Vergleichs-","Anrechenb.","Anrechenb.","Warnungs-"]
[{"$f":"Übersetzungstexte!A$140","v":""},{"$f":"Übersetzungstexte!A$144","v":""},{"$f":"Übersetzungstexte!A$148","v":""},{"$f":"Übersetzungstexte!A$152","v":"Geburts-"},{"$f":"Übersetzungstexte!A$156","v":"Monats-"},{"$f":"Übersetzungstexte!A$160","v":"Stunden-"},{"$f":"Übersetzungstexte!A$164","v":"pro Jahr"},{"$f":"Übersetzungstexte!A$168","v":"bestand-"},{"$f":"Übersetzungstexte!A$172","v":"wöchentl."},{"$f":"Übersetzungstexte!A$176","v":"Ferientage"},{"$f":"Übersetzungstexte!A$180","v":"Feiertage"},{"$f":"Übersetzungstexte!A$184","v":"Stunden-"},null,"AHV-","berechtigte",null,null,null,"ohne","mit","ohne","mit","wert","Std.-Verd.","Std.-","anzeige"]
[{"$f":"Übersetzungstexte!A$141","v":"Versicherten-Nr."},{"$f":"Übersetzungstexte!A$145","v":"Name"},{"$f":"Übersetzungstexte!A$149","v":"Vorname"},{"$f":"Übersetzungstexte!A$153","v":"datum"},{"$f":"Übersetzungstexte!A$157","v":"lohn"},{"$f":"Übersetzungstexte!A$161","v":"lohn"},{"$f":"Übersetzungstexte!A$165","v":"(12/13)"},{"$f":"Übersetzungstexte!A$169","v":"teile p. Jahr"},{"$f":"Übersetzungstexte!A$173","v":"Arbeitszeit"},{"$f":"Übersetzungstexte!A$177","v":"pro Jahr"},{"$f":"Übersetzungstexte!A$181","v":"pro Jahr"},{"$f":"Übersetzungstexte!A$185","v":"Verdienst"},null,"pflichtig","Mitarbeiter",null,null,null,"Prämie","Prämie","Prämie","Prämie",null,"aSV","Verdienst",null,"Name,Vorname"]
[null,null,null,null,null,null,null,null,null,null,null,{"$f":"Y249","v":""},{"$f":"Z249","v":""},{"$f":"IF(N$2-YEAR(D249)<N$3,0,1)","v":0},{"$f":"IF(L249=\"\",0,1)","v":0},{"$f":"IF(AND(A249=\"\",B249=\"\",C249=\"\"),\"\",ROUND((K249+J249)/(N$4-(K249+J249))*100,2))","v":""},{"$f":"ROUND(G249,0)/12","v":0},{"$f":"IF(AND(A249=\"\",B249=\"\",C249=\"\"),\"\",ROUND((N$4-(K249+J249))*I249/60,1))","v":""},{"$f":"IF(OR(AND(A249=\"\",B249=\"\",C249=\"\"),F249=0,F249=\"\"),\"\",ROUND((1+P249/100)*Q249*F249,2))","v":""},{"$f":"IF(OR(AND(A249=\"\",B249=\"\",C249=\"\"),F249=0,F249=\"\",I249=0,I249=\"\"),\"\",ROUND((1+P249/100)*(H249/(N$4*I249/5)+Q249*F249),2))","v":""},{"$f":"IF(OR(AND(A249=\"\",B249=\"\",C249=\"\"),E249=0,E249=\"\",R249=0,R249=\"\"),\"\",ROUND((Q249*E249/R249),2))","v":""},{"$f":"IF(OR(AND(A249=\"\",B249=\"\",C249=\"\"),E249=0,E249=\"\",R249=0,R249=\"\"),\"\",ROUND((H249/(12*Q249*E249)+1)*Q249*E249/R249,2))","v":""},{"$f":"IF(OR(AND(A249=\"\",B249=\"\",C249=\"\"),R249=0,R249=\"\"),\"\",ROUND(W$4 / R249,1))","v":""},{"$f":"IF(OR(AND(A249=\"\",B249=\"\",C249=\"\"),N$4=\"\"),\"\",IF(AND(F249>0,H249>0),T249, IF(F249>0,S249, IF(AND(E249>0,H249>0),V249,U249))))","v":""},{"$f":"IF(W249<X249,W249,X249)","v":""},{"$f":"IF(W249<X249,Übersetzungstexte!A$186,\"\")","v":""},{"$f":"IF(AND(B249=\"\",C249=\"\"),\"\",CONCATENATE(B249,\",\",C249))","v":""}]
[null,null,null,null,null,null,null,null,null,null,null,"","",0,0,"",0,"","","","","","","","",{"$f":"IF(W250<X250,Übersetzungstexte!A$186,\"\")","v":""},""]
[null,null,null,null,null,null,null,null,null,null,null,"","",0,0,"",0,"","","","","","","","",{"$f":"IF(W251<X251,Übersetzungstexte!A$186,\"\")","v":""},""]
[null,null,null,null,null,null,null,null,null,null,null,"","",0,0,"",0,"","","","","","","","",{"$f":"IF(W252<X252,Übersetzungstexte!A$186,\"\")","v":""},""]
[null,null,null,null,null,null,null,null,null,null,null,"","",0,0,"",0,"","","","","","","","",{"$f":"IF(W253<X253,Übersetzungstexte!A$186,\"\")","v":""},""]
[null,null,null,null,null,null,null,null,null,null,null,"","",0,0,"",0,"","","","","","","","",{"$f":"IF(W254<X254,Übersetzungstexte!A$186,\"\")","v":""},""]
[null,null,null,null,null,null,null,null,null,null,null,"","",0,0,"",0,"","","","","","","","",{"$f":"IF(W255<X255,Übersetzungstexte!A$186,\"\")","v":""},""]
[null,null,null,null,null,null,null,null,null,null,null,"","",0,0,"",0,"","","","","","","","",{"$f":"IF(W256<X256,Übersetzungstexte!A$186,\"\")","v":""},""]
[null,null,null,null,null,null,null,null,null,null,null,"","",0,0,"",0,"","","","","","","","",{"$f":"IF(W257<X257,Übersetzungstexte!A$186,\"\")","v":""},""]
[null,null,null,null,null,null,null,null,null,null,null,"","",0,0,"",0,"","","","","","","","",{"$f":"IF(W258<X258,Übersetzungstexte!A$186,\"\")","v":""},""]
[null,null,null,null,null,null,null,null,null,null,null,"","",0,0,"",0,"","","","","","","","",{"$f":"IF(W259<X259,Übersetzungstexte!A$186,\"\")","v":""},""]
[null,null,null,null,null,null,null,null,null,null,null,"","",0,0,"",0,"","","","","","","","",{"$f":"IF(W260<X260,Übersetzungstexte!A$186,\"\")","v":""},""]
[null,null,null,null,null,null,null,null,null,null,null,"","",0,0,"",0,"","","","","","","","",{"$f":"IF(W261<X261,Übersetzungstexte!A$186,\"\")","v":""},""]
[null,null,null,null,null,null,null,null,null,null,null,"","",0,0,"",0,"","","","","","","","",{"$f":"IF(W262<X262,Übersetzungstexte!A$186,\"\")","v":""},""]
[null,null,null,null,null,null,null,null,null,null,null,"","",0,0,"",0,"","","","","","","","",{"$f":"IF(W263<X263,Übersetzungstexte!A$186,\"\")","v":""},""]
[null,null,null,null,null,null,null,null,null,null,null,"","",0,0,"",0,"","","","","","","","",{"$f":"IF(W264<X264,Übersetzungstexte!A$186,\"\")","v":""},""]
[null,null,null,null,null,null,null,null,null,null,null,"","",0,0,"",0,"","","","","","","","",{"$f":"IF(W265<X265,Übersetzungstexte!A$186,\"\")","v":""},""]
[null,null,null,null,null,null,null,null,null,null,null,"","",0,0,"",0,"","","","","","","","",{"$f":"IF(W266<X266,Übersetzungstexte!A$186,\"\")","v":""},""]
[null,null,null,null,null,null,null,null,null,null,null,"","",0,0,"",0,"","","","","","","","",{"$f":"IF(W267<X267,Übersetzungstexte!A$186,\"\")","v":""},""]
[null,null,null,null,null,null,null,null,null,null,null,"",{"$f":"Z268","v":""},{"$f":"IF(N$2-YEAR(D268)<N$3,0,1)","v":0},{"$f":"IF(L268=\"\",0,1)","v":0},{"$f":"IF(AND(A268=\"\",B268=\"\",C268=\"\"),\"\",ROUND((K268+J268)/(N$4-(K268+J268))*100,2))","v":""},{"$f":"ROUND(G268,0)/12","v":0},{"$f":"IF(AND(A268=\"\",B268=\"\",C268=\"\"),\"\",ROUND((N$4-(K268+J268))*I268/60,1))","v":""},{"$f":"IF(OR(AND(A268=\"\",B268=\"\",C268=\"\"),F268=0,F268=\"\"),\"\",ROUND((1+P268/100)*Q268*F268,2))","v":""},{"$f":"IF(OR(AND(A268=\"\",B268=\"\",C268=\"\"),F268=0,F268=\"\",I268=0,I268=\"\"),\"\",ROUND((1+P268/100)*(H268/(N$4*I268/5)+Q268*F268),2))","v":""},{"$f":"IF(OR(AND(A268=\"\",B268=\"\",C268=\"\"),E268=0,E268=\"\",R268=0,R268=\"\"),\"\",ROUND((Q268*E268/R268),2))","v":""},{"$f":"IF(OR(AND(A268=\"\",B268=\"\",C268=\"\"),E268=0,E268=\"\",R268=0,R268=\"\"),\"\",ROUND((H268/(12*Q268*E268)+1)*Q268*E268/R268,2))","v":""},{"$f":"IF(OR(AND(A268=\"\",B268=\"\",C268=\"\"),R268=0,R268=\"\"),\"\",ROUND(W$4 / R268,1))","v":""},{"$f":"IF(OR(AND(A268=\"\",B268=\"\",C268=\"\"),N$4=\"\"),\"\",IF(AND(F268>0,H268>0),T268, IF(F268>0,S268, IF(AND(E268>0,H268>0),V268,U268))))","v":""},{"$f":"IF(W268<X268,W268,X268)","v":""},{"$f":"IF(W268<X268,Übersetzungstexte!A$186,\"\")","v":""},{"$f":"IF(AND(B268=\"\",C268=\"\"),\"\",CONCATENATE(B268,\",\",C268))","v":""}]
[null,null,null,null,null,null,null,null,null,null,null,"",{"$f":"Z269","v":""},{"$f":"IF(N$2-YEAR(D269)<N$3,0,1)","v":0},{"$f":"IF(L269=\"\",0,1)","v":0},{"$f":"IF(AND(A269=\"\",B269=\"\",C269=\"\"),\"\",ROUND((K269+J269)/(N$4-(K269+J269))*100,2))","v":""},{"$f":"ROUND(G269,0)/12","v":0},{"$f":"IF(AND(A269=\"\",B269=\"\",C269=\"\"),\"\",ROUND((N$4-(K269+J269))*I269/60,1))","v":""},{"$f":"IF(OR(AND(A269=\"\",B269=\"\",C269=\"\"),F269=0,F269=\"\"),\"\",ROUND((1+P269/100)*Q269*F269,2))","v":""},{"$f":"IF(OR(AND(A269=\"\",B269=\"\",C269=\"\"),F269=0,F269=\"\",I269=0,I269=\"\"),\"\",ROUND((1+P269/100)*(H269/(N$4*I269/5)+Q269*F269),2))","v":""},{"$f":"IF(OR(AND(A269=\"\",B269=\"\",C269=\"\"),E269=0,E269=\"\",R269=0,R269=\"\"),\"\",ROUND((Q269*E269/R269),2))","v":""},{"$f":"IF(OR(AND(A269=\"\",B269=\"\",C269=\"\"),E269=0,E269=\"\",R269=0,R269=\"\"),\"\",ROUND((H269/(12*Q269*E269)+1)*Q269*E269/R269,2))","v":""},{"$f":"IF(OR(AND(A269=\"\",B269=\"\",C269=\"\"),R269=0,R269=\"\"),\"\",ROUND(W$4 / R269,1))","v":""},{"$f":"IF(OR(AND(A269=\"\",B269=\"\",C269=\"\"),N$4=\"\"),\"\",IF(AND(F269>0,H269>0),T269, IF(F269>0,S269, IF(AND(E269>0,H269>0),V269,U269))))","v":""},{"$f":"IF(W269<X269,W269,X269)","v":""},{"$f":"IF(W269<X269,Übersetzungstexte!A$186,\"\")","v":""},{"$f":"IF(AND(B269=\"\",C269=\"\"),\"\",CONCATENATE(B269,\",\",C269))","v":""}]
[]
[{"$f":"'Stammdaten Betrieb & Abteilung'!D$1","v":"  "},null,null,null,null,null,{"$f":"Übersetzungstexte!A$135","v":"Betrieb / Betriebsabteilung"},{"$f":"'Stammdaten Betrieb & Abteilung'!D$13","v":" "}]
[{"$f":"'Stammdaten Betrieb & Abteilung'!D$3","v":" "},null,null,null,null,null,{"$f":"Übersetzungstexte!A$136","v":"Abrechnungsperiode"},{"$f":"'Stammdaten Betrieb & Abteilung'!D$14","v":""}]
[{"$f":"'Stammdaten Betrieb & Abteilung'!D$4","v":" "},null,null,null,null,null,{"$f":"Übersetzungstexte!A$137","v":"Beginn / Ende der Kurzarbeit"},{"$f":"'Stammdaten Betrieb & Abteilung'!D$16","v":""}]
[]
[{"$f":"Übersetzungstexte!A$138","v":""},{"$f":"Übersetzungstexte!A$142","v":""},{"$f":"Übersetzungstexte!A$146","v":""},{"$f":"Übersetzungstexte!A$150","v":""},{"$f":"Übersetzungstexte!A$154","v":""},{"$f":"Übersetzungstexte!A$158","v":""},{"$f":"Übersetzungstexte!A$162","v":"Anzahl bez."},{"$f":"Übersetzungstexte!A$166","v":"Weitere"},{"$f":"Übersetzungstexte!A$170","v":"Jahres-"},{"$f":"Übersetzungstexte!A$174","v":""},{"$f":"Übersetzungstexte!A$178","v":""},{"$f":"Übersetzungstexte!A$182","v":"Anrechen-"},null,null,"Anzahl","Regel 7",null,"Regel 9","Regel 10","Regel 11","Regel 12","Regel 13","Regel 14","Regel 10-14","Regel 14","Regel 14"]
[{"$f":"Übersetzungstexte!A$139","v":""},{"$f":"Übersetzungstexte!A$143","v":""},{"$f":"Übersetzungstexte!A$147","v":""},{"$f":"Übersetzungstexte!A$151","v":""},{"$f":"Übersetzungstexte!A$155","v":""},{"$f":"Übersetzungstexte!A$159","v":""},{"$f":"Übersetzungstexte!A$163","v":"Monate "},{"$f":"Übersetzungstexte!A$167","v":"Lohn-"},{"$f":"Übersetzungstexte!A$171","v":"durchschn."},{"$f":"Übersetzungstexte!A$175","v":"Anzahl"},{"$f":"Übersetzungstexte!A$179","v":"Anzahl"},{"$f":"Übersetzungstexte!A$183","v":"barer"},null,null,"bezugs-","  FF12","S13 / 12","  deApM","Std. Lohn","Std. Lohn","Monatslohn","Monatslohn","Vergleichs-","Anrechenb.","Anrechenb.","Warnungs-"]
[{"$f":"Übersetzungstexte!A$140","v":""},{"$f":"Übersetzungstexte!A$144","v":""},{"$f":"Übersetzungstexte!A$148","v":""},{"$f":"Übersetzungstexte!A$152","v":"Geburts-"},{"$f":"Übersetzungstexte!A$156","v":"Monats-"},{"$f":"Übersetzungstexte!A$160","v":"Stunden-"},{"$f":"Übersetzungstexte!A$164","v":"pro Jahr"},{"$f":"Übersetzungstexte!A$168","v":"bestand-"},{"$f":"Übersetzungstexte!A$172","v":"wöchentl."},{"$f":"Übersetzungstexte!A$176","v":"Ferientage"},{"$f":"Übersetzungstexte!A$180","v":"Feiertage"},{"$f":"Übersetzungstexte!A$184","v":"Stunden-"},null,"AHV-","berechtigte",null,null,null,"ohne","mit","ohne","mit","wert","Std.-Verd.","Std.-","anzeige"]
[{"$f":"Übersetzungstexte!A$141","v":"Versicherten-Nr."},{"$f":"Übersetzungstexte!A$145","v":"Name"},{"$f":"Übersetzungstexte!A$149","v":"Vorname"},{"$f":"Übersetzungstexte!A$153","v":"datum"},{"$f":"Übersetzungstexte!A$157","v":"lohn"},{"$f":"Übersetzungstexte!A$161","v":"lohn"},{"$f":"Übersetzungstexte!A$165","v":"(12/13)"},{"$f":"Übersetzungstexte!A$169","v":"teile p. Jahr"},{"$f":"Übersetzungstexte!A$173","v":"Arbeitszeit"},{"$f":"Übersetzungstexte!A$177","v":"pro Jahr"},{"$f":"Übersetzungstexte!A$181","v":"pro Jahr"},{"$f":"Übersetzungstexte!A$185","v":"Verdienst"},null,"pflichtig","Mitarbeiter",null,null,null,"Prämie","Prämie","Prämie","Prämie",null,"aSV","Verdienst",null,"Name,Vorname"]
[null,null,null,null,null,null,null,null,null,null,null,{"$f":"Y279","v":""},{"$f":"Z279","v":""},{"$f":"IF(N$2-YEAR(D279)<N$3,0,1)","v":0},{"$f":"IF(L279=\"\",0,1)","v":0},{"$f":"IF(AND(A279=\"\",B279=\"\",C279=\"\"),\"\",ROUND((K279+J279)/(N$4-(K279+J279))*100,2))","v":""},{"$f":"ROUND(G279,0)/12","v":0},{"$f":"IF(AND(A279=\"\",B279=\"\",C279=\"\"),\"\",ROUND((N$4-(K279+J279))*I279/60,1))","v":""},{"$f":"IF(OR(AND(A279=\"\",B279=\"\",C279=\"\"),F279=0,F279=\"\"),\"\",ROUND((1+P279/100)*Q279*F279,2))","v":""},{"$f":"IF(OR(AND(A279=\"\",B279=\"\",C279=\"\"),F279=0,F279=\"\",I279=0,I279=\"\"),\"\",ROUND((1+P279/100)*(H279/(N$4*I279/5)+Q279*F279),2))","v":""},{"$f":"IF(OR(AND(A279=\"\",B279=\"\",C279=\"\"),E279=0,E279=\"\",R279=0,R279=\"\"),\"\",ROUND((Q279*E279/R279),2))","v":""},{"$f":"IF(OR(AND(A279=\"\",B279=\"\",C279=\"\"),E279=0,E279=\"\",R279=0,R279=\"\"),\"\",ROUND((H279/(12*Q279*E279)+1)*Q279*E279/R279,2))","v":""},{"$f":"IF(OR(AND(A279=\"\",B279=\"\",C279=\"\"),R279=0,R279=\"\"),\"\",ROUND(W$4 / R279,1))","v":""},{"$f":"IF(OR(AND(A279=\"\",B279=\"\",C279=\"\"),N$4=\"\"),\"\",IF(AND(F279>0,H279>0),T279, IF(F279>0,S279, IF(AND(E279>0,H279>0),V279,U279))))","v":""},{"$f":"IF(W279<X279,W279,X279)","v":""},{"$f":"IF(W279<X279,Übersetzungstexte!A$186,\"\")","v":""},{"$f":"IF(AND(B279=\"\",C279=\"\"),\"\",CONCATENATE(B279,\",\",C279))","v":""}]
[null,null,null,null,null,null,null,null,null,null,null,"","",0,0,"",0,"","","","","","","","",{"$f":"IF(W280<X280,Übersetzungstexte!A$186,\"\")","v":""},""]
[null,null,null,null,null,null,null,null,null,null,null,"","",0,0,"",0,"","","","","","","","",{"$f":"IF(W281<X281,Übersetzungstexte!A$186,\"\")","v":""},""]
[null,null,null,null,null,null,null,null,null,null,null,"","",0,0,"",0,"","","","","","","","",{"$f":"IF(W282<X282,Übersetzungstexte!A$186,\"\")","v":""},""]
[null,null,null,null,null,null,null,null,null,null,null,"","",0,0,"",0,"","","","","","","","",{"$f":"IF(W283<X283,Übersetzungstexte!A$186,\"\")","v":""},""]
[null,null,null,null,null,null,null,null,null,null,null,"","",0,0,"",0,"","","","","","","","",{"$f":"IF(W284<X284,Übersetzungstexte!A$186,\"\")","v":""},""]
[null,null,null,null,null,null,null,null,null,null,null,"","",0,0,"",0,"","","","","","","","",{"$f":"IF(W285<X285,Übersetzungstexte!A$186,\"\")","v":""},""]
[null,null,null,null,null,null,null,null,null,null,null,"","",0,0,"",0,"","","","","","","","",{"$f":"IF(W286<X286,Übersetzungstexte!A$186,\"\")","v":""},""]
[null,null,null,null,null,null,null,null,null,null,null,"","",0,0,"",0,"","","","","","","","",{"$f":"IF(W287<X287,Übersetzungstexte!A$186,\"\")","v":""},""]
[null,null,null,null,null,null,null,null,null,null,null,"","",0,0,"",0,"","","","","","","","",{"$f":"IF(W288<X288,Übersetzungstexte!A$186,\"\")","v":""},""]
[null,null,null,null,null,null,null,null,null,null,null,"","",0,0,"",0,"","","","","","","","",{"$f":"IF(W289<X289,Übersetzungstexte!A$186,\"\")","v":""},""]
[null,null,null,null,null,null,null,null,null,null,null,"","",0,0,"",0,"","","","","","","","",{"$f":"IF(W290<X290,Übersetzungstexte!A$186,\"\")","v":""},""]
[null,null,null,null,null,null,null,null,null,null,null,"","",0,0,"",0,"","","","","","","","",{"$f":"IF(W291<X291,Übersetzungstexte!A$186,\"\")","v":""},""]
[null,null,null,null,null,null,null,null,null,null,null,"","",0,0,"",0,"","","","","","","","",{"$f":"IF(W292<X292,Übersetzungstexte!A$186,\"\")","v":""},""]
[null,null,null,null,null,null,null,null,null,null,null,"","",0,0,"",0,"","","","","","","","",{"$f":"IF(W293<X293,Übersetzungstexte!A$186,\"\")","v":""},""]
[null,null,null,null,null,null,null,null,null,null,null,"","",0,0,"",0,"","","","","","","","",{"$f":"IF(W294<X294,Übersetzungstexte!A$186,\"\")","v":""},""]
[null,null,null,null,null,null,null,null,null,null,null,"","",0,0,"",0,"","","","","","","","",{"$f":"IF(W295<X295,Übersetzungstexte!A$186,\"\")","v":""},""]
[null,null,null,null,null,null,null,null,null,null,null,"","",0,0,"",0,"","","","","","","","",{"$f":"IF(W296<X296,Übersetzungstexte!A$186,\"\")","v":""},""]
[null,null,null,null,null,null,null,null,null,null,null,"","",0,0,"",0,"","","","","","","","",{"$f":"IF(W297<X297,Übersetzungstexte!A$186,\"\")","v":""},""]
[null,null,null,null,null,null,null,null,null,null,null,"",{"$f":"Z298","v":""},{"$f":"IF(N$2-YEAR(D298)<N$3,0,1)","v":0},{"$f":"IF(L298=\"\",0,1)","v":0},{"$f":"IF(AND(A298=\"\",B298=\"\",C298=\"\"),\"\",ROUND((K298+J298)/(N$4-(K298+J298))*100,2))","v":""},{"$f":"ROUND(G298,0)/12","v":0},{"$f":"IF(AND(A298=\"\",B298=\"\",C298=\"\"),\"\",ROUND((N$4-(K298+J298))*I298/60,1))","v":""},{"$f":"IF(OR(AND(A298=\"\",B298=\"\",C298=\"\"),F298=0,F298=\"\"),\"\",ROUND((1+P298/100)*Q298*F298,2))","v":""},{"$f":"IF(OR(AND(A298=\"\",B298=\"\",C298=\"\"),F298=0,F298=\"\",I298=0,I298=\"\"),\"\",ROUND((1+P298/100)*(H298/(N$4*I298/5)+Q298*F298),2))","v":""},{"$f":"IF(OR(AND(A298=\"\",B298=\"\",C298=\"\"),E298=0,E298=\"\",R298=0,R298=\"\"),\"\",ROUND((Q298*E298/R298),2))","v":""},{"$f":"IF(OR(AND(A298=\"\",B298=\"\",C298=\"\"),E298=0,E298=\"\",R298=0,R298=\"\"),\"\",ROUND((H298/(12*Q298*E298)+1)*Q298*E298/R298,2))","v":""},{"$f":"IF(OR(AND(A298=\"\",B298=\"\",C298=\"\"),R298=0,R298=\"\"),\"\",ROUND(W$4 / R298,1))","v":""},{"$f":"IF(OR(AND(A298=\"\",B298=\"\",C298=\"\"),N$4=\"\"),\"\",IF(AND(F298>0,H298>0),T298, IF(F298>0,S298, IF(AND(E298>0,H298>0),V298,U298))))","v":""},{"$f":"IF(W298<X298,W298,X298)","v":""},{"$f":"IF(W298<X298,Übersetzungstexte!A$186,\"\")","v":""},{"$f":"IF(AND(B298=\"\",C298=\"\"),\"\",CONCATENATE(B298,\",\",C298))","v":""}]
[null,null,null,null,null,null,null,null,null,null,null,"",{"$f":"Z299","v":""},{"$f":"IF(N$2-YEAR(D299)<N$3,0,1)","v":0},{"$f":"IF(L299=\"\",0,1)","v":0},{"$f":"IF(AND(A299=\"\",B299=\"\",C299=\"\"),\"\",ROUND((K299+J299)/(N$4-(K299+J299))*100,2))","v":""},{"$f":"ROUND(G299,0)/12","v":0},{"$f":"IF(AND(A299=\"\",B299=\"\",C299=\"\"),\"\",ROUND((N$4-(K299+J299))*I299/60,1))","v":""},{"$f":"IF(OR(AND(A299=\"\",B299=\"\",C299=\"\"),F299=0,F299=\"\"),\"\",ROUND((1+P299/100)*Q299*F299,2))","v":""},{"$f":"IF(OR(AND(A299=\"\",B299=\"\",C299=\"\"),F299=0,F299=\"\",I299=0,I299=\"\"),\"\",ROUND((1+P299/100)*(H299/(N$4*I299/5)+Q299*F299),2))","v":""},{"$f":"IF(OR(AND(A299=\"\",B299=\"\",C299=\"\"),E299=0,E299=\"\",R299=0,R299=\"\"),\"\",ROUND((Q299*E299/R299),2))","v":""},{"$f":"IF(OR(AND(A299=\"\",B299=\"\",C299=\"\"),E299=0,E299=\"\",R299=0,R299=\"\"),\"\",ROUND((H299/(12*Q299*E299)+1)*Q299*E299/R299,2))","v":""},{"$f":"IF(OR(AND(A299=\"\",B299=\"\",C299=\"\"),R299=0,R299=\"\"),\"\",ROUND(W$4 / R299,1))","v":""},{"$f":"IF(OR(AND(A299=\"\",B299=\"\",C299=\"\"),N$4=\"\"),\"\",IF(AND(F299>0,H299>0),T299, IF(F299>0,S299, IF(AND(E299>0,H299>0),V299,U299))))","v":""},{"$f":"IF(W299<X299,W299,X299)","v":""},{"$f":"IF(W299<X299,Übersetzungstexte!A$186,\"\")","v":""},{"$f":"IF(AND(B299=\"\",C299=\"\"),\"\",CONCATENATE(B299,\",\",C299))","v":""}]
[]
[{"$f":"'Stammdaten Betrieb & Abteilung'!D$1","v":"  "},null,null,null,null,null,{"$f":"Übersetzungstexte!A$135","v":"Betrieb / Betriebsabteilung"},{"$f":"'Stammdaten Betrieb & Abteilung'!D$13","v":" "}]
[{"$f":"'Stammdaten Betrieb & Abteilung'!D$3","v":" "},null,null,null,null,null,{"$f":"Übersetzungstexte!A$136","v":"Abrechnungsperiode"},{"$f":"'Stammdaten Betrieb & Abteilung'!D$14","v":""}]
[{"$f":"'Stammdaten Betrieb & Abteilung'!D$4","v":" "},null,null,null,null,null,{"$f":"Übersetzungstexte!A$137","v":"Beginn / Ende der Kurzarbeit"},{"$f":"'Stammdaten Betrieb & Abteilung'!D$16","v":""}]
[]
[{"$f":"Übersetzungstexte!A$138","v":""},{"$f":"Übersetzungstexte!A$142","v":""},{"$f":"Übersetzungstexte!A$146","v":""},{"$f":"Übersetzungstexte!A$150","v":""},{"$f":"Übersetzungstexte!A$154","v":""},{"$f":"Übersetzungstexte!A$158","v":""},{"$f":"Übersetzungstexte!A$162","v":"Anzahl bez."},{"$f":"Übersetzungstexte!A$166","v":"Weitere"},{"$f":"Übersetzungstexte!A$170","v":"Jahres-"},{"$f":"Übersetzungstexte!A$174","v":""},{"$f":"Übersetzungstexte!A$178","v":""},{"$f":"Übersetzungstexte!A$182","v":"Anrechen-"},null,null,"Anzahl","Regel 7",null,"Regel 9","Regel 10","Regel 11","Regel 12","Regel 13","Regel 14","Regel 10-14","Regel 14","Regel 14"]
[{"$f":"Übersetzungstexte!A$139","v":""},{"$f":"Übersetzungstexte!A$143","v":""},{"$f":"Übersetzungstexte!A$147","v":""},{"$f":"Übersetzungstexte!A$151","v":""},{"$f":"Übersetzungstexte!A$155","v":""},{"$f":"Übersetzungstexte!A$159","v":""},{"$f":"Übersetzungstexte!A$163","v":"Monate "},{"$f":"Übersetzungstexte!A$167","v":"Lohn-"},{"$f":"Übersetzungstexte!A$171","v":"durchschn."},{"$f":"Übersetzungstexte!A$175","v":"Anzahl"},{"$f":"Übersetzungstexte!A$179","v":"Anzahl"},{"$f":"Übersetzungstexte!A$183","v":"barer"},null,null,"bezugs-","  FF12","S13 / 12","  deApM","Std. Lohn","Std. Lohn","Monatslohn","Monatslohn","Vergleichs-","Anrechenb.","Anrechenb.","Warnungs-"]
[{"$f":"Übersetzungstexte!A$140","v":""},{"$f":"Übersetzungstexte!A$144","v":""},{"$f":"Übersetzungstexte!A$148","v":""},{"$f":"Übersetzungstexte!A$152","v":"Geburts-"},{"$f":"Übersetzungstexte!A$156","v":"Monats-"},{"$f":"Übersetzungstexte!A$160","v":"Stunden-"},{"$f":"Übersetzungstexte!A$164","v":"pro Jahr"},{"$f":"Übersetzungstexte!A$168","v":"bestand-"},{"$f":"Übersetzungstexte!A$172","v":"wöchentl."},{"$f":"Übersetzungstexte!A$176","v":"Ferientage"},{"$f":"Übersetzungstexte!A$180","v":"Feiertage"},{"$f":"Übersetzungstexte!A$184","v":"Stunden-"},null,"AHV-","berechtigte",null,null,null,"ohne","mit","ohne","mit","wert","Std.-Verd.","Std.-","anzeige"]
[{"$f":"Übersetzungstexte!A$141","v":"Versicherten-Nr."},{"$f":"Übersetzungstexte!A$145","v":"Name"},{"$f":"Übersetzungstexte!A$149","v":"Vorname"},{"$f":"Übersetzungstexte!A$153","v":"datum"},{"$f":"Übersetzungstexte!A$157","v":"lohn"},{"$f":"Übersetzungstexte!A$161","v":"lohn"},{"$f":"Übersetzungstexte!A$165","v":"(12/13)"},{"$f":"Übersetzungstexte!A$169","v":"teile p. Jahr"},{"$f":"Übersetzungstexte!A$173","v":"Arbeitszeit"},{"$f":"Übersetzungstexte!A$177","v":"pro Jahr"},{"$f":"Übersetzungstexte!A$181","v":"pro Jahr"},{"$f":"Übersetzungstexte!A$185","v":"Verdienst"},null,"pflichtig","Mitarbeiter",null,null,null,"Prämie","Prämie","Prämie","Prämie",null,"aSV","Verdienst",null,"Name,Vorname"]
[null,null,null,null,null,null,null,null,null,null,null,{"$f":"Y309","v":""},{"$f":"Z309","v":""},{"$f":"IF(N$2-YEAR(D309)<N$3,0,1)","v":0},{"$f":"IF(L309=\"\",0,1)","v":0},{"$f":"IF(AND(A309=\"\",B309=\"\",C309=\"\"),\"\",ROUND((K309+J309)/(N$4-(K309+J309))*100,2))","v":""},{"$f":"ROUND(G309,0)/12","v":0},{"$f":"IF(AND(A309=\"\",B309=\"\",C309=\"\"),\"\",ROUND((N$4-(K309+J309))*I309/60,1))","v":""},{"$f":"IF(OR(AND(A309=\"\",B309=\"\",C309=\"\"),F309=0,F309=\"\"),\"\",ROUND((1+P309/100)*Q309*F309,2))","v":""},{"$f":"IF(OR(AND(A309=\"\",B309=\"\",C309=\"\"),F309=0,F309=\"\",I309=0,I309=\"\"),\"\",ROUND((1+P309/100)*(H309/(N$4*I309/5)+Q309*F309),2))","v":""},{"$f":"IF(OR(AND(A309=\"\",B309=\"\",C309=\"\"),E309=0,E309=\"\",R309=0,R309=\"\"),\"\",ROUND((Q309*E309/R309),2))","v":""},{"$f":"IF(OR(AND(A309=\"\",B309=\"\",C309=\"\"),E309=0,E309=\"\",R309=0,R309=\"\"),\"\",ROUND((H309/(12*Q309*E309)+1)*Q309*E309/R309,2))","v":""},{"$f":"IF(OR(AND(A309=\"\",B309=\"\",C309=\"\"),R309=0,R309=\"\"),\"\",ROUND(W$4 / R309,1))","v":""},{"$f":"IF(OR(AND(A309=\"\",B309=\"\",C309=\"\"),N$4=\"\"),\"\",IF(AND(F309>0,H309>0),T309, IF(F309>0,S309, IF(AND(E309>0,H309>0),V309,U309))))","v":""},{"$f":"IF(W309<X309,W309,X309)","v":""},{"$f":"IF(W309<X309,Übersetzungstexte!A$186,\"\")","v":""},{"$f":"IF(AND(B309=\"\",C309=\"\"),\"\",CONCATENATE(B309,\",\",C309))","v":""}]
[null,null,null,null,null,null,null,null,null,null,null,"","",0,0,"",0,"","","","","","","","",{"$f":"IF(W310<X310,Übersetzungstexte!A$186,\"\")","v":""},""]
[null,null,null,null,null,null,null,null,null,null,null,"","",0,0,"",0,"","","","","","","","",{"$f":"IF(W311<X311,Übersetzungstexte!A$186,\"\")","v":""},""]
[null,null,null,null,null,null,null,null,null,null,null,"","",0,0,"",0,"","","","","","","","",{"$f":"IF(W312<X312,Übersetzungstexte!A$186,\"\")","v":""},""]
[null,null,null,null,null,null,null,null,null,null,null,"","",0,0,"",0,"","","","","","","","",{"$f":"IF(W313<X313,Übersetzungstexte!A$186,\"\")","v":""},""]
[null,null,null,null,null,null,null,null,null,null,null,"","",0,0,"",0,"","","","","","","","",{"$f":"IF(W314<X314,Übersetzungstexte!A$186,\"\")","v":""},""]
[null,null,null,null,null,null,null,null,null,null,null,"","",0,0,"",0,"","","","","","","","",{"$f":"IF(W315<X315,Übersetzungstexte!A$186,\"\")","v":""},""]
[null,null,null,null,null,null,null,null,null,null,null,"","",0,0,"",0,"","","","","","","","",{"$f":"IF(W316<X316,Übersetzungstexte!A$186,\"\")","v":""},""]
[null,null,null,null,null,null,null,null,null,null,null,"","",0,0,"",0,"","","","","","","","",{"$f":"IF(W317<X317,Übersetzungstexte!A$186,\"\")","v":""},""]
[null,null,null,null,null,null,null,null,null,null,null,"","",0,0,"",0,"","","","","","","","",{"$f":"IF(W318<X318,Übersetzungstexte!A$186,\"\")","v":""},""]
[null,null,null,null,null,null,null,null,null,null,null,"","",0,0,"",0,"","","","","","","","",{"$f":"IF(W319<X319,Übersetzungstexte!A$186,\"\")","v":""},""]
[null,null,null,null,null,null,null,null,null,null,null,"","",0,0,"",0,"","","","","","","","",{"$f":"IF(W320<X320,Übersetzungstexte!A$186,\"\")","v":""},""]
[null,null,null,null,null,null,null,null,null,null,null,"","",0,0,"",0,"","","","","","","","",{"$f":"IF(W321<X321,Übersetzungstexte!A$186,\"\")","v":""},""]
[null,null,null,null,null,null,null,null,null,null,null,"","",0,0,"",0,"","","","","","","","",{"$f":"IF(W322<X322,Übersetzungstexte!A$186,\"\")","v":""},""]
[null,null,null,null,null,null,null,null,null,null,null,"","",0,0,"",0,"","","","","","","","",{"$f":"IF(W323<X323,Übersetzungstexte!A$186,\"\")","v":""},""]
[null,null,null,null,null,null,null,null,null,null,null,"","",0,0,"",0,"","","","","","","","",{"$f":"IF(W324<X324,Übersetzungstexte!A$186,\"\")","v":""},""]
[null,null,null,null,null,null,null,null,null,null,null,"","",0,0,"",0,"","","","","","","","",{"$f":"IF(W325<X325,Übersetzungstexte!A$186,\"\")","v":""},""]
[null,null,null,null,null,null,null,null,null,null,null,"","",0,0,"",0,"","","","","","","","",{"$f":"IF(W326<X326,Übersetzungstexte!A$186,\"\")","v":""},""]
[null,null,null,null,null,null,null,null,null,null,null,"","",0,0,"",0,"","","","","","","","",{"$f":"IF(W327<X327,Übersetzungstexte!A$186,\"\")","v":""},""]
[null,null,null,null,null,null,null,null,null,null,null,"",{"$f":"Z328","v":""},{"$f":"IF(N$2-YEAR(D328)<N$3,0,1)","v":0},{"$f":"IF(L328=\"\",0,1)","v":0},{"$f":"IF(AND(A328=\"\",B328=\"\",C328=\"\"),\"\",ROUND((K328+J328)/(N$4-(K328+J328))*100,2))","v":""},{"$f":"ROUND(G328,0)/12","v":0},{"$f":"IF(AND(A328=\"\",B328=\"\",C328=\"\"),\"\",ROUND((N$4-(K328+J328))*I328/60,1))","v":""},{"$f":"IF(OR(AND(A328=\"\",B328=\"\",C328=\"\"),F328=0,F328=\"\"),\"\",ROUND((1+P328/100)*Q328*F328,2))","v":""},{"$f":"IF(OR(AND(A328=\"\",B328=\"\",C328=\"\"),F328=0,F328=\"\",I328=0,I328=\"\"),\"\",ROUND((1+P328/100)*(H328/(N$4*I328/5)+Q328*F328),2))","v":""},{"$f":"IF(OR(AND(A328=\"\",B328=\"\",C328=\"\"),E328=0,E328=\"\",R328=0,R328=\"\"),\"\",ROUND((Q328*E328/R328),2))","v":""},{"$f":"IF(OR(AND(A328=\"\",B328=\"\",C328=\"\"),E328=0,E328=\"\",R328=0,R328=\"\"),\"\",ROUND((H328/(12*Q328*E328)+1)*Q328*E328/R328,2))","v":""},{"$f":"IF(OR(AND(A328=\"\",B328=\"\",C328=\"\"),R328=0,R328=\"\"),\"\",ROUND(W$4 / R328,1))","v":""},{"$f":"IF(OR(AND(A328=\"\",B328=\"\",C328=\"\"),N$4=\"\"),\"\",IF(AND(F328>0,H328>0),T328, IF(F328>0,S328, IF(AND(E328>0,H328>0),V328,U328))))","v":""},{"$f":"IF(W328<X328,W328,X328)","v":""},{"$f":"IF(W328<X328,Übersetzungstexte!A$186,\"\")","v":""},{"$f":"IF(AND(B328=\"\",C328=\"\"),\"\",CONCATENATE(B328,\",\",C328))","v":""}]
[null,null,null,null,null,null,null,null,null,null,null,"",{"$f":"Z329","v":""},{"$f":"IF(N$2-YEAR(D329)<N$3,0,1)","v":0},{"$f":"IF(L329=\"\",0,1)","v":0},{"$f":"IF(AND(A329=\"\",B329=\"\",C329=\"\"),\"\",ROUND((K329+J329)/(N$4-(K329+J329))*100,2))","v":""},{"$f":"ROUND(G329,0)/12","v":0},{"$f":"IF(AND(A329=\"\",B329=\"\",C329=\"\"),\"\",ROUND((N$4-(K329+J329))*I329/60,1))","v":""},{"$f":"IF(OR(AND(A329=\"\",B329=\"\",C329=\"\"),F329=0,F329=\"\"),\"\",ROUND((1+P329/100)*Q329*F329,2))","v":""},{"$f":"IF(OR(AND(A329=\"\",B329=\"\",C329=\"\"),F329=0,F329=\"\",I329=0,I329=\"\"),\"\",ROUND((1+P329/100)*(H329/(N$4*I329/5)+Q329*F329),2))","v":""},{"$f":"IF(OR(AND(A329=\"\",B329=\"\",C329=\"\"),E329=0,E329=\"\",R329=0,R329=\"\"),\"\",ROUND((Q329*E329/R329),2))","v":""},{"$f":"IF(OR(AND(A329=\"\",B329=\"\",C329=\"\"),E329=0,E329=\"\",R329=0,R329=\"\"),\"\",ROUND((H329/(12*Q329*E329)+1)*Q329*E329/R329,2))","v":""},{"$f":"IF(OR(AND(A329=\"\",B329=\"\",C329=\"\"),R329=0,R329=\"\"),\"\",ROUND(W$4 / R329,1))","v":""},{"$f":"IF(OR(AND(A329=\"\",B329=\"\",C329=\"\"),N$4=\"\"),\"\",IF(AND(F329>0,H329>0),T329, IF(F329>0,S329, IF(AND(E329>0,H329>0),V329,U329))))","v":""},{"$f":"IF(W329<X329,W329,X329)","v":""},{"$f":"IF(W329<X329,Übersetzungstexte!A$186,\"\")","v":""},{"$f":"IF(AND(B329=\"\",C329=\"\"),\"\",CONCATENATE(B329,\",\",C329))","v":""}]
[]
[{"$f":"'Stammdaten Betrieb & Abteilung'!D$1","v":"  "},null,null,null,null,null,{"$f":"Übersetzungstexte!A$135","v":"Betrieb / Betriebsabteilung"},{"$f":"'Stammdaten Betrieb & Abteilung'!D$13","v":" "}]
[{"$f":"'Stammdaten Betrieb & Abteilung'!D$3","v":" "},null,null,null,null,null,{"$f":"Übersetzungstexte!A$136","v":"Abrechnungsperiode"},{"$f":"'Stammdaten Betrieb & Abteilung'!D$14","v":""}]
[{"$f":"'Stammdaten Betrieb & Abteilung'!D$4","v":" "},null,null,null,null,null,{"$f":"Übersetzungstexte!A$137","v":"Beginn / Ende der Kurzarbeit"},{"$f":"'Stammdaten Betrieb & Abteilung'!D$16","v":""}]
[]
[{"$f":"Übersetzungstexte!A$138","v":""},{"$f":"Übersetzungstexte!A$142","v":""},{"$f":"Übersetzungstexte!A$146","v":""},{"$f":"Übersetzungstexte!A$150","v":""},{"$f":"Übersetzungstexte!A$154","v":""},{"$f":"Übersetzungstexte!A$158","v":""},{"$f":"Übersetzungstexte!A$162","v":"Anzahl bez."},{"$f":"Übersetzungstexte!A$166","v":"Weitere"},{"$f":"Übersetzungstexte!A$170","v":"Jahres-"},{"$f":"Übersetzungstexte!A$174","v":""},{"$f":"Übersetzungstexte!A$178","v":""},{"$f":"Übersetzungstexte!A$182","v":"Anrechen-"},null,null,"Anzahl","Regel 7",null,"Regel 9","Regel 10","Regel 11","Regel 12","Regel 13","Regel 14","Regel 10-14","Regel 14","Regel 14"]
[{"$f":"Übersetzungstexte!A$139","v":""},{"$f":"Übersetzungstexte!A$143","v":""},{"$f":"Übersetzungstexte!A$147","v":""},{"$f":"Übersetzungstexte!A$151","v":""},{"$f":"Übersetzungstexte!A$155","v":""},{"$f":"Übersetzungstexte!A$159","v":""},{"$f":"Übersetzungstexte!A$163","v":"Monate "},{"$f":"Übersetzungstexte!A$167","v":"Lohn-"},{"$f":"Übersetzungstexte!A$171","v":"durchschn."},{"$f":"Übersetzungstexte!A$175","v":"Anzahl"},{"$f":"Übersetzungstexte!A$179","v":"Anzahl"},{"$f":"Übersetzungstexte!A$183","v":"barer"},null,null,"bezugs-","  FF12","S13 / 12","  deApM","Std. Lohn","Std. Lohn","Monatslohn","Monatslohn","Vergleichs-","Anrechenb.","Anrechenb.","Warnungs-"]
[{"$f":"Übersetzungstexte!A$140","v":""},{"$f":"Übersetzungstexte!A$144","v":""},{"$f":"Übersetzungstexte!A$148","v":""},{"$f":"Übersetzungstexte!A$152","v":"Geburts-"},{"$f":"Übersetzungstexte!A$156","v":"Monats-"},{"$f":"Übersetzungstexte!A$160","v":"Stunden-"},{"$f":"Übersetzungstexte!A$164","v":"pro Jahr"},{"$f":"Übersetzungstexte!A$168","v":"bestand-"},{"$f":"Übersetzungstexte!A$172","v":"wöchentl."},{"$f":"Übersetzungstexte!A$176","v":"Ferientage"},{"$f":"Übersetzungstexte!A$180","v":"Feiertage"},{"$f":"Übersetzungstexte!A$184","v":"Stunden-"},null,"AHV-","berechtigte",null,null,null,"ohne","mit","ohne","mit","wert","Std.-Verd.","Std.-","anzeige"]
[{"$f":"Übersetzungstexte!A$141","v":"Versicherten-Nr."},{"$f":"Übersetzungstexte!A$145","v":"Name"},{"$f":"Übersetzungstexte!A$149","v":"Vorname"},{"$f":"Übersetzungstexte!A$153","v":"datum"},{"$f":"Übersetzungstexte!A$157","v":"lohn"},{"$f":"Übersetzungstexte!A$161","v":"lohn"},{"$f":"Übersetzungstexte!A$165","v":"(12/13)"},{"$f":"Übersetzungstexte!A$169","v":"teile p. Jahr"},{"$f":"Übersetzungstexte!A$173","v":"Arbeitszeit"},{"$f":"Übersetzungstexte!A$177","v":"pro Jahr"},{"$f":"Übersetzungstexte!A$181","v":"pro Jahr"},{"$f":"Übersetzungstexte!A$185","v":"Verdienst"},null,"pflichtig","Mitarbeiter",null,null,null,"Prämie","Prämie","Prämie","Prämie",null,"aSV","Verdienst",null,"Name,Vorname"]
[null,null,null,null,null,null,null,null,null,null,null,{"$f":"Y339","v":""},{"$f":"Z339","v":""},{"$f":"IF(N$2-YEAR(D339)<N$3,0,1)","v":0},{"$f":"IF(L339=\"\",0,1)","v":0},{"$f":"IF(AND(A339=\"\",B339=\"\",C339=\"\"),\"\",ROUND((K339+J339)/(N$4-(K339+J339))*100,2))","v":""},{"$f":"ROUND(G339,0)/12","v":0},{"$f":"IF(AND(A339=\"\",B339=\"\",C339=\"\"),\"\",ROUND((N$4-(K339+J339))*I339/60,1))","v":""},{"$f":"IF(OR(AND(A339=\"\",B339=\"\",C339=\"\"),F339=0,F339=\"\"),\"\",ROUND((1+P339/100)*Q339*F339,2))","v":""},{"$f":"IF(OR(AND(A339=\"\",B339=\"\",C339=\"\"),F339=0,F339=\"\",I339=0,I339=\"\"),\"\",ROUND((1+P339/100)*(H339/(N$4*I339/5)+Q339*F339),2))","v":""},{"$f":"IF(OR(AND(A339=\"\",B339=\"\",C339=\"\"),E339=0,E339=\"\",R339=0,R339=\"\"),\"\",ROUND((Q339*E339/R339),2))","v":""},{"$f":"IF(OR(AND(A339=\"\",B339=\"\",C339=\"\"),E339=0,E339=\"\",R339=0,R339=\"\"),\"\",ROUND((H339/(12*Q339*E339)+1)*Q339*E339/R339,2))","v":""},{"$f":"IF(OR(AND(A339=\"\",B339=\"\",C339=\"\"),R339=0,R339=\"\"),\"\",ROUND(W$4 / R339,1))","v":""},{"$f":"IF(OR(AND(A339=\"\",B339=\"\",C339=\"\"),N$4=\"\"),\"\",IF(AND(F339>0,H339>0),T339, IF(F339>0,S339, IF(AND(E339>0,H339>0),V339,U339))))","v":""},{"$f":"IF(W339<X339,W339,X339)","v":""},{"$f":"IF(W339<X339,Übersetzungstexte!A$186,\"\")","v":""},{"$f":"IF(AND(B339=\"\",C339=\"\"),\"\",CONCATENATE(B339,\",\",C339))","v":""}]
[null,null,null,null,null,null,null,null,null,null,null,"","",0,0,"",0,"","","","","","","","",{"$f":"IF(W340<X340,Übersetzungstexte!A$186,\"\")","v":""},""]
[null,null,null,null,null,null,null,null,null,null,null,"","",0,0,"",0,"","","","","","","","",{"$f":"IF(W341<X341,Übersetzungstexte!A$186,\"\")","v":""},""]
[null,null,null,null,null,null,null,null,null,null,null,"","",0,0,"",0,"","","","","","","","",{"$f":"IF(W342<X342,Übersetzungstexte!A$186,\"\")","v":""},""]
[null,null,null,null,null,null,null,null,null,null,null,"","",0,0,"",0,"","","","","","","","",{"$f":"IF(W343<X343,Übersetzungstexte!A$186,\"\")","v":""},""]
[null,null,null,null,null,null,null,null,null,null,null,"","",0,0,"",0,"","","","","","","","",{"$f":"IF(W344<X344,Übersetzungstexte!A$186,\"\")","v":""},""]
[null,null,null,null,null,null,null,null,null,null,null,"","",0,0,"",0,"","","","","","","","",{"$f":"IF(W345<X345,Übersetzungstexte!A$186,\"\")","v":""},""]
[null,null,null,null,null,null,null,null,null,null,null,"","",0,0,"",0,"","","","","","","","",{"$f":"IF(W346<X346,Übersetzungstexte!A$186,\"\")","v":""},""]
[null,null,null,null,null,null,null,null,null,null,null,"","",0,0,"",0,"","","","","","","","",{"$f":"IF(W347<X347,Übersetzungstexte!A$186,\"\")","v":""},""]
[null,null,null,null,null,null,null,null,null,null,null,"","",0,0,"",0,"","","","","","","","",{"$f":"IF(W348<X348,Übersetzungstexte!A$186,\"\")","v":""},""]
[null,null,null,null,null,null,null,null,null,null,null,"","",0,0,"",0,"","","","","","","","",{"$f":"IF(W349<X349,Übersetzungstexte!A$186,\"\")","v":""},""]
[null,null,null,null,null,null,null,null,null,null,null,"","",0,0,"",0,"","","","","","","","",{"$f":"IF(W350<X350,Übersetzungstexte!A$186,\"\")","v":""},""]
[null,null,null,null,null,null,null,null,null,null,null,"","",0,0,"",0,"","","","","","","","",{"$f":"IF(W351<X351,Übersetzungstexte!A$186,\"\")","v":""},""]
[null,null,null,null,null,null,null,null,null,null,null,"","",0,0,"",0,"","","","","","","","",{"$f":"IF(W352<X352,Übersetzungstexte!A$186,\"\")","v":""},""]
[null,null,null,null,null,null,null,null,null,null,null,"","",0,0,"",0,"","","","","","","","",{"$f":"IF(W353<X353,Übersetzungstexte!A$186,\"\")","v":""},""]
[null,null,null,null,null,null,null,null,null,null,null,"","",0,0,"",0,"","","","","","","","",{"$f":"IF(W354<X354,Übersetzungstexte!A$186,\"\")","v":""},""]
[null,null,null,null,null,null,null,null,null,null,null,"","",0,0,"",0,"","","","","","","","",{"$f":"IF(W355<X355,Übersetzungstexte!A$186,\"\")","v":""},""]
[null,null,null,null,null,null,null,null,null,null,null,"","",0,0,"",0,"","","","","","","","",{"$f":"IF(W356<X356,Übersetzungstexte!A$186,\"\")","v":""},""]
[null,null,null,null,null,null,null,null,null,null,null,"","",0,0,"",0,"","","","","","","","",{"$f":"IF(W357<X357,Übersetzungstexte!A$186,\"\")","v":""},""]
[null,null,null,null,null,null,null,null,null,null,null,"",{"$f":"Z358","v":""},{"$f":"IF(N$2-YEAR(D358)<N$3,0,1)","v":0},{"$f":"IF(L358=\"\",0,1)","v":0},{"$f":"IF(AND(A358=\"\",B358=\"\",C358=\"\"),\"\",ROUND((K358+J358)/(N$4-(K358+J358))*100,2))","v":""},{"$f":"ROUND(G358,0)/12","v":0},{"$f":"IF(AND(A358=\"\",B358=\"\",C358=\"\"),\"\",ROUND((N$4-(K358+J358))*I358/60,1))","v":""},{"$f":"IF(OR(AND(A358=\"\",B358=\"\",C358=\"\"),F358=0,F358=\"\"),\"\",ROUND((1+P358/100)*Q358*F358,2))","v":""},{"$f":"IF(OR(AND(A358=\"\",B358=\"\",C358=\"\"),F358=0,F358=\"\",I358=0,I358=\"\"),\"\",ROUND((1+P358/100)*(H358/(N$4*I358/5)+Q358*F358),2))","v":""},{"$f":"IF(OR(AND(A358=\"\",B358=\"\",C358=\"\"),E358=0,E358=\"\",R358=0,R358=\"\"),\"\",ROUND((Q358*E358/R358),2))","v":""},{"$f":"IF(OR(AND(A358=\"\",B358=\"\",C358=\"\"),E358=0,E358=\"\",R358=0,R358=\"\"),\"\",ROUND((H358/(12*Q358*E358)+1)*Q358*E358/R358,2))","v":""},{"$f":"IF(OR(AND(A358=\"\",B358=\"\",C358=\"\"),R358=0,R358=\"\"),\"\",ROUND(W$4 / R358,1))","v":""},{"$f":"IF(OR(AND(A358=\"\",B358=\"\",C358=\"\"),N$4=\"\"),\"\",IF(AND(F358>0,H358>0),T358, IF(F358>0,S358, IF(AND(E358>0,H358>0),V358,U358))))","v":""},{"$f":"IF(W358<X358,W358,X358)","v":""},{"$f":"IF(W358<X358,Übersetzungstexte!A$186,\"\")","v":""},{"$f":"IF(AND(B358=\"\",C358=\"\"),\"\",CONCATENATE(B358,\",\",C358))","v":""}]
[null,null,null,null,null,null,null,null,null,null,null,"",{"$f":"Z359","v":""},{"$f":"IF(N$2-YEAR(D359)<N$3,0,1)","v":0},{"$f":"IF(L359=\"\",0,1)","v":0},{"$f":"IF(AND(A359=\"\",B359=\"\",C359=\"\"),\"\",ROUND((K359+J359)/(N$4-(K359+J359))*100,2))","v":""},{"$f":"ROUND(G359,0)/12","v":0},{"$f":"IF(AND(A359=\"\",B359=\"\",C359=\"\"),\"\",ROUND((N$4-(K359+J359))*I359/60,1))","v":""},{"$f":"IF(OR(AND(A359=\"\",B359=\"\",C359=\"\"),F359=0,F359=\"\"),\"\",ROUND((1+P359/100)*Q359*F359,2))","v":""},{"$f":"IF(OR(AND(A359=\"\",B359=\"\",C359=\"\"),F359=0,F359=\"\",I359=0,I359=\"\"),\"\",ROUND((1+P359/100)*(H359/(N$4*I359/5)+Q359*F359),2))","v":""},{"$f":"IF(OR(AND(A359=\"\",B359=\"\",C359=\"\"),E359=0,E359=\"\",R359=0,R359=\"\"),\"\",ROUND((Q359*E359/R359),2))","v":""},{"$f":"IF(OR(AND(A359=\"\",B359=\"\",C359=\"\"),E359=0,E359=\"\",R359=0,R359=\"\"),\"\",ROUND((H359/(12*Q359*E359)+1)*Q359*E359/R359,2))","v":""},{"$f":"IF(OR(AND(A359=\"\",B359=\"\",C359=\"\"),R359=0,R359=\"\"),\"\",ROUND(W$4 / R359,1))","v":""},{"$f":"IF(OR(AND(A359=\"\",B359=\"\",C359=\"\"),N$4=\"\"),\"\",IF(AND(F359>0,H359>0),T359, IF(F359>0,S359, IF(AND(E359>0,H359>0),V359,U359))))","v":""},{"$f":"IF(W359<X359,W359,X359)","v":""},{"$f":"IF(W359<X359,Übersetzungstexte!A$186,\"\")","v":""},{"$f":"IF(AND(B359=\"\",C359=\"\"),\"\",CONCATENATE(B359,\",\",C359))","v":""}]
[]
[{"$f":"'Stammdaten Betrieb & Abteilung'!D$1","v":"  "},null,null,null,null,null,{"$f":"Übersetzungstexte!A$135","v":"Betrieb / Betriebsabteilung"},{"$f":"'Stammdaten Betrieb & Abteilung'!D$13","v":" "}]
[{"$f":"'Stammdaten Betrieb & Abteilung'!D$3","v":" "},null,null,null,null,null,{"$f":"Übersetzungstexte!A$136","v":"Abrechnungsperiode"},{"$f":"'Stammdaten Betrieb & Abteilung'!D$14","v":""}]
[{"$f":"'Stammdaten Betrieb & Abteilung'!D$4","v":" "},null,null,null,null,null,{"$f":"Übersetzungstexte!A$137","v":"Beginn / Ende der Kurzarbeit"},{"$f":"'Stammdaten Betrieb & Abteilung'!D$16","v":""}]
[]
[{"$f":"Übersetzungstexte!A$138","v":""},{"$f":"Übersetzungstexte!A$142","v":""},{"$f":"Übersetzungstexte!A$146","v":""},{"$f":"Übersetzungstexte!A$150","v":""},{"$f":"Übersetzungstexte!A$154","v":""},{"$f":"Übersetzungstexte!A$158","v":""},{"$f":"Übersetzungstexte!A$162","v":"Anzahl bez."},{"$f":"Übersetzungstexte!A$166","v":"Weitere"},{"$f":"Übersetzungstexte!A$170","v":"Jahres-"},{"$f":"Übersetzungstexte!A$174","v":""},{"$f":"Übersetzungstexte!A$178","v":""},{"$f":"Übersetzungstexte!A$182","v":"Anrechen-"},null,null,"Anzahl","Regel 7",null,"Regel 9","Regel 10","Regel 11","Regel 12","Regel 13","Regel 14","Regel 10-14","Regel 14","Regel 14"]
[{"$f":"Übersetzungstexte!A$139","v":""},{"$f":"Übersetzungstexte!A$143","v":""},{"$f":"Übersetzungstexte!A$147","v":""},{"$f":"Übersetzungstexte!A$151","v":""},{"$f":"Übersetzungstexte!A$155","v":""},{"$f":"Übersetzungstexte!A$159","v":""},{"$f":"Übersetzungstexte!A$163","v":"Monate "},{"$f":"Übersetzungstexte!A$167","v":"Lohn-"},{"$f":"Übersetzungstexte!A$171","v":"durchschn."},{"$f":"Übersetzungstexte!A$175","v":"Anzahl"},{"$f":"Übersetzungstexte!A$179","v":"Anzahl"},{"$f":"Übersetzungstexte!A$183","v":"barer"},null,null,"bezugs-","  FF12","S13 / 12","  deApM","Std. Lohn","Std. Lohn","Monatslohn","Monatslohn","Vergleichs-","Anrechenb.","Anrechenb.","Warnungs-"]
[{"$f":"Übersetzungstexte!A$140","v":""},{"$f":"Übersetzungstexte!A$144","v":""},{"$f":"Übersetzungstexte!A$148","v":""},{"$f":"Übersetzungstexte!A$152","v":"Geburts-"},{"$f":"Übersetzungstexte!A$156","v":"Monats-"},{"$f":"Übersetzungstexte!A$160","v":"Stunden-"},{"$f":"Übersetzungstexte!A$164","v":"pro Jahr"},{"$f":"Übersetzungstexte!A$168","v":"bestand-"},{"$f":"Übersetzungstexte!A$172","v":"wöchentl."},{"$f":"Übersetzungstexte!A$176","v":"Ferientage"},{"$f":"Übersetzungstexte!A$180","v":"Feiertage"},{"$f":"Übersetzungstexte!A$184","v":"Stunden-"},null,"AHV-","berechtigte",null,null,null,"ohne","mit","ohne","mit","wert","Std.-Verd.","Std.-","anzeige"]
[{"$f":"Übersetzungstexte!A$141","v":"Versicherten-Nr."},{"$f":"Übersetzungstexte!A$145","v":"Name"},{"$f":"Übersetzungstexte!A$149","v":"Vorname"},{"$f":"Übersetzungstexte!A$153","v":"datum"},{"$f":"Übersetzungstexte!A$157","v":"lohn"},{"$f":"Übersetzungstexte!A$161","v":"lohn"},{"$f":"Übersetzungstexte!A$165","v":"(12/13)"},{"$f":"Übersetzungstexte!A$169","v":"teile p. Jahr"},{"$f":"Übersetzungstexte!A$173","v":"Arbeitszeit"},{"$f":"Übersetzungstexte!A$177","v":"pro Jahr"},{"$f":"Übersetzungstexte!A$181","v":"pro Jahr"},{"$f":"Übersetzungstexte!A$185","v":"Verdienst"},null,"pflichtig","Mitarbeiter",null,null,null,"Prämie","Prämie","Prämie","Prämie",null,"aSV","Verdienst",null,"Name,Vorname"]
[null,null,null,null,null,null,null,null,null,null,null,{"$f":"Y369","v":""},{"$f":"Z369","v":""},{"$f":"IF(N$2-YEAR(D369)<N$3,0,1)","v":0},{"$f":"IF(L369=\"\",0,1)","v":0},{"$f":"IF(AND(A369=\"\",B369=\"\",C369=\"\"),\"\",ROUND((K369+J369)/(N$4-(K369+J369))*100,2))","v":""},{"$f":"ROUND(G369,0)/12","v":0},{"$f":"IF(AND(A369=\"\",B369=\"\",C369=\"\"),\"\",ROUND((N$4-(K369+J369))*I369/60,1))","v":""},{"$f":"IF(OR(AND(A369=\"\",B369=\"\",C369=\"\"),F369=0,F369=\"\"),\"\",ROUND((1+P369/100)*Q369*F369,2))","v":""},{"$f":"IF(OR(AND(A369=\"\",B369=\"\",C369=\"\"),F369=0,F369=\"\",I369=0,I369=\"\"),\"\",ROUND((1+P369/100)*(H369/(N$4*I369/5)+Q369*F369),2))","v":""},{"$f":"IF(OR(AND(A369=\"\",B369=\"\",C369=\"\"),E369=0,E369=\"\",R369=0,R369=\"\"),\"\",ROUND((Q369*E369/R369),2))","v":""},{"$f":"IF(OR(AND(A369=\"\",B369=\"\",C369=\"\"),E369=0,E369=\"\",R369=0,R369=\"\"),\"\",ROUND((H369/(12*Q369*E369)+1)*Q369*E369/R369,2))","v":""},{"$f":"IF(OR(AND(A369=\"\",B369=\"\",C369=\"\"),R369=0,R369=\"\"),\"\",ROUND(W$4 / R369,1))","v":""},{"$f":"IF(OR(AND(A369=\"\",B369=\"\",C369=\"\"),N$4=\"\"),\"\",IF(AND(F369>0,H369>0),T369, IF(F369>0,S369, IF(AND(E369>0,H369>0),V369,U369))))","v":""},{"$f":"IF(W369<X369,W369,X369)","v":""},{"$f":"IF(W369<X369,Übersetzungstexte!A$186,\"\")","v":""},{"$f":"IF(AND(B369=\"\",C369=\"\"),\"\",CONCATENATE(B369,\",\",C369))","v":""}]
[null,null,null,null,null,null,null,null,null,null,null,"","",0,0,"",0,"","","","","","","","",{"$f":"IF(W370<X370,Übersetzungstexte!A$186,\"\")","v":""},""]
[null,null,null,null,null,null,null,null,null,null,null,"","",0,0,"",0,"","","","","","","","",{"$f":"IF(W371<X371,Übersetzungstexte!A$186,\"\")","v":""},""]
[null,null,null,null,null,null,null,null,null,null,null,"","",0,0,"",0,"","","","","","","","",{"$f":"IF(W372<X372,Übersetzungstexte!A$186,\"\")","v":""},""]
[null,null,null,null,null,null,null,null,null,null,null,"","",0,0,"",0,"","","","","","","","",{"$f":"IF(W373<X373,Übersetzungstexte!A$186,\"\")","v":""},""]
[null,null,null,null,null,null,null,null,null,null,null,"","",0,0,"",0,"","","","","","","","",{"$f":"IF(W374<X374,Übersetzungstexte!A$186,\"\")","v":""},""]
[null,null,null,null,null,null,null,null,null,null,null,"","",0,0,"",0,"","","","","","","","",{"$f":"IF(W375<X375,Übersetzungstexte!A$186,\"\")","v":""},""]
[null,null,null,null,null,null,null,null,null,null,null,"","",0,0,"",0,"","","","","","","","",{"$f":"IF(W376<X376,Übersetzungstexte!A$186,\"\")","v":""},""]
[null,null,null,null,null,null,null,null,null,null,null,"","",0,0,"",0,"","","","","","","","",{"$f":"IF(W377<X377,Übersetzungstexte!A$186,\"\")","v":""},""]
[null,null,null,null,null,null,null,null,null,null,null,"","",0,0,"",0,"","","","","","","","",{"$f":"IF(W378<X378,Übersetzungstexte!A$186,\"\")","v":""},""]
[null,null,null,null,null,null,null,null,null,null,null,"","",0,0,"",0,"","","","","","","","",{"$f":"IF(W379<X379,Übersetzungstexte!A$186,\"\")","v":""},""]
[null,null,null,null,null,null,null,null,null,null,null,"","",0,0,"",0,"","","","","","","","",{"$f":"IF(W380<X380,Übersetzungstexte!A$186,\"\")","v":""},""]
[null,null,null,null,null,null,null,null,null,null,null,"","",0,0,"",0,"","","","","","","","",{"$f":"IF(W381<X381,Übersetzungstexte!A$186,\"\")","v":""},""]
[null,null,null,null,null,null,null,null,null,null,null,"","",0,0,"",0,"","","","","","","","",{"$f":"IF(W382<X382,Übersetzungstexte!A$186,\"\")","v":""},""]
[null,null,null,null,null,null,null,null,null,null,null,"","",0,0,"",0,"","","","","","","","",{"$f":"IF(W383<X383,Übersetzungstexte!A$186,\"\")","v":""},""]
[null,null,null,null,null,null,null,null,null,null,null,"","",0,0,"",0,"","","","","","","","",{"$f":"IF(W384<X384,Übersetzungstexte!A$186,\"\")","v":""},""]
[null,null,null,null,null,null,null,null,null,null,null,"","",0,0,"",0,"","","","","","","","",{"$f":"IF(W385<X385,Übersetzungstexte!A$186,\"\")","v":""},""]
[null,null,null,null,null,null,null,null,null,null,null,"","",0,0,"",0,"","","","","","","","",{"$f":"IF(W386<X386,Übersetzungstexte!A$186,\"\")","v":""},""]
[null,null,null,null,null,null,null,null,null,null,null,"","",0,0,"",0,"","","","","","","","",{"$f":"IF(W387<X387,Übersetzungstexte!A$186,\"\")","v":""},""]
[null,null,null,null,null,null,null,null,null,null,null,"",{"$f":"Z388","v":""},{"$f":"IF(N$2-YEAR(D388)<N$3,0,1)","v":0},{"$f":"IF(L388=\"\",0,1)","v":0},{"$f":"IF(AND(A388=\"\",B388=\"\",C388=\"\"),\"\",ROUND((K388+J388)/(N$4-(K388+J388))*100,2))","v":""},{"$f":"ROUND(G388,0)/12","v":0},{"$f":"IF(AND(A388=\"\",B388=\"\",C388=\"\"),\"\",ROUND((N$4-(K388+J388))*I388/60,1))","v":""},{"$f":"IF(OR(AND(A388=\"\",B388=\"\",C388=\"\"),F388=0,F388=\"\"),\"\",ROUND((1+P388/100)*Q388*F388,2))","v":""},{"$f":"IF(OR(AND(A388=\"\",B388=\"\",C388=\"\"),F388=0,F388=\"\",I388=0,I388=\"\"),\"\",ROUND((1+P388/100)*(H388/(N$4*I388/5)+Q388*F388),2))","v":""},{"$f":"IF(OR(AND(A388=\"\",B388=\"\",C388=\"\"),E388=0,E388=\"\",R388=0,R388=\"\"),\"\",ROUND((Q388*E388/R388),2))","v":""},{"$f":"IF(OR(AND(A388=\"\",B388=\"\",C388=\"\"),E388=0,E388=\"\",R388=0,R388=\"\"),\"\",ROUND((H388/(12*Q388*E388)+1)*Q388*E388/R388,2))","v":""},{"$f":"IF(OR(AND(A388=\"\",B388=\"\",C388=\"\"),R388=0,R388=\"\"),\"\",ROUND(W$4 / R388,1))","v":""},{"$f":"IF(OR(AND(A388=\"\",B388=\"\",C388=\"\"),N$4=\"\"),\"\",IF(AND(F388>0,H388>0),T388, IF(F388>0,S388, IF(AND(E388>0,H388>0),V388,U388))))","v":""},{"$f":"IF(W388<X388,W388,X388)","v":""},{"$f":"IF(W388<X388,Übersetzungstexte!A$186,\"\")","v":""},{"$f":"IF(AND(B388=\"\",C388=\"\"),\"\",CONCATENATE(B388,\",\",C388))","v":""}]
[null,null,null,null,null,null,null,null,null,null,null,"",{"$f":"Z389","v":""},{"$f":"IF(N$2-YEAR(D389)<N$3,0,1)","v":0},{"$f":"IF(L389=\"\",0,1)","v":0},{"$f":"IF(AND(A389=\"\",B389=\"\",C389=\"\"),\"\",ROUND((K389+J389)/(N$4-(K389+J389))*100,2))","v":""},{"$f":"ROUND(G389,0)/12","v":0},{"$f":"IF(AND(A389=\"\",B389=\"\",C389=\"\"),\"\",ROUND((N$4-(K389+J389))*I389/60,1))","v":""},{"$f":"IF(OR(AND(A389=\"\",B389=\"\",C389=\"\"),F389=0,F389=\"\"),\"\",ROUND((1+P389/100)*Q389*F389,2))","v":""},{"$f":"IF(OR(AND(A389=\"\",B389=\"\",C389=\"\"),F389=0,F389=\"\",I389=0,I389=\"\"),\"\",ROUND((1+P389/100)*(H389/(N$4*I389/5)+Q389*F389),2))","v":""},{"$f":"IF(OR(AND(A389=\"\",B389=\"\",C389=\"\"),E389=0,E389=\"\",R389=0,R389=\"\"),\"\",ROUND((Q389*E389/R389),2))","v":""},{"$f":"IF(OR(AND(A389=\"\",B389=\"\",C389=\"\"),E389=0,E389=\"\",R389=0,R389=\"\"),\"\",ROUND((H389/(12*Q389*E389)+1)*Q389*E389/R389,2))","v":""},{"$f":"IF(OR(AND(A389=\"\",B389=\"\",C389=\"\"),R389=0,R389=\"\"),\"\",ROUND(W$4 / R389,1))","v":""},{"$f":"IF(OR(AND(A389=\"\",B389=\"\",C389=\"\"),N$4=\"\"),\"\",IF(AND(F389>0,H389>0),T389, IF(F389>0,S389, IF(AND(E389>0,H389>0),V389,U389))))","v":""},{"$f":"IF(W389<X389,W389,X389)","v":""},{"$f":"IF(W389<X389,Übersetzungstexte!A$186,\"\")","v":""},{"$f":"IF(AND(B389=\"\",C389=\"\"),\"\",CONCATENATE(B389,\",\",C389))","v":""}]
[]
[{"$f":"'Stammdaten Betrieb & Abteilung'!D$1","v":"  "},null,null,null,null,null,{"$f":"Übersetzungstexte!A$135","v":"Betrieb / Betriebsabteilung"},{"$f":"'Stammdaten Betrieb & Abteilung'!D$13","v":" "}]
[{"$f":"'Stammdaten Betrieb & Abteilung'!D$3","v":" "},null,null,null,null,null,{"$f":"Übersetzungstexte!A$136","v":"Abrechnungsperiode"},{"$f":"'Stammdaten Betrieb & Abteilung'!D$14","v":""}]
[{"$f":"'Stammdaten Betrieb & Abteilung'!D$4","v":" "},null,null,null,null,null,{"$f":"Übersetzungstexte!A$137","v":"Beginn / Ende der Kurzarbeit"},{"$f":"'Stammdaten Betrieb & Abteilung'!D$16","v":""}]
[]
[{"$f":"Übersetzungstexte!A$138","v":""},{"$f":"Übersetzungstexte!A$142","v":""},{"$f":"Übersetzungstexte!A$146","v":""},{"$f":"Übersetzungstexte!A$150","v":""},{"$f":"Übersetzungstexte!A$154","v":""},{"$f":"Übersetzungstexte!A$158","v":""},{"$f":"Übersetzungstexte!A$162","v":"Anzahl bez."},{"$f":"Übersetzungstexte!A$166","v":"Weitere"},{"$f":"Übersetzungstexte!A$170","v":"Jahres-"},{"$f":"Übersetzungstexte!A$174","v":""},{"$f":"Übersetzungstexte!A$178","v":""},{"$f":"Übersetzungstexte!A$182","v":"Anrechen-"},null,null,"Anzahl","Regel 7",null,"Regel 9","Regel 10","Regel 11","Regel 12","Regel 13","Regel 14","Regel 10-14","Regel 14","Regel 14"]
[{"$f":"Übersetzungstexte!A$139","v":""},{"$f":"Übersetzungstexte!A$143","v":""},{"$f":"Übersetzungstexte!A$147","v":""},{"$f":"Übersetzungstexte!A$151","v":""},{"$f":"Übersetzungstexte!A$155","v":""},{"$f":"Übersetzungstexte!A$159","v":""},{"$f":"Übersetzungstexte!A$163","v":"Monate "},{"$f":"Übersetzungstexte!A$167","v":"Lohn-"},{"$f":"Übersetzungstexte!A$171","v":"durchschn."},{"$f":"Übersetzungstexte!A$175","v":"Anzahl"},{"$f":"Übersetzungstexte!A$179","v":"Anzahl"},{"$f":"Übersetzungstexte!A$183","v":"barer"},null,null,"bezugs-","  FF12","S13 / 12","  deApM","Std. Lohn","Std. Lohn","Monatslohn","Monatslohn","Vergleichs-","Anrechenb.","Anrechenb.","Warnungs-"]
[{"$f":"Übersetzungstexte!A$140","v":""},{"$f":"Übersetzungstexte!A$144","v":""},{"$f":"Übersetzungstexte!A$148","v":""},{"$f":"Übersetzungstexte!A$152","v":"Geburts-"},{"$f":"Übersetzungstexte!A$156","v":"Monats-"},{"$f":"Übersetzungstexte!A$160","v":"Stunden-"},{"$f":"Übersetzungstexte!A$164","v":"pro Jahr"},{"$f":"Übersetzungstexte!A$168","v":"bestand-"},{"$f":"Übersetzungstexte!A$172","v":"wöchentl."},{"$f":"Übersetzungstexte!A$176","v":"Ferientage"},{"$f":"Übersetzungstexte!A$180","v":"Feiertage"},{"$f":"Übersetzungstexte!A$184","v":"Stunden-"},null,"AHV-","berechtigte",null,null,null,"ohne","mit","ohne","mit","wert","Std.-Verd.","Std.-","anzeige"]
[{"$f":"Übersetzungstexte!A$141","v":"Versicherten-Nr."},{"$f":"Übersetzungstexte!A$145","v":"Name"},{"$f":"Übersetzungstexte!A$149","v":"Vorname"},{"$f":"Übersetzungstexte!A$153","v":"datum"},{"$f":"Übersetzungstexte!A$157","v":"lohn"},{"$f":"Übersetzungstexte!A$161","v":"lohn"},{"$f":"Übersetzungstexte!A$165","v":"(12/13)"},{"$f":"Übersetzungstexte!A$169","v":"teile p. Jahr"},{"$f":"Übersetzungstexte!A$173","v":"Arbeitszeit"},{"$f":"Übersetzungstexte!A$177","v":"pro Jahr"},{"$f":"Übersetzungstexte!A$181","v":"pro Jahr"},{"$f":"Übersetzungstexte!A$185","v":"Verdienst"},null,"pflichtig","Mitarbeiter",null,null,null,"Prämie","Prämie","Prämie","Prämie",null,"aSV","Verdienst",null,"Name,Vorname"]
[null,null,null,null,null,null,null,null,null,null,null,{"$f":"Y399","v":""},{"$f":"Z399","v":""},{"$f":"IF(N$2-YEAR(D399)<N$3,0,1)","v":0},{"$f":"IF(L399=\"\",0,1)","v":0},{"$f":"IF(AND(A399=\"\",B399=\"\",C399=\"\"),\"\",ROUND((K399+J399)/(N$4-(K399+J399))*100,2))","v":""},{"$f":"ROUND(G399,0)/12","v":0},{"$f":"IF(AND(A399=\"\",B399=\"\",C399=\"\"),\"\",ROUND((N$4-(K399+J399))*I399/60,1))","v":""},{"$f":"IF(OR(AND(A399=\"\",B399=\"\",C399=\"\"),F399=0,F399=\"\"),\"\",ROUND((1+P399/100)*Q399*F399,2))","v":""},{"$f":"IF(OR(AND(A399=\"\",B399=\"\",C399=\"\"),F399=0,F399=\"\",I399=0,I399=\"\"),\"\",ROUND((1+P399/100)*(H399/(N$4*I399/5)+Q399*F399),2))","v":""},{"$f":"IF(OR(AND(A399=\"\",B399=\"\",C399=\"\"),E399=0,E399=\"\",R399=0,R399=\"\"),\"\",ROUND((Q399*E399/R399),2))","v":""},{"$f":"IF(OR(AND(A399=\"\",B399=\"\",C399=\"\"),E399=0,E399=\"\",R399=0,R399=\"\"),\"\",ROUND((H399/(12*Q399*E399)+1)*Q399*E399/R399,2))","v":""},{"$f":"IF(OR(AND(A399=\"\",B399=\"\",C399=\"\"),R399=0,R399=\"\"),\"\",ROUND(W$4 / R399,1))","v":""},{"$f":"IF(OR(AND(A399=\"\",B399=\"\",C399=\"\"),N$4=\"\"),\"\",IF(AND(F399>0,H399>0),T399, IF(F399>0,S399, IF(AND(E399>0,H399>0),V399,U399))))","v":""},{"$f":"IF(W399<X399,W399,X399)","v":""},{"$f":"IF(W399<X399,Übersetzungstexte!A$186,\"\")","v":""},{"$f":"IF(AND(B399=\"\",C399=\"\"),\"\",CONCATENATE(B399,\",\",C399))","v":""}]
[null,null,null,null,null,null,null,null,null,null,null,"","",0,0,"",0,"","","","","","","","",{"$f":"IF(W400<X400,Übersetzungstexte!A$186,\"\")","v":""},""]
[null,null,null,null,null,null,null,null,null,null,null,"","",0,0,"",0,"","","","","","","","",{"$f":"IF(W401<X401,Übersetzungstexte!A$186,\"\")","v":""},""]
[null,null,null,null,null,null,null,null,null,null,null,"","",0,0,"",0,"","","","","","","","",{"$f":"IF(W402<X402,Übersetzungstexte!A$186,\"\")","v":""},""]
[null,null,null,null,null,null,null,null,null,null,null,"","",0,0,"",0,"","","","","","","","",{"$f":"IF(W403<X403,Übersetzungstexte!A$186,\"\")","v":""},""]
[null,null,null,null,null,null,null,null,null,null,null,"","",0,0,"",0,"","","","","","","","",{"$f":"IF(W404<X404,Übersetzungstexte!A$186,\"\")","v":""},""]
[null,null,null,null,null,null,null,null,null,null,null,"","",0,0,"",0,"","","","","","","","",{"$f":"IF(W405<X405,Übersetzungstexte!A$186,\"\")","v":""},""]
[null,null,null,null,null,null,null,null,null,null,null,"","",0,0,"",0,"","","","","","","","",{"$f":"IF(W406<X406,Übersetzungstexte!A$186,\"\")","v":""},""]
[null,null,null,null,null,null,null,null,null,null,null,"","",0,0,"",0,"","","","","","","","",{"$f":"IF(W407<X407,Übersetzungstexte!A$186,\"\")","v":""},""]
[null,null,null,null,null,null,null,null,null,null,null,"","",0,0,"",0,"","","","","","","","",{"$f":"IF(W408<X408,Übersetzungstexte!A$186,\"\")","v":""},""]
[null,null,null,null,null,null,null,null,null,null,null,"","",0,0,"",0,"","","","","","","","",{"$f":"IF(W409<X409,Übersetzungstexte!A$186,\"\")","v":""},""]
[null,null,null,null,null,null,null,null,null,null,null,"","",0,0,"",0,"","","","","","","","",{"$f":"IF(W410<X410,Übersetzungstexte!A$186,\"\")","v":""},""]
[null,null,null,null,null,null,null,null,null,null,null,"","",0,0,"",0,"","","","","","","","",{"$f":"IF(W411<X411,Übersetzungstexte!A$186,\"\")","v":""},""]
[null,null,null,null,null,null,null,null,null,null,null,"","",0,0,"",0,"","","","","","","","",{"$f":"IF(W412<X412,Übersetzungstexte!A$186,\"\")","v":""},""]
[null,null,null,null,null,null,null,null,null,null,null,"","",0,0,"",0,"","","","","","","","",{"$f":"IF(W413<X413,Übersetzungstexte!A$186,\"\")","v":""},""]
[null,null,null,null,null,null,null,null,null,null,null,"","",0,0,"",0,"","","","","","","","",{"$f":"IF(W414<X414,Übersetzungstexte!A$186,\"\")","v":""},""]
[null,null,null,null,null,null,null,null,null,null,null,"","",0,0,"",0,"","","","","","","","",{"$f":"IF(W415<X415,Übersetzungstexte!A$186,\"\")","v":""},""]
[null,null,null,null,null,null,null,null,null,null,null,"","",0,0,"",0,"","","","","","","","",{"$f":"IF(W416<X416,Übersetzungstexte!A$186,\"\")","v":""},""]
[null,null,null,null,null,null,null,null,null,null,null,"","",0,0,"",0,"","","","","","","","",{"$f":"IF(W417<X417,Übersetzungstexte!A$186,\"\")","v":""},""]
[null,null,null,null,null,null,null,null,null,null,null,"",{"$f":"Z418","v":""},{"$f":"IF(N$2-YEAR(D418)<N$3,0,1)","v":0},{"$f":"IF(L418=\"\",0,1)","v":0},{"$f":"IF(AND(A418=\"\",B418=\"\",C418=\"\"),\"\",ROUND((K418+J418)/(N$4-(K418+J418))*100,2))","v":""},{"$f":"ROUND(G418,0)/12","v":0},{"$f":"IF(AND(A418=\"\",B418=\"\",C418=\"\"),\"\",ROUND((N$4-(K418+J418))*I418/60,1))","v":""},{"$f":"IF(OR(AND(A418=\"\",B418=\"\",C418=\"\"),F418=0,F418=\"\"),\"\",ROUND((1+P418/100)*Q418*F418,2))","v":""},{"$f":"IF(OR(AND(A418=\"\",B418=\"\",C418=\"\"),F418=0,F418=\"\",I418=0,I418=\"\"),\"\",ROUND((1+P418/100)*(H418/(N$4*I418/5)+Q418*F418),2))","v":""},{"$f":"IF(OR(AND(A418=\"\",B418=\"\",C418=\"\"),E418=0,E418=\"\",R418=0,R418=\"\"),\"\",ROUND((Q418*E418/R418),2))","v":""},{"$f":"IF(OR(AND(A418=\"\",B418=\"\",C418=\"\"),E418=0,E418=\"\",R418=0,R418=\"\"),\"\",ROUND((H418/(12*Q418*E418)+1)*Q418*E418/R418,2))","v":""},{"$f":"IF(OR(AND(A418=\"\",B418=\"\",C418=\"\"),R418=0,R418=\"\"),\"\",ROUND(W$4 / R418,1))","v":""},{"$f":"IF(OR(AND(A418=\"\",B418=\"\",C418=\"\"),N$4=\"\"),\"\",IF(AND(F418>0,H418>0),T418, IF(F418>0,S418, IF(AND(E418>0,H418>0),V418,U418))))","v":""},{"$f":"IF(W418<X418,W418,X418)","v":""},{"$f":"IF(W418<X418,Übersetzungstexte!A$186,\"\")","v":""},{"$f":"IF(AND(B418=\"\",C418=\"\"),\"\",CONCATENATE(B418,\",\",C418))","v":""}]
[null,null,null,null,null,null,null,null,null,null,null,"",{"$f":"Z419","v":""},{"$f":"IF(N$2-YEAR(D419)<N$3,0,1)","v":0},{"$f":"IF(L419=\"\",0,1)","v":0},{"$f":"IF(AND(A419=\"\",B419=\"\",C419=\"\"),\"\",ROUND((K419+J419)/(N$4-(K419+J419))*100,2))","v":""},{"$f":"ROUND(G419,0)/12","v":0},{"$f":"IF(AND(A419=\"\",B419=\"\",C419=\"\"),\"\",ROUND((N$4-(K419+J419))*I419/60,1))","v":""},{"$f":"IF(OR(AND(A419=\"\",B419=\"\",C419=\"\"),F419=0,F419=\"\"),\"\",ROUND((1+P419/100)*Q419*F419,2))","v":""},{"$f":"IF(OR(AND(A419=\"\",B419=\"\",C419=\"\"),F419=0,F419=\"\",I419=0,I419=\"\"),\"\",ROUND((1+P419/100)*(H419/(N$4*I419/5)+Q419*F419),2))","v":""},{"$f":"IF(OR(AND(A419=\"\",B419=\"\",C419=\"\"),E419=0,E419=\"\",R419=0,R419=\"\"),\"\",ROUND((Q419*E419/R419),2))","v":""},{"$f":"IF(OR(AND(A419=\"\",B419=\"\",C419=\"\"),E419=0,E419=\"\",R419=0,R419=\"\"),\"\",ROUND((H419/(12*Q419*E419)+1)*Q419*E419/R419,2))","v":""},{"$f":"IF(OR(AND(A419=\"\",B419=\"\",C419=\"\"),R419=0,R419=\"\"),\"\",ROUND(W$4 / R419,1))","v":""},{"$f":"IF(OR(AND(A419=\"\",B419=\"\",C419=\"\"),N$4=\"\"),\"\",IF(AND(F419>0,H419>0),T419, IF(F419>0,S419, IF(AND(E419>0,H419>0),V419,U419))))","v":""},{"$f":"IF(W419<X419,W419,X419)","v":""},{"$f":"IF(W419<X419,Übersetzungstexte!A$186,\"\")","v":""},{"$f":"IF(AND(B419=\"\",C419=\"\"),\"\",CONCATENATE(B419,\",\",C419))","v":""}]
[]
[{"$f":"'Stammdaten Betrieb & Abteilung'!D$1","v":"  "},null,null,null,null,null,{"$f":"Übersetzungstexte!A$135","v":"Betrieb / Betriebsabteilung"},{"$f":"'Stammdaten Betrieb & Abteilung'!D$13","v":" "}]
[{"$f":"'Stammdaten Betrieb & Abteilung'!D$3","v":" "},null,null,null,null,null,{"$f":"Übersetzungstexte!A$136","v":"Abrechnungsperiode"},{"$f":"'Stammdaten Betrieb & Abteilung'!D$14","v":""}]
[{"$f":"'Stammdaten Betrieb & Abteilung'!D$4","v":" "},null,null,null,null,null,{"$f":"Übersetzungstexte!A$137","v":"Beginn / Ende der Kurzarbeit"},{"$f":"'Stammdaten Betrieb & Abteilung'!D$16","v":""}]
[]
[{"$f":"Übersetzungstexte!A$138","v":""},{"$f":"Übersetzungstexte!A$142","v":""},{"$f":"Übersetzungstexte!A$146","v":""},{"$f":"Übersetzungstexte!A$150","v":""},{"$f":"Übersetzungstexte!A$154","v":""},{"$f":"Übersetzungstexte!A$158","v":""},{"$f":"Übersetzungstexte!A$162","v":"Anzahl bez."},{"$f":"Übersetzungstexte!A$166","v":"Weitere"},{"$f":"Übersetzungstexte!A$170","v":"Jahres-"},{"$f":"Übersetzungstexte!A$174","v":""},{"$f":"Übersetzungstexte!A$178","v":""},{"$f":"Übersetzungstexte!A$182","v":"Anrechen-"},null,null,"Anzahl","Regel 7",null,"Regel 9","Regel 10","Regel 11","Regel 12","Regel 13","Regel 14","Regel 10-14","Regel 14","Regel 14"]
[{"$f":"Übersetzungstexte!A$139","v":""},{"$f":"Übersetzungstexte!A$143","v":""},{"$f":"Übersetzungstexte!A$147","v":""},{"$f":"Übersetzungstexte!A$151","v":""},{"$f":"Übersetzungstexte!A$155","v":""},{"$f":"Übersetzungstexte!A$159","v":""},{"$f":"Übersetzungstexte!A$163","v":"Monate "},{"$f":"Übersetzungstexte!A$167","v":"Lohn-"},{"$f":"Übersetzungstexte!A$171","v":"durchschn."},{"$f":"Übersetzungstexte!A$175","v":"Anzahl"},{"$f":"Übersetzungstexte!A$179","v":"Anzahl"},{"$f":"Übersetzungstexte!A$183","v":"barer"},null,null,"bezugs-","  FF12","S13 / 12","  deApM","Std. Lohn","Std. Lohn","Monatslohn","Monatslohn","Vergleichs-","Anrechenb.","Anrechenb.","Warnungs-"]
[{"$f":"Übersetzungstexte!A$140","v":""},{"$f":"Übersetzungstexte!A$144","v":""},{"$f":"Übersetzungstexte!A$148","v":""},{"$f":"Übersetzungstexte!A$152","v":"Geburts-"},{"$f":"Übersetzungstexte!A$156","v":"Monats-"},{"$f":"Übersetzungstexte!A$160","v":"Stunden-"},{"$f":"Übersetzungstexte!A$164","v":"pro Jahr"},{"$f":"Übersetzungstexte!A$168","v":"bestand-"},{"$f":"Übersetzungstexte!A$172","v":"wöchentl."},{"$f":"Übersetzungstexte!A$176","v":"Ferientage"},{"$f":"Übersetzungstexte!A$180","v":"Feiertage"},{"$f":"Übersetzungstexte!A$184","v":"Stunden-"},null,"AHV-","berechtigte",null,null,null,"ohne","mit","ohne","mit","wert","Std.-Verd.","Std.-","anzeige"]
[{"$f":"Übersetzungstexte!A$141","v":"Versicherten-Nr."},{"$f":"Übersetzungstexte!A$145","v":"Name"},{"$f":"Übersetzungstexte!A$149","v":"Vorname"},{"$f":"Übersetzungstexte!A$153","v":"datum"},{"$f":"Übersetzungstexte!A$157","v":"lohn"},{"$f":"Übersetzungstexte!A$161","v":"lohn"},{"$f":"Übersetzungstexte!A$165","v":"(12/13)"},{"$f":"Übersetzungstexte!A$169","v":"teile p. Jahr"},{"$f":"Übersetzungstexte!A$173","v":"Arbeitszeit"},{"$f":"Übersetzungstexte!A$177","v":"pro Jahr"},{"$f":"Übersetzungstexte!A$181","v":"pro Jahr"},{"$f":"Übersetzungstexte!A$185","v":"Verdienst"},null,"pflichtig","Mitarbeiter",null,null,null,"Prämie","Prämie","Prämie","Prämie",null,"aSV","Verdienst",null,"Name,Vorname"]
[null,null,null,null,null,null,null,null,null,null,null,{"$f":"Y429","v":""},{"$f":"Z429","v":""},{"$f":"IF(N$2-YEAR(D429)<N$3,0,1)","v":0},{"$f":"IF(L429=\"\",0,1)","v":0},{"$f":"IF(AND(A429=\"\",B429=\"\",C429=\"\"),\"\",ROUND((K429+J429)/(N$4-(K429+J429))*100,2))","v":""},{"$f":"ROUND(G429,0)/12","v":0},{"$f":"IF(AND(A429=\"\",B429=\"\",C429=\"\"),\"\",ROUND((N$4-(K429+J429))*I429/60,1))","v":""},{"$f":"IF(OR(AND(A429=\"\",B429=\"\",C429=\"\"),F429=0,F429=\"\"),\"\",ROUND((1+P429/100)*Q429*F429,2))","v":""},{"$f":"IF(OR(AND(A429=\"\",B429=\"\",C429=\"\"),F429=0,F429=\"\",I429=0,I429=\"\"),\"\",ROUND((1+P429/100)*(H429/(N$4*I429/5)+Q429*F429),2))","v":""},{"$f":"IF(OR(AND(A429=\"\",B429=\"\",C429=\"\"),E429=0,E429=\"\",R429=0,R429=\"\"),\"\",ROUND((Q429*E429/R429),2))","v":""},{"$f":"IF(OR(AND(A429=\"\",B429=\"\",C429=\"\"),E429=0,E429=\"\",R429=0,R429=\"\"),\"\",ROUND((H429/(12*Q429*E429)+1)*Q429*E429/R429,2))","v":""},{"$f":"IF(OR(AND(A429=\"\",B429=\"\",C429=\"\"),R429=0,R429=\"\"),\"\",ROUND(W$4 / R429,1))","v":""},{"$f":"IF(OR(AND(A429=\"\",B429=\"\",C429=\"\"),N$4=\"\"),\"\",IF(AND(F429>0,H429>0),T429, IF(F429>0,S429, IF(AND(E429>0,H429>0),V429,U429))))","v":""},{"$f":"IF(W429<X429,W429,X429)","v":""},{"$f":"IF(W429<X429,Übersetzungstexte!A$186,\"\")","v":""},{"$f":"IF(AND(B429=\"\",C429=\"\"),\"\",CONCATENATE(B429,\",\",C429))","v":""}]
[null,null,null,null,null,null,null,null,null,null,null,"","",0,0,"",0,"","","","","","","","",{"$f":"IF(W430<X430,Übersetzungstexte!A$186,\"\")","v":""},""]
[null,null,null,null,null,null,null,null,null,null,null,"","",0,0,"",0,"","","","","","","","",{"$f":"IF(W431<X431,Übersetzungstexte!A$186,\"\")","v":""},""]
[null,null,null,null,null,null,null,null,null,null,null,"","",0,0,"",0,"","","","","","","","",{"$f":"IF(W432<X432,Übersetzungstexte!A$186,\"\")","v":""},""]
[null,null,null,null,null,null,null,null,null,null,null,"","",0,0,"",0,"","","","","","","","",{"$f":"IF(W433<X433,Übersetzungstexte!A$186,\"\")","v":""},""]
[null,null,null,null,null,null,null,null,null,null,null,"","",0,0,"",0,"","","","","","","","",{"$f":"IF(W434<X434,Übersetzungstexte!A$186,\"\")","v":""},""]
[null,null,null,null,null,null,null,null,null,null,null,"","",0,0,"",0,"","","","","","","","",{"$f":"IF(W435<X435,Übersetzungstexte!A$186,\"\")","v":""},""]
[null,null,null,null,null,null,null,null,null,null,null,"","",0,0,"",0,"","","","","","","","",{"$f":"IF(W436<X436,Übersetzungstexte!A$186,\"\")","v":""},""]
[null,null,null,null,null,null,null,null,null,null,null,"","",0,0,"",0,"","","","","","","","",{"$f":"IF(W437<X437,Übersetzungstexte!A$186,\"\")","v":""},""]
[null,null,null,null,null,null,null,null,null,null,null,"","",0,0,"",0,"","","","","","","","",{"$f":"IF(W438<X438,Übersetzungstexte!A$186,\"\")","v":""},""]
[null,null,null,null,null,null,null,null,null,null,null,"","",0,0,"",0,"","","","","","","","",{"$f":"IF(W439<X439,Übersetzungstexte!A$186,\"\")","v":""},""]
[null,null,null,null,null,null,null,null,null,null,null,"","",0,0,"",0,"","","","","","","","",{"$f":"IF(W440<X440,Übersetzungstexte!A$186,\"\")","v":""},""]
[null,null,null,null,null,null,null,null,null,null,null,"","",0,0,"",0,"","","","","","","","",{"$f":"IF(W441<X441,Übersetzungstexte!A$186,\"\")","v":""},""]
[null,null,null,null,null,null,null,null,null,null,null,"","",0,0,"",0,"","","","","","","","",{"$f":"IF(W442<X442,Übersetzungstexte!A$186,\"\")","v":""},""]
[null,null,null,null,null,null,null,null,null,null,null,"","",0,0,"",0,"","","","","","","","",{"$f":"IF(W443<X443,Übersetzungstexte!A$186,\"\")","v":""},""]
[null,null,null,null,null,null,null,null,null,null,null,"","",0,0,"",0,"","","","","","","","",{"$f":"IF(W444<X444,Übersetzungstexte!A$186,\"\")","v":""},""]
[null,null,null,null,null,null,null,null,null,null,null,"","",0,0,"",0,"","","","","","","","",{"$f":"IF(W445<X445,Übersetzungstexte!A$186,\"\")","v":""},""]
[null,null,null,null,null,null,null,null,null,null,null,"","",0,0,"",0,"","","","","","","","",{"$f":"IF(W446<X446,Übersetzungstexte!A$186,\"\")","v":""},""]
[null,null,null,null,null,null,null,null,null,null,null,"","",0,0,"",0,"","","","","","","","",{"$f":"IF(W447<X447,Übersetzungstexte!A$186,\"\")","v":""},""]
[null,null,null,null,null,null,null,null,null,null,null,"",{"$f":"Z448","v":""},{"$f":"IF(N$2-YEAR(D448)<N$3,0,1)","v":0},{"$f":"IF(L448=\"\",0,1)","v":0},{"$f":"IF(AND(A448=\"\",B448=\"\",C448=\"\"),\"\",ROUND((K448+J448)/(N$4-(K448+J448))*100,2))","v":""},{"$f":"ROUND(G448,0)/12","v":0},{"$f":"IF(AND(A448=\"\",B448=\"\",C448=\"\"),\"\",ROUND((N$4-(K448+J448))*I448/60,1))","v":""},{"$f":"IF(OR(AND(A448=\"\",B448=\"\",C448=\"\"),F448=0,F448=\"\"),\"\",ROUND((1+P448/100)*Q448*F448,2))","v":""},{"$f":"IF(OR(AND(A448=\"\",B448=\"\",C448=\"\"),F448=0,F448=\"\",I448=0,I448=\"\"),\"\",ROUND((1+P448/100)*(H448/(N$4*I448/5)+Q448*F448),2))","v":""},{"$f":"IF(OR(AND(A448=\"\",B448=\"\",C448=\"\"),E448=0,E448=\"\",R448=0,R448=\"\"),\"\",ROUND((Q448*E448/R448),2))","v":""},{"$f":"IF(OR(AND(A448=\"\",B448=\"\",C448=\"\"),E448=0,E448=\"\",R448=0,R448=\"\"),\"\",ROUND((H448/(12*Q448*E448)+1)*Q448*E448/R448,2))","v":""},{"$f":"IF(OR(AND(A448=\"\",B448=\"\",C448=\"\"),R448=0,R448=\"\"),\"\",ROUND(W$4 / R448,1))","v":""},{"$f":"IF(OR(AND(A448=\"\",B448=\"\",C448=\"\"),N$4=\"\"),\"\",IF(AND(F448>0,H448>0),T448, IF(F448>0,S448, IF(AND(E448>0,H448>0),V448,U448))))","v":""},{"$f":"IF(W448<X448,W448,X448)","v":""},{"$f":"IF(W448<X448,Übersetzungstexte!A$186,\"\")","v":""},{"$f":"IF(AND(B448=\"\",C448=\"\"),\"\",CONCATENATE(B448,\",\",C448))","v":""}]
[null,null,null,null,null,null,null,null,null,null,null,"",{"$f":"Z449","v":""},{"$f":"IF(N$2-YEAR(D449)<N$3,0,1)","v":0},{"$f":"IF(L449=\"\",0,1)","v":0},{"$f":"IF(AND(A449=\"\",B449=\"\",C449=\"\"),\"\",ROUND((K449+J449)/(N$4-(K449+J449))*100,2))","v":""},{"$f":"ROUND(G449,0)/12","v":0},{"$f":"IF(AND(A449=\"\",B449=\"\",C449=\"\"),\"\",ROUND((N$4-(K449+J449))*I449/60,1))","v":""},{"$f":"IF(OR(AND(A449=\"\",B449=\"\",C449=\"\"),F449=0,F449=\"\"),\"\",ROUND((1+P449/100)*Q449*F449,2))","v":""},{"$f":"IF(OR(AND(A449=\"\",B449=\"\",C449=\"\"),F449=0,F449=\"\",I449=0,I449=\"\"),\"\",ROUND((1+P449/100)*(H449/(N$4*I449/5)+Q449*F449),2))","v":""},{"$f":"IF(OR(AND(A449=\"\",B449=\"\",C449=\"\"),E449=0,E449=\"\",R449=0,R449=\"\"),\"\",ROUND((Q449*E449/R449),2))","v":""},{"$f":"IF(OR(AND(A449=\"\",B449=\"\",C449=\"\"),E449=0,E449=\"\",R449=0,R449=\"\"),\"\",ROUND((H449/(12*Q449*E449)+1)*Q449*E449/R449,2))","v":""},{"$f":"IF(OR(AND(A449=\"\",B449=\"\",C449=\"\"),R449=0,R449=\"\"),\"\",ROUND(W$4 / R449,1))","v":""},{"$f":"IF(OR(AND(A449=\"\",B449=\"\",C449=\"\"),N$4=\"\"),\"\",IF(AND(F449>0,H449>0),T449, IF(F449>0,S449, IF(AND(E449>0,H449>0),V449,U449))))","v":""},{"$f":"IF(W449<X449,W449,X449)","v":""},{"$f":"IF(W449<X449,Übersetzungstexte!A$186,\"\")","v":""},{"$f":"IF(AND(B449=\"\",C449=\"\"),\"\",CONCATENATE(B449,\",\",C449))","v":""}]
[]
[{"$f":"'Stammdaten Betrieb & Abteilung'!D$1","v":"  "},null,null,null,null,null,{"$f":"Übersetzungstexte!A$135","v":"Betrieb / Betriebsabteilung"},{"$f":"'Stammdaten Betrieb & Abteilung'!D$13","v":" "}]
[{"$f":"'Stammdaten Betrieb & Abteilung'!D$3","v":" "},null,null,null,null,null,{"$f":"Übersetzungstexte!A$136","v":"Abrechnungsperiode"},{"$f":"'Stammdaten Betrieb & Abteilung'!D$14","v":""}]
[{"$f":"'Stammdaten Betrieb & Abteilung'!D$4","v":" "},null,null,null,null,null,{"$f":"Übersetzungstexte!A$137","v":"Beginn / Ende der Kurzarbeit"},{"$f":"'Stammdaten Betrieb & Abteilung'!D$16","v":""}]
[]
[{"$f":"Übersetzungstexte!A$138","v":""},{"$f":"Übersetzungstexte!A$142","v":""},{"$f":"Übersetzungstexte!A$146","v":""},{"$f":"Übersetzungstexte!A$150","v":""},{"$f":"Übersetzungstexte!A$154","v":""},{"$f":"Übersetzungstexte!A$158","v":""},{"$f":"Übersetzungstexte!A$162","v":"Anzahl bez."},{"$f":"Übersetzungstexte!A$166","v":"Weitere"},{"$f":"Übersetzungstexte!A$170","v":"Jahres-"},{"$f":"Übersetzungstexte!A$174","v":""},{"$f":"Übersetzungstexte!A$178","v":""},{"$f":"Übersetzungstexte!A$182","v":"Anrechen-"},null,null,"Anzahl","Regel 7",null,"Regel 9","Regel 10","Regel 11","Regel 12","Regel 13","Regel 14","Regel 10-14","Regel 14","Regel 14"]
[{"$f":"Übersetzungstexte!A$139","v":""},{"$f":"Übersetzungstexte!A$143","v":""},{"$f":"Übersetzungstexte!A$147","v":""},{"$f":"Übersetzungstexte!A$151","v":""},{"$f":"Übersetzungstexte!A$155","v":""},{"$f":"Übersetzungstexte!A$159","v":""},{"$f":"Übersetzungstexte!A$163","v":"Monate "},{"$f":"Übersetzungstexte!A$167","v":"Lohn-"},{"$f":"Übersetzungstexte!A$171","v":"durchschn."},{"$f":"Übersetzungstexte!A$175","v":"Anzahl"},{"$f":"Übersetzungstexte!A$179","v":"Anzahl"},{"$f":"Übersetzungstexte!A$183","v":"barer"},null,null,"bezugs-","  FF12","S13 / 12","  deApM","Std. Lohn","Std. Lohn","Monatslohn","Monatslohn","Vergleichs-","Anrechenb.","Anrechenb.","Warnungs-"]
[{"$f":"Übersetzungstexte!A$140","v":""},{"$f":"Übersetzungstexte!A$144","v":""},{"$f":"Übersetzungstexte!A$148","v":""},{"$f":"Übersetzungstexte!A$152","v":"Geburts-"},{"$f":"Übersetzungstexte!A$156","v":"Monats-"},{"$f":"Übersetzungstexte!A$160","v":"Stunden-"},{"$f":"Übersetzungstexte!A$164","v":"pro Jahr"},{"$f":"Übersetzungstexte!A$168","v":"bestand-"},{"$f":"Übersetzungstexte!A$172","v":"wöchentl."},{"$f":"Übersetzungstexte!A$176","v":"Ferientage"},{"$f":"Übersetzungstexte!A$180","v":"Feiertage"},{"$f":"Übersetzungstexte!A$184","v":"Stunden-"},null,"AHV-","berechtigte",null,null,null,"ohne","mit","ohne","mit","wert","Std.-Verd.","Std.-","anzeige"]
[{"$f":"Übersetzungstexte!A$141","v":"Versicherten-Nr."},{"$f":"Übersetzungstexte!A$145","v":"Name"},{"$f":"Übersetzungstexte!A$149","v":"Vorname"},{"$f":"Übersetzungstexte!A$153","v":"datum"},{"$f":"Übersetzungstexte!A$157","v":"lohn"},{"$f":"Übersetzungstexte!A$161","v":"lohn"},{"$f":"Übersetzungstexte!A$165","v":"(12/13)"},{"$f":"Übersetzungstexte!A$169","v":"teile p. Jahr"},{"$f":"Übersetzungstexte!A$173","v":"Arbeitszeit"},{"$f":"Übersetzungstexte!A$177","v":"pro Jahr"},{"$f":"Übersetzungstexte!A$181","v":"pro Jahr"},{"$f":"Übersetzungstexte!A$185","v":"Verdienst"},null,"pflichtig","Mitarbeiter",null,null,null,"Prämie","Prämie","Prämie","Prämie",null,"aSV","Verdienst",null,"Name,Vorname"]
[null,null,null,null,null,null,null,null,null,null,null,{"$f":"Y459","v":""},{"$f":"Z459","v":""},{"$f":"IF(N$2-YEAR(D459)<N$3,0,1)","v":0},{"$f":"IF(L459=\"\",0,1)","v":0},{"$f":"IF(AND(A459=\"\",B459=\"\",C459=\"\"),\"\",ROUND((K459+J459)/(N$4-(K459+J459))*100,2))","v":""},{"$f":"ROUND(G459,0)/12","v":0},{"$f":"IF(AND(A459=\"\",B459=\"\",C459=\"\"),\"\",ROUND((N$4-(K459+J459))*I459/60,1))","v":""},{"$f":"IF(OR(AND(A459=\"\",B459=\"\",C459=\"\"),F459=0,F459=\"\"),\"\",ROUND((1+P459/100)*Q459*F459,2))","v":""},{"$f":"IF(OR(AND(A459=\"\",B459=\"\",C459=\"\"),F459=0,F459=\"\",I459=0,I459=\"\"),\"\",ROUND((1+P459/100)*(H459/(N$4*I459/5)+Q459*F459),2))","v":""},{"$f":"IF(OR(AND(A459=\"\",B459=\"\",C459=\"\"),E459=0,E459=\"\",R459=0,R459=\"\"),\"\",ROUND((Q459*E459/R459),2))","v":""},{"$f":"IF(OR(AND(A459=\"\",B459=\"\",C459=\"\"),E459=0,E459=\"\",R459=0,R459=\"\"),\"\",ROUND((H459/(12*Q459*E459)+1)*Q459*E459/R459,2))","v":""},{"$f":"IF(OR(AND(A459=\"\",B459=\"\",C459=\"\"),R459=0,R459=\"\"),\"\",ROUND(W$4 / R459,1))","v":""},{"$f":"IF(OR(AND(A459=\"\",B459=\"\",C459=\"\"),N$4=\"\"),\"\",IF(AND(F459>0,H459>0),T459, IF(F459>0,S459, IF(AND(E459>0,H459>0),V459,U459))))","v":""},{"$f":"IF(W459<X459,W459,X459)","v":""},{"$f":"IF(W459<X459,Übersetzungstexte!A$186,\"\")","v":""},{"$f":"IF(AND(B459=\"\",C459=\"\"),\"\",CONCATENATE(B459,\",\",C459))","v":""}]
[null,null,null,null,null,null,null,null,null,null,null,"","",0,0,"",0,"","","","","","","","",{"$f":"IF(W460<X460,Übersetzungstexte!A$186,\"\")","v":""},""]
[null,null,null,null,null,null,null,null,null,null,null,"","",0,0,"",0,"","","","","","","","",{"$f":"IF(W461<X461,Übersetzungstexte!A$186,\"\")","v":""},""]
[null,null,null,null,null,null,null,null,null,null,null,"","",0,0,"",0,"","","","","","","","",{"$f":"IF(W462<X462,Übersetzungstexte!A$186,\"\")","v":""},""]
[null,null,null,null,null,null,null,null,null,null,null,"","",0,0,"",0,"","","","","","","","",{"$f":"IF(W463<X463,Übersetzungstexte!A$186,\"\")","v":""},""]
[null,null,null,null,null,null,null,null,null,null,null,"","",0,0,"",0,"","","","","","","","",{"$f":"IF(W464<X464,Übersetzungstexte!A$186,\"\")","v":""},""]
[null,null,null,null,null,null,null,null,null,null,null,"","",0,0,"",0,"","","","","","","","",{"$f":"IF(W465<X465,Übersetzungstexte!A$186,\"\")","v":""},""]
[null,null,null,null,null,null,null,null,null,null,null,"","",0,0,"",0,"","","","","","","","",{"$f":"IF(W466<X466,Übersetzungstexte!A$186,\"\")","v":""},""]
[null,null,null,null,null,null,null,null,null,null,null,"","",0,0,"",0,"","","","","","","","",{"$f":"IF(W467<X467,Übersetzungstexte!A$186,\"\")","v":""},""]
[null,null,null,null,null,null,null,null,null,null,null,"","",0,0,"",0,"","","","","","","","",{"$f":"IF(W468<X468,Übersetzungstexte!A$186,\"\")","v":""},""]
[null,null,null,null,null,null,null,null,null,null,null,"","",0,0,"",0,"","","","","","","","",{"$f":"IF(W469<X469,Übersetzungstexte!A$186,\"\")","v":""},""]
[null,null,null,null,null,null,null,null,null,null,null,"","",0,0,"",0,"","","","","","","","",{"$f":"IF(W470<X470,Übersetzungstexte!A$186,\"\")","v":""},""]
[null,null,null,null,null,null,null,null,null,null,null,"","",0,0,"",0,"","","","","","","","",{"$f":"IF(W471<X471,Übersetzungstexte!A$186,\"\")","v":""},""]
[null,null,null,null,null,null,null,null,null,null,null,"","",0,0,"",0,"","","","","","","","",{"$f":"IF(W472<X472,Übersetzungstexte!A$186,\"\")","v":""},""]
[null,null,null,null,null,null,null,null,null,null,null,"","",0,0,"",0,"","","","","","","","",{"$f":"IF(W473<X473,Übersetzungstexte!A$186,\"\")","v":""},""]
[null,null,null,null,null,null,null,null,null,null,null,"","",0,0,"",0,"","","","","","","","",{"$f":"IF(W474<X474,Übersetzungstexte!A$186,\"\")","v":""},""]
[null,null,null,null,null,null,null,null,null,null,null,"","",0,0,"",0,"","","","","","","","",{"$f":"IF(W475<X475,Übersetzungstexte!A$186,\"\")","v":""},""]
[null,null,null,null,null,null,null,null,null,null,null,"","",0,0,"",0,"","","","","","","","",{"$f":"IF(W476<X476,Übersetzungstexte!A$186,\"\")","v":""},""]
[null,null,null,null,null,null,null,null,null,null,null,"","",0,0,"",0,"","","","","","","","",{"$f":"IF(W477<X477,Übersetzungstexte!A$186,\"\")","v":""},""]
[null,null,null,null,null,null,null,null,null,null,null,"",{"$f":"Z478","v":""},{"$f":"IF(N$2-YEAR(D478)<N$3,0,1)","v":0},{"$f":"IF(L478=\"\",0,1)","v":0},{"$f":"IF(AND(A478=\"\",B478=\"\",C478=\"\"),\"\",ROUND((K478+J478)/(N$4-(K478+J478))*100,2))","v":""},{"$f":"ROUND(G478,0)/12","v":0},{"$f":"IF(AND(A478=\"\",B478=\"\",C478=\"\"),\"\",ROUND((N$4-(K478+J478))*I478/60,1))","v":""},{"$f":"IF(OR(AND(A478=\"\",B478=\"\",C478=\"\"),F478=0,F478=\"\"),\"\",ROUND((1+P478/100)*Q478*F478,2))","v":""},{"$f":"IF(OR(AND(A478=\"\",B478=\"\",C478=\"\"),F478=0,F478=\"\",I478=0,I478=\"\"),\"\",ROUND((1+P478/100)*(H478/(N$4*I478/5)+Q478*F478),2))","v":""},{"$f":"IF(OR(AND(A478=\"\",B478=\"\",C478=\"\"),E478=0,E478=\"\",R478=0,R478=\"\"),\"\",ROUND((Q478*E478/R478),2))","v":""},{"$f":"IF(OR(AND(A478=\"\",B478=\"\",C478=\"\"),E478=0,E478=\"\",R478=0,R478=\"\"),\"\",ROUND((H478/(12*Q478*E478)+1)*Q478*E478/R478,2))","v":""},{"$f":"IF(OR(AND(A478=\"\",B478=\"\",C478=\"\"),R478=0,R478=\"\"),\"\",ROUND(W$4 / R478,1))","v":""},{"$f":"IF(OR(AND(A478=\"\",B478=\"\",C478=\"\"),N$4=\"\"),\"\",IF(AND(F478>0,H478>0),T478, IF(F478>0,S478, IF(AND(E478>0,H478>0),V478,U478))))","v":""},{"$f":"IF(W478<X478,W478,X478)","v":""},{"$f":"IF(W478<X478,Übersetzungstexte!A$186,\"\")","v":""},{"$f":"IF(AND(B478=\"\",C478=\"\"),\"\",CONCATENATE(B478,\",\",C478))","v":""}]
[null,null,null,null,null,null,null,null,null,null,null,"",{"$f":"Z479","v":""},{"$f":"IF(N$2-YEAR(D479)<N$3,0,1)","v":0},{"$f":"IF(L479=\"\",0,1)","v":0},{"$f":"IF(AND(A479=\"\",B479=\"\",C479=\"\"),\"\",ROUND((K479+J479)/(N$4-(K479+J479))*100,2))","v":""},{"$f":"ROUND(G479,0)/12","v":0},{"$f":"IF(AND(A479=\"\",B479=\"\",C479=\"\"),\"\",ROUND((N$4-(K479+J479))*I479/60,1))","v":""},{"$f":"IF(OR(AND(A479=\"\",B479=\"\",C479=\"\"),F479=0,F479=\"\"),\"\",ROUND((1+P479/100)*Q479*F479,2))","v":""},{"$f":"IF(OR(AND(A479=\"\",B479=\"\",C479=\"\"),F479=0,F479=\"\",I479=0,I479=\"\"),\"\",ROUND((1+P479/100)*(H479/(N$4*I479/5)+Q479*F479),2))","v":""},{"$f":"IF(OR(AND(A479=\"\",B479=\"\",C479=\"\"),E479=0,E479=\"\",R479=0,R479=\"\"),\"\",ROUND((Q479*E479/R479),2))","v":""},{"$f":"IF(OR(AND(A479=\"\",B479=\"\",C479=\"\"),E479=0,E479=\"\",R479=0,R479=\"\"),\"\",ROUND((H479/(12*Q479*E479)+1)*Q479*E479/R479,2))","v":""},{"$f":"IF(OR(AND(A479=\"\",B479=\"\",C479=\"\"),R479=0,R479=\"\"),\"\",ROUND(W$4 / R479,1))","v":""},{"$f":"IF(OR(AND(A479=\"\",B479=\"\",C479=\"\"),N$4=\"\"),\"\",IF(AND(F479>0,H479>0),T479, IF(F479>0,S479, IF(AND(E479>0,H479>0),V479,U479))))","v":""},{"$f":"IF(W479<X479,W479,X479)","v":""},{"$f":"IF(W479<X479,Übersetzungstexte!A$186,\"\")","v":""},{"$f":"IF(AND(B479=\"\",C479=\"\"),\"\",CONCATENATE(B479,\",\",C479))","v":""}]
[]
[{"$f":"'Stammdaten Betrieb & Abteilung'!D$1","v":"  "},null,null,null,null,null,{"$f":"Übersetzungstexte!A$135","v":"Betrieb / Betriebsabteilung"},{"$f":"'Stammdaten Betrieb & Abteilung'!D$13","v":" "}]
[{"$f":"'Stammdaten Betrieb & Abteilung'!D$3","v":" "},null,null,null,null,null,{"$f":"Übersetzungstexte!A$136","v":"Abrechnungsperiode"},{"$f":"'Stammdaten Betrieb & Abteilung'!D$14","v":""}]
[{"$f":"'Stammdaten Betrieb & Abteilung'!D$4","v":" "},null,null,null,null,null,{"$f":"Übersetzungstexte!A$137","v":"Beginn / Ende der Kurzarbeit"},{"$f":"'Stammdaten Betrieb & Abteilung'!D$16","v":""}]
[]
[{"$f":"Übersetzungstexte!A$138","v":""},{"$f":"Übersetzungstexte!A$142","v":""},{"$f":"Übersetzungstexte!A$146","v":""},{"$f":"Übersetzungstexte!A$150","v":""},{"$f":"Übersetzungstexte!A$154","v":""},{"$f":"Übersetzungstexte!A$158","v":""},{"$f":"Übersetzungstexte!A$162","v":"Anzahl bez."},{"$f":"Übersetzungstexte!A$166","v":"Weitere"},{"$f":"Übersetzungstexte!A$170","v":"Jahres-"},{"$f":"Übersetzungstexte!A$174","v":""},{"$f":"Übersetzungstexte!A$178","v":""},{"$f":"Übersetzungstexte!A$182","v":"Anrechen-"},null,null,"Anzahl","Regel 7",null,"Regel 9","Regel 10","Regel 11","Regel 12","Regel 13","Regel 14","Regel 10-14","Regel 14","Regel 14"]
[{"$f":"Übersetzungstexte!A$139","v":""},{"$f":"Übersetzungstexte!A$143","v":""},{"$f":"Übersetzungstexte!A$147","v":""},{"$f":"Übersetzungstexte!A$151","v":""},{"$f":"Übersetzungstexte!A$155","v":""},{"$f":"Übersetzungstexte!A$159","v":""},{"$f":"Übersetzungstexte!A$163","v":"Monate "},{"$f":"Übersetzungstexte!A$167","v":"Lohn-"},{"$f":"Übersetzungstexte!A$171","v":"durchschn."},{"$f":"Übersetzungstexte!A$175","v":"Anzahl"},{"$f":"Übersetzungstexte!A$179","v":"Anzahl"},{"$f":"Übersetzungstexte!A$183","v":"barer"},null,null,"bezugs-","  FF12","S13 / 12","  deApM","Std. Lohn","Std. Lohn","Monatslohn","Monatslohn","Vergleichs-","Anrechenb.","Anrechenb.","Warnungs-"]
[{"$f":"Übersetzungstexte!A$140","v":""},{"$f":"Übersetzungstexte!A$144","v":""},{"$f":"Übersetzungstexte!A$148","v":""},{"$f":"Übersetzungstexte!A$152","v":"Geburts-"},{"$f":"Übersetzungstexte!A$156","v":"Monats-"},{"$f":"Übersetzungstexte!A$160","v":"Stunden-"},{"$f":"Übersetzungstexte!A$164","v":"pro Jahr"},{"$f":"Übersetzungstexte!A$168","v":"bestand-"},{"$f":"Übersetzungstexte!A$172","v":"wöchentl."},{"$f":"Übersetzungstexte!A$176","v":"Ferientage"},{"$f":"Übersetzungstexte!A$180","v":"Feiertage"},{"$f":"Übersetzungstexte!A$184","v":"Stunden-"},null,"AHV-","berechtigte",null,null,null,"ohne","mit","ohne","mit","wert","Std.-Verd.","Std.-","anzeige"]
[{"$f":"Übersetzungstexte!A$141","v":"Versicherten-Nr."},{"$f":"Übersetzungstexte!A$145","v":"Name"},{"$f":"Übersetzungstexte!A$149","v":"Vorname"},{"$f":"Übersetzungstexte!A$153","v":"datum"},{"$f":"Übersetzungstexte!A$157","v":"lohn"},{"$f":"Übersetzungstexte!A$161","v":"lohn"},{"$f":"Übersetzungstexte!A$165","v":"(12/13)"},{"$f":"Übersetzungstexte!A$169","v":"teile p. Jahr"},{"$f":"Übersetzungstexte!A$173","v":"Arbeitszeit"},{"$f":"Übersetzungstexte!A$177","v":"pro Jahr"},{"$f":"Übersetzungstexte!A$181","v":"pro Jahr"},{"$f":"Übersetzungstexte!A$185","v":"Verdienst"},null,"pflichtig","Mitarbeiter",null,null,null,"Prämie","Prämie","Prämie","Prämie",null,"aSV","Verdienst",null,"Name,Vorname"]
[null,null,null,null,null,null,null,null,null,null,null,{"$f":"Y489","v":""},{"$f":"Z489","v":""},{"$f":"IF(N$2-YEAR(D489)<N$3,0,1)","v":0},{"$f":"IF(L489=\"\",0,1)","v":0},{"$f":"IF(AND(A489=\"\",B489=\"\",C489=\"\"),\"\",ROUND((K489+J489)/(N$4-(K489+J489))*100,2))","v":""},{"$f":"ROUND(G489,0)/12","v":0},{"$f":"IF(AND(A489=\"\",B489=\"\",C489=\"\"),\"\",ROUND((N$4-(K489+J489))*I489/60,1))","v":""},{"$f":"IF(OR(AND(A489=\"\",B489=\"\",C489=\"\"),F489=0,F489=\"\"),\"\",ROUND((1+P489/100)*Q489*F489,2))","v":""},{"$f":"IF(OR(AND(A489=\"\",B489=\"\",C489=\"\"),F489=0,F489=\"\",I489=0,I489=\"\"),\"\",ROUND((1+P489/100)*(H489/(N$4*I489/5)+Q489*F489),2))","v":""},{"$f":"IF(OR(AND(A489=\"\",B489=\"\",C489=\"\"),E489=0,E489=\"\",R489=0,R489=\"\"),\"\",ROUND((Q489*E489/R489),2))","v":""},{"$f":"IF(OR(AND(A489=\"\",B489=\"\",C489=\"\"),E489=0,E489=\"\",R489=0,R489=\"\"),\"\",ROUND((H489/(12*Q489*E489)+1)*Q489*E489/R489,2))","v":""},{"$f":"IF(OR(AND(A489=\"\",B489=\"\",C489=\"\"),R489=0,R489=\"\"),\"\",ROUND(W$4 / R489,1))","v":""},{"$f":"IF(OR(AND(A489=\"\",B489=\"\",C489=\"\"),N$4=\"\"),\"\",IF(AND(F489>0,H489>0),T489, IF(F489>0,S489, IF(AND(E489>0,H489>0),V489,U489))))","v":""},{"$f":"IF(W489<X489,W489,X489)","v":""},{"$f":"IF(W489<X489,Übersetzungstexte!A$186,\"\")","v":""},{"$f":"IF(AND(B489=\"\",C489=\"\"),\"\",CONCATENATE(B489,\",\",C489))","v":""}]
[null,null,null,null,null,null,null,null,null,null,null,"","",0,0,"",0,"","","","","","","","",{"$f":"IF(W490<X490,Übersetzungstexte!A$186,\"\")","v":""},""]
[null,null,null,null,null,null,null,null,null,null,null,"","",0,0,"",0,"","","","","","","","",{"$f":"IF(W491<X491,Übersetzungstexte!A$186,\"\")","v":""},""]
[null,null,null,null,null,null,null,null,null,null,null,"","",0,0,"",0,"","","","","","","","",{"$f":"IF(W492<X492,Übersetzungstexte!A$186,\"\")","v":""},""]
[null,null,null,null,null,null,null,null,null,null,null,"","",0,0,"",0,"","","","","","","","",{"$f":"IF(W493<X493,Übersetzungstexte!A$186,\"\")","v":""},""]
[null,null,null,null,null,null,null,null,null,null,null,"","",0,0,"",0,"","","","","","","","",{"$f":"IF(W494<X494,Übersetzungstexte!A$186,\"\")","v":""},""]
[null,null,null,null,null,null,null,null,null,null,null,"","",0,0,"",0,"","","","","","","","",{"$f":"IF(W495<X495,Übersetzungstexte!A$186,\"\")","v":""},""]
[null,null,null,null,null,null,null,null,null,null,null,"","",0,0,"",0,"","","","","","","","",{"$f":"IF(W496<X496,Übersetzungstexte!A$186,\"\")","v":""},""]
[null,null,null,null,null,null,null,null,null,null,null,"","",0,0,"",0,"","","","","","","","",{"$f":"IF(W497<X497,Übersetzungstexte!A$186,\"\")","v":""},""]
[null,null,null,null,null,null,null,null,null,null,null,"","",0,0,"",0,"","","","","","","","",{"$f":"IF(W498<X498,Übersetzungstexte!A$186,\"\")","v":""},""]
[null,null,null,null,null,null,null,null,null,null,null,"","",0,0,"",0,"","","","","","","","",{"$f":"IF(W499<X499,Übersetzungstexte!A$186,\"\")","v":""},""]
[null,null,null,null,null,null,null,null,null,null,null,"","",0,0,"",0,"","","","","","","","",{"$f":"IF(W500<X500,Übersetzungstexte!A$186,\"\")","v":""},""]
[null,null,null,null,null,null,null,null,null,null,null,"","",0,0,"",0,"","","","","","","","",{"$f":"IF(W501<X501,Übersetzungstexte!A$186,\"\")","v":""},""]
[null,null,null,null,null,null,null,null,null,null,null,"","",0,0,"",0,"","","","","","","","",{"$f":"IF(W502<X502,Übersetzungstexte!A$186,\"\")","v":""},""]
[null,null,null,null,null,null,null,null,null,null,null,"","",0,0,"",0,"","","","","","","","",{"$f":"IF(W503<X503,Übersetzungstexte!A$186,\"\")","v":""},""]
[null,null,null,null,null,null,null,null,null,null,null,"","",0,0,"",0,"","","","","","","","",{"$f":"IF(W504<X504,Übersetzungstexte!A$186,\"\")","v":""},""]
[null,null,null,null,null,null,null,null,null,null,null,"","",0,0,"",0,"","","","","","","","",{"$f":"IF(W505<X505,Übersetzungstexte!A$186,\"\")","v":""},""]
[null,null,null,null,null,null,null,null,null,null,null,"","",0,0,"",0,"","","","","","","","",{"$f":"IF(W506<X506,Übersetzungstexte!A$186,\"\")","v":""},""]
[null,null,null,null,null,null,null,null,null,null,null,"","",0,0,"",0,"","","","","","","","",{"$f":"IF(W507<X507,Übersetzungstexte!A$186,\"\")","v":""},""]
[null,null,null,null,null,null,null,null,null,null,null,"",{"$f":"Z508","v":""},{"$f":"IF(N$2-YEAR(D508)<N$3,0,1)","v":0},{"$f":"IF(L508=\"\",0,1)","v":0},{"$f":"IF(AND(A508=\"\",B508=\"\",C508=\"\"),\"\",ROUND((K508+J508)/(N$4-(K508+J508))*100,2))","v":""},{"$f":"ROUND(G508,0)/12","v":0},{"$f":"IF(AND(A508=\"\",B508=\"\",C508=\"\"),\"\",ROUND((N$4-(K508+J508))*I508/60,1))","v":""},{"$f":"IF(OR(AND(A508=\"\",B508=\"\",C508=\"\"),F508=0,F508=\"\"),\"\",ROUND((1+P508/100)*Q508*F508,2))","v":""},{"$f":"IF(OR(AND(A508=\"\",B508=\"\",C508=\"\"),F508=0,F508=\"\",I508=0,I508=\"\"),\"\",ROUND((1+P508/100)*(H508/(N$4*I508/5)+Q508*F508),2))","v":""},{"$f":"IF(OR(AND(A508=\"\",B508=\"\",C508=\"\"),E508=0,E508=\"\",R508=0,R508=\"\"),\"\",ROUND((Q508*E508/R508),2))","v":""},{"$f":"IF(OR(AND(A508=\"\",B508=\"\",C508=\"\"),E508=0,E508=\"\",R508=0,R508=\"\"),\"\",ROUND((H508/(12*Q508*E508)+1)*Q508*E508/R508,2))","v":""},{"$f":"IF(OR(AND(A508=\"\",B508=\"\",C508=\"\"),R508=0,R508=\"\"),\"\",ROUND(W$4 / R508,1))","v":""},{"$f":"IF(OR(AND(A508=\"\",B508=\"\",C508=\"\"),N$4=\"\"),\"\",IF(AND(F508>0,H508>0),T508, IF(F508>0,S508, IF(AND(E508>0,H508>0),V508,U508))))","v":""},{"$f":"IF(W508<X508,W508,X508)","v":""},{"$f":"IF(W508<X508,Übersetzungstexte!A$186,\"\")","v":""},{"$f":"IF(AND(B508=\"\",C508=\"\"),\"\",CONCATENATE(B508,\",\",C508))","v":""}]
[null,null,null,null,null,null,null,null,null,null,null,"",{"$f":"Z509","v":""},{"$f":"IF(N$2-YEAR(D509)<N$3,0,1)","v":0},{"$f":"IF(L509=\"\",0,1)","v":0},{"$f":"IF(AND(A509=\"\",B509=\"\",C509=\"\"),\"\",ROUND((K509+J509)/(N$4-(K509+J509))*100,2))","v":""},{"$f":"ROUND(G509,0)/12","v":0},{"$f":"IF(AND(A509=\"\",B509=\"\",C509=\"\"),\"\",ROUND((N$4-(K509+J509))*I509/60,1))","v":""},{"$f":"IF(OR(AND(A509=\"\",B509=\"\",C509=\"\"),F509=0,F509=\"\"),\"\",ROUND((1+P509/100)*Q509*F509,2))","v":""},{"$f":"IF(OR(AND(A509=\"\",B509=\"\",C509=\"\"),F509=0,F509=\"\",I509=0,I509=\"\"),\"\",ROUND((1+P509/100)*(H509/(N$4*I509/5)+Q509*F509),2))","v":""},{"$f":"IF(OR(AND(A509=\"\",B509=\"\",C509=\"\"),E509=0,E509=\"\",R509=0,R509=\"\"),\"\",ROUND((Q509*E509/R509),2))","v":""},{"$f":"IF(OR(AND(A509=\"\",B509=\"\",C509=\"\"),E509=0,E509=\"\",R509=0,R509=\"\"),\"\",ROUND((H509/(12*Q509*E509)+1)*Q509*E509/R509,2))","v":""},{"$f":"IF(OR(AND(A509=\"\",B509=\"\",C509=\"\"),R509=0,R509=\"\"),\"\",ROUND(W$4 / R509,1))","v":""},{"$f":"IF(OR(AND(A509=\"\",B509=\"\",C509=\"\"),N$4=\"\"),\"\",IF(AND(F509>0,H509>0),T509, IF(F509>0,S509, IF(AND(E509>0,H509>0),V509,U509))))","v":""},{"$f":"IF(W509<X509,W509,X509)","v":""},{"$f":"IF(W509<X509,Übersetzungstexte!A$186,\"\")","v":""},{"$f":"IF(AND(B509=\"\",C509=\"\"),\"\",CONCATENATE(B509,\",\",C509))","v":""}]
[]
[{"$f":"'Stammdaten Betrieb & Abteilung'!D$1","v":"  "},null,null,null,null,null,{"$f":"Übersetzungstexte!A$135","v":"Betrieb / Betriebsabteilung"},{"$f":"'Stammdaten Betrieb & Abteilung'!D$13","v":" "}]
[{"$f":"'Stammdaten Betrieb & Abteilung'!D$3","v":" "},null,null,null,null,null,{"$f":"Übersetzungstexte!A$136","v":"Abrechnungsperiode"},{"$f":"'Stammdaten Betrieb & Abteilung'!D$14","v":""}]
[{"$f":"'Stammdaten Betrieb & Abteilung'!D$4","v":" "},null,null,null,null,null,{"$f":"Übersetzungstexte!A$137","v":"Beginn / Ende der Kurzarbeit"},{"$f":"'Stammdaten Betrieb & Abteilung'!D$16","v":""}]
[]
[{"$f":"Übersetzungstexte!A$138","v":""},{"$f":"Übersetzungstexte!A$142","v":""},{"$f":"Übersetzungstexte!A$146","v":""},{"$f":"Übersetzungstexte!A$150","v":""},{"$f":"Übersetzungstexte!A$154","v":""},{"$f":"Übersetzungstexte!A$158","v":""},{"$f":"Übersetzungstexte!A$162","v":"Anzahl bez."},{"$f":"Übersetzungstexte!A$166","v":"Weitere"},{"$f":"Übersetzungstexte!A$170","v":"Jahres-"},{"$f":"Übersetzungstexte!A$174","v":""},{"$f":"Übersetzungstexte!A$178","v":""},{"$f":"Übersetzungstexte!A$182","v":"Anrechen-"},null,null,"Anzahl","Regel 7",null,"Regel 9","Regel 10","Regel 11","Regel 12","Regel 13","Regel 14","Regel 10-14","Regel 14","Regel 14"]
[{"$f":"Übersetzungstexte!A$139","v":""},{"$f":"Übersetzungstexte!A$143","v":""},{"$f":"Übersetzungstexte!A$147","v":""},{"$f":"Übersetzungstexte!A$151","v":""},{"$f":"Übersetzungstexte!A$155","v":""},{"$f":"Übersetzungstexte!A$159","v":""},{"$f":"Übersetzungstexte!A$163","v":"Monate "},{"$f":"Übersetzungstexte!A$167","v":"Lohn-"},{"$f":"Übersetzungstexte!A$171","v":"durchschn."},{"$f":"Übersetzungstexte!A$175","v":"Anzahl"},{"$f":"Übersetzungstexte!A$179","v":"Anzahl"},{"$f":"Übersetzungstexte!A$183","v":"barer"},null,null,"bezugs-","  FF12","S13 / 12","  deApM","Std. Lohn","Std. Lohn","Monatslohn","Monatslohn","Vergleichs-","Anrechenb.","Anrechenb.","Warnungs-"]
[{"$f":"Übersetzungstexte!A$140","v":""},{"$f":"Übersetzungstexte!A$144","v":""},{"$f":"Übersetzungstexte!A$148","v":""},{"$f":"Übersetzungstexte!A$152","v":"Geburts-"},{"$f":"Übersetzungstexte!A$156","v":"Monats-"},{"$f":"Übersetzungstexte!A$160","v":"Stunden-"},{"$f":"Übersetzungstexte!A$164","v":"pro Jahr"},{"$f":"Übersetzungstexte!A$168","v":"bestand-"},{"$f":"Übersetzungstexte!A$172","v":"wöchentl."},{"$f":"Übersetzungstexte!A$176","v":"Ferientage"},{"$f":"Übersetzungstexte!A$180","v":"Feiertage"},{"$f":"Übersetzungstexte!A$184","v":"Stunden-"},null,"AHV-","berechtigte",null,null,null,"ohne","mit","ohne","mit","wert","Std.-Verd.","Std.-","anzeige"]
[{"$f":"Übersetzungstexte!A$141","v":"Versicherten-Nr."},{"$f":"Übersetzungstexte!A$145","v":"Name"},{"$f":"Übersetzungstexte!A$149","v":"Vorname"},{"$f":"Übersetzungstexte!A$153","v":"datum"},{"$f":"Übersetzungstexte!A$157","v":"lohn"},{"$f":"Übersetzungstexte!A$161","v":"lohn"},{"$f":"Übersetzungstexte!A$165","v":"(12/13)"},{"$f":"Übersetzungstexte!A$169","v":"teile p. Jahr"},{"$f":"Übersetzungstexte!A$173","v":"Arbeitszeit"},{"$f":"Übersetzungstexte!A$177","v":"pro Jahr"},{"$f":"Übersetzungstexte!A$181","v":"pro Jahr"},{"$f":"Übersetzungstexte!A$185","v":"Verdienst"},null,"pflichtig","Mitarbeiter",null,null,null,"Prämie","Prämie","Prämie","Prämie",null,"aSV","Verdienst",null,"Name,Vorname"]
[null,null,null,null,null,null,null,null,null,null,null,{"$f":"Y519","v":""},{"$f":"Z519","v":""},{"$f":"IF(N$2-YEAR(D519)<N$3,0,1)","v":0},{"$f":"IF(L519=\"\",0,1)","v":0},{"$f":"IF(AND(A519=\"\",B519=\"\",C519=\"\"),\"\",ROUND((K519+J519)/(N$4-(K519+J519))*100,2))","v":""},{"$f":"ROUND(G519,0)/12","v":0},{"$f":"IF(AND(A519=\"\",B519=\"\",C519=\"\"),\"\",ROUND((N$4-(K519+J519))*I519/60,1))","v":""},{"$f":"IF(OR(AND(A519=\"\",B519=\"\",C519=\"\"),F519=0,F519=\"\"),\"\",ROUND((1+P519/100)*Q519*F519,2))","v":""},{"$f":"IF(OR(AND(A519=\"\",B519=\"\",C519=\"\"),F519=0,F519=\"\",I519=0,I519=\"\"),\"\",ROUND((1+P519/100)*(H519/(N$4*I519/5)+Q519*F519),2))","v":""},{"$f":"IF(OR(AND(A519=\"\",B519=\"\",C519=\"\"),E519=0,E519=\"\",R519=0,R519=\"\"),\"\",ROUND((Q519*E519/R519),2))","v":""},{"$f":"IF(OR(AND(A519=\"\",B519=\"\",C519=\"\"),E519=0,E519=\"\",R519=0,R519=\"\"),\"\",ROUND((H519/(12*Q519*E519)+1)*Q519*E519/R519,2))","v":""},{"$f":"IF(OR(AND(A519=\"\",B519=\"\",C519=\"\"),R519=0,R519=\"\"),\"\",ROUND(W$4 / R519,1))","v":""},{"$f":"IF(OR(AND(A519=\"\",B519=\"\",C519=\"\"),N$4=\"\"),\"\",IF(AND(F519>0,H519>0),T519, IF(F519>0,S519, IF(AND(E519>0,H519>0),V519,U519))))","v":""},{"$f":"IF(W519<X519,W519,X519)","v":""},{"$f":"IF(W519<X519,Übersetzungstexte!A$186,\"\")","v":""},{"$f":"IF(AND(B519=\"\",C519=\"\"),\"\",CONCATENATE(B519,\",\",C519))","v":""}]
[null,null,null,null,null,null,null,null,null,null,null,"","",0,0,"",0,"","","","","","","","",{"$f":"IF(W520<X520,Übersetzungstexte!A$186,\"\")","v":""},""]
[null,null,null,null,null,null,null,null,null,null,null,"","",0,0,"",0,"","","","","","","","",{"$f":"IF(W521<X521,Übersetzungstexte!A$186,\"\")","v":""},""]
[null,null,null,null,null,null,null,null,null,null,null,"","",0,0,"",0,"","","","","","","","",{"$f":"IF(W522<X522,Übersetzungstexte!A$186,\"\")","v":""},""]
[null,null,null,null,null,null,null,null,null,null,null,"","",0,0,"",0,"","","","","","","","",{"$f":"IF(W523<X523,Übersetzungstexte!A$186,\"\")","v":""},""]
[null,null,null,null,null,null,null,null,null,null,null,"","",0,0,"",0,"","","","","","","","",{"$f":"IF(W524<X524,Übersetzungstexte!A$186,\"\")","v":""},""]
[null,null,null,null,null,null,null,null,null,null,null,"","",0,0,"",0,"","","","","","","","",{"$f":"IF(W525<X525,Übersetzungstexte!A$186,\"\")","v":""},""]
[null,null,null,null,null,null,null,null,null,null,null,"","",0,0,"",0,"","","","","","","","",{"$f":"IF(W526<X526,Übersetzungstexte!A$186,\"\")","v":""},""]
[null,null,null,null,null,null,null,null,null,null,null,"","",0,0,"",0,"","","","","","","","",{"$f":"IF(W527<X527,Übersetzungstexte!A$186,\"\")","v":""},""]
[null,null,null,null,null,null,null,null,null,null,null,"","",0,0,"",0,"","","","","","","","",{"$f":"IF(W528<X528,Übersetzungstexte!A$186,\"\")","v":""},""]
[null,null,null,null,null,null,null,null,null,null,null,"","",0,0,"",0,"","","","","","","","",{"$f":"IF(W529<X529,Übersetzungstexte!A$186,\"\")","v":""},""]
[null,null,null,null,null,null,null,null,null,null,null,"","",0,0,"",0,"","","","","","","","",{"$f":"IF(W530<X530,Übersetzungstexte!A$186,\"\")","v":""},""]
[null,null,null,null,null,null,null,null,null,null,null,"","",0,0,"",0,"","","","","","","","",{"$f":"IF(W531<X531,Übersetzungstexte!A$186,\"\")","v":""},""]
[null,null,null,null,null,null,null,null,null,null,null,"","",0,0,"",0,"","","","","","","","",{"$f":"IF(W532<X532,Übersetzungstexte!A$186,\"\")","v":""},""]
[null,null,null,null,null,null,null,null,null,null,null,"","",0,0,"",0,"","","","","","","","",{"$f":"IF(W533<X533,Übersetzungstexte!A$186,\"\")","v":""},""]
[null,null,null,null,null,null,null,null,null,null,null,"","",0,0,"",0,"","","","","","","","",{"$f":"IF(W534<X534,Übersetzungstexte!A$186,\"\")","v":""},""]
[null,null,null,null,null,null,null,null,null,null,null,"","",0,0,"",0,"","","","","","","","",{"$f":"IF(W535<X535,Übersetzungstexte!A$186,\"\")","v":""},""]
[null,null,null,null,null,null,null,null,null,null,null,"","",0,0,"",0,"","","","","","","","",{"$f":"IF(W536<X536,Übersetzungstexte!A$186,\"\")","v":""},""]
[null,null,null,null,null,null,null,null,null,null,null,"","",0,0,"",0,"","","","","","","","",{"$f":"IF(W537<X537,Übersetzungstexte!A$186,\"\")","v":""},""]
[null,null,null,null,null,null,null,null,null,null,null,"",{"$f":"Z538","v":""},{"$f":"IF(N$2-YEAR(D538)<N$3,0,1)","v":0},{"$f":"IF(L538=\"\",0,1)","v":0},{"$f":"IF(AND(A538=\"\",B538=\"\",C538=\"\"),\"\",ROUND((K538+J538)/(N$4-(K538+J538))*100,2))","v":""},{"$f":"ROUND(G538,0)/12","v":0},{"$f":"IF(AND(A538=\"\",B538=\"\",C538=\"\"),\"\",ROUND((N$4-(K538+J538))*I538/60,1))","v":""},{"$f":"IF(OR(AND(A538=\"\",B538=\"\",C538=\"\"),F538=0,F538=\"\"),\"\",ROUND((1+P538/100)*Q538*F538,2))","v":""},{"$f":"IF(OR(AND(A538=\"\",B538=\"\",C538=\"\"),F538=0,F538=\"\",I538=0,I538=\"\"),\"\",ROUND((1+P538/100)*(H538/(N$4*I538/5)+Q538*F538),2))","v":""},{"$f":"IF(OR(AND(A538=\"\",B538=\"\",C538=\"\"),E538=0,E538=\"\",R538=0,R538=\"\"),\"\",ROUND((Q538*E538/R538),2))","v":""},{"$f":"IF(OR(AND(A538=\"\",B538=\"\",C538=\"\"),E538=0,E538=\"\",R538=0,R538=\"\"),\"\",ROUND((H538/(12*Q538*E538)+1)*Q538*E538/R538,2))","v":""},{"$f":"IF(OR(AND(A538=\"\",B538=\"\",C538=\"\"),R538=0,R538=\"\"),\"\",ROUND(W$4 / R538,1))","v":""},{"$f":"IF(OR(AND(A538=\"\",B538=\"\",C538=\"\"),N$4=\"\"),\"\",IF(AND(F538>0,H538>0),T538, IF(F538>0,S538, IF(AND(E538>0,H538>0),V538,U538))))","v":""},{"$f":"IF(W538<X538,W538,X538)","v":""},{"$f":"IF(W538<X538,Übersetzungstexte!A$186,\"\")","v":""},{"$f":"IF(AND(B538=\"\",C538=\"\"),\"\",CONCATENATE(B538,\",\",C538))","v":""}]
[null,null,null,null,null,null,null,null,null,null,null,"",{"$f":"Z539","v":""},{"$f":"IF(N$2-YEAR(D539)<N$3,0,1)","v":0},{"$f":"IF(L539=\"\",0,1)","v":0},{"$f":"IF(AND(A539=\"\",B539=\"\",C539=\"\"),\"\",ROUND((K539+J539)/(N$4-(K539+J539))*100,2))","v":""},{"$f":"ROUND(G539,0)/12","v":0},{"$f":"IF(AND(A539=\"\",B539=\"\",C539=\"\"),\"\",ROUND((N$4-(K539+J539))*I539/60,1))","v":""},{"$f":"IF(OR(AND(A539=\"\",B539=\"\",C539=\"\"),F539=0,F539=\"\"),\"\",ROUND((1+P539/100)*Q539*F539,2))","v":""},{"$f":"IF(OR(AND(A539=\"\",B539=\"\",C539=\"\"),F539=0,F539=\"\",I539=0,I539=\"\"),\"\",ROUND((1+P539/100)*(H539/(N$4*I539/5)+Q539*F539),2))","v":""},{"$f":"IF(OR(AND(A539=\"\",B539=\"\",C539=\"\"),E539=0,E539=\"\",R539=0,R539=\"\"),\"\",ROUND((Q539*E539/R539),2))","v":""},{"$f":"IF(OR(AND(A539=\"\",B539=\"\",C539=\"\"),E539=0,E539=\"\",R539=0,R539=\"\"),\"\",ROUND((H539/(12*Q539*E539)+1)*Q539*E539/R539,2))","v":""},{"$f":"IF(OR(AND(A539=\"\",B539=\"\",C539=\"\"),R539=0,R539=\"\"),\"\",ROUND(W$4 / R539,1))","v":""},{"$f":"IF(OR(AND(A539=\"\",B539=\"\",C539=\"\"),N$4=\"\"),\"\",IF(AND(F539>0,H539>0),T539, IF(F539>0,S539, IF(AND(E539>0,H539>0),V539,U539))))","v":""},{"$f":"IF(W539<X539,W539,X539)","v":""},{"$f":"IF(W539<X539,Übersetzungstexte!A$186,\"\")","v":""},{"$f":"IF(AND(B539=\"\",C539=\"\"),\"\",CONCATENATE(B539,\",\",C539))","v":""}]
[]
[{"$f":"'Stammdaten Betrieb & Abteilung'!D$1","v":"  "},null,null,null,null,null,{"$f":"Übersetzungstexte!A$135","v":"Betrieb / Betriebsabteilung"},{"$f":"'Stammdaten Betrieb & Abteilung'!D$13","v":" "}]
[{"$f":"'Stammdaten Betrieb & Abteilung'!D$3","v":" "},null,null,null,null,null,{"$f":"Übersetzungstexte!A$136","v":"Abrechnungsperiode"},{"$f":"'Stammdaten Betrieb & Abteilung'!D$14","v":""}]
[{"$f":"'Stammdaten Betrieb & Abteilung'!D$4","v":" "},null,null,null,null,null,{"$f":"Übersetzungstexte!A$137","v":"Beginn / Ende der Kurzarbeit"},{"$f":"'Stammdaten Betrieb & Abteilung'!D$16","v":""}]
[]
[{"$f":"Übersetzungstexte!A$138","v":""},{"$f":"Übersetzungstexte!A$142","v":""},{"$f":"Übersetzungstexte!A$146","v":""},{"$f":"Übersetzungstexte!A$150","v":""},{"$f":"Übersetzungstexte!A$154","v":""},{"$f":"Übersetzungstexte!A$158","v":""},{"$f":"Übersetzungstexte!A$162","v":"Anzahl bez."},{"$f":"Übersetzungstexte!A$166","v":"Weitere"},{"$f":"Übersetzungstexte!A$170","v":"Jahres-"},{"$f":"Übersetzungstexte!A$174","v":""},{"$f":"Übersetzungstexte!A$178","v":""},{"$f":"Übersetzungstexte!A$182","v":"Anrechen-"},null,null,"Anzahl","Regel 7",null,"Regel 9","Regel 10","Regel 11","Regel 12","Regel 13","Regel 14","Regel 10-14","Regel 14","Regel 14"]
[{"$f":"Übersetzungstexte!A$139","v":""},{"$f":"Übersetzungstexte!A$143","v":""},{"$f":"Übersetzungstexte!A$147","v":""},{"$f":"Übersetzungstexte!A$151","v":""},{"$f":"Übersetzungstexte!A$155","v":""},{"$f":"Übersetzungstexte!A$159","v":""},{"$f":"Übersetzungstexte!A$163","v":"Monate "},{"$f":"Übersetzungstexte!A$167","v":"Lohn-"},{"$f":"Übersetzungstexte!A$171","v":"durchschn."},{"$f":"Übersetzungstexte!A$175","v":"Anzahl"},{"$f":"Übersetzungstexte!A$179","v":"Anzahl"},{"$f":"Übersetzungstexte!A$183","v":"barer"},null,null,"bezugs-","  FF12","S13 / 12","  deApM","Std. Lohn","Std. Lohn","Monatslohn","Monatslohn","Vergleichs-","Anrechenb.","Anrechenb.","Warnungs-"]
[{"$f":"Übersetzungstexte!A$140","v":""},{"$f":"Übersetzungstexte!A$144","v":""},{"$f":"Übersetzungstexte!A$148","v":""},{"$f":"Übersetzungstexte!A$152","v":"Geburts-"},{"$f":"Übersetzungstexte!A$156","v":"Monats-"},{"$f":"Übersetzungstexte!A$160","v":"Stunden-"},{"$f":"Übersetzungstexte!A$164","v":"pro Jahr"},{"$f":"Übersetzungstexte!A$168","v":"bestand-"},{"$f":"Übersetzungstexte!A$172","v":"wöchentl."},{"$f":"Übersetzungstexte!A$176","v":"Ferientage"},{"$f":"Übersetzungstexte!A$180","v":"Feiertage"},{"$f":"Übersetzungstexte!A$184","v":"Stunden-"},null,"AHV-","berechtigte",null,null,null,"ohne","mit","ohne","mit","wert","Std.-Verd.","Std.-","anzeige"]
[{"$f":"Übersetzungstexte!A$141","v":"Versicherten-Nr."},{"$f":"Übersetzungstexte!A$145","v":"Name"},{"$f":"Übersetzungstexte!A$149","v":"Vorname"},{"$f":"Übersetzungstexte!A$153","v":"datum"},{"$f":"Übersetzungstexte!A$157","v":"lohn"},{"$f":"Übersetzungstexte!A$161","v":"lohn"},{"$f":"Übersetzungstexte!A$165","v":"(12/13)"},{"$f":"Übersetzungstexte!A$169","v":"teile p. Jahr"},{"$f":"Übersetzungstexte!A$173","v":"Arbeitszeit"},{"$f":"Übersetzungstexte!A$177","v":"pro Jahr"},{"$f":"Übersetzungstexte!A$181","v":"pro Jahr"},{"$f":"Übersetzungstexte!A$185","v":"Verdienst"},null,"pflichtig","Mitarbeiter",null,null,null,"Prämie","Prämie","Prämie","Prämie",null,"aSV","Verdienst",null,"Name,Vorname"]
[null,null,null,null,null,null,null,null,null,null,null,{"$f":"Y549","v":""},{"$f":"Z549","v":""},{"$f":"IF(N$2-YEAR(D549)<N$3,0,1)","v":0},{"$f":"IF(L549=\"\",0,1)","v":0},{"$f":"IF(AND(A549=\"\",B549=\"\",C549=\"\"),\"\",ROUND((K549+J549)/(N$4-(K549+J549))*100,2))","v":""},{"$f":"ROUND(G549,0)/12","v":0},{"$f":"IF(AND(A549=\"\",B549=\"\",C549=\"\"),\"\",ROUND((N$4-(K549+J549))*I549/60,1))","v":""},{"$f":"IF(OR(AND(A549=\"\",B549=\"\",C549=\"\"),F549=0,F549=\"\"),\"\",ROUND((1+P549/100)*Q549*F549,2))","v":""},{"$f":"IF(OR(AND(A549=\"\",B549=\"\",C549=\"\"),F549=0,F549=\"\",I549=0,I549=\"\"),\"\",ROUND((1+P549/100)*(H549/(N$4*I549/5)+Q549*F549),2))","v":""},{"$f":"IF(OR(AND(A549=\"\",B549=\"\",C549=\"\"),E549=0,E549=\"\",R549=0,R549=\"\"),\"\",ROUND((Q549*E549/R549),2))","v":""},{"$f":"IF(OR(AND(A549=\"\",B549=\"\",C549=\"\"),E549=0,E549=\"\",R549=0,R549=\"\"),\"\",ROUND((H549/(12*Q549*E549)+1)*Q549*E549/R549,2))","v":""},{"$f":"IF(OR(AND(A549=\"\",B549=\"\",C549=\"\"),R549=0,R549=\"\"),\"\",ROUND(W$4 / R549,1))","v":""},{"$f":"IF(OR(AND(A549=\"\",B549=\"\",C549=\"\"),N$4=\"\"),\"\",IF(AND(F549>0,H549>0),T549, IF(F549>0,S549, IF(AND(E549>0,H549>0),V549,U549))))","v":""},{"$f":"IF(W549<X549,W549,X549)","v":""},{"$f":"IF(W549<X549,Übersetzungstexte!A$186,\"\")","v":""},{"$f":"IF(AND(B549=\"\",C549=\"\"),\"\",CONCATENATE(B549,\",\",C549))","v":""}]
[null,null,null,null,null,null,null,null,null,null,null,"","",0,0,"",0,"","","","","","","","",{"$f":"IF(W550<X550,Übersetzungstexte!A$186,\"\")","v":""},""]
[null,null,null,null,null,null,null,null,null,null,null,"","",0,0,"",0,"","","","","","","","",{"$f":"IF(W551<X551,Übersetzungstexte!A$186,\"\")","v":""},""]
[null,null,null,null,null,null,null,null,null,null,null,"","",0,0,"",0,"","","","","","","","",{"$f":"IF(W552<X552,Übersetzungstexte!A$186,\"\")","v":""},""]
[null,null,null,null,null,null,null,null,null,null,null,"","",0,0,"",0,"","","","","","","","",{"$f":"IF(W553<X553,Übersetzungstexte!A$186,\"\")","v":""},""]
[null,null,null,null,null,null,null,null,null,null,null,"","",0,0,"",0,"","","","","","","","",{"$f":"IF(W554<X554,Übersetzungstexte!A$186,\"\")","v":""},""]
[null,null,null,null,null,null,null,null,null,null,null,"","",0,0,"",0,"","","","","","","","",{"$f":"IF(W555<X555,Übersetzungstexte!A$186,\"\")","v":""},""]
[null,null,null,null,null,null,null,null,null,null,null,"","",0,0,"",0,"","","","","","","","",{"$f":"IF(W556<X556,Übersetzungstexte!A$186,\"\")","v":""},""]
[null,null,null,null,null,null,null,null,null,null,null,"","",0,0,"",0,"","","","","","","","",{"$f":"IF(W557<X557,Übersetzungstexte!A$186,\"\")","v":""},""]
[null,null,null,null,null,null,null,null,null,null,null,"","",0,0,"",0,"","","","","","","","",{"$f":"IF(W558<X558,Übersetzungstexte!A$186,\"\")","v":""},""]
[null,null,null,null,null,null,null,null,null,null,null,"","",0,0,"",0,"","","","","","","","",{"$f":"IF(W559<X559,Übersetzungstexte!A$186,\"\")","v":""},""]
[null,null,null,null,null,null,null,null,null,null,null,"","",0,0,"",0,"","","","","","","","",{"$f":"IF(W560<X560,Übersetzungstexte!A$186,\"\")","v":""},""]
[null,null,null,null,null,null,null,null,null,null,null,"","",0,0,"",0,"","","","","","","","",{"$f":"IF(W561<X561,Übersetzungstexte!A$186,\"\")","v":""},""]
[null,null,null,null,null,null,null,null,null,null,null,"","",0,0,"",0,"","","","","","","","",{"$f":"IF(W562<X562,Übersetzungstexte!A$186,\"\")","v":""},""]
[null,null,null,null,null,null,null,null,null,null,null,"","",0,0,"",0,"","","","","","","","",{"$f":"IF(W563<X563,Übersetzungstexte!A$186,\"\")","v":""},""]
[null,null,null,null,null,null,null,null,null,null,null,"","",0,0,"",0,"","","","","","","","",{"$f":"IF(W564<X564,Übersetzungstexte!A$186,\"\")","v":""},""]
[null,null,null,null,null,null,null,null,null,null,null,"","",0,0,"",0,"","","","","","","","",{"$f":"IF(W565<X565,Übersetzungstexte!A$186,\"\")","v":""},""]
[null,null,null,null,null,null,null,null,null,null,null,"","",0,0,"",0,"","","","","","","","",{"$f":"IF(W566<X566,Übersetzungstexte!A$186,\"\")","v":""},""]
[null,null,null,null,null,null,null,null,null,null,null,"","",0,0,"",0,"","","","","","","","",{"$f":"IF(W567<X567,Übersetzungstexte!A$186,\"\")","v":""},""]
[null,null,null,null,null,null,null,null,null,null,null,"",{"$f":"Z568","v":""},{"$f":"IF(N$2-YEAR(D568)<N$3,0,1)","v":0},{"$f":"IF(L568=\"\",0,1)","v":0},{"$f":"IF(AND(A568=\"\",B568=\"\",C568=\"\"),\"\",ROUND((K568+J568)/(N$4-(K568+J568))*100,2))","v":""},{"$f":"ROUND(G568,0)/12","v":0},{"$f":"IF(AND(A568=\"\",B568=\"\",C568=\"\"),\"\",ROUND((N$4-(K568+J568))*I568/60,1))","v":""},{"$f":"IF(OR(AND(A568=\"\",B568=\"\",C568=\"\"),F568=0,F568=\"\"),\"\",ROUND((1+P568/100)*Q568*F568,2))","v":""},{"$f":"IF(OR(AND(A568=\"\",B568=\"\",C568=\"\"),F568=0,F568=\"\",I568=0,I568=\"\"),\"\",ROUND((1+P568/100)*(H568/(N$4*I568/5)+Q568*F568),2))","v":""},{"$f":"IF(OR(AND(A568=\"\",B568=\"\",C568=\"\"),E568=0,E568=\"\",R568=0,R568=\"\"),\"\",ROUND((Q568*E568/R568),2))","v":""},{"$f":"IF(OR(AND(A568=\"\",B568=\"\",C568=\"\"),E568=0,E568=\"\",R568=0,R568=\"\"),\"\",ROUND((H568/(12*Q568*E568)+1)*Q568*E568/R568,2))","v":""},{"$f":"IF(OR(AND(A568=\"\",B568=\"\",C568=\"\"),R568=0,R568=\"\"),\"\",ROUND(W$4 / R568,1))","v":""},{"$f":"IF(OR(AND(A568=\"\",B568=\"\",C568=\"\"),N$4=\"\"),\"\",IF(AND(F568>0,H568>0),T568, IF(F568>0,S568, IF(AND(E568>0,H568>0),V568,U568))))","v":""},{"$f":"IF(W568<X568,W568,X568)","v":""},{"$f":"IF(W568<X568,Übersetzungstexte!A$186,\"\")","v":""},{"$f":"IF(AND(B568=\"\",C568=\"\"),\"\",CONCATENATE(B568,\",\",C568))","v":""}]
[null,null,null,null,null,null,null,null,null,null,null,"",{"$f":"Z569","v":""},{"$f":"IF(N$2-YEAR(D569)<N$3,0,1)","v":0},{"$f":"IF(L569=\"\",0,1)","v":0},{"$f":"IF(AND(A569=\"\",B569=\"\",C569=\"\"),\"\",ROUND((K569+J569)/(N$4-(K569+J569))*100,2))","v":""},{"$f":"ROUND(G569,0)/12","v":0},{"$f":"IF(AND(A569=\"\",B569=\"\",C569=\"\"),\"\",ROUND((N$4-(K569+J569))*I569/60,1))","v":""},{"$f":"IF(OR(AND(A569=\"\",B569=\"\",C569=\"\"),F569=0,F569=\"\"),\"\",ROUND((1+P569/100)*Q569*F569,2))","v":""},{"$f":"IF(OR(AND(A569=\"\",B569=\"\",C569=\"\"),F569=0,F569=\"\",I569=0,I569=\"\"),\"\",ROUND((1+P569/100)*(H569/(N$4*I569/5)+Q569*F569),2))","v":""},{"$f":"IF(OR(AND(A569=\"\",B569=\"\",C569=\"\"),E569=0,E569=\"\",R569=0,R569=\"\"),\"\",ROUND((Q569*E569/R569),2))","v":""},{"$f":"IF(OR(AND(A569=\"\",B569=\"\",C569=\"\"),E569=0,E569=\"\",R569=0,R569=\"\"),\"\",ROUND((H569/(12*Q569*E569)+1)*Q569*E569/R569,2))","v":""},{"$f":"IF(OR(AND(A569=\"\",B569=\"\",C569=\"\"),R569=0,R569=\"\"),\"\",ROUND(W$4 / R569,1))","v":""},{"$f":"IF(OR(AND(A569=\"\",B569=\"\",C569=\"\"),N$4=\"\"),\"\",IF(AND(F569>0,H569>0),T569, IF(F569>0,S569, IF(AND(E569>0,H569>0),V569,U569))))","v":""},{"$f":"IF(W569<X569,W569,X569)","v":""},{"$f":"IF(W569<X569,Übersetzungstexte!A$186,\"\")","v":""},{"$f":"IF(AND(B569=\"\",C569=\"\"),\"\",CONCATENATE(B569,\",\",C569))","v":""}]
[]
[{"$f":"'Stammdaten Betrieb & Abteilung'!D$1","v":"  "},null,null,null,null,null,{"$f":"Übersetzungstexte!A$135","v":"Betrieb / Betriebsabteilung"},{"$f":"'Stammdaten Betrieb & Abteilung'!D$13","v":" "}]
[{"$f":"'Stammdaten Betrieb & Abteilung'!D$3","v":" "},null,null,null,null,null,{"$f":"Übersetzungstexte!A$136","v":"Abrechnungsperiode"},{"$f":"'Stammdaten Betrieb & Abteilung'!D$14","v":""}]
[{"$f":"'Stammdaten Betrieb & Abteilung'!D$4","v":" "},null,null,null,null,null,{"$f":"Übersetzungstexte!A$137","v":"Beginn / Ende der Kurzarbeit"},{"$f":"'Stammdaten Betrieb & Abteilung'!D$16","v":""}]
[]
[{"$f":"Übersetzungstexte!A$138","v":""},{"$f":"Übersetzungstexte!A$142","v":""},{"$f":"Übersetzungstexte!A$146","v":""},{"$f":"Übersetzungstexte!A$150","v":""},{"$f":"Übersetzungstexte!A$154","v":""},{"$f":"Übersetzungstexte!A$158","v":""},{"$f":"Übersetzungstexte!A$162","v":"Anzahl bez."},{"$f":"Übersetzungstexte!A$166","v":"Weitere"},{"$f":"Übersetzungstexte!A$170","v":"Jahres-"},{"$f":"Übersetzungstexte!A$174","v":""},{"$f":"Übersetzungstexte!A$178","v":""},{"$f":"Übersetzungstexte!A$182","v":"Anrechen-"},null,null,"Anzahl","Regel 7",null,"Regel 9","Regel 10","Regel 11","Regel 12","Regel 13","Regel 14","Regel 10-14","Regel 14","Regel 14"]
[{"$f":"Übersetzungstexte!A$139","v":""},{"$f":"Übersetzungstexte!A$143","v":""},{"$f":"Übersetzungstexte!A$147","v":""},{"$f":"Übersetzungstexte!A$151","v":""},{"$f":"Übersetzungstexte!A$155","v":""},{"$f":"Übersetzungstexte!A$159","v":""},{"$f":"Übersetzungstexte!A$163","v":"Monate "},{"$f":"Übersetzungstexte!A$167","v":"Lohn-"},{"$f":"Übersetzungstexte!A$171","v":"durchschn."},{"$f":"Übersetzungstexte!A$175","v":"Anzahl"},{"$f":"Übersetzungstexte!A$179","v":"Anzahl"},{"$f":"Übersetzungstexte!A$183","v":"barer"},null,null,"bezugs-","  FF12","S13 / 12","  deApM","Std. Lohn","Std. Lohn","Monatslohn","Monatslohn","Vergleichs-","Anrechenb.","Anrechenb.","Warnungs-"]
[{"$f":"Übersetzungstexte!A$140","v":""},{"$f":"Übersetzungstexte!A$144","v":""},{"$f":"Übersetzungstexte!A$148","v":""},{"$f":"Übersetzungstexte!A$152","v":"Geburts-"},{"$f":"Übersetzungstexte!A$156","v":"Monats-"},{"$f":"Übersetzungstexte!A$160","v":"Stunden-"},{"$f":"Übersetzungstexte!A$164","v":"pro Jahr"},{"$f":"Übersetzungstexte!A$168","v":"bestand-"},{"$f":"Übersetzungstexte!A$172","v":"wöchentl."},{"$f":"Übersetzungstexte!A$176","v":"Ferientage"},{"$f":"Übersetzungstexte!A$180","v":"Feiertage"},{"$f":"Übersetzungstexte!A$184","v":"Stunden-"},null,"AHV-","berechtigte",null,null,null,"ohne","mit","ohne","mit","wert","Std.-Verd.","Std.-","anzeige"]
[{"$f":"Übersetzungstexte!A$141","v":"Versicherten-Nr."},{"$f":"Übersetzungstexte!A$145","v":"Name"},{"$f":"Übersetzungstexte!A$149","v":"Vorname"},{"$f":"Übersetzungstexte!A$153","v":"datum"},{"$f":"Übersetzungstexte!A$157","v":"lohn"},{"$f":"Übersetzungstexte!A$161","v":"lohn"},{"$f":"Übersetzungstexte!A$165","v":"(12/13)"},{"$f":"Übersetzungstexte!A$169","v":"teile p. Jahr"},{"$f":"Übersetzungstexte!A$173","v":"Arbeitszeit"},{"$f":"Übersetzungstexte!A$177","v":"pro Jahr"},{"$f":"Übersetzungstexte!A$181","v":"pro Jahr"},{"$f":"Übersetzungstexte!A$185","v":"Verdienst"},null,"pflichtig","Mitarbeiter",null,null,null,"Prämie","Prämie","Prämie","Prämie",null,"aSV","Verdienst",null,"Name,Vorname"]
[null,null,null,null,null,null,null,null,null,null,null,{"$f":"Y579","v":""},{"$f":"Z579","v":""},{"$f":"IF(N$2-YEAR(D579)<N$3,0,1)","v":0},{"$f":"IF(L579=\"\",0,1)","v":0},{"$f":"IF(AND(A579=\"\",B579=\"\",C579=\"\"),\"\",ROUND((K579+J579)/(N$4-(K579+J579))*100,2))","v":""},{"$f":"ROUND(G579,0)/12","v":0},{"$f":"IF(AND(A579=\"\",B579=\"\",C579=\"\"),\"\",ROUND((N$4-(K579+J579))*I579/60,1))","v":""},{"$f":"IF(OR(AND(A579=\"\",B579=\"\",C579=\"\"),F579=0,F579=\"\"),\"\",ROUND((1+P579/100)*Q579*F579,2))","v":""},{"$f":"IF(OR(AND(A579=\"\",B579=\"\",C579=\"\"),F579=0,F579=\"\",I579=0,I579=\"\"),\"\",ROUND((1+P579/100)*(H579/(N$4*I579/5)+Q579*F579),2))","v":""},{"$f":"IF(OR(AND(A579=\"\",B579=\"\",C579=\"\"),E579=0,E579=\"\",R579=0,R579=\"\"),\"\",ROUND((Q579*E579/R579),2))","v":""},{"$f":"IF(OR(AND(A579=\"\",B579=\"\",C579=\"\"),E579=0,E579=\"\",R579=0,R579=\"\"),\"\",ROUND((H579/(12*Q579*E579)+1)*Q579*E579/R579,2))","v":""},{"$f":"IF(OR(AND(A579=\"\",B579=\"\",C579=\"\"),R579=0,R579=\"\"),\"\",ROUND(W$4 / R579,1))","v":""},{"$f":"IF(OR(AND(A579=\"\",B579=\"\",C579=\"\"),N$4=\"\"),\"\",IF(AND(F579>0,H579>0),T579, IF(F579>0,S579, IF(AND(E579>0,H579>0),V579,U579))))","v":""},{"$f":"IF(W579<X579,W579,X579)","v":""},{"$f":"IF(W579<X579,Übersetzungstexte!A$186,\"\")","v":""},{"$f":"IF(AND(B579=\"\",C579=\"\"),\"\",CONCATENATE(B579,\",\",C579))","v":""}]
[null,null,null,null,null,null,null,null,null,null,null,"","",0,0,"",0,"","","","","","","","",{"$f":"IF(W580<X580,Übersetzungstexte!A$186,\"\")","v":""},""]
[null,null,null,null,null,null,null,null,null,null,null,"","",0,0,"",0,"","","","","","","","",{"$f":"IF(W581<X581,Übersetzungstexte!A$186,\"\")","v":""},""]
[null,null,null,null,null,null,null,null,null,null,null,"","",0,0,"",0,"","","","","","","","",{"$f":"IF(W582<X582,Übersetzungstexte!A$186,\"\")","v":""},""]
[null,null,null,null,null,null,null,null,null,null,null,"","",0,0,"",0,"","","","","","","","",{"$f":"IF(W583<X583,Übersetzungstexte!A$186,\"\")","v":""},""]
[null,null,null,null,null,null,null,null,null,null,null,"","",0,0,"",0,"","","","","","","","",{"$f":"IF(W584<X584,Übersetzungstexte!A$186,\"\")","v":""},""]
[null,null,null,null,null,null,null,null,null,null,null,"","",0,0,"",0,"","","","","","","","",{"$f":"IF(W585<X585,Übersetzungstexte!A$186,\"\")","v":""},""]
[null,null,null,null,null,null,null,null,null,null,null,"","",0,0,"",0,"","","","","","","","",{"$f":"IF(W586<X586,Übersetzungstexte!A$186,\"\")","v":""},""]
[null,null,null,null,null,null,null,null,null,null,null,"","",0,0,"",0,"","","","","","","","",{"$f":"IF(W587<X587,Übersetzungstexte!A$186,\"\")","v":""},""]
[null,null,null,null,null,null,null,null,null,null,null,"","",0,0,"",0,"","","","","","","","",{"$f":"IF(W588<X588,Übersetzungstexte!A$186,\"\")","v":""},""]
[null,null,null,null,null,null,null,null,null,null,null,"","",0,0,"",0,"","","","","","","","",{"$f":"IF(W589<X589,Übersetzungstexte!A$186,\"\")","v":""},""]
[null,null,null,null,null,null,null,null,null,null,null,"","",0,0,"",0,"","","","","","","","",{"$f":"IF(W590<X590,Übersetzungstexte!A$186,\"\")","v":""},""]
[null,null,null,null,null,null,null,null,null,null,null,"","",0,0,"",0,"","","","","","","","",{"$f":"IF(W591<X591,Übersetzungstexte!A$186,\"\")","v":""},""]
[null,null,null,null,null,null,null,null,null,null,null,"","",0,0,"",0,"","","","","","","","",{"$f":"IF(W592<X592,Übersetzungstexte!A$186,\"\")","v":""},""]
[null,null,null,null,null,null,null,null,null,null,null,"","",0,0,"",0,"","","","","","","","",{"$f":"IF(W593<X593,Übersetzungstexte!A$186,\"\")","v":""},""]
[null,null,null,null,null,null,null,null,null,null,null,"","",0,0,"",0,"","","","","","","","",{"$f":"IF(W594<X594,Übersetzungstexte!A$186,\"\")","v":""},""]
[null,null,null,null,null,null,null,null,null,null,null,"","",0,0,"",0,"","","","","","","","",{"$f":"IF(W595<X595,Übersetzungstexte!A$186,\"\")","v":""},""]
[null,null,null,null,null,null,null,null,null,null,null,"","",0,0,"",0,"","","","","","","","",{"$f":"IF(W596<X596,Übersetzungstexte!A$186,\"\")","v":""},""]
[null,null,null,null,null,null,null,null,null,null,null,"","",0,0,"",0,"","","","","","","","",{"$f":"IF(W597<X597,Übersetzungstexte!A$186,\"\")","v":""},""]
[null,null,null,null,null,null,null,null,null,null,null,"",{"$f":"Z598","v":""},{"$f":"IF(N$2-YEAR(D598)<N$3,0,1)","v":0},{"$f":"IF(L598=\"\",0,1)","v":0},{"$f":"IF(AND(A598=\"\",B598=\"\",C598=\"\"),\"\",ROUND((K598+J598)/(N$4-(K598+J598))*100,2))","v":""},{"$f":"ROUND(G598,0)/12","v":0},{"$f":"IF(AND(A598=\"\",B598=\"\",C598=\"\"),\"\",ROUND((N$4-(K598+J598))*I598/60,1))","v":""},{"$f":"IF(OR(AND(A598=\"\",B598=\"\",C598=\"\"),F598=0,F598=\"\"),\"\",ROUND((1+P598/100)*Q598*F598,2))","v":""},{"$f":"IF(OR(AND(A598=\"\",B598=\"\",C598=\"\"),F598=0,F598=\"\",I598=0,I598=\"\"),\"\",ROUND((1+P598/100)*(H598/(N$4*I598/5)+Q598*F598),2))","v":""},{"$f":"IF(OR(AND(A598=\"\",B598=\"\",C598=\"\"),E598=0,E598=\"\",R598=0,R598=\"\"),\"\",ROUND((Q598*E598/R598),2))","v":""},{"$f":"IF(OR(AND(A598=\"\",B598=\"\",C598=\"\"),E598=0,E598=\"\",R598=0,R598=\"\"),\"\",ROUND((H598/(12*Q598*E598)+1)*Q598*E598/R598,2))","v":""},{"$f":"IF(OR(AND(A598=\"\",B598=\"\",C598=\"\"),R598=0,R598=\"\"),\"\",ROUND(W$4 / R598,1))","v":""},{"$f":"IF(OR(AND(A598=\"\",B598=\"\",C598=\"\"),N$4=\"\"),\"\",IF(AND(F598>0,H598>0),T598, IF(F598>0,S598, IF(AND(E598>0,H598>0),V598,U598))))","v":""},{"$f":"IF(W598<X598,W598,X598)","v":""},{"$f":"IF(W598<X598,Übersetzungstexte!A$186,\"\")","v":""},{"$f":"IF(AND(B598=\"\",C598=\"\"),\"\",CONCATENATE(B598,\",\",C598))","v":""}]
[null,null,null,null,null,null,null,null,null,null,null,"",{"$f":"Z599","v":""},{"$f":"IF(N$2-YEAR(D599)<N$3,0,1)","v":0},{"$f":"IF(L599=\"\",0,1)","v":0},{"$f":"IF(AND(A599=\"\",B599=\"\",C599=\"\"),\"\",ROUND((K599+J599)/(N$4-(K599+J599))*100,2))","v":""},{"$f":"ROUND(G599,0)/12","v":0},{"$f":"IF(AND(A599=\"\",B599=\"\",C599=\"\"),\"\",ROUND((N$4-(K599+J599))*I599/60,1))","v":""},{"$f":"IF(OR(AND(A599=\"\",B599=\"\",C599=\"\"),F599=0,F599=\"\"),\"\",ROUND((1+P599/100)*Q599*F599,2))","v":""},{"$f":"IF(OR(AND(A599=\"\",B599=\"\",C599=\"\"),F599=0,F599=\"\",I599=0,I599=\"\"),\"\",ROUND((1+P599/100)*(H599/(N$4*I599/5)+Q599*F599),2))","v":""},{"$f":"IF(OR(AND(A599=\"\",B599=\"\",C599=\"\"),E599=0,E599=\"\",R599=0,R599=\"\"),\"\",ROUND((Q599*E599/R599),2))","v":""},{"$f":"IF(OR(AND(A599=\"\",B599=\"\",C599=\"\"),E599=0,E599=\"\",R599=0,R599=\"\"),\"\",ROUND((H599/(12*Q599*E599)+1)*Q599*E599/R599,2))","v":""},{"$f":"IF(OR(AND(A599=\"\",B599=\"\",C599=\"\"),R599=0,R599=\"\"),\"\",ROUND(W$4 / R599,1))","v":""},{"$f":"IF(OR(AND(A599=\"\",B599=\"\",C599=\"\"),N$4=\"\"),\"\",IF(AND(F599>0,H599>0),T599, IF(F599>0,S599, IF(AND(E599>0,H599>0),V599,U599))))","v":""},{"$f":"IF(W599<X599,W599,X599)","v":""},{"$f":"IF(W599<X599,Übersetzungstexte!A$186,\"\")","v":""},{"$f":"IF(AND(B599=\"\",C599=\"\"),\"\",CONCATENATE(B599,\",\",C599))","v":""}]
[]
[{"$f":"'Stammdaten Betrieb & Abteilung'!D$1","v":"  "},null,null,null,null,null,{"$f":"Übersetzungstexte!A$135","v":"Betrieb / Betriebsabteilung"},{"$f":"'Stammdaten Betrieb & Abteilung'!D$13","v":" "}]
[{"$f":"'Stammdaten Betrieb & Abteilung'!D$3","v":" "},null,null,null,null,null,{"$f":"Übersetzungstexte!A$136","v":"Abrechnungsperiode"},{"$f":"'Stammdaten Betrieb & Abteilung'!D$14","v":""}]
[{"$f":"'Stammdaten Betrieb & Abteilung'!D$4","v":" "},null,null,null,null,null,{"$f":"Übersetzungstexte!A$137","v":"Beginn / Ende der Kurzarbeit"},{"$f":"'Stammdaten Betrieb & Abteilung'!D$16","v":""}]
[]
[{"$f":"Übersetzungstexte!A$138","v":""},{"$f":"Übersetzungstexte!A$142","v":""},{"$f":"Übersetzungstexte!A$146","v":""},{"$f":"Übersetzungstexte!A$150","v":""},{"$f":"Übersetzungstexte!A$154","v":""},{"$f":"Übersetzungstexte!A$158","v":""},{"$f":"Übersetzungstexte!A$162","v":"Anzahl bez."},{"$f":"Übersetzungstexte!A$166","v":"Weitere"},{"$f":"Übersetzungstexte!A$170","v":"Jahres-"},{"$f":"Übersetzungstexte!A$174","v":""},{"$f":"Übersetzungstexte!A$178","v":""},{"$f":"Übersetzungstexte!A$182","v":"Anrechen-"},null,null,"Anzahl","Regel 7",null,"Regel 9","Regel 10","Regel 11","Regel 12","Regel 13","Regel 14","Regel 10-14","Regel 14","Regel 14"]
[{"$f":"Übersetzungstexte!A$139","v":""},{"$f":"Übersetzungstexte!A$143","v":""},{"$f":"Übersetzungstexte!A$147","v":""},{"$f":"Übersetzungstexte!A$151","v":""},{"$f":"Übersetzungstexte!A$155","v":""},{"$f":"Übersetzungstexte!A$159","v":""},{"$f":"Übersetzungstexte!A$163","v":"Monate "},{"$f":"Übersetzungstexte!A$167","v":"Lohn-"},{"$f":"Übersetzungstexte!A$171","v":"durchschn."},{"$f":"Übersetzungstexte!A$175","v":"Anzahl"},{"$f":"Übersetzungstexte!A$179","v":"Anzahl"},{"$f":"Übersetzungstexte!A$183","v":"barer"},null,null,"bezugs-","  FF12","S13 / 12","  deApM","Std. Lohn","Std. Lohn","Monatslohn","Monatslohn","Vergleichs-","Anrechenb.","Anrechenb.","Warnungs-"]
[{"$f":"Übersetzungstexte!A$140","v":""},{"$f":"Übersetzungstexte!A$144","v":""},{"$f":"Übersetzungstexte!A$148","v":""},{"$f":"Übersetzungstexte!A$152","v":"Geburts-"},{"$f":"Übersetzungstexte!A$156","v":"Monats-"},{"$f":"Übersetzungstexte!A$160","v":"Stunden-"},{"$f":"Übersetzungstexte!A$164","v":"pro Jahr"},{"$f":"Übersetzungstexte!A$168","v":"bestand-"},{"$f":"Übersetzungstexte!A$172","v":"wöchentl."},{"$f":"Übersetzungstexte!A$176","v":"Ferientage"},{"$f":"Übersetzungstexte!A$180","v":"Feiertage"},{"$f":"Übersetzungstexte!A$184","v":"Stunden-"},null,"AHV-","berechtigte",null,null,null,"ohne","mit","ohne","mit","wert","Std.-Verd.","Std.-","anzeige"]
[{"$f":"Übersetzungstexte!A$141","v":"Versicherten-Nr."},{"$f":"Übersetzungstexte!A$145","v":"Name"},{"$f":"Übersetzungstexte!A$149","v":"Vorname"},{"$f":"Übersetzungstexte!A$153","v":"datum"},{"$f":"Übersetzungstexte!A$157","v":"lohn"},{"$f":"Übersetzungstexte!A$161","v":"lohn"},{"$f":"Übersetzungstexte!A$165","v":"(12/13)"},{"$f":"Übersetzungstexte!A$169","v":"teile p. Jahr"},{"$f":"Übersetzungstexte!A$173","v":"Arbeitszeit"},{"$f":"Übersetzungstexte!A$177","v":"pro Jahr"},{"$f":"Übersetzungstexte!A$181","v":"pro Jahr"},{"$f":"Übersetzungstexte!A$185","v":"Verdienst"},null,"pflichtig","Mitarbeiter",null,null,null,"Prämie","Prämie","Prämie","Prämie",null,"aSV","Verdienst",null,"Name,Vorname"]
[null,null,null,null,null,null,null,null,null,null,null,{"$f":"Y609","v":""},{"$f":"Z609","v":""},{"$f":"IF(N$2-YEAR(D609)<N$3,0,1)","v":0},{"$f":"IF(L609=\"\",0,1)","v":0},{"$f":"IF(AND(A609=\"\",B609=\"\",C609=\"\"),\"\",ROUND((K609+J609)/(N$4-(K609+J609))*100,2))","v":""},{"$f":"ROUND(G609,0)/12","v":0},{"$f":"IF(AND(A609=\"\",B609=\"\",C609=\"\"),\"\",ROUND((N$4-(K609+J609))*I609/60,1))","v":""},{"$f":"IF(OR(AND(A609=\"\",B609=\"\",C609=\"\"),F609=0,F609=\"\"),\"\",ROUND((1+P609/100)*Q609*F609,2))","v":""},{"$f":"IF(OR(AND(A609=\"\",B609=\"\",C609=\"\"),F609=0,F609=\"\",I609=0,I609=\"\"),\"\",ROUND((1+P609/100)*(H609/(N$4*I609/5)+Q609*F609),2))","v":""},{"$f":"IF(OR(AND(A609=\"\",B609=\"\",C609=\"\"),E609=0,E609=\"\",R609=0,R609=\"\"),\"\",ROUND((Q609*E609/R609),2))","v":""},{"$f":"IF(OR(AND(A609=\"\",B609=\"\",C609=\"\"),E609=0,E609=\"\",R609=0,R609=\"\"),\"\",ROUND((H609/(12*Q609*E609)+1)*Q609*E609/R609,2))","v":""},{"$f":"IF(OR(AND(A609=\"\",B609=\"\",C609=\"\"),R609=0,R609=\"\"),\"\",ROUND(W$4 / R609,1))","v":""},{"$f":"IF(OR(AND(A609=\"\",B609=\"\",C609=\"\"),N$4=\"\"),\"\",IF(AND(F609>0,H609>0),T609, IF(F609>0,S609, IF(AND(E609>0,H609>0),V609,U609))))","v":""},{"$f":"IF(W609<X609,W609,X609)","v":""},{"$f":"IF(W609<X609,Übersetzungstexte!A$186,\"\")","v":""},{"$f":"IF(AND(B609=\"\",C609=\"\"),\"\",CONCATENATE(B609,\",\",C609))","v":""}]
[null,null,null,null,null,null,null,null,null,null,null,"","",0,0,"",0,"","","","","","","","",{"$f":"IF(W610<X610,Übersetzungstexte!A$186,\"\")","v":""},""]
[null,null,null,null,null,null,null,null,null,null,null,"","",0,0,"",0,"","","","","","","","",{"$f":"IF(W611<X611,Übersetzungstexte!A$186,\"\")","v":""},""]
[null,null,null,null,null,null,null,null,null,null,null,"","",0,0,"",0,"","","","","","","","",{"$f":"IF(W612<X612,Übersetzungstexte!A$186,\"\")","v":""},""]
[null,null,null,null,null,null,null,null,null,null,null,"","",0,0,"",0,"","","","","","","","",{"$f":"IF(W613<X613,Übersetzungstexte!A$186,\"\")","v":""},""]
[null,null,null,null,null,null,null,null,null,null,null,"","",0,0,"",0,"","","","","","","","",{"$f":"IF(W614<X614,Übersetzungstexte!A$186,\"\")","v":""},""]
[null,null,null,null,null,null,null,null,null,null,null,"","",0,0,"",0,"","","","","","","","",{"$f":"IF(W615<X615,Übersetzungstexte!A$186,\"\")","v":""},""]
[null,null,null,null,null,null,null,null,null,null,null,"","",0,0,"",0,"","","","","","","","",{"$f":"IF(W616<X616,Übersetzungstexte!A$186,\"\")","v":""},""]
[null,null,null,null,null,null,null,null,null,null,null,"","",0,0,"",0,"","","","","","","","",{"$f":"IF(W617<X617,Übersetzungstexte!A$186,\"\")","v":""},""]
[null,null,null,null,null,null,null,null,null,null,null,"","",0,0,"",0,"","","","","","","","",{"$f":"IF(W618<X618,Übersetzungstexte!A$186,\"\")","v":""},""]
[null,null,null,null,null,null,null,null,null,null,null,"","",0,0,"",0,"","","","","","","","",{"$f":"IF(W619<X619,Übersetzungstexte!A$186,\"\")","v":""},""]
[null,null,null,null,null,null,null,null,null,null,null,"","",0,0,"",0,"","","","","","","","",{"$f":"IF(W620<X620,Übersetzungstexte!A$186,\"\")","v":""},""]
[null,null,null,null,null,null,null,null,null,null,null,"","",0,0,"",0,"","","","","","","","",{"$f":"IF(W621<X621,Übersetzungstexte!A$186,\"\")","v":""},""]
[null,null,null,null,null,null,null,null,null,null,null,"","",0,0,"",0,"","","","","","","","",{"$f":"IF(W622<X622,Übersetzungstexte!A$186,\"\")","v":""},""]
[null,null,null,null,null,null,null,null,null,null,null,"","",0,0,"",0,"","","","","","","","",{"$f":"IF(W623<X623,Übersetzungstexte!A$186,\"\")","v":""},""]
[null,null,null,null,null,null,null,null,null,null,null,"","",0,0,"",0,"","","","","","","","",{"$f":"IF(W624<X624,Übersetzungstexte!A$186,\"\")","v":""},""]
[null,null,null,null,null,null,null,null,null,null,null,"","",0,0,"",0,"","","","","","","","",{"$f":"IF(W625<X625,Übersetzungstexte!A$186,\"\")","v":""},""]
[null,null,null,null,null,null,null,null,null,null,null,"","",0,0,"",0,"","","","","","","","",{"$f":"IF(W626<X626,Übersetzungstexte!A$186,\"\")","v":""},""]
[null,null,null,null,null,null,null,null,null,null,null,"","",0,0,"",0,"","","","","","","","",{"$f":"IF(W627<X627,Übersetzungstexte!A$186,\"\")","v":""},""]
[null,null,null,null,null,null,null,null,null,null,null,"",{"$f":"Z628","v":""},{"$f":"IF(N$2-YEAR(D628)<N$3,0,1)","v":0},{"$f":"IF(L628=\"\",0,1)","v":0},{"$f":"IF(AND(A628=\"\",B628=\"\",C628=\"\"),\"\",ROUND((K628+J628)/(N$4-(K628+J628))*100,2))","v":""},{"$f":"ROUND(G628,0)/12","v":0},{"$f":"IF(AND(A628=\"\",B628=\"\",C628=\"\"),\"\",ROUND((N$4-(K628+J628))*I628/60,1))","v":""},{"$f":"IF(OR(AND(A628=\"\",B628=\"\",C628=\"\"),F628=0,F628=\"\"),\"\",ROUND((1+P628/100)*Q628*F628,2))","v":""},{"$f":"IF(OR(AND(A628=\"\",B628=\"\",C628=\"\"),F628=0,F628=\"\",I628=0,I628=\"\"),\"\",ROUND((1+P628/100)*(H628/(N$4*I628/5)+Q628*F628),2))","v":""},{"$f":"IF(OR(AND(A628=\"\",B628=\"\",C628=\"\"),E628=0,E628=\"\",R628=0,R628=\"\"),\"\",ROUND((Q628*E628/R628),2))","v":""},{"$f":"IF(OR(AND(A628=\"\",B628=\"\",C628=\"\"),E628=0,E628=\"\",R628=0,R628=\"\"),\"\",ROUND((H628/(12*Q628*E628)+1)*Q628*E628/R628,2))","v":""},{"$f":"IF(OR(AND(A628=\"\",B628=\"\",C628=\"\"),R628=0,R628=\"\"),\"\",ROUND(W$4 / R628,1))","v":""},{"$f":"IF(OR(AND(A628=\"\",B628=\"\",C628=\"\"),N$4=\"\"),\"\",IF(AND(F628>0,H628>0),T628, IF(F628>0,S628, IF(AND(E628>0,H628>0),V628,U628))))","v":""},{"$f":"IF(W628<X628,W628,X628)","v":""},{"$f":"IF(W628<X628,Übersetzungstexte!A$186,\"\")","v":""},{"$f":"IF(AND(B628=\"\",C628=\"\"),\"\",CONCATENATE(B628,\",\",C628))","v":""}]
[null,null,null,null,null,null,null,null,null,null,null,"",{"$f":"Z629","v":""},{"$f":"IF(N$2-YEAR(D629)<N$3,0,1)","v":0},{"$f":"IF(L629=\"\",0,1)","v":0},{"$f":"IF(AND(A629=\"\",B629=\"\",C629=\"\"),\"\",ROUND((K629+J629)/(N$4-(K629+J629))*100,2))","v":""},{"$f":"ROUND(G629,0)/12","v":0},{"$f":"IF(AND(A629=\"\",B629=\"\",C629=\"\"),\"\",ROUND((N$4-(K629+J629))*I629/60,1))","v":""},{"$f":"IF(OR(AND(A629=\"\",B629=\"\",C629=\"\"),F629=0,F629=\"\"),\"\",ROUND((1+P629/100)*Q629*F629,2))","v":""},{"$f":"IF(OR(AND(A629=\"\",B629=\"\",C629=\"\"),F629=0,F629=\"\",I629=0,I629=\"\"),\"\",ROUND((1+P629/100)*(H629/(N$4*I629/5)+Q629*F629),2))","v":""},{"$f":"IF(OR(AND(A629=\"\",B629=\"\",C629=\"\"),E629=0,E629=\"\",R629=0,R629=\"\"),\"\",ROUND((Q629*E629/R629),2))","v":""},{"$f":"IF(OR(AND(A629=\"\",B629=\"\",C629=\"\"),E629=0,E629=\"\",R629=0,R629=\"\"),\"\",ROUND((H629/(12*Q629*E629)+1)*Q629*E629/R629,2))","v":""},{"$f":"IF(OR(AND(A629=\"\",B629=\"\",C629=\"\"),R629=0,R629=\"\"),\"\",ROUND(W$4 / R629,1))","v":""},{"$f":"IF(OR(AND(A629=\"\",B629=\"\",C629=\"\"),N$4=\"\"),\"\",IF(AND(F629>0,H629>0),T629, IF(F629>0,S629, IF(AND(E629>0,H629>0),V629,U629))))","v":""},{"$f":"IF(W629<X629,W629,X629)","v":""},{"$f":"IF(W629<X629,Übersetzungstexte!A$186,\"\")","v":""},{"$f":"IF(AND(B629=\"\",C629=\"\"),\"\",CONCATENATE(B629,\",\",C629))","v":""}]
[]
[{"$f":"'Stammdaten Betrieb & Abteilung'!D$1","v":"  "},null,null,null,null,null,{"$f":"Übersetzungstexte!A$135","v":"Betrieb / Betriebsabteilung"},{"$f":"'Stammdaten Betrieb & Abteilung'!D$13","v":" "}]
[{"$f":"'Stammdaten Betrieb & Abteilung'!D$3","v":" "},null,null,null,null,null,{"$f":"Übersetzungstexte!A$136","v":"Abrechnungsperiode"},{"$f":"'Stammdaten Betrieb & Abteilung'!D$14","v":""}]
[{"$f":"'Stammdaten Betrieb & Abteilung'!D$4","v":" "},null,null,null,null,null,{"$f":"Übersetzungstexte!A$137","v":"Beginn / Ende der Kurzarbeit"},{"$f":"'Stammdaten Betrieb & Abteilung'!D$16","v":""}]
[]
[{"$f":"Übersetzungstexte!A$138","v":""},{"$f":"Übersetzungstexte!A$142","v":""},{"$f":"Übersetzungstexte!A$146","v":""},{"$f":"Übersetzungstexte!A$150","v":""},{"$f":"Übersetzungstexte!A$154","v":""},{"$f":"Übersetzungstexte!A$158","v":""},{"$f":"Übersetzungstexte!A$162","v":"Anzahl bez."},{"$f":"Übersetzungstexte!A$166","v":"Weitere"},{"$f":"Übersetzungstexte!A$170","v":"Jahres-"},{"$f":"Übersetzungstexte!A$174","v":""},{"$f":"Übersetzungstexte!A$178","v":""},{"$f":"Übersetzungstexte!A$182","v":"Anrechen-"},null,null,"Anzahl","Regel 7",null,"Regel 9","Regel 10","Regel 11","Regel 12","Regel 13","Regel 14","Regel 10-14","Regel 14","Regel 14"]
[{"$f":"Übersetzungstexte!A$139","v":""},{"$f":"Übersetzungstexte!A$143","v":""},{"$f":"Übersetzungstexte!A$147","v":""},{"$f":"Übersetzungstexte!A$151","v":""},{"$f":"Übersetzungstexte!A$155","v":""},{"$f":"Übersetzungstexte!A$159","v":""},{"$f":"Übersetzungstexte!A$163","v":"Monate "},{"$f":"Übersetzungstexte!A$167","v":"Lohn-"},{"$f":"Übersetzungstexte!A$171","v":"durchschn."},{"$f":"Übersetzungstexte!A$175","v":"Anzahl"},{"$f":"Übersetzungstexte!A$179","v":"Anzahl"},{"$f":"Übersetzungstexte!A$183","v":"barer"},null,null,"bezugs-","  FF12","S13 / 12","  deApM","Std. Lohn","Std. Lohn","Monatslohn","Monatslohn","Vergleichs-","Anrechenb.","Anrechenb.","Warnungs-"]
[{"$f":"Übersetzungstexte!A$140","v":""},{"$f":"Übersetzungstexte!A$144","v":""},{"$f":"Übersetzungstexte!A$148","v":""},{"$f":"Übersetzungstexte!A$152","v":"Geburts-"},{"$f":"Übersetzungstexte!A$156","v":"Monats-"},{"$f":"Übersetzungstexte!A$160","v":"Stunden-"},{"$f":"Übersetzungstexte!A$164","v":"pro Jahr"},{"$f":"Übersetzungstexte!A$168","v":"bestand-"},{"$f":"Übersetzungstexte!A$172","v":"wöchentl."},{"$f":"Übersetzungstexte!A$176","v":"Ferientage"},{"$f":"Übersetzungstexte!A$180","v":"Feiertage"},{"$f":"Übersetzungstexte!A$184","v":"Stunden-"},null,"AHV-","berechtigte",null,null,null,"ohne","mit","ohne","mit","wert","Std.-Verd.","Std.-","anzeige"]
[{"$f":"Übersetzungstexte!A$141","v":"Versicherten-Nr."},{"$f":"Übersetzungstexte!A$145","v":"Name"},{"$f":"Übersetzungstexte!A$149","v":"Vorname"},{"$f":"Übersetzungstexte!A$153","v":"datum"},{"$f":"Übersetzungstexte!A$157","v":"lohn"},{"$f":"Übersetzungstexte!A$161","v":"lohn"},{"$f":"Übersetzungstexte!A$165","v":"(12/13)"},{"$f":"Übersetzungstexte!A$169","v":"teile p. Jahr"},{"$f":"Übersetzungstexte!A$173","v":"Arbeitszeit"},{"$f":"Übersetzungstexte!A$177","v":"pro Jahr"},{"$f":"Übersetzungstexte!A$181","v":"pro Jahr"},{"$f":"Übersetzungstexte!A$185","v":"Verdienst"},null,"pflichtig","Mitarbeiter",null,null,null,"Prämie","Prämie","Prämie","Prämie",null,"aSV","Verdienst",null,"Name,Vorname"]
[null,null,null,null,null,null,null,null,null,null,null,{"$f":"Y639","v":""},{"$f":"Z639","v":""},{"$f":"IF(N$2-YEAR(D639)<N$3,0,1)","v":0},{"$f":"IF(L639=\"\",0,1)","v":0},{"$f":"IF(AND(A639=\"\",B639=\"\",C639=\"\"),\"\",ROUND((K639+J639)/(N$4-(K639+J639))*100,2))","v":""},{"$f":"ROUND(G639,0)/12","v":0},{"$f":"IF(AND(A639=\"\",B639=\"\",C639=\"\"),\"\",ROUND((N$4-(K639+J639))*I639/60,1))","v":""},{"$f":"IF(OR(AND(A639=\"\",B639=\"\",C639=\"\"),F639=0,F639=\"\"),\"\",ROUND((1+P639/100)*Q639*F639,2))","v":""},{"$f":"IF(OR(AND(A639=\"\",B639=\"\",C639=\"\"),F639=0,F639=\"\",I639=0,I639=\"\"),\"\",ROUND((1+P639/100)*(H639/(N$4*I639/5)+Q639*F639),2))","v":""},{"$f":"IF(OR(AND(A639=\"\",B639=\"\",C639=\"\"),E639=0,E639=\"\",R639=0,R639=\"\"),\"\",ROUND((Q639*E639/R639),2))","v":""},{"$f":"IF(OR(AND(A639=\"\",B639=\"\",C639=\"\"),E639=0,E639=\"\",R639=0,R639=\"\"),\"\",ROUND((H639/(12*Q639*E639)+1)*Q639*E639/R639,2))","v":""},{"$f":"IF(OR(AND(A639=\"\",B639=\"\",C639=\"\"),R639=0,R639=\"\"),\"\",ROUND(W$4 / R639,1))","v":""},{"$f":"IF(OR(AND(A639=\"\",B639=\"\",C639=\"\"),N$4=\"\"),\"\",IF(AND(F639>0,H639>0),T639, IF(F639>0,S639, IF(AND(E639>0,H639>0),V639,U639))))","v":""},{"$f":"IF(W639<X639,W639,X639)","v":""},{"$f":"IF(W639<X639,Übersetzungstexte!A$186,\"\")","v":""},{"$f":"IF(AND(B639=\"\",C639=\"\"),\"\",CONCATENATE(B639,\",\",C639))","v":""}]
[null,null,null,null,null,null,null,null,null,null,null,"","",0,0,"",0,"","","","","","","","",{"$f":"IF(W640<X640,Übersetzungstexte!A$186,\"\")","v":""},""]
[null,null,null,null,null,null,null,null,null,null,null,"","",0,0,"",0,"","","","","","","","",{"$f":"IF(W641<X641,Übersetzungstexte!A$186,\"\")","v":""},""]
[null,null,null,null,null,null,null,null,null,null,null,"","",0,0,"",0,"","","","","","","","",{"$f":"IF(W642<X642,Übersetzungstexte!A$186,\"\")","v":""},""]
[null,null,null,null,null,null,null,null,null,null,null,"","",0,0,"",0,"","","","","","","","",{"$f":"IF(W643<X643,Übersetzungstexte!A$186,\"\")","v":""},""]
[null,null,null,null,null,null,null,null,null,null,null,"","",0,0,"",0,"","","","","","","","",{"$f":"IF(W644<X644,Übersetzungstexte!A$186,\"\")","v":""},""]
[null,null,null,null,null,null,null,null,null,null,null,"","",0,0,"",0,"","","","","","","","",{"$f":"IF(W645<X645,Übersetzungstexte!A$186,\"\")","v":""},""]
[null,null,null,null,null,null,null,null,null,null,null,"","",0,0,"",0,"","","","","","","","",{"$f":"IF(W646<X646,Übersetzungstexte!A$186,\"\")","v":""},""]
[null,null,null,null,null,null,null,null,null,null,null,"","",0,0,"",0,"","","","","","","","",{"$f":"IF(W647<X647,Übersetzungstexte!A$186,\"\")","v":""},""]
[null,null,null,null,null,null,null,null,null,null,null,"","",0,0,"",0,"","","","","","","","",{"$f":"IF(W648<X648,Übersetzungstexte!A$186,\"\")","v":""},""]
[null,null,null,null,null,null,null,null,null,null,null,"","",0,0,"",0,"","","","","","","","",{"$f":"IF(W649<X649,Übersetzungstexte!A$186,\"\")","v":""},""]
[null,null,null,null,null,null,null,null,null,null,null,"","",0,0,"",0,"","","","","","","","",{"$f":"IF(W650<X650,Übersetzungstexte!A$186,\"\")","v":""},""]
[null,null,null,null,null,null,null,null,null,null,null,"","",0,0,"",0,"","","","","","","","",{"$f":"IF(W651<X651,Übersetzungstexte!A$186,\"\")","v":""},""]
[null,null,null,null,null,null,null,null,null,null,null,"","",0,0,"",0,"","","","","","","","",{"$f":"IF(W652<X652,Übersetzungstexte!A$186,\"\")","v":""},""]
[null,null,null,null,null,null,null,null,null,null,null,"","",0,0,"",0,"","","","","","","","",{"$f":"IF(W653<X653,Übersetzungstexte!A$186,\"\")","v":""},""]
[null,null,null,null,null,null,null,null,null,null,null,"","",0,0,"",0,"","","","","","","","",{"$f":"IF(W654<X654,Übersetzungstexte!A$186,\"\")","v":""},""]
[null,null,null,null,null,null,null,null,null,null,null,"","",0,0,"",0,"","","","","","","","",{"$f":"IF(W655<X655,Übersetzungstexte!A$186,\"\")","v":""},""]
[null,null,null,null,null,null,null,null,null,null,null,"","",0,0,"",0,"","","","","","","","",{"$f":"IF(W656<X656,Übersetzungstexte!A$186,\"\")","v":""},""]
[null,null,null,null,null,null,null,null,null,null,null,"","",0,0,"",0,"","","","","","","","",{"$f":"IF(W657<X657,Übersetzungstexte!A$186,\"\")","v":""},""]
[null,null,null,null,null,null,null,null,null,null,null,"",{"$f":"Z658","v":""},{"$f":"IF(N$2-YEAR(D658)<N$3,0,1)","v":0},{"$f":"IF(L658=\"\",0,1)","v":0},{"$f":"IF(AND(A658=\"\",B658=\"\",C658=\"\"),\"\",ROUND((K658+J658)/(N$4-(K658+J658))*100,2))","v":""},{"$f":"ROUND(G658,0)/12","v":0},{"$f":"IF(AND(A658=\"\",B658=\"\",C658=\"\"),\"\",ROUND((N$4-(K658+J658))*I658/60,1))","v":""},{"$f":"IF(OR(AND(A658=\"\",B658=\"\",C658=\"\"),F658=0,F658=\"\"),\"\",ROUND((1+P658/100)*Q658*F658,2))","v":""},{"$f":"IF(OR(AND(A658=\"\",B658=\"\",C658=\"\"),F658=0,F658=\"\",I658=0,I658=\"\"),\"\",ROUND((1+P658/100)*(H658/(N$4*I658/5)+Q658*F658),2))","v":""},{"$f":"IF(OR(AND(A658=\"\",B658=\"\",C658=\"\"),E658=0,E658=\"\",R658=0,R658=\"\"),\"\",ROUND((Q658*E658/R658),2))","v":""},{"$f":"IF(OR(AND(A658=\"\",B658=\"\",C658=\"\"),E658=0,E658=\"\",R658=0,R658=\"\"),\"\",ROUND((H658/(12*Q658*E658)+1)*Q658*E658/R658,2))","v":""},{"$f":"IF(OR(AND(A658=\"\",B658=\"\",C658=\"\"),R658=0,R658=\"\"),\"\",ROUND(W$4 / R658,1))","v":""},{"$f":"IF(OR(AND(A658=\"\",B658=\"\",C658=\"\"),N$4=\"\"),\"\",IF(AND(F658>0,H658>0),T658, IF(F658>0,S658, IF(AND(E658>0,H658>0),V658,U658))))","v":""},{"$f":"IF(W658<X658,W658,X658)","v":""},{"$f":"IF(W658<X658,Übersetzungstexte!A$186,\"\")","v":""},{"$f":"IF(AND(B658=\"\",C658=\"\"),\"\",CONCATENATE(B658,\",\",C658))","v":""}]
[null,null,null,null,null,null,null,null,null,null,null,"",{"$f":"Z659","v":""},{"$f":"IF(N$2-YEAR(D659)<N$3,0,1)","v":0},{"$f":"IF(L659=\"\",0,1)","v":0},{"$f":"IF(AND(A659=\"\",B659=\"\",C659=\"\"),\"\",ROUND((K659+J659)/(N$4-(K659+J659))*100,2))","v":""},{"$f":"ROUND(G659,0)/12","v":0},{"$f":"IF(AND(A659=\"\",B659=\"\",C659=\"\"),\"\",ROUND((N$4-(K659+J659))*I659/60,1))","v":""},{"$f":"IF(OR(AND(A659=\"\",B659=\"\",C659=\"\"),F659=0,F659=\"\"),\"\",ROUND((1+P659/100)*Q659*F659,2))","v":""},{"$f":"IF(OR(AND(A659=\"\",B659=\"\",C659=\"\"),F659=0,F659=\"\",I659=0,I659=\"\"),\"\",ROUND((1+P659/100)*(H659/(N$4*I659/5)+Q659*F659),2))","v":""},{"$f":"IF(OR(AND(A659=\"\",B659=\"\",C659=\"\"),E659=0,E659=\"\",R659=0,R659=\"\"),\"\",ROUND((Q659*E659/R659),2))","v":""},{"$f":"IF(OR(AND(A659=\"\",B659=\"\",C659=\"\"),E659=0,E659=\"\",R659=0,R659=\"\"),\"\",ROUND((H659/(12*Q659*E659)+1)*Q659*E659/R659,2))","v":""},{"$f":"IF(OR(AND(A659=\"\",B659=\"\",C659=\"\"),R659=0,R659=\"\"),\"\",ROUND(W$4 / R659,1))","v":""},{"$f":"IF(OR(AND(A659=\"\",B659=\"\",C659=\"\"),N$4=\"\"),\"\",IF(AND(F659>0,H659>0),T659, IF(F659>0,S659, IF(AND(E659>0,H659>0),V659,U659))))","v":""},{"$f":"IF(W659<X659,W659,X659)","v":""},{"$f":"IF(W659<X659,Übersetzungstexte!A$186,\"\")","v":""},{"$f":"IF(AND(B659=\"\",C659=\"\"),\"\",CONCATENATE(B659,\",\",C659))","v":""}]
[]
[{"$f":"'Stammdaten Betrieb & Abteilung'!D$1","v":"  "},null,null,null,null,null,{"$f":"Übersetzungstexte!A$135","v":"Betrieb / Betriebsabteilung"},{"$f":"'Stammdaten Betrieb & Abteilung'!D$13","v":" "}]
[{"$f":"'Stammdaten Betrieb & Abteilung'!D$3","v":" "},null,null,null,null,null,{"$f":"Übersetzungstexte!A$136","v":"Abrechnungsperiode"},{"$f":"'Stammdaten Betrieb & Abteilung'!D$14","v":""}]
[{"$f":"'Stammdaten Betrieb & Abteilung'!D$4","v":" "},null,null,null,null,null,{"$f":"Übersetzungstexte!A$137","v":"Beginn / Ende der Kurzarbeit"},{"$f":"'Stammdaten Betrieb & Abteilung'!D$16","v":""}]
[]
[{"$f":"Übersetzungstexte!A$138","v":""},{"$f":"Übersetzungstexte!A$142","v":""},{"$f":"Übersetzungstexte!A$146","v":""},{"$f":"Übersetzungstexte!A$150","v":""},{"$f":"Übersetzungstexte!A$154","v":""},{"$f":"Übersetzungstexte!A$158","v":""},{"$f":"Übersetzungstexte!A$162","v":"Anzahl bez."},{"$f":"Übersetzungstexte!A$166","v":"Weitere"},{"$f":"Übersetzungstexte!A$170","v":"Jahres-"},{"$f":"Übersetzungstexte!A$174","v":""},{"$f":"Übersetzungstexte!A$178","v":""},{"$f":"Übersetzungstexte!A$182","v":"Anrechen-"},null,null,"Anzahl","Regel 7",null,"Regel 9","Regel 10","Regel 11","Regel 12","Regel 13","Regel 14","Regel 10-14","Regel 14","Regel 14"]
[{"$f":"Übersetzungstexte!A$139","v":""},{"$f":"Übersetzungstexte!A$143","v":""},{"$f":"Übersetzungstexte!A$147","v":""},{"$f":"Übersetzungstexte!A$151","v":""},{"$f":"Übersetzungstexte!A$155","v":""},{"$f":"Übersetzungstexte!A$159","v":""},{"$f":"Übersetzungstexte!A$163","v":"Monate "},{"$f":"Übersetzungstexte!A$167","v":"Lohn-"},{"$f":"Übersetzungstexte!A$171","v":"durchschn."},{"$f":"Übersetzungstexte!A$175","v":"Anzahl"},{"$f":"Übersetzungstexte!A$179","v":"Anzahl"},{"$f":"Übersetzungstexte!A$183","v":"barer"},null,null,"bezugs-","  FF12","S13 / 12","  deApM","Std. Lohn","Std. Lohn","Monatslohn","Monatslohn","Vergleichs-","Anrechenb.","Anrechenb.","Warnungs-"]
[{"$f":"Übersetzungstexte!A$140","v":""},{"$f":"Übersetzungstexte!A$144","v":""},{"$f":"Übersetzungstexte!A$148","v":""},{"$f":"Übersetzungstexte!A$152","v":"Geburts-"},{"$f":"Übersetzungstexte!A$156","v":"Monats-"},{"$f":"Übersetzungstexte!A$160","v":"Stunden-"},{"$f":"Übersetzungstexte!A$164","v":"pro Jahr"},{"$f":"Übersetzungstexte!A$168","v":"bestand-"},{"$f":"Übersetzungstexte!A$172","v":"wöchentl."},{"$f":"Übersetzungstexte!A$176","v":"Ferientage"},{"$f":"Übersetzungstexte!A$180","v":"Feiertage"},{"$f":"Übersetzungstexte!A$184","v":"Stunden-"},null,"AHV-","berechtigte",null,null,null,"ohne","mit","ohne","mit","wert","Std.-Verd.","Std.-","anzeige"]
[{"$f":"Übersetzungstexte!A$141","v":"Versicherten-Nr."},{"$f":"Übersetzungstexte!A$145","v":"Name"},{"$f":"Übersetzungstexte!A$149","v":"Vorname"},{"$f":"Übersetzungstexte!A$153","v":"datum"},{"$f":"Übersetzungstexte!A$157","v":"lohn"},{"$f":"Übersetzungstexte!A$161","v":"lohn"},{"$f":"Übersetzungstexte!A$165","v":"(12/13)"},{"$f":"Übersetzungstexte!A$169","v":"teile p. Jahr"},{"$f":"Übersetzungstexte!A$173","v":"Arbeitszeit"},{"$f":"Übersetzungstexte!A$177","v":"pro Jahr"},{"$f":"Übersetzungstexte!A$181","v":"pro Jahr"},{"$f":"Übersetzungstexte!A$185","v":"Verdienst"},null,"pflichtig","Mitarbeiter",null,null,null,"Prämie","Prämie","Prämie","Prämie",null,"aSV","Verdienst",null,"Name,Vorname"]
[null,null,null,null,null,null,null,null,null,null,null,{"$f":"Y669","v":""},{"$f":"Z669","v":""},{"$f":"IF(N$2-YEAR(D669)<N$3,0,1)","v":0},{"$f":"IF(L669=\"\",0,1)","v":0},{"$f":"IF(AND(A669=\"\",B669=\"\",C669=\"\"),\"\",ROUND((K669+J669)/(N$4-(K669+J669))*100,2))","v":""},{"$f":"ROUND(G669,0)/12","v":0},{"$f":"IF(AND(A669=\"\",B669=\"\",C669=\"\"),\"\",ROUND((N$4-(K669+J669))*I669/60,1))","v":""},{"$f":"IF(OR(AND(A669=\"\",B669=\"\",C669=\"\"),F669=0,F669=\"\"),\"\",ROUND((1+P669/100)*Q669*F669,2))","v":""},{"$f":"IF(OR(AND(A669=\"\",B669=\"\",C669=\"\"),F669=0,F669=\"\",I669=0,I669=\"\"),\"\",ROUND((1+P669/100)*(H669/(N$4*I669/5)+Q669*F669),2))","v":""},{"$f":"IF(OR(AND(A669=\"\",B669=\"\",C669=\"\"),E669=0,E669=\"\",R669=0,R669=\"\"),\"\",ROUND((Q669*E669/R669),2))","v":""},{"$f":"IF(OR(AND(A669=\"\",B669=\"\",C669=\"\"),E669=0,E669=\"\",R669=0,R669=\"\"),\"\",ROUND((H669/(12*Q669*E669)+1)*Q669*E669/R669,2))","v":""},{"$f":"IF(OR(AND(A669=\"\",B669=\"\",C669=\"\"),R669=0,R669=\"\"),\"\",ROUND(W$4 / R669,1))","v":""},{"$f":"IF(OR(AND(A669=\"\",B669=\"\",C669=\"\"),N$4=\"\"),\"\",IF(AND(F669>0,H669>0),T669, IF(F669>0,S669, IF(AND(E669>0,H669>0),V669,U669))))","v":""},{"$f":"IF(W669<X669,W669,X669)","v":""},{"$f":"IF(W669<X669,Übersetzungstexte!A$186,\"\")","v":""},{"$f":"IF(AND(B669=\"\",C669=\"\"),\"\",CONCATENATE(B669,\",\",C669))","v":""}]
[null,null,null,null,null,null,null,null,null,null,null,"","",0,0,"",0,"","","","","","","","",{"$f":"IF(W670<X670,Übersetzungstexte!A$186,\"\")","v":""},""]
[null,null,null,null,null,null,null,null,null,null,null,"","",0,0,"",0,"","","","","","","","",{"$f":"IF(W671<X671,Übersetzungstexte!A$186,\"\")","v":""},""]
[null,null,null,null,null,null,null,null,null,null,null,"","",0,0,"",0,"","","","","","","","",{"$f":"IF(W672<X672,Übersetzungstexte!A$186,\"\")","v":""},""]
[null,null,null,null,null,null,null,null,null,null,null,"","",0,0,"",0,"","","","","","","","",{"$f":"IF(W673<X673,Übersetzungstexte!A$186,\"\")","v":""},""]
[null,null,null,null,null,null,null,null,null,null,null,"","",0,0,"",0,"","","","","","","","",{"$f":"IF(W674<X674,Übersetzungstexte!A$186,\"\")","v":""},""]
[null,null,null,null,null,null,null,null,null,null,null,"","",0,0,"",0,"","","","","","","","",{"$f":"IF(W675<X675,Übersetzungstexte!A$186,\"\")","v":""},""]
[null,null,null,null,null,null,null,null,null,null,null,"","",0,0,"",0,"","","","","","","","",{"$f":"IF(W676<X676,Übersetzungstexte!A$186,\"\")","v":""},""]
[null,null,null,null,null,null,null,null,null,null,null,"","",0,0,"",0,"","","","","","","","",{"$f":"IF(W677<X677,Übersetzungstexte!A$186,\"\")","v":""},""]
[null,null,null,null,null,null,null,null,null,null,null,"","",0,0,"",0,"","","","","","","","",{"$f":"IF(W678<X678,Übersetzungstexte!A$186,\"\")","v":""},""]
[null,null,null,null,null,null,null,null,null,null,null,"","",0,0,"",0,"","","","","","","","",{"$f":"IF(W679<X679,Übersetzungstexte!A$186,\"\")","v":""},""]
[null,null,null,null,null,null,null,null,null,null,null,"","",0,0,"",0,"","","","","","","","",{"$f":"IF(W680<X680,Übersetzungstexte!A$186,\"\")","v":""},""]
[null,null,null,null,null,null,null,null,null,null,null,"","",0,0,"",0,"","","","","","","","",{"$f":"IF(W681<X681,Übersetzungstexte!A$186,\"\")","v":""},""]
[null,null,null,null,null,null,null,null,null,null,null,"","",0,0,"",0,"","","","","","","","",{"$f":"IF(W682<X682,Übersetzungstexte!A$186,\"\")","v":""},""]
[null,null,null,null,null,null,null,null,null,null,null,"","",0,0,"",0,"","","","","","","","",{"$f":"IF(W683<X683,Übersetzungstexte!A$186,\"\")","v":""},""]
[null,null,null,null,null,null,null,null,null,null,null,"","",0,0,"",0,"","","","","","","","",{"$f":"IF(W684<X684,Übersetzungstexte!A$186,\"\")","v":""},""]
[null,null,null,null,null,null,null,null,null,null,null,"","",0,0,"",0,"","","","","","","","",{"$f":"IF(W685<X685,Übersetzungstexte!A$186,\"\")","v":""},""]
[null,null,null,null,null,null,null,null,null,null,null,"","",0,0,"",0,"","","","","","","","",{"$f":"IF(W686<X686,Übersetzungstexte!A$186,\"\")","v":""},""]
[null,null,null,null,null,null,null,null,null,null,null,"","",0,0,"",0,"","","","","","","","",{"$f":"IF(W687<X687,Übersetzungstexte!A$186,\"\")","v":""},""]
[null,null,null,null,null,null,null,null,null,null,null,"",{"$f":"Z688","v":""},{"$f":"IF(N$2-YEAR(D688)<N$3,0,1)","v":0},{"$f":"IF(L688=\"\",0,1)","v":0},{"$f":"IF(AND(A688=\"\",B688=\"\",C688=\"\"),\"\",ROUND((K688+J688)/(N$4-(K688+J688))*100,2))","v":""},{"$f":"ROUND(G688,0)/12","v":0},{"$f":"IF(AND(A688=\"\",B688=\"\",C688=\"\"),\"\",ROUND((N$4-(K688+J688))*I688/60,1))","v":""},{"$f":"IF(OR(AND(A688=\"\",B688=\"\",C688=\"\"),F688=0,F688=\"\"),\"\",ROUND((1+P688/100)*Q688*F688,2))","v":""},{"$f":"IF(OR(AND(A688=\"\",B688=\"\",C688=\"\"),F688=0,F688=\"\",I688=0,I688=\"\"),\"\",ROUND((1+P688/100)*(H688/(N$4*I688/5)+Q688*F688),2))","v":""},{"$f":"IF(OR(AND(A688=\"\",B688=\"\",C688=\"\"),E688=0,E688=\"\",R688=0,R688=\"\"),\"\",ROUND((Q688*E688/R688),2))","v":""},{"$f":"IF(OR(AND(A688=\"\",B688=\"\",C688=\"\"),E688=0,E688=\"\",R688=0,R688=\"\"),\"\",ROUND((H688/(12*Q688*E688)+1)*Q688*E688/R688,2))","v":""},{"$f":"IF(OR(AND(A688=\"\",B688=\"\",C688=\"\"),R688=0,R688=\"\"),\"\",ROUND(W$4 / R688,1))","v":""},{"$f":"IF(OR(AND(A688=\"\",B688=\"\",C688=\"\"),N$4=\"\"),\"\",IF(AND(F688>0,H688>0),T688, IF(F688>0,S688, IF(AND(E688>0,H688>0),V688,U688))))","v":""},{"$f":"IF(W688<X688,W688,X688)","v":""},{"$f":"IF(W688<X688,Übersetzungstexte!A$186,\"\")","v":""},{"$f":"IF(AND(B688=\"\",C688=\"\"),\"\",CONCATENATE(B688,\",\",C688))","v":""}]
[null,null,null,null,null,null,null,null,null,null,null,"",{"$f":"Z689","v":""},{"$f":"IF(N$2-YEAR(D689)<N$3,0,1)","v":0},{"$f":"IF(L689=\"\",0,1)","v":0},{"$f":"IF(AND(A689=\"\",B689=\"\",C689=\"\"),\"\",ROUND((K689+J689)/(N$4-(K689+J689))*100,2))","v":""},{"$f":"ROUND(G689,0)/12","v":0},{"$f":"IF(AND(A689=\"\",B689=\"\",C689=\"\"),\"\",ROUND((N$4-(K689+J689))*I689/60,1))","v":""},{"$f":"IF(OR(AND(A689=\"\",B689=\"\",C689=\"\"),F689=0,F689=\"\"),\"\",ROUND((1+P689/100)*Q689*F689,2))","v":""},{"$f":"IF(OR(AND(A689=\"\",B689=\"\",C689=\"\"),F689=0,F689=\"\",I689=0,I689=\"\"),\"\",ROUND((1+P689/100)*(H689/(N$4*I689/5)+Q689*F689),2))","v":""},{"$f":"IF(OR(AND(A689=\"\",B689=\"\",C689=\"\"),E689=0,E689=\"\",R689=0,R689=\"\"),\"\",ROUND((Q689*E689/R689),2))","v":""},{"$f":"IF(OR(AND(A689=\"\",B689=\"\",C689=\"\"),E689=0,E689=\"\",R689=0,R689=\"\"),\"\",ROUND((H689/(12*Q689*E689)+1)*Q689*E689/R689,2))","v":""},{"$f":"IF(OR(AND(A689=\"\",B689=\"\",C689=\"\"),R689=0,R689=\"\"),\"\",ROUND(W$4 / R689,1))","v":""},{"$f":"IF(OR(AND(A689=\"\",B689=\"\",C689=\"\"),N$4=\"\"),\"\",IF(AND(F689>0,H689>0),T689, IF(F689>0,S689, IF(AND(E689>0,H689>0),V689,U689))))","v":""},{"$f":"IF(W689<X689,W689,X689)","v":""},{"$f":"IF(W689<X689,Übersetzungstexte!A$186,\"\")","v":""},{"$f":"IF(AND(B689=\"\",C689=\"\"),\"\",CONCATENATE(B689,\",\",C689))","v":""}]
[]
[{"$f":"'Stammdaten Betrieb & Abteilung'!D$1","v":"  "},null,null,null,null,null,{"$f":"Übersetzungstexte!A$135","v":"Betrieb / Betriebsabteilung"},{"$f":"'Stammdaten Betrieb & Abteilung'!D$13","v":" "}]
[{"$f":"'Stammdaten Betrieb & Abteilung'!D$3","v":" "},null,null,null,null,null,{"$f":"Übersetzungstexte!A$136","v":"Abrechnungsperiode"},{"$f":"'Stammdaten Betrieb & Abteilung'!D$14","v":""}]
[{"$f":"'Stammdaten Betrieb & Abteilung'!D$4","v":" "},null,null,null,null,null,{"$f":"Übersetzungstexte!A$137","v":"Beginn / Ende der Kurzarbeit"},{"$f":"'Stammdaten Betrieb & Abteilung'!D$16","v":""}]
[]
[{"$f":"Übersetzungstexte!A$138","v":""},{"$f":"Übersetzungstexte!A$142","v":""},{"$f":"Übersetzungstexte!A$146","v":""},{"$f":"Übersetzungstexte!A$150","v":""},{"$f":"Übersetzungstexte!A$154","v":""},{"$f":"Übersetzungstexte!A$158","v":""},{"$f":"Übersetzungstexte!A$162","v":"Anzahl bez."},{"$f":"Übersetzungstexte!A$166","v":"Weitere"},{"$f":"Übersetzungstexte!A$170","v":"Jahres-"},{"$f":"Übersetzungstexte!A$174","v":""},{"$f":"Übersetzungstexte!A$178","v":""},{"$f":"Übersetzungstexte!A$182","v":"Anrechen-"},null,null,"Anzahl","Regel 7",null,"Regel 9","Regel 10","Regel 11","Regel 12","Regel 13","Regel 14","Regel 10-14","Regel 14","Regel 14"]
[{"$f":"Übersetzungstexte!A$139","v":""},{"$f":"Übersetzungstexte!A$143","v":""},{"$f":"Übersetzungstexte!A$147","v":""},{"$f":"Übersetzungstexte!A$151","v":""},{"$f":"Übersetzungstexte!A$155","v":""},{"$f":"Übersetzungstexte!A$159","v":""},{"$f":"Übersetzungstexte!A$163","v":"Monate "},{"$f":"Übersetzungstexte!A$167","v":"Lohn-"},{"$f":"Übersetzungstexte!A$171","v":"durchschn."},{"$f":"Übersetzungstexte!A$175","v":"Anzahl"},{"$f":"Übersetzungstexte!A$179","v":"Anzahl"},{"$f":"Übersetzungstexte!A$183","v":"barer"},null,null,"bezugs-","  FF12","S13 / 12","  deApM","Std. Lohn","Std. Lohn","Monatslohn","Monatslohn","Vergleichs-","Anrechenb.","Anrechenb.","Warnungs-"]
[{"$f":"Übersetzungstexte!A$140","v":""},{"$f":"Übersetzungstexte!A$144","v":""},{"$f":"Übersetzungstexte!A$148","v":""},{"$f":"Übersetzungstexte!A$152","v":"Geburts-"},{"$f":"Übersetzungstexte!A$156","v":"Monats-"},{"$f":"Übersetzungstexte!A$160","v":"Stunden-"},{"$f":"Übersetzungstexte!A$164","v":"pro Jahr"},{"$f":"Übersetzungstexte!A$168","v":"bestand-"},{"$f":"Übersetzungstexte!A$172","v":"wöchentl."},{"$f":"Übersetzungstexte!A$176","v":"Ferientage"},{"$f":"Übersetzungstexte!A$180","v":"Feiertage"},{"$f":"Übersetzungstexte!A$184","v":"Stunden-"},null,"AHV-","berechtigte",null,null,null,"ohne","mit","ohne","mit","wert","Std.-Verd.","Std.-","anzeige"]
[{"$f":"Übersetzungstexte!A$141","v":"Versicherten-Nr."},{"$f":"Übersetzungstexte!A$145","v":"Name"},{"$f":"Übersetzungstexte!A$149","v":"Vorname"},{"$f":"Übersetzungstexte!A$153","v":"datum"},{"$f":"Übersetzungstexte!A$157","v":"lohn"},{"$f":"Übersetzungstexte!A$161","v":"lohn"},{"$f":"Übersetzungstexte!A$165","v":"(12/13)"},{"$f":"Übersetzungstexte!A$169","v":"teile p. Jahr"},{"$f":"Übersetzungstexte!A$173","v":"Arbeitszeit"},{"$f":"Übersetzungstexte!A$177","v":"pro Jahr"},{"$f":"Übersetzungstexte!A$181","v":"pro Jahr"},{"$f":"Übersetzungstexte!A$185","v":"Verdienst"},null,"pflichtig","Mitarbeiter",null,null,null,"Prämie","Prämie","Prämie","Prämie",null,"aSV","Verdienst",null,"Name,Vorname"]
[null,null,null,null,null,null,null,null,null,null,null,{"$f":"Y699","v":""},{"$f":"Z699","v":""},{"$f":"IF(N$2-YEAR(D699)<N$3,0,1)","v":0},{"$f":"IF(L699=\"\",0,1)","v":0},{"$f":"IF(AND(A699=\"\",B699=\"\",C699=\"\"),\"\",ROUND((K699+J699)/(N$4-(K699+J699))*100,2))","v":""},{"$f":"ROUND(G699,0)/12","v":0},{"$f":"IF(AND(A699=\"\",B699=\"\",C699=\"\"),\"\",ROUND((N$4-(K699+J699))*I699/60,1))","v":""},{"$f":"IF(OR(AND(A699=\"\",B699=\"\",C699=\"\"),F699=0,F699=\"\"),\"\",ROUND((1+P699/100)*Q699*F699,2))","v":""},{"$f":"IF(OR(AND(A699=\"\",B699=\"\",C699=\"\"),F699=0,F699=\"\",I699=0,I699=\"\"),\"\",ROUND((1+P699/100)*(H699/(N$4*I699/5)+Q699*F699),2))","v":""},{"$f":"IF(OR(AND(A699=\"\",B699=\"\",C699=\"\"),E699=0,E699=\"\",R699=0,R699=\"\"),\"\",ROUND((Q699*E699/R699),2))","v":""},{"$f":"IF(OR(AND(A699=\"\",B699=\"\",C699=\"\"),E699=0,E699=\"\",R699=0,R699=\"\"),\"\",ROUND((H699/(12*Q699*E699)+1)*Q699*E699/R699,2))","v":""},{"$f":"IF(OR(AND(A699=\"\",B699=\"\",C699=\"\"),R699=0,R699=\"\"),\"\",ROUND(W$4 / R699,1))","v":""},{"$f":"IF(OR(AND(A699=\"\",B699=\"\",C699=\"\"),N$4=\"\"),\"\",IF(AND(F699>0,H699>0),T699, IF(F699>0,S699, IF(AND(E699>0,H699>0),V699,U699))))","v":""},{"$f":"IF(W699<X699,W699,X699)","v":""},{"$f":"IF(W699<X699,Übersetzungstexte!A$186,\"\")","v":""},{"$f":"IF(AND(B699=\"\",C699=\"\"),\"\",CONCATENATE(B699,\",\",C699))","v":""}]
[null,null,null,null,null,null,null,null,null,null,null,"","",0,0,"",0,"","","","","","","","",{"$f":"IF(W700<X700,Übersetzungstexte!A$186,\"\")","v":""},""]
[null,null,null,null,null,null,null,null,null,null,null,"","",0,0,"",0,"","","","","","","","",{"$f":"IF(W701<X701,Übersetzungstexte!A$186,\"\")","v":""},""]
[null,null,null,null,null,null,null,null,null,null,null,"","",0,0,"",0,"","","","","","","","",{"$f":"IF(W702<X702,Übersetzungstexte!A$186,\"\")","v":""},""]
[null,null,null,null,null,null,null,null,null,null,null,"","",0,0,"",0,"","","","","","","","",{"$f":"IF(W703<X703,Übersetzungstexte!A$186,\"\")","v":""},""]
[null,null,null,null,null,null,null,null,null,null,null,"","",0,0,"",0,"","","","","","","","",{"$f":"IF(W704<X704,Übersetzungstexte!A$186,\"\")","v":""},""]
[null,null,null,null,null,null,null,null,null,null,null,"","",0,0,"",0,"","","","","","","","",{"$f":"IF(W705<X705,Übersetzungstexte!A$186,\"\")","v":""},""]
[null,null,null,null,null,null,null,null,null,null,null,"","",0,0,"",0,"","","","","","","","",{"$f":"IF(W706<X706,Übersetzungstexte!A$186,\"\")","v":""},""]
[null,null,null,null,null,null,null,null,null,null,null,"","",0,0,"",0,"","","","","","","","",{"$f":"IF(W707<X707,Übersetzungstexte!A$186,\"\")","v":""},""]
[null,null,null,null,null,null,null,null,null,null,null,"","",0,0,"",0,"","","","","","","","",{"$f":"IF(W708<X708,Übersetzungstexte!A$186,\"\")","v":""},""]
[null,null,null,null,null,null,null,null,null,null,null,"","",0,0,"",0,"","","","","","","","",{"$f":"IF(W709<X709,Übersetzungstexte!A$186,\"\")","v":""},""]
[null,null,null,null,null,null,null,null,null,null,null,"","",0,0,"",0,"","","","","","","","",{"$f":"IF(W710<X710,Übersetzungstexte!A$186,\"\")","v":""},""]
[null,null,null,null,null,null,null,null,null,null,null,"","",0,0,"",0,"","","","","","","","",{"$f":"IF(W711<X711,Übersetzungstexte!A$186,\"\")","v":""},""]
[null,null,null,null,null,null,null,null,null,null,null,"","",0,0,"",0,"","","","","","","","",{"$f":"IF(W712<X712,Übersetzungstexte!A$186,\"\")","v":""},""]
[null,null,null,null,null,null,null,null,null,null,null,"","",0,0,"",0,"","","","","","","","",{"$f":"IF(W713<X713,Übersetzungstexte!A$186,\"\")","v":""},""]
[null,null,null,null,null,null,null,null,null,null,null,"","",0,0,"",0,"","","","","","","","",{"$f":"IF(W714<X714,Übersetzungstexte!A$186,\"\")","v":""},""]
[null,null,null,null,null,null,null,null,null,null,null,"","",0,0,"",0,"","","","","","","","",{"$f":"IF(W715<X715,Übersetzungstexte!A$186,\"\")","v":""},""]
[null,null,null,null,null,null,null,null,null,null,null,"","",0,0,"",0,"","","","","","","","",{"$f":"IF(W716<X716,Übersetzungstexte!A$186,\"\")","v":""},""]
[null,null,null,null,null,null,null,null,null,null,null,"","",0,0,"",0,"","","","","","","","",{"$f":"IF(W717<X717,Übersetzungstexte!A$186,\"\")","v":""},""]
[null,null,null,null,null,null,null,null,null,null,null,"",{"$f":"Z718","v":""},{"$f":"IF(N$2-YEAR(D718)<N$3,0,1)","v":0},{"$f":"IF(L718=\"\",0,1)","v":0},{"$f":"IF(AND(A718=\"\",B718=\"\",C718=\"\"),\"\",ROUND((K718+J718)/(N$4-(K718+J718))*100,2))","v":""},{"$f":"ROUND(G718,0)/12","v":0},{"$f":"IF(AND(A718=\"\",B718=\"\",C718=\"\"),\"\",ROUND((N$4-(K718+J718))*I718/60,1))","v":""},{"$f":"IF(OR(AND(A718=\"\",B718=\"\",C718=\"\"),F718=0,F718=\"\"),\"\",ROUND((1+P718/100)*Q718*F718,2))","v":""},{"$f":"IF(OR(AND(A718=\"\",B718=\"\",C718=\"\"),F718=0,F718=\"\",I718=0,I718=\"\"),\"\",ROUND((1+P718/100)*(H718/(N$4*I718/5)+Q718*F718),2))","v":""},{"$f":"IF(OR(AND(A718=\"\",B718=\"\",C718=\"\"),E718=0,E718=\"\",R718=0,R718=\"\"),\"\",ROUND((Q718*E718/R718),2))","v":""},{"$f":"IF(OR(AND(A718=\"\",B718=\"\",C718=\"\"),E718=0,E718=\"\",R718=0,R718=\"\"),\"\",ROUND((H718/(12*Q718*E718)+1)*Q718*E718/R718,2))","v":""},{"$f":"IF(OR(AND(A718=\"\",B718=\"\",C718=\"\"),R718=0,R718=\"\"),\"\",ROUND(W$4 / R718,1))","v":""},{"$f":"IF(OR(AND(A718=\"\",B718=\"\",C718=\"\"),N$4=\"\"),\"\",IF(AND(F718>0,H718>0),T718, IF(F718>0,S718, IF(AND(E718>0,H718>0),V718,U718))))","v":""},{"$f":"IF(W718<X718,W718,X718)","v":""},{"$f":"IF(W718<X718,Übersetzungstexte!A$186,\"\")","v":""},{"$f":"IF(AND(B718=\"\",C718=\"\"),\"\",CONCATENATE(B718,\",\",C718))","v":""}]
[null,null,null,null,null,null,null,null,null,null,null,"",{"$f":"Z719","v":""},{"$f":"IF(N$2-YEAR(D719)<N$3,0,1)","v":0},{"$f":"IF(L719=\"\",0,1)","v":0},{"$f":"IF(AND(A719=\"\",B719=\"\",C719=\"\"),\"\",ROUND((K719+J719)/(N$4-(K719+J719))*100,2))","v":""},{"$f":"ROUND(G719,0)/12","v":0},{"$f":"IF(AND(A719=\"\",B719=\"\",C719=\"\"),\"\",ROUND((N$4-(K719+J719))*I719/60,1))","v":""},{"$f":"IF(OR(AND(A719=\"\",B719=\"\",C719=\"\"),F719=0,F719=\"\"),\"\",ROUND((1+P719/100)*Q719*F719,2))","v":""},{"$f":"IF(OR(AND(A719=\"\",B719=\"\",C719=\"\"),F719=0,F719=\"\",I719=0,I719=\"\"),\"\",ROUND((1+P719/100)*(H719/(N$4*I719/5)+Q719*F719),2))","v":""},{"$f":"IF(OR(AND(A719=\"\",B719=\"\",C719=\"\"),E719=0,E719=\"\",R719=0,R719=\"\"),\"\",ROUND((Q719*E719/R719),2))","v":""},{"$f":"IF(OR(AND(A719=\"\",B719=\"\",C719=\"\"),E719=0,E719=\"\",R719=0,R719=\"\"),\"\",ROUND((H719/(12*Q719*E719)+1)*Q719*E719/R719,2))","v":""},{"$f":"IF(OR(AND(A719=\"\",B719=\"\",C719=\"\"),R719=0,R719=\"\"),\"\",ROUND(W$4 / R719,1))","v":""},{"$f":"IF(OR(AND(A719=\"\",B719=\"\",C719=\"\"),N$4=\"\"),\"\",IF(AND(F719>0,H719>0),T719, IF(F719>0,S719, IF(AND(E719>0,H719>0),V719,U719))))","v":""},{"$f":"IF(W719<X719,W719,X719)","v":""},{"$f":"IF(W719<X719,Übersetzungstexte!A$186,\"\")","v":""},{"$f":"IF(AND(B719=\"\",C719=\"\"),\"\",CONCATENATE(B719,\",\",C719))","v":""}]
[]
[{"$f":"'Stammdaten Betrieb & Abteilung'!D$1","v":"  "},null,null,null,null,null,{"$f":"Übersetzungstexte!A$135","v":"Betrieb / Betriebsabteilung"},{"$f":"'Stammdaten Betrieb & Abteilung'!D$13","v":" "}]
[{"$f":"'Stammdaten Betrieb & Abteilung'!D$3","v":" "},null,null,null,null,null,{"$f":"Übersetzungstexte!A$136","v":"Abrechnungsperiode"},{"$f":"'Stammdaten Betrieb & Abteilung'!D$14","v":""}]
[{"$f":"'Stammdaten Betrieb & Abteilung'!D$4","v":" "},null,null,null,null,null,{"$f":"Übersetzungstexte!A$137","v":"Beginn / Ende der Kurzarbeit"},{"$f":"'Stammdaten Betrieb & Abteilung'!D$16","v":""}]
[]
[{"$f":"Übersetzungstexte!A$138","v":""},{"$f":"Übersetzungstexte!A$142","v":""},{"$f":"Übersetzungstexte!A$146","v":""},{"$f":"Übersetzungstexte!A$150","v":""},{"$f":"Übersetzungstexte!A$154","v":""},{"$f":"Übersetzungstexte!A$158","v":""},{"$f":"Übersetzungstexte!A$162","v":"Anzahl bez."},{"$f":"Übersetzungstexte!A$166","v":"Weitere"},{"$f":"Übersetzungstexte!A$170","v":"Jahres-"},{"$f":"Übersetzungstexte!A$174","v":""},{"$f":"Übersetzungstexte!A$178","v":""},{"$f":"Übersetzungstexte!A$182","v":"Anrechen-"},null,null,"Anzahl","Regel 7",null,"Regel 9","Regel 10","Regel 11","Regel 12","Regel 13","Regel 14","Regel 10-14","Regel 14","Regel 14"]
[{"$f":"Übersetzungstexte!A$139","v":""},{"$f":"Übersetzungstexte!A$143","v":""},{"$f":"Übersetzungstexte!A$147","v":""},{"$f":"Übersetzungstexte!A$151","v":""},{"$f":"Übersetzungstexte!A$155","v":""},{"$f":"Übersetzungstexte!A$159","v":""},{"$f":"Übersetzungstexte!A$163","v":"Monate "},{"$f":"Übersetzungstexte!A$167","v":"Lohn-"},{"$f":"Übersetzungstexte!A$171","v":"durchschn."},{"$f":"Übersetzungstexte!A$175","v":"Anzahl"},{"$f":"Übersetzungstexte!A$179","v":"Anzahl"},{"$f":"Übersetzungstexte!A$183","v":"barer"},null,null,"bezugs-","  FF12","S13 / 12","  deApM","Std. Lohn","Std. Lohn","Monatslohn","Monatslohn","Vergleichs-","Anrechenb.","Anrechenb.","Warnungs-"]
[{"$f":"Übersetzungstexte!A$140","v":""},{"$f":"Übersetzungstexte!A$144","v":""},{"$f":"Übersetzungstexte!A$148","v":""},{"$f":"Übersetzungstexte!A$152","v":"Geburts-"},{"$f":"Übersetzungstexte!A$156","v":"Monats-"},{"$f":"Übersetzungstexte!A$160","v":"Stunden-"},{"$f":"Übersetzungstexte!A$164","v":"pro Jahr"},{"$f":"Übersetzungstexte!A$168","v":"bestand-"},{"$f":"Übersetzungstexte!A$172","v":"wöchentl."},{"$f":"Übersetzungstexte!A$176","v":"Ferientage"},{"$f":"Übersetzungstexte!A$180","v":"Feiertage"},{"$f":"Übersetzungstexte!A$184","v":"Stunden-"},null,"AHV-","berechtigte",null,null,null,"ohne","mit","ohne","mit","wert","Std.-Verd.","Std.-","anzeige"]
[{"$f":"Übersetzungstexte!A$141","v":"Versicherten-Nr."},{"$f":"Übersetzungstexte!A$145","v":"Name"},{"$f":"Übersetzungstexte!A$149","v":"Vorname"},{"$f":"Übersetzungstexte!A$153","v":"datum"},{"$f":"Übersetzungstexte!A$157","v":"lohn"},{"$f":"Übersetzungstexte!A$161","v":"lohn"},{"$f":"Übersetzungstexte!A$165","v":"(12/13)"},{"$f":"Übersetzungstexte!A$169","v":"teile p. Jahr"},{"$f":"Übersetzungstexte!A$173","v":"Arbeitszeit"},{"$f":"Übersetzungstexte!A$177","v":"pro Jahr"},{"$f":"Übersetzungstexte!A$181","v":"pro Jahr"},{"$f":"Übersetzungstexte!A$185","v":"Verdienst"},null,"pflichtig","Mitarbeiter",null,null,null,"Prämie","Prämie","Prämie","Prämie",null,"aSV","Verdienst",null,"Name,Vorname"]
[null,null,null,null,null,null,null,null,null,null,null,{"$f":"Y729","v":""},{"$f":"Z729","v":""},{"$f":"IF(N$2-YEAR(D729)<N$3,0,1)","v":0},{"$f":"IF(L729=\"\",0,1)","v":0},{"$f":"IF(AND(A729=\"\",B729=\"\",C729=\"\"),\"\",ROUND((K729+J729)/(N$4-(K729+J729))*100,2))","v":""},{"$f":"ROUND(G729,0)/12","v":0},{"$f":"IF(AND(A729=\"\",B729=\"\",C729=\"\"),\"\",ROUND((N$4-(K729+J729))*I729/60,1))","v":""},{"$f":"IF(OR(AND(A729=\"\",B729=\"\",C729=\"\"),F729=0,F729=\"\"),\"\",ROUND((1+P729/100)*Q729*F729,2))","v":""},{"$f":"IF(OR(AND(A729=\"\",B729=\"\",C729=\"\"),F729=0,F729=\"\",I729=0,I729=\"\"),\"\",ROUND((1+P729/100)*(H729/(N$4*I729/5)+Q729*F729),2))","v":""},{"$f":"IF(OR(AND(A729=\"\",B729=\"\",C729=\"\"),E729=0,E729=\"\",R729=0,R729=\"\"),\"\",ROUND((Q729*E729/R729),2))","v":""},{"$f":"IF(OR(AND(A729=\"\",B729=\"\",C729=\"\"),E729=0,E729=\"\",R729=0,R729=\"\"),\"\",ROUND((H729/(12*Q729*E729)+1)*Q729*E729/R729,2))","v":""},{"$f":"IF(OR(AND(A729=\"\",B729=\"\",C729=\"\"),R729=0,R729=\"\"),\"\",ROUND(W$4 / R729,1))","v":""},{"$f":"IF(OR(AND(A729=\"\",B729=\"\",C729=\"\"),N$4=\"\"),\"\",IF(AND(F729>0,H729>0),T729, IF(F729>0,S729, IF(AND(E729>0,H729>0),V729,U729))))","v":""},{"$f":"IF(W729<X729,W729,X729)","v":""},{"$f":"IF(W729<X729,Übersetzungstexte!A$186,\"\")","v":""},{"$f":"IF(AND(B729=\"\",C729=\"\"),\"\",CONCATENATE(B729,\",\",C729))","v":""}]
[null,null,null,null,null,null,null,null,null,null,null,"","",0,0,"",0,"","","","","","","","",{"$f":"IF(W730<X730,Übersetzungstexte!A$186,\"\")","v":""},""]
[null,null,null,null,null,null,null,null,null,null,null,"","",0,0,"",0,"","","","","","","","",{"$f":"IF(W731<X731,Übersetzungstexte!A$186,\"\")","v":""},""]
[null,null,null,null,null,null,null,null,null,null,null,"","",0,0,"",0,"","","","","","","","",{"$f":"IF(W732<X732,Übersetzungstexte!A$186,\"\")","v":""},""]
[null,null,null,null,null,null,null,null,null,null,null,"","",0,0,"",0,"","","","","","","","",{"$f":"IF(W733<X733,Übersetzungstexte!A$186,\"\")","v":""},""]
[null,null,null,null,null,null,null,null,null,null,null,"","",0,0,"",0,"","","","","","","","",{"$f":"IF(W734<X734,Übersetzungstexte!A$186,\"\")","v":""},""]
[null,null,null,null,null,null,null,null,null,null,null,"","",0,0,"",0,"","","","","","","","",{"$f":"IF(W735<X735,Übersetzungstexte!A$186,\"\")","v":""},""]
[null,null,null,null,null,null,null,null,null,null,null,"","",0,0,"",0,"","","","","","","","",{"$f":"IF(W736<X736,Übersetzungstexte!A$186,\"\")","v":""},""]
[null,null,null,null,null,null,null,null,null,null,null,"","",0,0,"",0,"","","","","","","","",{"$f":"IF(W737<X737,Übersetzungstexte!A$186,\"\")","v":""},""]
[null,null,null,null,null,null,null,null,null,null,null,"","",0,0,"",0,"","","","","","","","",{"$f":"IF(W738<X738,Übersetzungstexte!A$186,\"\")","v":""},""]
[null,null,null,null,null,null,null,null,null,null,null,"","",0,0,"",0,"","","","","","","","",{"$f":"IF(W739<X739,Übersetzungstexte!A$186,\"\")","v":""},""]
[null,null,null,null,null,null,null,null,null,null,null,"","",0,0,"",0,"","","","","","","","",{"$f":"IF(W740<X740,Übersetzungstexte!A$186,\"\")","v":""},""]
[null,null,null,null,null,null,null,null,null,null,null,"","",0,0,"",0,"","","","","","","","",{"$f":"IF(W741<X741,Übersetzungstexte!A$186,\"\")","v":""},""]
[null,null,null,null,null,null,null,null,null,null,null,"","",0,0,"",0,"","","","","","","","",{"$f":"IF(W742<X742,Übersetzungstexte!A$186,\"\")","v":""},""]
[null,null,null,null,null,null,null,null,null,null,null,"","",0,0,"",0,"","","","","","","","",{"$f":"IF(W743<X743,Übersetzungstexte!A$186,\"\")","v":""},""]
[null,null,null,null,null,null,null,null,null,null,null,"","",0,0,"",0,"","","","","","","","",{"$f":"IF(W744<X744,Übersetzungstexte!A$186,\"\")","v":""},""]
[null,null,null,null,null,null,null,null,null,null,null,"","",0,0,"",0,"","","","","","","","",{"$f":"IF(W745<X745,Übersetzungstexte!A$186,\"\")","v":""},""]
[null,null,null,null,null,null,null,null,null,null,null,"","",0,0,"",0,"","","","","","","","",{"$f":"IF(W746<X746,Übersetzungstexte!A$186,\"\")","v":""},""]
[null,null,null,null,null,null,null,null,null,null,null,"","",0,0,"",0,"","","","","","","","",{"$f":"IF(W747<X747,Übersetzungstexte!A$186,\"\")","v":""},""]
[null,null,null,null,null,null,null,null,null,null,null,"",{"$f":"Z748","v":""},{"$f":"IF(N$2-YEAR(D748)<N$3,0,1)","v":0},{"$f":"IF(L748=\"\",0,1)","v":0},{"$f":"IF(AND(A748=\"\",B748=\"\",C748=\"\"),\"\",ROUND((K748+J748)/(N$4-(K748+J748))*100,2))","v":""},{"$f":"ROUND(G748,0)/12","v":0},{"$f":"IF(AND(A748=\"\",B748=\"\",C748=\"\"),\"\",ROUND((N$4-(K748+J748))*I748/60,1))","v":""},{"$f":"IF(OR(AND(A748=\"\",B748=\"\",C748=\"\"),F748=0,F748=\"\"),\"\",ROUND((1+P748/100)*Q748*F748,2))","v":""},{"$f":"IF(OR(AND(A748=\"\",B748=\"\",C748=\"\"),F748=0,F748=\"\",I748=0,I748=\"\"),\"\",ROUND((1+P748/100)*(H748/(N$4*I748/5)+Q748*F748),2))","v":""},{"$f":"IF(OR(AND(A748=\"\",B748=\"\",C748=\"\"),E748=0,E748=\"\",R748=0,R748=\"\"),\"\",ROUND((Q748*E748/R748),2))","v":""},{"$f":"IF(OR(AND(A748=\"\",B748=\"\",C748=\"\"),E748=0,E748=\"\",R748=0,R748=\"\"),\"\",ROUND((H748/(12*Q748*E748)+1)*Q748*E748/R748,2))","v":""},{"$f":"IF(OR(AND(A748=\"\",B748=\"\",C748=\"\"),R748=0,R748=\"\"),\"\",ROUND(W$4 / R748,1))","v":""},{"$f":"IF(OR(AND(A748=\"\",B748=\"\",C748=\"\"),N$4=\"\"),\"\",IF(AND(F748>0,H748>0),T748, IF(F748>0,S748, IF(AND(E748>0,H748>0),V748,U748))))","v":""},{"$f":"IF(W748<X748,W748,X748)","v":""},{"$f":"IF(W748<X748,Übersetzungstexte!A$186,\"\")","v":""},{"$f":"IF(AND(B748=\"\",C748=\"\"),\"\",CONCATENATE(B748,\",\",C748))","v":""}]
[null,null,null,null,null,null,null,null,null,null,null,"",{"$f":"Z749","v":""},{"$f":"IF(N$2-YEAR(D749)<N$3,0,1)","v":0},{"$f":"IF(L749=\"\",0,1)","v":0},{"$f":"IF(AND(A749=\"\",B749=\"\",C749=\"\"),\"\",ROUND((K749+J749)/(N$4-(K749+J749))*100,2))","v":""},{"$f":"ROUND(G749,0)/12","v":0},{"$f":"IF(AND(A749=\"\",B749=\"\",C749=\"\"),\"\",ROUND((N$4-(K749+J749))*I749/60,1))","v":""},{"$f":"IF(OR(AND(A749=\"\",B749=\"\",C749=\"\"),F749=0,F749=\"\"),\"\",ROUND((1+P749/100)*Q749*F749,2))","v":""},{"$f":"IF(OR(AND(A749=\"\",B749=\"\",C749=\"\"),F749=0,F749=\"\",I749=0,I749=\"\"),\"\",ROUND((1+P749/100)*(H749/(N$4*I749/5)+Q749*F749),2))","v":""},{"$f":"IF(OR(AND(A749=\"\",B749=\"\",C749=\"\"),E749=0,E749=\"\",R749=0,R749=\"\"),\"\",ROUND((Q749*E749/R749),2))","v":""},{"$f":"IF(OR(AND(A749=\"\",B749=\"\",C749=\"\"),E749=0,E749=\"\",R749=0,R749=\"\"),\"\",ROUND((H749/(12*Q749*E749)+1)*Q749*E749/R749,2))","v":""},{"$f":"IF(OR(AND(A749=\"\",B749=\"\",C749=\"\"),R749=0,R749=\"\"),\"\",ROUND(W$4 / R749,1))","v":""},{"$f":"IF(OR(AND(A749=\"\",B749=\"\",C749=\"\"),N$4=\"\"),\"\",IF(AND(F749>0,H749>0),T749, IF(F749>0,S749, IF(AND(E749>0,H749>0),V749,U749))))","v":""},{"$f":"IF(W749<X749,W749,X749)","v":""},{"$f":"IF(W749<X749,Übersetzungstexte!A$186,\"\")","v":""},{"$f":"IF(AND(B749=\"\",C749=\"\"),\"\",CONCATENATE(B749,\",\",C749))","v":""}]
[]
[{"$f":"'Stammdaten Betrieb & Abteilung'!D$1","v":"  "},null,null,null,null,null,{"$f":"Übersetzungstexte!A$135","v":"Betrieb / Betriebsabteilung"},{"$f":"'Stammdaten Betrieb & Abteilung'!D$13","v":" "}]
[{"$f":"'Stammdaten Betrieb & Abteilung'!D$3","v":" "},null,null,null,null,null,{"$f":"Übersetzungstexte!A$136","v":"Abrechnungsperiode"},{"$f":"'Stammdaten Betrieb & Abteilung'!D$14","v":""}]
[{"$f":"'Stammdaten Betrieb & Abteilung'!D$4","v":" "},null,null,null,null,null,{"$f":"Übersetzungstexte!A$137","v":"Beginn / Ende der Kurzarbeit"},{"$f":"'Stammdaten Betrieb & Abteilung'!D$16","v":""}]
[]
[{"$f":"Übersetzungstexte!A$138","v":""},{"$f":"Übersetzungstexte!A$142","v":""},{"$f":"Übersetzungstexte!A$146","v":""},{"$f":"Übersetzungstexte!A$150","v":""},{"$f":"Übersetzungstexte!A$154","v":""},{"$f":"Übersetzungstexte!A$158","v":""},{"$f":"Übersetzungstexte!A$162","v":"Anzahl bez."},{"$f":"Übersetzungstexte!A$166","v":"Weitere"},{"$f":"Übersetzungstexte!A$170","v":"Jahres-"},{"$f":"Übersetzungstexte!A$174","v":""},{"$f":"Übersetzungstexte!A$178","v":""},{"$f":"Übersetzungstexte!A$182","v":"Anrechen-"},null,null,"Anzahl","Regel 7",null,"Regel 9","Regel 10","Regel 11","Regel 12","Regel 13","Regel 14","Regel 10-14","Regel 14","Regel 14"]
[{"$f":"Übersetzungstexte!A$139","v":""},{"$f":"Übersetzungstexte!A$143","v":""},{"$f":"Übersetzungstexte!A$147","v":""},{"$f":"Übersetzungstexte!A$151","v":""},{"$f":"Übersetzungstexte!A$155","v":""},{"$f":"Übersetzungstexte!A$159","v":""},{"$f":"Übersetzungstexte!A$163","v":"Monate "},{"$f":"Übersetzungstexte!A$167","v":"Lohn-"},{"$f":"Übersetzungstexte!A$171","v":"durchschn."},{"$f":"Übersetzungstexte!A$175","v":"Anzahl"},{"$f":"Übersetzungstexte!A$179","v":"Anzahl"},{"$f":"Übersetzungstexte!A$183","v":"barer"},null,null,"bezugs-","  FF12","S13 / 12","  deApM","Std. Lohn","Std. Lohn","Monatslohn","Monatslohn","Vergleichs-","Anrechenb.","Anrechenb.","Warnungs-"]
[{"$f":"Übersetzungstexte!A$140","v":""},{"$f":"Übersetzungstexte!A$144","v":""},{"$f":"Übersetzungstexte!A$148","v":""},{"$f":"Übersetzungstexte!A$152","v":"Geburts-"},{"$f":"Übersetzungstexte!A$156","v":"Monats-"},{"$f":"Übersetzungstexte!A$160","v":"Stunden-"},{"$f":"Übersetzungstexte!A$164","v":"pro Jahr"},{"$f":"Übersetzungstexte!A$168","v":"bestand-"},{"$f":"Übersetzungstexte!A$172","v":"wöchentl."},{"$f":"Übersetzungstexte!A$176","v":"Ferientage"},{"$f":"Übersetzungstexte!A$180","v":"Feiertage"},{"$f":"Übersetzungstexte!A$184","v":"Stunden-"},null,"AHV-","berechtigte",null,null,null,"ohne","mit","ohne","mit","wert","Std.-Verd.","Std.-","anzeige"]
[{"$f":"Übersetzungstexte!A$141","v":"Versicherten-Nr."},{"$f":"Übersetzungstexte!A$145","v":"Name"},{"$f":"Übersetzungstexte!A$149","v":"Vorname"},{"$f":"Übersetzungstexte!A$153","v":"datum"},{"$f":"Übersetzungstexte!A$157","v":"lohn"},{"$f":"Übersetzungstexte!A$161","v":"lohn"},{"$f":"Übersetzungstexte!A$165","v":"(12/13)"},{"$f":"Übersetzungstexte!A$169","v":"teile p. Jahr"},{"$f":"Übersetzungstexte!A$173","v":"Arbeitszeit"},{"$f":"Übersetzungstexte!A$177","v":"pro Jahr"},{"$f":"Übersetzungstexte!A$181","v":"pro Jahr"},{"$f":"Übersetzungstexte!A$185","v":"Verdienst"},null,"pflichtig","Mitarbeiter",null,null,null,"Prämie","Prämie","Prämie","Prämie",null,"aSV","Verdienst",null,"Name,Vorname"]
[null,null,null,null,null,null,null,null,null,null,null,{"$f":"Y759","v":""},{"$f":"Z759","v":""},{"$f":"IF(N$2-YEAR(D759)<N$3,0,1)","v":0},{"$f":"IF(L759=\"\",0,1)","v":0},{"$f":"IF(AND(A759=\"\",B759=\"\",C759=\"\"),\"\",ROUND((K759+J759)/(N$4-(K759+J759))*100,2))","v":""},{"$f":"ROUND(G759,0)/12","v":0},{"$f":"IF(AND(A759=\"\",B759=\"\",C759=\"\"),\"\",ROUND((N$4-(K759+J759))*I759/60,1))","v":""},{"$f":"IF(OR(AND(A759=\"\",B759=\"\",C759=\"\"),F759=0,F759=\"\"),\"\",ROUND((1+P759/100)*Q759*F759,2))","v":""},{"$f":"IF(OR(AND(A759=\"\",B759=\"\",C759=\"\"),F759=0,F759=\"\",I759=0,I759=\"\"),\"\",ROUND((1+P759/100)*(H759/(N$4*I759/5)+Q759*F759),2))","v":""},{"$f":"IF(OR(AND(A759=\"\",B759=\"\",C759=\"\"),E759=0,E759=\"\",R759=0,R759=\"\"),\"\",ROUND((Q759*E759/R759),2))","v":""},{"$f":"IF(OR(AND(A759=\"\",B759=\"\",C759=\"\"),E759=0,E759=\"\",R759=0,R759=\"\"),\"\",ROUND((H759/(12*Q759*E759)+1)*Q759*E759/R759,2))","v":""},{"$f":"IF(OR(AND(A759=\"\",B759=\"\",C759=\"\"),R759=0,R759=\"\"),\"\",ROUND(W$4 / R759,1))","v":""},{"$f":"IF(OR(AND(A759=\"\",B759=\"\",C759=\"\"),N$4=\"\"),\"\",IF(AND(F759>0,H759>0),T759, IF(F759>0,S759, IF(AND(E759>0,H759>0),V759,U759))))","v":""},{"$f":"IF(W759<X759,W759,X759)","v":""},{"$f":"IF(W759<X759,Übersetzungstexte!A$186,\"\")","v":""},{"$f":"IF(AND(B759=\"\",C759=\"\"),\"\",CONCATENATE(B759,\",\",C759))","v":""}]
[null,null,null,null,null,null,null,null,null,null,null,"","",0,0,"",0,"","","","","","","","",{"$f":"IF(W760<X760,Übersetzungstexte!A$186,\"\")","v":""},""]
[null,null,null,null,null,null,null,null,null,null,null,"","",0,0,"",0,"","","","","","","","",{"$f":"IF(W761<X761,Übersetzungstexte!A$186,\"\")","v":""},""]
[null,null,null,null,null,null,null,null,null,null,null,"","",0,0,"",0,"","","","","","","","",{"$f":"IF(W762<X762,Übersetzungstexte!A$186,\"\")","v":""},""]
[null,null,null,null,null,null,null,null,null,null,null,"","",0,0,"",0,"","","","","","","","",{"$f":"IF(W763<X763,Übersetzungstexte!A$186,\"\")","v":""},""]
[null,null,null,null,null,null,null,null,null,null,null,"","",0,0,"",0,"","","","","","","","",{"$f":"IF(W764<X764,Übersetzungstexte!A$186,\"\")","v":""},""]
[null,null,null,null,null,null,null,null,null,null,null,"","",0,0,"",0,"","","","","","","","",{"$f":"IF(W765<X765,Übersetzungstexte!A$186,\"\")","v":""},""]
[null,null,null,null,null,null,null,null,null,null,null,"","",0,0,"",0,"","","","","","","","",{"$f":"IF(W766<X766,Übersetzungstexte!A$186,\"\")","v":""},""]
[null,null,null,null,null,null,null,null,null,null,null,"","",0,0,"",0,"","","","","","","","",{"$f":"IF(W767<X767,Übersetzungstexte!A$186,\"\")","v":""},""]
[null,null,null,null,null,null,null,null,null,null,null,"","",0,0,"",0,"","","","","","","","",{"$f":"IF(W768<X768,Übersetzungstexte!A$186,\"\")","v":""},""]
[null,null,null,null,null,null,null,null,null,null,null,"","",0,0,"",0,"","","","","","","","",{"$f":"IF(W769<X769,Übersetzungstexte!A$186,\"\")","v":""},""]
[null,null,null,null,null,null,null,null,null,null,null,"","",0,0,"",0,"","","","","","","","",{"$f":"IF(W770<X770,Übersetzungstexte!A$186,\"\")","v":""},""]
[null,null,null,null,null,null,null,null,null,null,null,"","",0,0,"",0,"","","","","","","","",{"$f":"IF(W771<X771,Übersetzungstexte!A$186,\"\")","v":""},""]
[null,null,null,null,null,null,null,null,null,null,null,"","",0,0,"",0,"","","","","","","","",{"$f":"IF(W772<X772,Übersetzungstexte!A$186,\"\")","v":""},""]
[null,null,null,null,null,null,null,null,null,null,null,"","",0,0,"",0,"","","","","","","","",{"$f":"IF(W773<X773,Übersetzungstexte!A$186,\"\")","v":""},""]
[null,null,null,null,null,null,null,null,null,null,null,"","",0,0,"",0,"","","","","","","","",{"$f":"IF(W774<X774,Übersetzungstexte!A$186,\"\")","v":""},""]
[null,null,null,null,null,null,null,null,null,null,null,"","",0,0,"",0,"","","","","","","","",{"$f":"IF(W775<X775,Übersetzungstexte!A$186,\"\")","v":""},""]
[null,null,null,null,null,null,null,null,null,null,null,"","",0,0,"",0,"","","","","","","","",{"$f":"IF(W776<X776,Übersetzungstexte!A$186,\"\")","v":""},""]
[null,null,null,null,null,null,null,null,null,null,null,"","",0,0,"",0,"","","","","","","","",{"$f":"IF(W777<X777,Übersetzungstexte!A$186,\"\")","v":""},""]
[null,null,null,null,null,null,null,null,null,null,null,"",{"$f":"Z778","v":""},{"$f":"IF(N$2-YEAR(D778)<N$3,0,1)","v":0},{"$f":"IF(L778=\"\",0,1)","v":0},{"$f":"IF(AND(A778=\"\",B778=\"\",C778=\"\"),\"\",ROUND((K778+J778)/(N$4-(K778+J778))*100,2))","v":""},{"$f":"ROUND(G778,0)/12","v":0},{"$f":"IF(AND(A778=\"\",B778=\"\",C778=\"\"),\"\",ROUND((N$4-(K778+J778))*I778/60,1))","v":""},{"$f":"IF(OR(AND(A778=\"\",B778=\"\",C778=\"\"),F778=0,F778=\"\"),\"\",ROUND((1+P778/100)*Q778*F778,2))","v":""},{"$f":"IF(OR(AND(A778=\"\",B778=\"\",C778=\"\"),F778=0,F778=\"\",I778=0,I778=\"\"),\"\",ROUND((1+P778/100)*(H778/(N$4*I778/5)+Q778*F778),2))","v":""},{"$f":"IF(OR(AND(A778=\"\",B778=\"\",C778=\"\"),E778=0,E778=\"\",R778=0,R778=\"\"),\"\",ROUND((Q778*E778/R778),2))","v":""},{"$f":"IF(OR(AND(A778=\"\",B778=\"\",C778=\"\"),E778=0,E778=\"\",R778=0,R778=\"\"),\"\",ROUND((H778/(12*Q778*E778)+1)*Q778*E778/R778,2))","v":""},{"$f":"IF(OR(AND(A778=\"\",B778=\"\",C778=\"\"),R778=0,R778=\"\"),\"\",ROUND(W$4 / R778,1))","v":""},{"$f":"IF(OR(AND(A778=\"\",B778=\"\",C778=\"\"),N$4=\"\"),\"\",IF(AND(F778>0,H778>0),T778, IF(F778>0,S778, IF(AND(E778>0,H778>0),V778,U778))))","v":""},{"$f":"IF(W778<X778,W778,X778)","v":""},{"$f":"IF(W778<X778,Übersetzungstexte!A$186,\"\")","v":""},{"$f":"IF(AND(B778=\"\",C778=\"\"),\"\",CONCATENATE(B778,\",\",C778))","v":""}]
[null,null,null,null,null,null,null,null,null,null,null,"",{"$f":"Z779","v":""},{"$f":"IF(N$2-YEAR(D779)<N$3,0,1)","v":0},{"$f":"IF(L779=\"\",0,1)","v":0},{"$f":"IF(AND(A779=\"\",B779=\"\",C779=\"\"),\"\",ROUND((K779+J779)/(N$4-(K779+J779))*100,2))","v":""},{"$f":"ROUND(G779,0)/12","v":0},{"$f":"IF(AND(A779=\"\",B779=\"\",C779=\"\"),\"\",ROUND((N$4-(K779+J779))*I779/60,1))","v":""},{"$f":"IF(OR(AND(A779=\"\",B779=\"\",C779=\"\"),F779=0,F779=\"\"),\"\",ROUND((1+P779/100)*Q779*F779,2))","v":""},{"$f":"IF(OR(AND(A779=\"\",B779=\"\",C779=\"\"),F779=0,F779=\"\",I779=0,I779=\"\"),\"\",ROUND((1+P779/100)*(H779/(N$4*I779/5)+Q779*F779),2))","v":""},{"$f":"IF(OR(AND(A779=\"\",B779=\"\",C779=\"\"),E779=0,E779=\"\",R779=0,R779=\"\"),\"\",ROUND((Q779*E779/R779),2))","v":""},{"$f":"IF(OR(AND(A779=\"\",B779=\"\",C779=\"\"),E779=0,E779=\"\",R779=0,R779=\"\"),\"\",ROUND((H779/(12*Q779*E779)+1)*Q779*E779/R779,2))","v":""},{"$f":"IF(OR(AND(A779=\"\",B779=\"\",C779=\"\"),R779=0,R779=\"\"),\"\",ROUND(W$4 / R779,1))","v":""},{"$f":"IF(OR(AND(A779=\"\",B779=\"\",C779=\"\"),N$4=\"\"),\"\",IF(AND(F779>0,H779>0),T779, IF(F779>0,S779, IF(AND(E779>0,H779>0),V779,U779))))","v":""},{"$f":"IF(W779<X779,W779,X779)","v":""},{"$f":"IF(W779<X779,Übersetzungstexte!A$186,\"\")","v":""},{"$f":"IF(AND(B779=\"\",C779=\"\"),\"\",CONCATENATE(B779,\",\",C779))","v":""}]
[]
[{"$f":"'Stammdaten Betrieb & Abteilung'!D$1","v":"  "},null,null,null,null,null,{"$f":"Übersetzungstexte!A$135","v":"Betrieb / Betriebsabteilung"},{"$f":"'Stammdaten Betrieb & Abteilung'!D$13","v":" "}]
[{"$f":"'Stammdaten Betrieb & Abteilung'!D$3","v":" "},null,null,null,null,null,{"$f":"Übersetzungstexte!A$136","v":"Abrechnungsperiode"},{"$f":"'Stammdaten Betrieb & Abteilung'!D$14","v":""}]
[{"$f":"'Stammdaten Betrieb & Abteilung'!D$4","v":" "},null,null,null,null,null,{"$f":"Übersetzungstexte!A$137","v":"Beginn / Ende der Kurzarbeit"},{"$f":"'Stammdaten Betrieb & Abteilung'!D$16","v":""}]
[]
[{"$f":"Übersetzungstexte!A$138","v":""},{"$f":"Übersetzungstexte!A$142","v":""},{"$f":"Übersetzungstexte!A$146","v":""},{"$f":"Übersetzungstexte!A$150","v":""},{"$f":"Übersetzungstexte!A$154","v":""},{"$f":"Übersetzungstexte!A$158","v":""},{"$f":"Übersetzungstexte!A$162","v":"Anzahl bez."},{"$f":"Übersetzungstexte!A$166","v":"Weitere"},{"$f":"Übersetzungstexte!A$170","v":"Jahres-"},{"$f":"Übersetzungstexte!A$174","v":""},{"$f":"Übersetzungstexte!A$178","v":""},{"$f":"Übersetzungstexte!A$182","v":"Anrechen-"},null,null,"Anzahl","Regel 7",null,"Regel 9","Regel 10","Regel 11","Regel 12","Regel 13","Regel 14","Regel 10-14","Regel 14","Regel 14"]
[{"$f":"Übersetzungstexte!A$139","v":""},{"$f":"Übersetzungstexte!A$143","v":""},{"$f":"Übersetzungstexte!A$147","v":""},{"$f":"Übersetzungstexte!A$151","v":""},{"$f":"Übersetzungstexte!A$155","v":""},{"$f":"Übersetzungstexte!A$159","v":""},{"$f":"Übersetzungstexte!A$163","v":"Monate "},{"$f":"Übersetzungstexte!A$167","v":"Lohn-"},{"$f":"Übersetzungstexte!A$171","v":"durchschn."},{"$f":"Übersetzungstexte!A$175","v":"Anzahl"},{"$f":"Übersetzungstexte!A$179","v":"Anzahl"},{"$f":"Übersetzungstexte!A$183","v":"barer"},null,null,"bezugs-","  FF12","S13 / 12","  deApM","Std. Lohn","Std. Lohn","Monatslohn","Monatslohn","Vergleichs-","Anrechenb.","Anrechenb.","Warnungs-"]
[{"$f":"Übersetzungstexte!A$140","v":""},{"$f":"Übersetzungstexte!A$144","v":""},{"$f":"Übersetzungstexte!A$148","v":""},{"$f":"Übersetzungstexte!A$152","v":"Geburts-"},{"$f":"Übersetzungstexte!A$156","v":"Monats-"},{"$f":"Übersetzungstexte!A$160","v":"Stunden-"},{"$f":"Übersetzungstexte!A$164","v":"pro Jahr"},{"$f":"Übersetzungstexte!A$168","v":"bestand-"},{"$f":"Übersetzungstexte!A$172","v":"wöchentl."},{"$f":"Übersetzungstexte!A$176","v":"Ferientage"},{"$f":"Übersetzungstexte!A$180","v":"Feiertage"},{"$f":"Übersetzungstexte!A$184","v":"Stunden-"},null,"AHV-","berechtigte",null,null,null,"ohne","mit","ohne","mit","wert","Std.-Verd.","Std.-","anzeige"]
[{"$f":"Übersetzungstexte!A$141","v":"Versicherten-Nr."},{"$f":"Übersetzungstexte!A$145","v":"Name"},{"$f":"Übersetzungstexte!A$149","v":"Vorname"},{"$f":"Übersetzungstexte!A$153","v":"datum"},{"$f":"Übersetzungstexte!A$157","v":"lohn"},{"$f":"Übersetzungstexte!A$161","v":"lohn"},{"$f":"Übersetzungstexte!A$165","v":"(12/13)"},{"$f":"Übersetzungstexte!A$169","v":"teile p. Jahr"},{"$f":"Übersetzungstexte!A$173","v":"Arbeitszeit"},{"$f":"Übersetzungstexte!A$177","v":"pro Jahr"},{"$f":"Übersetzungstexte!A$181","v":"pro Jahr"},{"$f":"Übersetzungstexte!A$185","v":"Verdienst"},null,"pflichtig","Mitarbeiter",null,null,null,"Prämie","Prämie","Prämie","Prämie",null,"aSV","Verdienst",null,"Name,Vorname"]
[null,null,null,null,null,null,null,null,null,null,null,{"$f":"Y789","v":""},{"$f":"Z789","v":""},{"$f":"IF(N$2-YEAR(D789)<N$3,0,1)","v":0},{"$f":"IF(L789=\"\",0,1)","v":0},{"$f":"IF(AND(A789=\"\",B789=\"\",C789=\"\"),\"\",ROUND((K789+J789)/(N$4-(K789+J789))*100,2))","v":""},{"$f":"ROUND(G789,0)/12","v":0},{"$f":"IF(AND(A789=\"\",B789=\"\",C789=\"\"),\"\",ROUND((N$4-(K789+J789))*I789/60,1))","v":""},{"$f":"IF(OR(AND(A789=\"\",B789=\"\",C789=\"\"),F789=0,F789=\"\"),\"\",ROUND((1+P789/100)*Q789*F789,2))","v":""},{"$f":"IF(OR(AND(A789=\"\",B789=\"\",C789=\"\"),F789=0,F789=\"\",I789=0,I789=\"\"),\"\",ROUND((1+P789/100)*(H789/(N$4*I789/5)+Q789*F789),2))","v":""},{"$f":"IF(OR(AND(A789=\"\",B789=\"\",C789=\"\"),E789=0,E789=\"\",R789=0,R789=\"\"),\"\",ROUND((Q789*E789/R789),2))","v":""},{"$f":"IF(OR(AND(A789=\"\",B789=\"\",C789=\"\"),E789=0,E789=\"\",R789=0,R789=\"\"),\"\",ROUND((H789/(12*Q789*E789)+1)*Q789*E789/R789,2))","v":""},{"$f":"IF(OR(AND(A789=\"\",B789=\"\",C789=\"\"),R789=0,R789=\"\"),\"\",ROUND(W$4 / R789,1))","v":""},{"$f":"IF(OR(AND(A789=\"\",B789=\"\",C789=\"\"),N$4=\"\"),\"\",IF(AND(F789>0,H789>0),T789, IF(F789>0,S789, IF(AND(E789>0,H789>0),V789,U789))))","v":""},{"$f":"IF(W789<X789,W789,X789)","v":""},{"$f":"IF(W789<X789,Übersetzungstexte!A$186,\"\")","v":""},{"$f":"IF(AND(B789=\"\",C789=\"\"),\"\",CONCATENATE(B789,\",\",C789))","v":""}]
[null,null,null,null,null,null,null,null,null,null,null,"","",0,0,"",0,"","","","","","","","",{"$f":"IF(W790<X790,Übersetzungstexte!A$186,\"\")","v":""},""]
[null,null,null,null,null,null,null,null,null,null,null,"","",0,0,"",0,"","","","","","","","",{"$f":"IF(W791<X791,Übersetzungstexte!A$186,\"\")","v":""},""]
[null,null,null,null,null,null,null,null,null,null,null,"","",0,0,"",0,"","","","","","","","",{"$f":"IF(W792<X792,Übersetzungstexte!A$186,\"\")","v":""},""]
[null,null,null,null,null,null,null,null,null,null,null,"","",0,0,"",0,"","","","","","","","",{"$f":"IF(W793<X793,Übersetzungstexte!A$186,\"\")","v":""},""]
[null,null,null,null,null,null,null,null,null,null,null,"","",0,0,"",0,"","","","","","","","",{"$f":"IF(W794<X794,Übersetzungstexte!A$186,\"\")","v":""},""]
[null,null,null,null,null,null,null,null,null,null,null,"","",0,0,"",0,"","","","","","","","",{"$f":"IF(W795<X795,Übersetzungstexte!A$186,\"\")","v":""},""]
[null,null,null,null,null,null,null,null,null,null,null,"","",0,0,"",0,"","","","","","","","",{"$f":"IF(W796<X796,Übersetzungstexte!A$186,\"\")","v":""},""]
[null,null,null,null,null,null,null,null,null,null,null,"","",0,0,"",0,"","","","","","","","",{"$f":"IF(W797<X797,Übersetzungstexte!A$186,\"\")","v":""},""]
[null,null,null,null,null,null,null,null,null,null,null,"","",0,0,"",0,"","","","","","","","",{"$f":"IF(W798<X798,Übersetzungstexte!A$186,\"\")","v":""},""]
[null,null,null,null,null,null,null,null,null,null,null,"","",0,0,"",0,"","","","","","","","",{"$f":"IF(W799<X799,Übersetzungstexte!A$186,\"\")","v":""},""]
[null,null,null,null,null,null,null,null,null,null,null,"","",0,0,"",0,"","","","","","","","",{"$f":"IF(W800<X800,Übersetzungstexte!A$186,\"\")","v":""},""]
[null,null,null,null,null,null,null,null,null,null,null,"","",0,0,"",0,"","","","","","","","",{"$f":"IF(W801<X801,Übersetzungstexte!A$186,\"\")","v":""},""]
[null,null,null,null,null,null,null,null,null,null,null,"","",0,0,"",0,"","","","","","","","",{"$f":"IF(W802<X802,Übersetzungstexte!A$186,\"\")","v":""},""]
[null,null,null,null,null,null,null,null,null,null,null,"","",0,0,"",0,"","","","","","","","",{"$f":"IF(W803<X803,Übersetzungstexte!A$186,\"\")","v":""},""]
[null,null,null,null,null,null,null,null,null,null,null,"","",0,0,"",0,"","","","","","","","",{"$f":"IF(W804<X804,Übersetzungstexte!A$186,\"\")","v":""},""]
[null,null,null,null,null,null,null,null,null,null,null,"","",0,0,"",0,"","","","","","","","",{"$f":"IF(W805<X805,Übersetzungstexte!A$186,\"\")","v":""},""]
[null,null,null,null,null,null,null,null,null,null,null,"","",0,0,"",0,"","","","","","","","",{"$f":"IF(W806<X806,Übersetzungstexte!A$186,\"\")","v":""},""]
[null,null,null,null,null,null,null,null,null,null,null,"","",0,0,"",0,"","","","","","","","",{"$f":"IF(W807<X807,Übersetzungstexte!A$186,\"\")","v":""},""]
[null,null,null,null,null,null,null,null,null,null,null,"",{"$f":"Z808","v":""},{"$f":"IF(N$2-YEAR(D808)<N$3,0,1)","v":0},{"$f":"IF(L808=\"\",0,1)","v":0},{"$f":"IF(AND(A808=\"\",B808=\"\",C808=\"\"),\"\",ROUND((K808+J808)/(N$4-(K808+J808))*100,2))","v":""},{"$f":"ROUND(G808,0)/12","v":0},{"$f":"IF(AND(A808=\"\",B808=\"\",C808=\"\"),\"\",ROUND((N$4-(K808+J808))*I808/60,1))","v":""},{"$f":"IF(OR(AND(A808=\"\",B808=\"\",C808=\"\"),F808=0,F808=\"\"),\"\",ROUND((1+P808/100)*Q808*F808,2))","v":""},{"$f":"IF(OR(AND(A808=\"\",B808=\"\",C808=\"\"),F808=0,F808=\"\",I808=0,I808=\"\"),\"\",ROUND((1+P808/100)*(H808/(N$4*I808/5)+Q808*F808),2))","v":""},{"$f":"IF(OR(AND(A808=\"\",B808=\"\",C808=\"\"),E808=0,E808=\"\",R808=0,R808=\"\"),\"\",ROUND((Q808*E808/R808),2))","v":""},{"$f":"IF(OR(AND(A808=\"\",B808=\"\",C808=\"\"),E808=0,E808=\"\",R808=0,R808=\"\"),\"\",ROUND((H808/(12*Q808*E808)+1)*Q808*E808/R808,2))","v":""},{"$f":"IF(OR(AND(A808=\"\",B808=\"\",C808=\"\"),R808=0,R808=\"\"),\"\",ROUND(W$4 / R808,1))","v":""},{"$f":"IF(OR(AND(A808=\"\",B808=\"\",C808=\"\"),N$4=\"\"),\"\",IF(AND(F808>0,H808>0),T808, IF(F808>0,S808, IF(AND(E808>0,H808>0),V808,U808))))","v":""},{"$f":"IF(W808<X808,W808,X808)","v":""},{"$f":"IF(W808<X808,Übersetzungstexte!A$186,\"\")","v":""},{"$f":"IF(AND(B808=\"\",C808=\"\"),\"\",CONCATENATE(B808,\",\",C808))","v":""}]
[null,null,null,null,null,null,null,null,null,null,null,"",{"$f":"Z809","v":""},{"$f":"IF(N$2-YEAR(D809)<N$3,0,1)","v":0},{"$f":"IF(L809=\"\",0,1)","v":0},{"$f":"IF(AND(A809=\"\",B809=\"\",C809=\"\"),\"\",ROUND((K809+J809)/(N$4-(K809+J809))*100,2))","v":""},{"$f":"ROUND(G809,0)/12","v":0},{"$f":"IF(AND(A809=\"\",B809=\"\",C809=\"\"),\"\",ROUND((N$4-(K809+J809))*I809/60,1))","v":""},{"$f":"IF(OR(AND(A809=\"\",B809=\"\",C809=\"\"),F809=0,F809=\"\"),\"\",ROUND((1+P809/100)*Q809*F809,2))","v":""},{"$f":"IF(OR(AND(A809=\"\",B809=\"\",C809=\"\"),F809=0,F809=\"\",I809=0,I809=\"\"),\"\",ROUND((1+P809/100)*(H809/(N$4*I809/5)+Q809*F809),2))","v":""},{"$f":"IF(OR(AND(A809=\"\",B809=\"\",C809=\"\"),E809=0,E809=\"\",R809=0,R809=\"\"),\"\",ROUND((Q809*E809/R809),2))","v":""},{"$f":"IF(OR(AND(A809=\"\",B809=\"\",C809=\"\"),E809=0,E809=\"\",R809=0,R809=\"\"),\"\",ROUND((H809/(12*Q809*E809)+1)*Q809*E809/R809,2))","v":""},{"$f":"IF(OR(AND(A809=\"\",B809=\"\",C809=\"\"),R809=0,R809=\"\"),\"\",ROUND(W$4 / R809,1))","v":""},{"$f":"IF(OR(AND(A809=\"\",B809=\"\",C809=\"\"),N$4=\"\"),\"\",IF(AND(F809>0,H809>0),T809, IF(F809>0,S809, IF(AND(E809>0,H809>0),V809,U809))))","v":""},{"$f":"IF(W809<X809,W809,X809)","v":""},{"$f":"IF(W809<X809,Übersetzungstexte!A$186,\"\")","v":""},{"$f":"IF(AND(B809=\"\",C809=\"\"),\"\",CONCATENATE(B809,\",\",C809))","v":""}]
[]
[{"$f":"'Stammdaten Betrieb & Abteilung'!D$1","v":"  "},null,null,null,null,null,{"$f":"Übersetzungstexte!A$135","v":"Betrieb / Betriebsabteilung"},{"$f":"'Stammdaten Betrieb & Abteilung'!D$13","v":" "}]
[{"$f":"'Stammdaten Betrieb & Abteilung'!D$3","v":" "},null,null,null,null,null,{"$f":"Übersetzungstexte!A$136","v":"Abrechnungsperiode"},{"$f":"'Stammdaten Betrieb & Abteilung'!D$14","v":""}]
[{"$f":"'Stammdaten Betrieb & Abteilung'!D$4","v":" "},null,null,null,null,null,{"$f":"Übersetzungstexte!A$137","v":"Beginn / Ende der Kurzarbeit"},{"$f":"'Stammdaten Betrieb & Abteilung'!D$16","v":""}]
[]
[{"$f":"Übersetzungstexte!A$138","v":""},{"$f":"Übersetzungstexte!A$142","v":""},{"$f":"Übersetzungstexte!A$146","v":""},{"$f":"Übersetzungstexte!A$150","v":""},{"$f":"Übersetzungstexte!A$154","v":""},{"$f":"Übersetzungstexte!A$158","v":""},{"$f":"Übersetzungstexte!A$162","v":"Anzahl bez."},{"$f":"Übersetzungstexte!A$166","v":"Weitere"},{"$f":"Übersetzungstexte!A$170","v":"Jahres-"},{"$f":"Übersetzungstexte!A$174","v":""},{"$f":"Übersetzungstexte!A$178","v":""},{"$f":"Übersetzungstexte!A$182","v":"Anrechen-"},null,null,"Anzahl","Regel 7",null,"Regel 9","Regel 10","Regel 11","Regel 12","Regel 13","Regel 14","Regel 10-14","Regel 14","Regel 14"]
[{"$f":"Übersetzungstexte!A$139","v":""},{"$f":"Übersetzungstexte!A$143","v":""},{"$f":"Übersetzungstexte!A$147","v":""},{"$f":"Übersetzungstexte!A$151","v":""},{"$f":"Übersetzungstexte!A$155","v":""},{"$f":"Übersetzungstexte!A$159","v":""},{"$f":"Übersetzungstexte!A$163","v":"Monate "},{"$f":"Übersetzungstexte!A$167","v":"Lohn-"},{"$f":"Übersetzungstexte!A$171","v":"durchschn."},{"$f":"Übersetzungstexte!A$175","v":"Anzahl"},{"$f":"Übersetzungstexte!A$179","v":"Anzahl"},{"$f":"Übersetzungstexte!A$183","v":"barer"},null,null,"bezugs-","  FF12","S13 / 12","  deApM","Std. Lohn","Std. Lohn","Monatslohn","Monatslohn","Vergleichs-","Anrechenb.","Anrechenb.","Warnungs-"]
[{"$f":"Übersetzungstexte!A$140","v":""},{"$f":"Übersetzungstexte!A$144","v":""},{"$f":"Übersetzungstexte!A$148","v":""},{"$f":"Übersetzungstexte!A$152","v":"Geburts-"},{"$f":"Übersetzungstexte!A$156","v":"Monats-"},{"$f":"Übersetzungstexte!A$160","v":"Stunden-"},{"$f":"Übersetzungstexte!A$164","v":"pro Jahr"},{"$f":"Übersetzungstexte!A$168","v":"bestand-"},{"$f":"Übersetzungstexte!A$172","v":"wöchentl."},{"$f":"Übersetzungstexte!A$176","v":"Ferientage"},{"$f":"Übersetzungstexte!A$180","v":"Feiertage"},{"$f":"Übersetzungstexte!A$184","v":"Stunden-"},null,"AHV-","berechtigte",null,null,null,"ohne","mit","ohne","mit","wert","Std.-Verd.","Std.-","anzeige"]
[{"$f":"Übersetzungstexte!A$141","v":"Versicherten-Nr."},{"$f":"Übersetzungstexte!A$145","v":"Name"},{"$f":"Übersetzungstexte!A$149","v":"Vorname"},{"$f":"Übersetzungstexte!A$153","v":"datum"},{"$f":"Übersetzungstexte!A$157","v":"lohn"},{"$f":"Übersetzungstexte!A$161","v":"lohn"},{"$f":"Übersetzungstexte!A$165","v":"(12/13)"},{"$f":"Übersetzungstexte!A$169","v":"teile p. Jahr"},{"$f":"Übersetzungstexte!A$173","v":"Arbeitszeit"},{"$f":"Übersetzungstexte!A$177","v":"pro Jahr"},{"$f":"Übersetzungstexte!A$181","v":"pro Jahr"},{"$f":"Übersetzungstexte!A$185","v":"Verdienst"},null,"pflichtig","Mitarbeiter",null,null,null,"Prämie","Prämie","Prämie","Prämie",null,"aSV","Verdienst",null,"Name,Vorname"]
[null,null,null,null,null,null,null,null,null,null,null,{"$f":"Y819","v":""},{"$f":"Z819","v":""},{"$f":"IF(N$2-YEAR(D819)<N$3,0,1)","v":0},{"$f":"IF(L819=\"\",0,1)","v":0},{"$f":"IF(AND(A819=\"\",B819=\"\",C819=\"\"),\"\",ROUND((K819+J819)/(N$4-(K819+J819))*100,2))","v":""},{"$f":"ROUND(G819,0)/12","v":0},{"$f":"IF(AND(A819=\"\",B819=\"\",C819=\"\"),\"\",ROUND((N$4-(K819+J819))*I819/60,1))","v":""},{"$f":"IF(OR(AND(A819=\"\",B819=\"\",C819=\"\"),F819=0,F819=\"\"),\"\",ROUND((1+P819/100)*Q819*F819,2))","v":""},{"$f":"IF(OR(AND(A819=\"\",B819=\"\",C819=\"\"),F819=0,F819=\"\",I819=0,I819=\"\"),\"\",ROUND((1+P819/100)*(H819/(N$4*I819/5)+Q819*F819),2))","v":""},{"$f":"IF(OR(AND(A819=\"\",B819=\"\",C819=\"\"),E819=0,E819=\"\",R819=0,R819=\"\"),\"\",ROUND((Q819*E819/R819),2))","v":""},{"$f":"IF(OR(AND(A819=\"\",B819=\"\",C819=\"\"),E819=0,E819=\"\",R819=0,R819=\"\"),\"\",ROUND((H819/(12*Q819*E819)+1)*Q819*E819/R819,2))","v":""},{"$f":"IF(OR(AND(A819=\"\",B819=\"\",C819=\"\"),R819=0,R819=\"\"),\"\",ROUND(W$4 / R819,1))","v":""},{"$f":"IF(OR(AND(A819=\"\",B819=\"\",C819=\"\"),N$4=\"\"),\"\",IF(AND(F819>0,H819>0),T819, IF(F819>0,S819, IF(AND(E819>0,H819>0),V819,U819))))","v":""},{"$f":"IF(W819<X819,W819,X819)","v":""},{"$f":"IF(W819<X819,Übersetzungstexte!A$186,\"\")","v":""},{"$f":"IF(AND(B819=\"\",C819=\"\"),\"\",CONCATENATE(B819,\",\",C819))","v":""}]
[null,null,null,null,null,null,null,null,null,null,null,"","",0,0,"",0,"","","","","","","","",{"$f":"IF(W820<X820,Übersetzungstexte!A$186,\"\")","v":""},""]
[null,null,null,null,null,null,null,null,null,null,null,"","",0,0,"",0,"","","","","","","","",{"$f":"IF(W821<X821,Übersetzungstexte!A$186,\"\")","v":""},""]
[null,null,null,null,null,null,null,null,null,null,null,"","",0,0,"",0,"","","","","","","","",{"$f":"IF(W822<X822,Übersetzungstexte!A$186,\"\")","v":""},""]
[null,null,null,null,null,null,null,null,null,null,null,"","",0,0,"",0,"","","","","","","","",{"$f":"IF(W823<X823,Übersetzungstexte!A$186,\"\")","v":""},""]
[null,null,null,null,null,null,null,null,null,null,null,"","",0,0,"",0,"","","","","","","","",{"$f":"IF(W824<X824,Übersetzungstexte!A$186,\"\")","v":""},""]
[null,null,null,null,null,null,null,null,null,null,null,"","",0,0,"",0,"","","","","","","","",{"$f":"IF(W825<X825,Übersetzungstexte!A$186,\"\")","v":""},""]
[null,null,null,null,null,null,null,null,null,null,null,"","",0,0,"",0,"","","","","","","","",{"$f":"IF(W826<X826,Übersetzungstexte!A$186,\"\")","v":""},""]
[null,null,null,null,null,null,null,null,null,null,null,"","",0,0,"",0,"","","","","","","","",{"$f":"IF(W827<X827,Übersetzungstexte!A$186,\"\")","v":""},""]
[null,null,null,null,null,null,null,null,null,null,null,"","",0,0,"",0,"","","","","","","","",{"$f":"IF(W828<X828,Übersetzungstexte!A$186,\"\")","v":""},""]
[null,null,null,null,null,null,null,null,null,null,null,"","",0,0,"",0,"","","","","","","","",{"$f":"IF(W829<X829,Übersetzungstexte!A$186,\"\")","v":""},""]
[null,null,null,null,null,null,null,null,null,null,null,"","",0,0,"",0,"","","","","","","","",{"$f":"IF(W830<X830,Übersetzungstexte!A$186,\"\")","v":""},""]
[null,null,null,null,null,null,null,null,null,null,null,"","",0,0,"",0,"","","","","","","","",{"$f":"IF(W831<X831,Übersetzungstexte!A$186,\"\")","v":""},""]
[null,null,null,null,null,null,null,null,null,null,null,"","",0,0,"",0,"","","","","","","","",{"$f":"IF(W832<X832,Übersetzungstexte!A$186,\"\")","v":""},""]
[null,null,null,null,null,null,null,null,null,null,null,"","",0,0,"",0,"","","","","","","","",{"$f":"IF(W833<X833,Übersetzungstexte!A$186,\"\")","v":""},""]
[null,null,null,null,null,null,null,null,null,null,null,"","",0,0,"",0,"","","","","","","","",{"$f":"IF(W834<X834,Übersetzungstexte!A$186,\"\")","v":""},""]
[null,null,null,null,null,null,null,null,null,null,null,"","",0,0,"",0,"","","","","","","","",{"$f":"IF(W835<X835,Übersetzungstexte!A$186,\"\")","v":""},""]
[null,null,null,null,null,null,null,null,null,null,null,"","",0,0,"",0,"","","","","","","","",{"$f":"IF(W836<X836,Übersetzungstexte!A$186,\"\")","v":""},""]
[null,null,null,null,null,null,null,null,null,null,null,"","",0,0,"",0,"","","","","","","","",{"$f":"IF(W837<X837,Übersetzungstexte!A$186,\"\")","v":""},""]
[null,null,null,null,null,null,null,null,null,null,null,"",{"$f":"Z838","v":""},{"$f":"IF(N$2-YEAR(D838)<N$3,0,1)","v":0},{"$f":"IF(L838=\"\",0,1)","v":0},{"$f":"IF(AND(A838=\"\",B838=\"\",C838=\"\"),\"\",ROUND((K838+J838)/(N$4-(K838+J838))*100,2))","v":""},{"$f":"ROUND(G838,0)/12","v":0},{"$f":"IF(AND(A838=\"\",B838=\"\",C838=\"\"),\"\",ROUND((N$4-(K838+J838))*I838/60,1))","v":""},{"$f":"IF(OR(AND(A838=\"\",B838=\"\",C838=\"\"),F838=0,F838=\"\"),\"\",ROUND((1+P838/100)*Q838*F838,2))","v":""},{"$f":"IF(OR(AND(A838=\"\",B838=\"\",C838=\"\"),F838=0,F838=\"\",I838=0,I838=\"\"),\"\",ROUND((1+P838/100)*(H838/(N$4*I838/5)+Q838*F838),2))","v":""},{"$f":"IF(OR(AND(A838=\"\",B838=\"\",C838=\"\"),E838=0,E838=\"\",R838=0,R838=\"\"),\"\",ROUND((Q838*E838/R838),2))","v":""},{"$f":"IF(OR(AND(A838=\"\",B838=\"\",C838=\"\"),E838=0,E838=\"\",R838=0,R838=\"\"),\"\",ROUND((H838/(12*Q838*E838)+1)*Q838*E838/R838,2))","v":""},{"$f":"IF(OR(AND(A838=\"\",B838=\"\",C838=\"\"),R838=0,R838=\"\"),\"\",ROUND(W$4 / R838,1))","v":""},{"$f":"IF(OR(AND(A838=\"\",B838=\"\",C838=\"\"),N$4=\"\"),\"\",IF(AND(F838>0,H838>0),T838, IF(F838>0,S838, IF(AND(E838>0,H838>0),V838,U838))))","v":""},{"$f":"IF(W838<X838,W838,X838)","v":""},{"$f":"IF(W838<X838,Übersetzungstexte!A$186,\"\")","v":""},{"$f":"IF(AND(B838=\"\",C838=\"\"),\"\",CONCATENATE(B838,\",\",C838))","v":""}]
[null,null,null,null,null,null,null,null,null,null,null,"",{"$f":"Z839","v":""},{"$f":"IF(N$2-YEAR(D839)<N$3,0,1)","v":0},{"$f":"IF(L839=\"\",0,1)","v":0},{"$f":"IF(AND(A839=\"\",B839=\"\",C839=\"\"),\"\",ROUND((K839+J839)/(N$4-(K839+J839))*100,2))","v":""},{"$f":"ROUND(G839,0)/12","v":0},{"$f":"IF(AND(A839=\"\",B839=\"\",C839=\"\"),\"\",ROUND((N$4-(K839+J839))*I839/60,1))","v":""},{"$f":"IF(OR(AND(A839=\"\",B839=\"\",C839=\"\"),F839=0,F839=\"\"),\"\",ROUND((1+P839/100)*Q839*F839,2))","v":""},{"$f":"IF(OR(AND(A839=\"\",B839=\"\",C839=\"\"),F839=0,F839=\"\",I839=0,I839=\"\"),\"\",ROUND((1+P839/100)*(H839/(N$4*I839/5)+Q839*F839),2))","v":""},{"$f":"IF(OR(AND(A839=\"\",B839=\"\",C839=\"\"),E839=0,E839=\"\",R839=0,R839=\"\"),\"\",ROUND((Q839*E839/R839),2))","v":""},{"$f":"IF(OR(AND(A839=\"\",B839=\"\",C839=\"\"),E839=0,E839=\"\",R839=0,R839=\"\"),\"\",ROUND((H839/(12*Q839*E839)+1)*Q839*E839/R839,2))","v":""},{"$f":"IF(OR(AND(A839=\"\",B839=\"\",C839=\"\"),R839=0,R839=\"\"),\"\",ROUND(W$4 / R839,1))","v":""},{"$f":"IF(OR(AND(A839=\"\",B839=\"\",C839=\"\"),N$4=\"\"),\"\",IF(AND(F839>0,H839>0),T839, IF(F839>0,S839, IF(AND(E839>0,H839>0),V839,U839))))","v":""},{"$f":"IF(W839<X839,W839,X839)","v":""},{"$f":"IF(W839<X839,Übersetzungstexte!A$186,\"\")","v":""},{"$f":"IF(AND(B839=\"\",C839=\"\"),\"\",CONCATENATE(B839,\",\",C839))","v":""}]
[]
[{"$f":"'Stammdaten Betrieb & Abteilung'!D$1","v":"  "},null,null,null,null,null,{"$f":"Übersetzungstexte!A$135","v":"Betrieb / Betriebsabteilung"},{"$f":"'Stammdaten Betrieb & Abteilung'!D$13","v":" "}]
[{"$f":"'Stammdaten Betrieb & Abteilung'!D$3","v":" "},null,null,null,null,null,{"$f":"Übersetzungstexte!A$136","v":"Abrechnungsperiode"},{"$f":"'Stammdaten Betrieb & Abteilung'!D$14","v":""}]
[{"$f":"'Stammdaten Betrieb & Abteilung'!D$4","v":" "},null,null,null,null,null,{"$f":"Übersetzungstexte!A$137","v":"Beginn / Ende der Kurzarbeit"},{"$f":"'Stammdaten Betrieb & Abteilung'!D$16","v":""}]
[]
[{"$f":"Übersetzungstexte!A$138","v":""},{"$f":"Übersetzungstexte!A$142","v":""},{"$f":"Übersetzungstexte!A$146","v":""},{"$f":"Übersetzungstexte!A$150","v":""},{"$f":"Übersetzungstexte!A$154","v":""},{"$f":"Übersetzungstexte!A$158","v":""},{"$f":"Übersetzungstexte!A$162","v":"Anzahl bez."},{"$f":"Übersetzungstexte!A$166","v":"Weitere"},{"$f":"Übersetzungstexte!A$170","v":"Jahres-"},{"$f":"Übersetzungstexte!A$174","v":""},{"$f":"Übersetzungstexte!A$178","v":""},{"$f":"Übersetzungstexte!A$182","v":"Anrechen-"},null,null,"Anzahl","Regel 7",null,"Regel 9","Regel 10","Regel 11","Regel 12","Regel 13","Regel 14","Regel 10-14","Regel 14","Regel 14"]
[{"$f":"Übersetzungstexte!A$139","v":""},{"$f":"Übersetzungstexte!A$143","v":""},{"$f":"Übersetzungstexte!A$147","v":""},{"$f":"Übersetzungstexte!A$151","v":""},{"$f":"Übersetzungstexte!A$155","v":""},{"$f":"Übersetzungstexte!A$159","v":""},{"$f":"Übersetzungstexte!A$163","v":"Monate "},{"$f":"Übersetzungstexte!A$167","v":"Lohn-"},{"$f":"Übersetzungstexte!A$171","v":"durchschn."},{"$f":"Übersetzungstexte!A$175","v":"Anzahl"},{"$f":"Übersetzungstexte!A$179","v":"Anzahl"},{"$f":"Übersetzungstexte!A$183","v":"barer"},null,null,"bezugs-","  FF12","S13 / 12","  deApM","Std. Lohn","Std. Lohn","Monatslohn","Monatslohn","Vergleichs-","Anrechenb.","Anrechenb.","Warnungs-"]
[{"$f":"Übersetzungstexte!A$140","v":""},{"$f":"Übersetzungstexte!A$144","v":""},{"$f":"Übersetzungstexte!A$148","v":""},{"$f":"Übersetzungstexte!A$152","v":"Geburts-"},{"$f":"Übersetzungstexte!A$156","v":"Monats-"},{"$f":"Übersetzungstexte!A$160","v":"Stunden-"},{"$f":"Übersetzungstexte!A$164","v":"pro Jahr"},{"$f":"Übersetzungstexte!A$168","v":"bestand-"},{"$f":"Übersetzungstexte!A$172","v":"wöchentl."},{"$f":"Übersetzungstexte!A$176","v":"Ferientage"},{"$f":"Übersetzungstexte!A$180","v":"Feiertage"},{"$f":"Übersetzungstexte!A$184","v":"Stunden-"},null,"AHV-","berechtigte",null,null,null,"ohne","mit","ohne","mit","wert","Std.-Verd.","Std.-","anzeige"]
[{"$f":"Übersetzungstexte!A$141","v":"Versicherten-Nr."},{"$f":"Übersetzungstexte!A$145","v":"Name"},{"$f":"Übersetzungstexte!A$149","v":"Vorname"},{"$f":"Übersetzungstexte!A$153","v":"datum"},{"$f":"Übersetzungstexte!A$157","v":"lohn"},{"$f":"Übersetzungstexte!A$161","v":"lohn"},{"$f":"Übersetzungstexte!A$165","v":"(12/13)"},{"$f":"Übersetzungstexte!A$169","v":"teile p. Jahr"},{"$f":"Übersetzungstexte!A$173","v":"Arbeitszeit"},{"$f":"Übersetzungstexte!A$177","v":"pro Jahr"},{"$f":"Übersetzungstexte!A$181","v":"pro Jahr"},{"$f":"Übersetzungstexte!A$185","v":"Verdienst"},null,"pflichtig","Mitarbeiter",null,null,null,"Prämie","Prämie","Prämie","Prämie",null,"aSV","Verdienst",null,"Name,Vorname"]
[null,null,null,null,null,null,null,null,null,null,null,{"$f":"Y849","v":""},{"$f":"Z849","v":""},{"$f":"IF(N$2-YEAR(D849)<N$3,0,1)","v":0},{"$f":"IF(L849=\"\",0,1)","v":0},{"$f":"IF(AND(A849=\"\",B849=\"\",C849=\"\"),\"\",ROUND((K849+J849)/(N$4-(K849+J849))*100,2))","v":""},{"$f":"ROUND(G849,0)/12","v":0},{"$f":"IF(AND(A849=\"\",B849=\"\",C849=\"\"),\"\",ROUND((N$4-(K849+J849))*I849/60,1))","v":""},{"$f":"IF(OR(AND(A849=\"\",B849=\"\",C849=\"\"),F849=0,F849=\"\"),\"\",ROUND((1+P849/100)*Q849*F849,2))","v":""},{"$f":"IF(OR(AND(A849=\"\",B849=\"\",C849=\"\"),F849=0,F849=\"\",I849=0,I849=\"\"),\"\",ROUND((1+P849/100)*(H849/(N$4*I849/5)+Q849*F849),2))","v":""},{"$f":"IF(OR(AND(A849=\"\",B849=\"\",C849=\"\"),E849=0,E849=\"\",R849=0,R849=\"\"),\"\",ROUND((Q849*E849/R849),2))","v":""},{"$f":"IF(OR(AND(A849=\"\",B849=\"\",C849=\"\"),E849=0,E849=\"\",R849=0,R849=\"\"),\"\",ROUND((H849/(12*Q849*E849)+1)*Q849*E849/R849,2))","v":""},{"$f":"IF(OR(AND(A849=\"\",B849=\"\",C849=\"\"),R849=0,R849=\"\"),\"\",ROUND(W$4 / R849,1))","v":""},{"$f":"IF(OR(AND(A849=\"\",B849=\"\",C849=\"\"),N$4=\"\"),\"\",IF(AND(F849>0,H849>0),T849, IF(F849>0,S849, IF(AND(E849>0,H849>0),V849,U849))))","v":""},{"$f":"IF(W849<X849,W849,X849)","v":""},{"$f":"IF(W849<X849,Übersetzungstexte!A$186,\"\")","v":""},{"$f":"IF(AND(B849=\"\",C849=\"\"),\"\",CONCATENATE(B849,\",\",C849))","v":""}]
[null,null,null,null,null,null,null,null,null,null,null,"","",0,0,"",0,"","","","","","","","",{"$f":"IF(W850<X850,Übersetzungstexte!A$186,\"\")","v":""},""]
[null,null,null,null,null,null,null,null,null,null,null,"","",0,0,"",0,"","","","","","","","",{"$f":"IF(W851<X851,Übersetzungstexte!A$186,\"\")","v":""},""]
[null,null,null,null,null,null,null,null,null,null,null,"","",0,0,"",0,"","","","","","","","",{"$f":"IF(W852<X852,Übersetzungstexte!A$186,\"\")","v":""},""]
[null,null,null,null,null,null,null,null,null,null,null,"","",0,0,"",0,"","","","","","","","",{"$f":"IF(W853<X853,Übersetzungstexte!A$186,\"\")","v":""},""]
[null,null,null,null,null,null,null,null,null,null,null,"","",0,0,"",0,"","","","","","","","",{"$f":"IF(W854<X854,Übersetzungstexte!A$186,\"\")","v":""},""]
[null,null,null,null,null,null,null,null,null,null,null,"","",0,0,"",0,"","","","","","","","",{"$f":"IF(W855<X855,Übersetzungstexte!A$186,\"\")","v":""},""]
[null,null,null,null,null,null,null,null,null,null,null,"","",0,0,"",0,"","","","","","","","",{"$f":"IF(W856<X856,Übersetzungstexte!A$186,\"\")","v":""},""]
[null,null,null,null,null,null,null,null,null,null,null,"","",0,0,"",0,"","","","","","","","",{"$f":"IF(W857<X857,Übersetzungstexte!A$186,\"\")","v":""},""]
[null,null,null,null,null,null,null,null,null,null,null,"","",0,0,"",0,"","","","","","","","",{"$f":"IF(W858<X858,Übersetzungstexte!A$186,\"\")","v":""},""]
[null,null,null,null,null,null,null,null,null,null,null,"","",0,0,"",0,"","","","","","","","",{"$f":"IF(W859<X859,Übersetzungstexte!A$186,\"\")","v":""},""]
[null,null,null,null,null,null,null,null,null,null,null,"","",0,0,"",0,"","","","","","","","",{"$f":"IF(W860<X860,Übersetzungstexte!A$186,\"\")","v":""},""]
[null,null,null,null,null,null,null,null,null,null,null,"","",0,0,"",0,"","","","","","","","",{"$f":"IF(W861<X861,Übersetzungstexte!A$186,\"\")","v":""},""]
[null,null,null,null,null,null,null,null,null,null,null,"","",0,0,"",0,"","","","","","","","",{"$f":"IF(W862<X862,Übersetzungstexte!A$186,\"\")","v":""},""]
[null,null,null,null,null,null,null,null,null,null,null,"","",0,0,"",0,"","","","","","","","",{"$f":"IF(W863<X863,Übersetzungstexte!A$186,\"\")","v":""},""]
[null,null,null,null,null,null,null,null,null,null,null,"","",0,0,"",0,"","","","","","","","",{"$f":"IF(W864<X864,Übersetzungstexte!A$186,\"\")","v":""},""]
[null,null,null,null,null,null,null,null,null,null,null,"","",0,0,"",0,"","","","","","","","",{"$f":"IF(W865<X865,Übersetzungstexte!A$186,\"\")","v":""},""]
[null,null,null,null,null,null,null,null,null,null,null,"","",0,0,"",0,"","","","","","","","",{"$f":"IF(W866<X866,Übersetzungstexte!A$186,\"\")","v":""},""]
[null,null,null,null,null,null,null,null,null,null,null,"","",0,0,"",0,"","","","","","","","",{"$f":"IF(W867<X867,Übersetzungstexte!A$186,\"\")","v":""},""]
[null,null,null,null,null,null,null,null,null,null,null,"",{"$f":"Z868","v":""},{"$f":"IF(N$2-YEAR(D868)<N$3,0,1)","v":0},{"$f":"IF(L868=\"\",0,1)","v":0},{"$f":"IF(AND(A868=\"\",B868=\"\",C868=\"\"),\"\",ROUND((K868+J868)/(N$4-(K868+J868))*100,2))","v":""},{"$f":"ROUND(G868,0)/12","v":0},{"$f":"IF(AND(A868=\"\",B868=\"\",C868=\"\"),\"\",ROUND((N$4-(K868+J868))*I868/60,1))","v":""},{"$f":"IF(OR(AND(A868=\"\",B868=\"\",C868=\"\"),F868=0,F868=\"\"),\"\",ROUND((1+P868/100)*Q868*F868,2))","v":""},{"$f":"IF(OR(AND(A868=\"\",B868=\"\",C868=\"\"),F868=0,F868=\"\",I868=0,I868=\"\"),\"\",ROUND((1+P868/100)*(H868/(N$4*I868/5)+Q868*F868),2))","v":""},{"$f":"IF(OR(AND(A868=\"\",B868=\"\",C868=\"\"),E868=0,E868=\"\",R868=0,R868=\"\"),\"\",ROUND((Q868*E868/R868),2))","v":""},{"$f":"IF(OR(AND(A868=\"\",B868=\"\",C868=\"\"),E868=0,E868=\"\",R868=0,R868=\"\"),\"\",ROUND((H868/(12*Q868*E868)+1)*Q868*E868/R868,2))","v":""},{"$f":"IF(OR(AND(A868=\"\",B868=\"\",C868=\"\"),R868=0,R868=\"\"),\"\",ROUND(W$4 / R868,1))","v":""},{"$f":"IF(OR(AND(A868=\"\",B868=\"\",C868=\"\"),N$4=\"\"),\"\",IF(AND(F868>0,H868>0),T868, IF(F868>0,S868, IF(AND(E868>0,H868>0),V868,U868))))","v":""},{"$f":"IF(W868<X868,W868,X868)","v":""},{"$f":"IF(W868<X868,Übersetzungstexte!A$186,\"\")","v":""},{"$f":"IF(AND(B868=\"\",C868=\"\"),\"\",CONCATENATE(B868,\",\",C868))","v":""}]
[null,null,null,null,null,null,null,null,null,null,null,"",{"$f":"Z869","v":""},{"$f":"IF(N$2-YEAR(D869)<N$3,0,1)","v":0},{"$f":"IF(L869=\"\",0,1)","v":0},{"$f":"IF(AND(A869=\"\",B869=\"\",C869=\"\"),\"\",ROUND((K869+J869)/(N$4-(K869+J869))*100,2))","v":""},{"$f":"ROUND(G869,0)/12","v":0},{"$f":"IF(AND(A869=\"\",B869=\"\",C869=\"\"),\"\",ROUND((N$4-(K869+J869))*I869/60,1))","v":""},{"$f":"IF(OR(AND(A869=\"\",B869=\"\",C869=\"\"),F869=0,F869=\"\"),\"\",ROUND((1+P869/100)*Q869*F869,2))","v":""},{"$f":"IF(OR(AND(A869=\"\",B869=\"\",C869=\"\"),F869=0,F869=\"\",I869=0,I869=\"\"),\"\",ROUND((1+P869/100)*(H869/(N$4*I869/5)+Q869*F869),2))","v":""},{"$f":"IF(OR(AND(A869=\"\",B869=\"\",C869=\"\"),E869=0,E869=\"\",R869=0,R869=\"\"),\"\",ROUND((Q869*E869/R869),2))","v":""},{"$f":"IF(OR(AND(A869=\"\",B869=\"\",C869=\"\"),E869=0,E869=\"\",R869=0,R869=\"\"),\"\",ROUND((H869/(12*Q869*E869)+1)*Q869*E869/R869,2))","v":""},{"$f":"IF(OR(AND(A869=\"\",B869=\"\",C869=\"\"),R869=0,R869=\"\"),\"\",ROUND(W$4 / R869,1))","v":""},{"$f":"IF(OR(AND(A869=\"\",B869=\"\",C869=\"\"),N$4=\"\"),\"\",IF(AND(F869>0,H869>0),T869, IF(F869>0,S869, IF(AND(E869>0,H869>0),V869,U869))))","v":""},{"$f":"IF(W869<X869,W869,X869)","v":""},{"$f":"IF(W869<X869,Übersetzungstexte!A$186,\"\")","v":""},{"$f":"IF(AND(B869=\"\",C869=\"\"),\"\",CONCATENATE(B869,\",\",C869))","v":""}]
[]
[{"$f":"'Stammdaten Betrieb & Abteilung'!D$1","v":"  "},null,null,null,null,null,{"$f":"Übersetzungstexte!A$135","v":"Betrieb / Betriebsabteilung"},{"$f":"'Stammdaten Betrieb & Abteilung'!D$13","v":" "}]
[{"$f":"'Stammdaten Betrieb & Abteilung'!D$3","v":" "},null,null,null,null,null,{"$f":"Übersetzungstexte!A$136","v":"Abrechnungsperiode"},{"$f":"'Stammdaten Betrieb & Abteilung'!D$14","v":""}]
[{"$f":"'Stammdaten Betrieb & Abteilung'!D$4","v":" "},null,null,null,null,null,{"$f":"Übersetzungstexte!A$137","v":"Beginn / Ende der Kurzarbeit"},{"$f":"'Stammdaten Betrieb & Abteilung'!D$16","v":""}]
[]
[{"$f":"Übersetzungstexte!A$138","v":""},{"$f":"Übersetzungstexte!A$142","v":""},{"$f":"Übersetzungstexte!A$146","v":""},{"$f":"Übersetzungstexte!A$150","v":""},{"$f":"Übersetzungstexte!A$154","v":""},{"$f":"Übersetzungstexte!A$158","v":""},{"$f":"Übersetzungstexte!A$162","v":"Anzahl bez."},{"$f":"Übersetzungstexte!A$166","v":"Weitere"},{"$f":"Übersetzungstexte!A$170","v":"Jahres-"},{"$f":"Übersetzungstexte!A$174","v":""},{"$f":"Übersetzungstexte!A$178","v":""},{"$f":"Übersetzungstexte!A$182","v":"Anrechen-"},null,null,"Anzahl","Regel 7",null,"Regel 9","Regel 10","Regel 11","Regel 12","Regel 13","Regel 14","Regel 10-14","Regel 14","Regel 14"]
[{"$f":"Übersetzungstexte!A$139","v":""},{"$f":"Übersetzungstexte!A$143","v":""},{"$f":"Übersetzungstexte!A$147","v":""},{"$f":"Übersetzungstexte!A$151","v":""},{"$f":"Übersetzungstexte!A$155","v":""},{"$f":"Übersetzungstexte!A$159","v":""},{"$f":"Übersetzungstexte!A$163","v":"Monate "},{"$f":"Übersetzungstexte!A$167","v":"Lohn-"},{"$f":"Übersetzungstexte!A$171","v":"durchschn."},{"$f":"Übersetzungstexte!A$175","v":"Anzahl"},{"$f":"Übersetzungstexte!A$179","v":"Anzahl"},{"$f":"Übersetzungstexte!A$183","v":"barer"},null,null,"bezugs-","  FF12","S13 / 12","  deApM","Std. Lohn","Std. Lohn","Monatslohn","Monatslohn","Vergleichs-","Anrechenb.","Anrechenb.","Warnungs-"]
[{"$f":"Übersetzungstexte!A$140","v":""},{"$f":"Übersetzungstexte!A$144","v":""},{"$f":"Übersetzungstexte!A$148","v":""},{"$f":"Übersetzungstexte!A$152","v":"Geburts-"},{"$f":"Übersetzungstexte!A$156","v":"Monats-"},{"$f":"Übersetzungstexte!A$160","v":"Stunden-"},{"$f":"Übersetzungstexte!A$164","v":"pro Jahr"},{"$f":"Übersetzungstexte!A$168","v":"bestand-"},{"$f":"Übersetzungstexte!A$172","v":"wöchentl."},{"$f":"Übersetzungstexte!A$176","v":"Ferientage"},{"$f":"Übersetzungstexte!A$180","v":"Feiertage"},{"$f":"Übersetzungstexte!A$184","v":"Stunden-"},null,"AHV-","berechtigte",null,null,null,"ohne","mit","ohne","mit","wert","Std.-Verd.","Std.-","anzeige"]
[{"$f":"Übersetzungstexte!A$141","v":"Versicherten-Nr."},{"$f":"Übersetzungstexte!A$145","v":"Name"},{"$f":"Übersetzungstexte!A$149","v":"Vorname"},{"$f":"Übersetzungstexte!A$153","v":"datum"},{"$f":"Übersetzungstexte!A$157","v":"lohn"},{"$f":"Übersetzungstexte!A$161","v":"lohn"},{"$f":"Übersetzungstexte!A$165","v":"(12/13)"},{"$f":"Übersetzungstexte!A$169","v":"teile p. Jahr"},{"$f":"Übersetzungstexte!A$173","v":"Arbeitszeit"},{"$f":"Übersetzungstexte!A$177","v":"pro Jahr"},{"$f":"Übersetzungstexte!A$181","v":"pro Jahr"},{"$f":"Übersetzungstexte!A$185","v":"Verdienst"},null,"pflichtig","Mitarbeiter",null,null,null,"Prämie","Prämie","Prämie","Prämie",null,"aSV","Verdienst",null,"Name,Vorname"]
[null,null,null,null,null,null,null,null,null,null,null,{"$f":"Y879","v":""},{"$f":"Z879","v":""},{"$f":"IF(N$2-YEAR(D879)<N$3,0,1)","v":0},{"$f":"IF(L879=\"\",0,1)","v":0},{"$f":"IF(AND(A879=\"\",B879=\"\",C879=\"\"),\"\",ROUND((K879+J879)/(N$4-(K879+J879))*100,2))","v":""},{"$f":"ROUND(G879,0)/12","v":0},{"$f":"IF(AND(A879=\"\",B879=\"\",C879=\"\"),\"\",ROUND((N$4-(K879+J879))*I879/60,1))","v":""},{"$f":"IF(OR(AND(A879=\"\",B879=\"\",C879=\"\"),F879=0,F879=\"\"),\"\",ROUND((1+P879/100)*Q879*F879,2))","v":""},{"$f":"IF(OR(AND(A879=\"\",B879=\"\",C879=\"\"),F879=0,F879=\"\",I879=0,I879=\"\"),\"\",ROUND((1+P879/100)*(H879/(N$4*I879/5)+Q879*F879),2))","v":""},{"$f":"IF(OR(AND(A879=\"\",B879=\"\",C879=\"\"),E879=0,E879=\"\",R879=0,R879=\"\"),\"\",ROUND((Q879*E879/R879),2))","v":""},{"$f":"IF(OR(AND(A879=\"\",B879=\"\",C879=\"\"),E879=0,E879=\"\",R879=0,R879=\"\"),\"\",ROUND((H879/(12*Q879*E879)+1)*Q879*E879/R879,2))","v":""},{"$f":"IF(OR(AND(A879=\"\",B879=\"\",C879=\"\"),R879=0,R879=\"\"),\"\",ROUND(W$4 / R879,1))","v":""},{"$f":"IF(OR(AND(A879=\"\",B879=\"\",C879=\"\"),N$4=\"\"),\"\",IF(AND(F879>0,H879>0),T879, IF(F879>0,S879, IF(AND(E879>0,H879>0),V879,U879))))","v":""},{"$f":"IF(W879<X879,W879,X879)","v":""},{"$f":"IF(W879<X879,Übersetzungstexte!A$186,\"\")","v":""},{"$f":"IF(AND(B879=\"\",C879=\"\"),\"\",CONCATENATE(B879,\",\",C879))","v":""}]
[null,null,null,null,null,null,null,null,null,null,null,"","",0,0,"",0,"","","","","","","","",{"$f":"IF(W880<X880,Übersetzungstexte!A$186,\"\")","v":""},""]
[null,null,null,null,null,null,null,null,null,null,null,"","",0,0,"",0,"","","","","","","","",{"$f":"IF(W881<X881,Übersetzungstexte!A$186,\"\")","v":""},""]
[null,null,null,null,null,null,null,null,null,null,null,"","",0,0,"",0,"","","","","","","","",{"$f":"IF(W882<X882,Übersetzungstexte!A$186,\"\")","v":""},""]
[null,null,null,null,null,null,null,null,null,null,null,"","",0,0,"",0,"","","","","","","","",{"$f":"IF(W883<X883,Übersetzungstexte!A$186,\"\")","v":""},""]
[null,null,null,null,null,null,null,null,null,null,null,"","",0,0,"",0,"","","","","","","","",{"$f":"IF(W884<X884,Übersetzungstexte!A$186,\"\")","v":""},""]
[null,null,null,null,null,null,null,null,null,null,null,"","",0,0,"",0,"","","","","","","","",{"$f":"IF(W885<X885,Übersetzungstexte!A$186,\"\")","v":""},""]
[null,null,null,null,null,null,null,null,null,null,null,"","",0,0,"",0,"","","","","","","","",{"$f":"IF(W886<X886,Übersetzungstexte!A$186,\"\")","v":""},""]
[null,null,null,null,null,null,null,null,null,null,null,"","",0,0,"",0,"","","","","","","","",{"$f":"IF(W887<X887,Übersetzungstexte!A$186,\"\")","v":""},""]
[null,null,null,null,null,null,null,null,null,null,null,"","",0,0,"",0,"","","","","","","","",{"$f":"IF(W888<X888,Übersetzungstexte!A$186,\"\")","v":""},""]
[null,null,null,null,null,null,null,null,null,null,null,"","",0,0,"",0,"","","","","","","","",{"$f":"IF(W889<X889,Übersetzungstexte!A$186,\"\")","v":""},""]
[null,null,null,null,null,null,null,null,null,null,null,"","",0,0,"",0,"","","","","","","","",{"$f":"IF(W890<X890,Übersetzungstexte!A$186,\"\")","v":""},""]
[null,null,null,null,null,null,null,null,null,null,null,"","",0,0,"",0,"","","","","","","","",{"$f":"IF(W891<X891,Übersetzungstexte!A$186,\"\")","v":""},""]
[null,null,null,null,null,null,null,null,null,null,null,"","",0,0,"",0,"","","","","","","","",{"$f":"IF(W892<X892,Übersetzungstexte!A$186,\"\")","v":""},""]
[null,null,null,null,null,null,null,null,null,null,null,"","",0,0,"",0,"","","","","","","","",{"$f":"IF(W893<X893,Übersetzungstexte!A$186,\"\")","v":""},""]
[null,null,null,null,null,null,null,null,null,null,null,"","",0,0,"",0,"","","","","","","","",{"$f":"IF(W894<X894,Übersetzungstexte!A$186,\"\")","v":""},""]
[null,null,null,null,null,null,null,null,null,null,null,"","",0,0,"",0,"","","","","","","","",{"$f":"IF(W895<X895,Übersetzungstexte!A$186,\"\")","v":""},""]
[null,null,null,null,null,null,null,null,null,null,null,"","",0,0,"",0,"","","","","","","","",{"$f":"IF(W896<X896,Übersetzungstexte!A$186,\"\")","v":""},""]
[null,null,null,null,null,null,null,null,null,null,null,"","",0,0,"",0,"","","","","","","","",{"$f":"IF(W897<X897,Übersetzungstexte!A$186,\"\")","v":""},""]
[null,null,null,null,null,null,null,null,null,null,null,"",{"$f":"Z898","v":""},{"$f":"IF(N$2-YEAR(D898)<N$3,0,1)","v":0},{"$f":"IF(L898=\"\",0,1)","v":0},{"$f":"IF(AND(A898=\"\",B898=\"\",C898=\"\"),\"\",ROUND((K898+J898)/(N$4-(K898+J898))*100,2))","v":""},{"$f":"ROUND(G898,0)/12","v":0},{"$f":"IF(AND(A898=\"\",B898=\"\",C898=\"\"),\"\",ROUND((N$4-(K898+J898))*I898/60,1))","v":""},{"$f":"IF(OR(AND(A898=\"\",B898=\"\",C898=\"\"),F898=0,F898=\"\"),\"\",ROUND((1+P898/100)*Q898*F898,2))","v":""},{"$f":"IF(OR(AND(A898=\"\",B898=\"\",C898=\"\"),F898=0,F898=\"\",I898=0,I898=\"\"),\"\",ROUND((1+P898/100)*(H898/(N$4*I898/5)+Q898*F898),2))","v":""},{"$f":"IF(OR(AND(A898=\"\",B898=\"\",C898=\"\"),E898=0,E898=\"\",R898=0,R898=\"\"),\"\",ROUND((Q898*E898/R898),2))","v":""},{"$f":"IF(OR(AND(A898=\"\",B898=\"\",C898=\"\"),E898=0,E898=\"\",R898=0,R898=\"\"),\"\",ROUND((H898/(12*Q898*E898)+1)*Q898*E898/R898,2))","v":""},{"$f":"IF(OR(AND(A898=\"\",B898=\"\",C898=\"\"),R898=0,R898=\"\"),\"\",ROUND(W$4 / R898,1))","v":""},{"$f":"IF(OR(AND(A898=\"\",B898=\"\",C898=\"\"),N$4=\"\"),\"\",IF(AND(F898>0,H898>0),T898, IF(F898>0,S898, IF(AND(E898>0,H898>0),V898,U898))))","v":""},{"$f":"IF(W898<X898,W898,X898)","v":""},{"$f":"IF(W898<X898,Übersetzungstexte!A$186,\"\")","v":""},{"$f":"IF(AND(B898=\"\",C898=\"\"),\"\",CONCATENATE(B898,\",\",C898))","v":""}]
[null,null,null,null,null,null,null,null,null,null,null,"",{"$f":"Z899","v":""},{"$f":"IF(N$2-YEAR(D899)<N$3,0,1)","v":0},{"$f":"IF(L899=\"\",0,1)","v":0},{"$f":"IF(AND(A899=\"\",B899=\"\",C899=\"\"),\"\",ROUND((K899+J899)/(N$4-(K899+J899))*100,2))","v":""},{"$f":"ROUND(G899,0)/12","v":0},{"$f":"IF(AND(A899=\"\",B899=\"\",C899=\"\"),\"\",ROUND((N$4-(K899+J899))*I899/60,1))","v":""},{"$f":"IF(OR(AND(A899=\"\",B899=\"\",C899=\"\"),F899=0,F899=\"\"),\"\",ROUND((1+P899/100)*Q899*F899,2))","v":""},{"$f":"IF(OR(AND(A899=\"\",B899=\"\",C899=\"\"),F899=0,F899=\"\",I899=0,I899=\"\"),\"\",ROUND((1+P899/100)*(H899/(N$4*I899/5)+Q899*F899),2))","v":""},{"$f":"IF(OR(AND(A899=\"\",B899=\"\",C899=\"\"),E899=0,E899=\"\",R899=0,R899=\"\"),\"\",ROUND((Q899*E899/R899),2))","v":""},{"$f":"IF(OR(AND(A899=\"\",B899=\"\",C899=\"\"),E899=0,E899=\"\",R899=0,R899=\"\"),\"\",ROUND((H899/(12*Q899*E899)+1)*Q899*E899/R899,2))","v":""},{"$f":"IF(OR(AND(A899=\"\",B899=\"\",C899=\"\"),R899=0,R899=\"\"),\"\",ROUND(W$4 / R899,1))","v":""},{"$f":"IF(OR(AND(A899=\"\",B899=\"\",C899=\"\"),N$4=\"\"),\"\",IF(AND(F899>0,H899>0),T899, IF(F899>0,S899, IF(AND(E899>0,H899>0),V899,U899))))","v":""},{"$f":"IF(W899<X899,W899,X899)","v":""},{"$f":"IF(W899<X899,Übersetzungstexte!A$186,\"\")","v":""},{"$f":"IF(AND(B899=\"\",C899=\"\"),\"\",CONCATENATE(B899,\",\",C899))","v":""}]
[]
[{"$f":"'Stammdaten Betrieb & Abteilung'!D$1","v":"  "},null,null,null,null,null,{"$f":"Übersetzungstexte!A$135","v":"Betrieb / Betriebsabteilung"},{"$f":"'Stammdaten Betrieb & Abteilung'!D$13","v":" "}]
[{"$f":"'Stammdaten Betrieb & Abteilung'!D$3","v":" "},null,null,null,null,null,{"$f":"Übersetzungstexte!A$136","v":"Abrechnungsperiode"},{"$f":"'Stammdaten Betrieb & Abteilung'!D$14","v":""}]
[{"$f":"'Stammdaten Betrieb & Abteilung'!D$4","v":" "},null,null,null,null,null,{"$f":"Übersetzungstexte!A$137","v":"Beginn / Ende der Kurzarbeit"},{"$f":"'Stammdaten Betrieb & Abteilung'!D$16","v":""}]
[]
[{"$f":"Übersetzungstexte!A$138","v":""},{"$f":"Übersetzungstexte!A$142","v":""},{"$f":"Übersetzungstexte!A$146","v":""},{"$f":"Übersetzungstexte!A$150","v":""},{"$f":"Übersetzungstexte!A$154","v":""},{"$f":"Übersetzungstexte!A$158","v":""},{"$f":"Übersetzungstexte!A$162","v":"Anzahl bez."},{"$f":"Übersetzungstexte!A$166","v":"Weitere"},{"$f":"Übersetzungstexte!A$170","v":"Jahres-"},{"$f":"Übersetzungstexte!A$174","v":""},{"$f":"Übersetzungstexte!A$178","v":""},{"$f":"Übersetzungstexte!A$182","v":"Anrechen-"},null,null,"Anzahl","Regel 7",null,"Regel 9","Regel 10","Regel 11","Regel 12","Regel 13","Regel 14","Regel 10-14","Regel 14","Regel 14"]
[{"$f":"Übersetzungstexte!A$139","v":""},{"$f":"Übersetzungstexte!A$143","v":""},{"$f":"Übersetzungstexte!A$147","v":""},{"$f":"Übersetzungstexte!A$151","v":""},{"$f":"Übersetzungstexte!A$155","v":""},{"$f":"Übersetzungstexte!A$159","v":""},{"$f":"Übersetzungstexte!A$163","v":"Monate "},{"$f":"Übersetzungstexte!A$167","v":"Lohn-"},{"$f":"Übersetzungstexte!A$171","v":"durchschn."},{"$f":"Übersetzungstexte!A$175","v":"Anzahl"},{"$f":"Übersetzungstexte!A$179","v":"Anzahl"},{"$f":"Übersetzungstexte!A$183","v":"barer"},null,null,"bezugs-","  FF12","S13 / 12","  deApM","Std. Lohn","Std. Lohn","Monatslohn","Monatslohn","Vergleichs-","Anrechenb.","Anrechenb.","Warnungs-"]
[{"$f":"Übersetzungstexte!A$140","v":""},{"$f":"Übersetzungstexte!A$144","v":""},{"$f":"Übersetzungstexte!A$148","v":""},{"$f":"Übersetzungstexte!A$152","v":"Geburts-"},{"$f":"Übersetzungstexte!A$156","v":"Monats-"},{"$f":"Übersetzungstexte!A$160","v":"Stunden-"},{"$f":"Übersetzungstexte!A$164","v":"pro Jahr"},{"$f":"Übersetzungstexte!A$168","v":"bestand-"},{"$f":"Übersetzungstexte!A$172","v":"wöchentl."},{"$f":"Übersetzungstexte!A$176","v":"Ferientage"},{"$f":"Übersetzungstexte!A$180","v":"Feiertage"},{"$f":"Übersetzungstexte!A$184","v":"Stunden-"},null,"AHV-","berechtigte",null,null,null,"ohne","mit","ohne","mit","wert","Std.-Verd.","Std.-","anzeige"]
[{"$f":"Übersetzungstexte!A$141","v":"Versicherten-Nr."},{"$f":"Übersetzungstexte!A$145","v":"Name"},{"$f":"Übersetzungstexte!A$149","v":"Vorname"},{"$f":"Übersetzungstexte!A$153","v":"datum"},{"$f":"Übersetzungstexte!A$157","v":"lohn"},{"$f":"Übersetzungstexte!A$161","v":"lohn"},{"$f":"Übersetzungstexte!A$165","v":"(12/13)"},{"$f":"Übersetzungstexte!A$169","v":"teile p. Jahr"},{"$f":"Übersetzungstexte!A$173","v":"Arbeitszeit"},{"$f":"Übersetzungstexte!A$177","v":"pro Jahr"},{"$f":"Übersetzungstexte!A$181","v":"pro Jahr"},{"$f":"Übersetzungstexte!A$185","v":"Verdienst"},null,"pflichtig","Mitarbeiter",null,null,null,"Prämie","Prämie","Prämie","Prämie",null,"aSV","Verdienst",null,"Name,Vorname"]
[null,null,null,null,null,null,null,null,null,null,null,{"$f":"Y909","v":""},{"$f":"Z909","v":""},{"$f":"IF(N$2-YEAR(D909)<N$3,0,1)","v":0},{"$f":"IF(L909=\"\",0,1)","v":0},{"$f":"IF(AND(A909=\"\",B909=\"\",C909=\"\"),\"\",ROUND((K909+J909)/(N$4-(K909+J909))*100,2))","v":""},{"$f":"ROUND(G909,0)/12","v":0},{"$f":"IF(AND(A909=\"\",B909=\"\",C909=\"\"),\"\",ROUND((N$4-(K909+J909))*I909/60,1))","v":""},{"$f":"IF(OR(AND(A909=\"\",B909=\"\",C909=\"\"),F909=0,F909=\"\"),\"\",ROUND((1+P909/100)*Q909*F909,2))","v":""},{"$f":"IF(OR(AND(A909=\"\",B909=\"\",C909=\"\"),F909=0,F909=\"\",I909=0,I909=\"\"),\"\",ROUND((1+P909/100)*(H909/(N$4*I909/5)+Q909*F909),2))","v":""},{"$f":"IF(OR(AND(A909=\"\",B909=\"\",C909=\"\"),E909=0,E909=\"\",R909=0,R909=\"\"),\"\",ROUND((Q909*E909/R909),2))","v":""},{"$f":"IF(OR(AND(A909=\"\",B909=\"\",C909=\"\"),E909=0,E909=\"\",R909=0,R909=\"\"),\"\",ROUND((H909/(12*Q909*E909)+1)*Q909*E909/R909,2))","v":""},{"$f":"IF(OR(AND(A909=\"\",B909=\"\",C909=\"\"),R909=0,R909=\"\"),\"\",ROUND(W$4 / R909,1))","v":""},{"$f":"IF(OR(AND(A909=\"\",B909=\"\",C909=\"\"),N$4=\"\"),\"\",IF(AND(F909>0,H909>0),T909, IF(F909>0,S909, IF(AND(E909>0,H909>0),V909,U909))))","v":""},{"$f":"IF(W909<X909,W909,X909)","v":""},{"$f":"IF(W909<X909,Übersetzungstexte!A$186,\"\")","v":""},{"$f":"IF(AND(B909=\"\",C909=\"\"),\"\",CONCATENATE(B909,\",\",C909))","v":""}]
[null,null,null,null,null,null,null,null,null,null,null,"","",0,0,"",0,"","","","","","","","",{"$f":"IF(W910<X910,Übersetzungstexte!A$186,\"\")","v":""},""]
[null,null,null,null,null,null,null,null,null,null,null,"","",0,0,"",0,"","","","","","","","",{"$f":"IF(W911<X911,Übersetzungstexte!A$186,\"\")","v":""},""]
[null,null,null,null,null,null,null,null,null,null,null,"","",0,0,"",0,"","","","","","","","",{"$f":"IF(W912<X912,Übersetzungstexte!A$186,\"\")","v":""},""]
[null,null,null,null,null,null,null,null,null,null,null,"","",0,0,"",0,"","","","","","","","",{"$f":"IF(W913<X913,Übersetzungstexte!A$186,\"\")","v":""},""]
[null,null,null,null,null,null,null,null,null,null,null,"","",0,0,"",0,"","","","","","","","",{"$f":"IF(W914<X914,Übersetzungstexte!A$186,\"\")","v":""},""]
[null,null,null,null,null,null,null,null,null,null,null,"","",0,0,"",0,"","","","","","","","",{"$f":"IF(W915<X915,Übersetzungstexte!A$186,\"\")","v":""},""]
[null,null,null,null,null,null,null,null,null,null,null,"","",0,0,"",0,"","","","","","","","",{"$f":"IF(W916<X916,Übersetzungstexte!A$186,\"\")","v":""},""]
[null,null,null,null,null,null,null,null,null,null,null,"","",0,0,"",0,"","","","","","","","",{"$f":"IF(W917<X917,Übersetzungstexte!A$186,\"\")","v":""},""]
[null,null,null,null,null,null,null,null,null,null,null,"","",0,0,"",0,"","","","","","","","",{"$f":"IF(W918<X918,Übersetzungstexte!A$186,\"\")","v":""},""]
[null,null,null,null,null,null,null,null,null,null,null,"","",0,0,"",0,"","","","","","","","",{"$f":"IF(W919<X919,Übersetzungstexte!A$186,\"\")","v":""},""]
[null,null,null,null,null,null,null,null,null,null,null,"","",0,0,"",0,"","","","","","","","",{"$f":"IF(W920<X920,Übersetzungstexte!A$186,\"\")","v":""},""]
[null,null,null,null,null,null,null,null,null,null,null,"","",0,0,"",0,"","","","","","","","",{"$f":"IF(W921<X921,Übersetzungstexte!A$186,\"\")","v":""},""]
[null,null,null,null,null,null,null,null,null,null,null,"","",0,0,"",0,"","","","","","","","",{"$f":"IF(W922<X922,Übersetzungstexte!A$186,\"\")","v":""},""]
[null,null,null,null,null,null,null,null,null,null,null,"","",0,0,"",0,"","","","","","","","",{"$f":"IF(W923<X923,Übersetzungstexte!A$186,\"\")","v":""},""]
[null,null,null,null,null,null,null,null,null,null,null,"","",0,0,"",0,"","","","","","","","",{"$f":"IF(W924<X924,Übersetzungstexte!A$186,\"\")","v":""},""]
[null,null,null,null,null,null,null,null,null,null,null,"","",0,0,"",0,"","","","","","","","",{"$f":"IF(W925<X925,Übersetzungstexte!A$186,\"\")","v":""},""]
[null,null,null,null,null,null,null,null,null,null,null,"","",0,0,"",0,"","","","","","","","",{"$f":"IF(W926<X926,Übersetzungstexte!A$186,\"\")","v":""},""]
[null,null,null,null,null,null,null,null,null,null,null,"","",0,0,"",0,"","","","","","","","",{"$f":"IF(W927<X927,Übersetzungstexte!A$186,\"\")","v":""},""]
[null,null,null,null,null,null,null,null,null,null,null,"",{"$f":"Z928","v":""},{"$f":"IF(N$2-YEAR(D928)<N$3,0,1)","v":0},{"$f":"IF(L928=\"\",0,1)","v":0},{"$f":"IF(AND(A928=\"\",B928=\"\",C928=\"\"),\"\",ROUND((K928+J928)/(N$4-(K928+J928))*100,2))","v":""},{"$f":"ROUND(G928,0)/12","v":0},{"$f":"IF(AND(A928=\"\",B928=\"\",C928=\"\"),\"\",ROUND((N$4-(K928+J928))*I928/60,1))","v":""},{"$f":"IF(OR(AND(A928=\"\",B928=\"\",C928=\"\"),F928=0,F928=\"\"),\"\",ROUND((1+P928/100)*Q928*F928,2))","v":""},{"$f":"IF(OR(AND(A928=\"\",B928=\"\",C928=\"\"),F928=0,F928=\"\",I928=0,I928=\"\"),\"\",ROUND((1+P928/100)*(H928/(N$4*I928/5)+Q928*F928),2))","v":""},{"$f":"IF(OR(AND(A928=\"\",B928=\"\",C928=\"\"),E928=0,E928=\"\",R928=0,R928=\"\"),\"\",ROUND((Q928*E928/R928),2))","v":""},{"$f":"IF(OR(AND(A928=\"\",B928=\"\",C928=\"\"),E928=0,E928=\"\",R928=0,R928=\"\"),\"\",ROUND((H928/(12*Q928*E928)+1)*Q928*E928/R928,2))","v":""},{"$f":"IF(OR(AND(A928=\"\",B928=\"\",C928=\"\"),R928=0,R928=\"\"),\"\",ROUND(W$4 / R928,1))","v":""},{"$f":"IF(OR(AND(A928=\"\",B928=\"\",C928=\"\"),N$4=\"\"),\"\",IF(AND(F928>0,H928>0),T928, IF(F928>0,S928, IF(AND(E928>0,H928>0),V928,U928))))","v":""},{"$f":"IF(W928<X928,W928,X928)","v":""},{"$f":"IF(W928<X928,Übersetzungstexte!A$186,\"\")","v":""},{"$f":"IF(AND(B928=\"\",C928=\"\"),\"\",CONCATENATE(B928,\",\",C928))","v":""}]
[null,null,null,null,null,null,null,null,null,null,null,"",{"$f":"Z929","v":""},{"$f":"IF(N$2-YEAR(D929)<N$3,0,1)","v":0},{"$f":"IF(L929=\"\",0,1)","v":0},{"$f":"IF(AND(A929=\"\",B929=\"\",C929=\"\"),\"\",ROUND((K929+J929)/(N$4-(K929+J929))*100,2))","v":""},{"$f":"ROUND(G929,0)/12","v":0},{"$f":"IF(AND(A929=\"\",B929=\"\",C929=\"\"),\"\",ROUND((N$4-(K929+J929))*I929/60,1))","v":""},{"$f":"IF(OR(AND(A929=\"\",B929=\"\",C929=\"\"),F929=0,F929=\"\"),\"\",ROUND((1+P929/100)*Q929*F929,2))","v":""},{"$f":"IF(OR(AND(A929=\"\",B929=\"\",C929=\"\"),F929=0,F929=\"\",I929=0,I929=\"\"),\"\",ROUND((1+P929/100)*(H929/(N$4*I929/5)+Q929*F929),2))","v":""},{"$f":"IF(OR(AND(A929=\"\",B929=\"\",C929=\"\"),E929=0,E929=\"\",R929=0,R929=\"\"),\"\",ROUND((Q929*E929/R929),2))","v":""},{"$f":"IF(OR(AND(A929=\"\",B929=\"\",C929=\"\"),E929=0,E929=\"\",R929=0,R929=\"\"),\"\",ROUND((H929/(12*Q929*E929)+1)*Q929*E929/R929,2))","v":""},{"$f":"IF(OR(AND(A929=\"\",B929=\"\",C929=\"\"),R929=0,R929=\"\"),\"\",ROUND(W$4 / R929,1))","v":""},{"$f":"IF(OR(AND(A929=\"\",B929=\"\",C929=\"\"),N$4=\"\"),\"\",IF(AND(F929>0,H929>0),T929, IF(F929>0,S929, IF(AND(E929>0,H929>0),V929,U929))))","v":""},{"$f":"IF(W929<X929,W929,X929)","v":""},{"$f":"IF(W929<X929,Übersetzungstexte!A$186,\"\")","v":""},{"$f":"IF(AND(B929=\"\",C929=\"\"),\"\",CONCATENATE(B929,\",\",C929))","v":""}]
[]
[{"$f":"'Stammdaten Betrieb & Abteilung'!D$1","v":"  "},null,null,null,null,null,{"$f":"Übersetzungstexte!A$135","v":"Betrieb / Betriebsabteilung"},{"$f":"'Stammdaten Betrieb & Abteilung'!D$13","v":" "}]
[{"$f":"'Stammdaten Betrieb & Abteilung'!D$3","v":" "},null,null,null,null,null,{"$f":"Übersetzungstexte!A$136","v":"Abrechnungsperiode"},{"$f":"'Stammdaten Betrieb & Abteilung'!D$14","v":""}]
[{"$f":"'Stammdaten Betrieb & Abteilung'!D$4","v":" "},null,null,null,null,null,{"$f":"Übersetzungstexte!A$137","v":"Beginn / Ende der Kurzarbeit"},{"$f":"'Stammdaten Betrieb & Abteilung'!D$16","v":""}]
[]
[{"$f":"Übersetzungstexte!A$138","v":""},{"$f":"Übersetzungstexte!A$142","v":""},{"$f":"Übersetzungstexte!A$146","v":""},{"$f":"Übersetzungstexte!A$150","v":""},{"$f":"Übersetzungstexte!A$154","v":""},{"$f":"Übersetzungstexte!A$158","v":""},{"$f":"Übersetzungstexte!A$162","v":"Anzahl bez."},{"$f":"Übersetzungstexte!A$166","v":"Weitere"},{"$f":"Übersetzungstexte!A$170","v":"Jahres-"},{"$f":"Übersetzungstexte!A$174","v":""},{"$f":"Übersetzungstexte!A$178","v":""},{"$f":"Übersetzungstexte!A$182","v":"Anrechen-"},null,null,"Anzahl","Regel 7",null,"Regel 9","Regel 10","Regel 11","Regel 12","Regel 13","Regel 14","Regel 10-14","Regel 14","Regel 14"]
[{"$f":"Übersetzungstexte!A$139","v":""},{"$f":"Übersetzungstexte!A$143","v":""},{"$f":"Übersetzungstexte!A$147","v":""},{"$f":"Übersetzungstexte!A$151","v":""},{"$f":"Übersetzungstexte!A$155","v":""},{"$f":"Übersetzungstexte!A$159","v":""},{"$f":"Übersetzungstexte!A$163","v":"Monate "},{"$f":"Übersetzungstexte!A$167","v":"Lohn-"},{"$f":"Übersetzungstexte!A$171","v":"durchschn."},{"$f":"Übersetzungstexte!A$175","v":"Anzahl"},{"$f":"Übersetzungstexte!A$179","v":"Anzahl"},{"$f":"Übersetzungstexte!A$183","v":"barer"},null,null,"bezugs-","  FF12","S13 / 12","  deApM","Std. Lohn","Std. Lohn","Monatslohn","Monatslohn","Vergleichs-","Anrechenb.","Anrechenb.","Warnungs-"]
[{"$f":"Übersetzungstexte!A$140","v":""},{"$f":"Übersetzungstexte!A$144","v":""},{"$f":"Übersetzungstexte!A$148","v":""},{"$f":"Übersetzungstexte!A$152","v":"Geburts-"},{"$f":"Übersetzungstexte!A$156","v":"Monats-"},{"$f":"Übersetzungstexte!A$160","v":"Stunden-"},{"$f":"Übersetzungstexte!A$164","v":"pro Jahr"},{"$f":"Übersetzungstexte!A$168","v":"bestand-"},{"$f":"Übersetzungstexte!A$172","v":"wöchentl."},{"$f":"Übersetzungstexte!A$176","v":"Ferientage"},{"$f":"Übersetzungstexte!A$180","v":"Feiertage"},{"$f":"Übersetzungstexte!A$184","v":"Stunden-"},null,"AHV-","berechtigte",null,null,null,"ohne","mit","ohne","mit","wert","Std.-Verd.","Std.-","anzeige"]
[{"$f":"Übersetzungstexte!A$141","v":"Versicherten-Nr."},{"$f":"Übersetzungstexte!A$145","v":"Name"},{"$f":"Übersetzungstexte!A$149","v":"Vorname"},{"$f":"Übersetzungstexte!A$153","v":"datum"},{"$f":"Übersetzungstexte!A$157","v":"lohn"},{"$f":"Übersetzungstexte!A$161","v":"lohn"},{"$f":"Übersetzungstexte!A$165","v":"(12/13)"},{"$f":"Übersetzungstexte!A$169","v":"teile p. Jahr"},{"$f":"Übersetzungstexte!A$173","v":"Arbeitszeit"},{"$f":"Übersetzungstexte!A$177","v":"pro Jahr"},{"$f":"Übersetzungstexte!A$181","v":"pro Jahr"},{"$f":"Übersetzungstexte!A$185","v":"Verdienst"},null,"pflichtig","Mitarbeiter",null,null,null,"Prämie","Prämie","Prämie","Prämie",null,"aSV","Verdienst",null,"Name,Vorname"]
[null,null,null,null,null,null,null,null,null,null,null,{"$f":"Y939","v":""},{"$f":"Z939","v":""},{"$f":"IF(N$2-YEAR(D939)<N$3,0,1)","v":0},{"$f":"IF(L939=\"\",0,1)","v":0},{"$f":"IF(AND(A939=\"\",B939=\"\",C939=\"\"),\"\",ROUND((K939+J939)/(N$4-(K939+J939))*100,2))","v":""},{"$f":"ROUND(G939,0)/12","v":0},{"$f":"IF(AND(A939=\"\",B939=\"\",C939=\"\"),\"\",ROUND((N$4-(K939+J939))*I939/60,1))","v":""},{"$f":"IF(OR(AND(A939=\"\",B939=\"\",C939=\"\"),F939=0,F939=\"\"),\"\",ROUND((1+P939/100)*Q939*F939,2))","v":""},{"$f":"IF(OR(AND(A939=\"\",B939=\"\",C939=\"\"),F939=0,F939=\"\",I939=0,I939=\"\"),\"\",ROUND((1+P939/100)*(H939/(N$4*I939/5)+Q939*F939),2))","v":""},{"$f":"IF(OR(AND(A939=\"\",B939=\"\",C939=\"\"),E939=0,E939=\"\",R939=0,R939=\"\"),\"\",ROUND((Q939*E939/R939),2))","v":""},{"$f":"IF(OR(AND(A939=\"\",B939=\"\",C939=\"\"),E939=0,E939=\"\",R939=0,R939=\"\"),\"\",ROUND((H939/(12*Q939*E939)+1)*Q939*E939/R939,2))","v":""},{"$f":"IF(OR(AND(A939=\"\",B939=\"\",C939=\"\"),R939=0,R939=\"\"),\"\",ROUND(W$4 / R939,1))","v":""},{"$f":"IF(OR(AND(A939=\"\",B939=\"\",C939=\"\"),N$4=\"\"),\"\",IF(AND(F939>0,H939>0),T939, IF(F939>0,S939, IF(AND(E939>0,H939>0),V939,U939))))","v":""},{"$f":"IF(W939<X939,W939,X939)","v":""},{"$f":"IF(W939<X939,Übersetzungstexte!A$186,\"\")","v":""},{"$f":"IF(AND(B939=\"\",C939=\"\"),\"\",CONCATENATE(B939,\",\",C939))","v":""}]
[null,null,null,null,null,null,null,null,null,null,null,"","",0,0,"",0,"","","","","","","","",{"$f":"IF(W940<X940,Übersetzungstexte!A$186,\"\")","v":""},""]
[null,null,null,null,null,null,null,null,null,null,null,"","",0,0,"",0,"","","","","","","","",{"$f":"IF(W941<X941,Übersetzungstexte!A$186,\"\")","v":""},""]
[null,null,null,null,null,null,null,null,null,null,null,"","",0,0,"",0,"","","","","","","","",{"$f":"IF(W942<X942,Übersetzungstexte!A$186,\"\")","v":""},""]
[null,null,null,null,null,null,null,null,null,null,null,"","",0,0,"",0,"","","","","","","","",{"$f":"IF(W943<X943,Übersetzungstexte!A$186,\"\")","v":""},""]
[null,null,null,null,null,null,null,null,null,null,null,"","",0,0,"",0,"","","","","","","","",{"$f":"IF(W944<X944,Übersetzungstexte!A$186,\"\")","v":""},""]
[null,null,null,null,null,null,null,null,null,null,null,"","",0,0,"",0,"","","","","","","","",{"$f":"IF(W945<X945,Übersetzungstexte!A$186,\"\")","v":""},""]
[null,null,null,null,null,null,null,null,null,null,null,"","",0,0,"",0,"","","","","","","","",{"$f":"IF(W946<X946,Übersetzungstexte!A$186,\"\")","v":""},""]
[null,null,null,null,null,null,null,null,null,null,null,"","",0,0,"",0,"","","","","","","","",{"$f":"IF(W947<X947,Übersetzungstexte!A$186,\"\")","v":""},""]
[null,null,null,null,null,null,null,null,null,null,null,"","",0,0,"",0,"","","","","","","","",{"$f":"IF(W948<X948,Übersetzungstexte!A$186,\"\")","v":""},""]
[null,null,null,null,null,null,null,null,null,null,null,"","",0,0,"",0,"","","","","","","","",{"$f":"IF(W949<X949,Übersetzungstexte!A$186,\"\")","v":""},""]
[null,null,null,null,null,null,null,null,null,null,null,"","",0,0,"",0,"","","","","","","","",{"$f":"IF(W950<X950,Übersetzungstexte!A$186,\"\")","v":""},""]
[null,null,null,null,null,null,null,null,null,null,null,"","",0,0,"",0,"","","","","","","","",{"$f":"IF(W951<X951,Übersetzungstexte!A$186,\"\")","v":""},""]
[null,null,null,null,null,null,null,null,null,null,null,"","",0,0,"",0,"","","","","","","","",{"$f":"IF(W952<X952,Übersetzungstexte!A$186,\"\")","v":""},""]
[null,null,null,null,null,null,null,null,null,null,null,"","",0,0,"",0,"","","","","","","","",{"$f":"IF(W953<X953,Übersetzungstexte!A$186,\"\")","v":""},""]
[null,null,null,null,null,null,null,null,null,null,null,"","",0,0,"",0,"","","","","","","","",{"$f":"IF(W954<X954,Übersetzungstexte!A$186,\"\")","v":""},""]
[null,null,null,null,null,null,null,null,null,null,null,"","",0,0,"",0,"","","","","","","","",{"$f":"IF(W955<X955,Übersetzungstexte!A$186,\"\")","v":""},""]
[null,null,null,null,null,null,null,null,null,null,null,"","",0,0,"",0,"","","","","","","","",{"$f":"IF(W956<X956,Übersetzungstexte!A$186,\"\")","v":""},""]
[null,null,null,null,null,null,null,null,null,null,null,"","",0,0,"",0,"","","","","","","","",{"$f":"IF(W957<X957,Übersetzungstexte!A$186,\"\")","v":""},""]
[null,null,null,null,null,null,null,null,null,null,null,"",{"$f":"Z958","v":""},{"$f":"IF(N$2-YEAR(D958)<N$3,0,1)","v":0},{"$f":"IF(L958=\"\",0,1)","v":0},{"$f":"IF(AND(A958=\"\",B958=\"\",C958=\"\"),\"\",ROUND((K958+J958)/(N$4-(K958+J958))*100,2))","v":""},{"$f":"ROUND(G958,0)/12","v":0},{"$f":"IF(AND(A958=\"\",B958=\"\",C958=\"\"),\"\",ROUND((N$4-(K958+J958))*I958/60,1))","v":""},{"$f":"IF(OR(AND(A958=\"\",B958=\"\",C958=\"\"),F958=0,F958=\"\"),\"\",ROUND((1+P958/100)*Q958*F958,2))","v":""},{"$f":"IF(OR(AND(A958=\"\",B958=\"\",C958=\"\"),F958=0,F958=\"\",I958=0,I958=\"\"),\"\",ROUND((1+P958/100)*(H958/(N$4*I958/5)+Q958*F958),2))","v":""},{"$f":"IF(OR(AND(A958=\"\",B958=\"\",C958=\"\"),E958=0,E958=\"\",R958=0,R958=\"\"),\"\",ROUND((Q958*E958/R958),2))","v":""},{"$f":"IF(OR(AND(A958=\"\",B958=\"\",C958=\"\"),E958=0,E958=\"\",R958=0,R958=\"\"),\"\",ROUND((H958/(12*Q958*E958)+1)*Q958*E958/R958,2))","v":""},{"$f":"IF(OR(AND(A958=\"\",B958=\"\",C958=\"\"),R958=0,R958=\"\"),\"\",ROUND(W$4 / R958,1))","v":""},{"$f":"IF(OR(AND(A958=\"\",B958=\"\",C958=\"\"),N$4=\"\"),\"\",IF(AND(F958>0,H958>0),T958, IF(F958>0,S958, IF(AND(E958>0,H958>0),V958,U958))))","v":""},{"$f":"IF(W958<X958,W958,X958)","v":""},{"$f":"IF(W958<X958,Übersetzungstexte!A$186,\"\")","v":""},{"$f":"IF(AND(B958=\"\",C958=\"\"),\"\",CONCATENATE(B958,\",\",C958))","v":""}]
[null,null,null,null,null,null,null,null,null,null,null,"",{"$f":"Z959","v":""},{"$f":"IF(N$2-YEAR(D959)<N$3,0,1)","v":0},{"$f":"IF(L959=\"\",0,1)","v":0},{"$f":"IF(AND(A959=\"\",B959=\"\",C959=\"\"),\"\",ROUND((K959+J959)/(N$4-(K959+J959))*100,2))","v":""},{"$f":"ROUND(G959,0)/12","v":0},{"$f":"IF(AND(A959=\"\",B959=\"\",C959=\"\"),\"\",ROUND((N$4-(K959+J959))*I959/60,1))","v":""},{"$f":"IF(OR(AND(A959=\"\",B959=\"\",C959=\"\"),F959=0,F959=\"\"),\"\",ROUND((1+P959/100)*Q959*F959,2))","v":""},{"$f":"IF(OR(AND(A959=\"\",B959=\"\",C959=\"\"),F959=0,F959=\"\",I959=0,I959=\"\"),\"\",ROUND((1+P959/100)*(H959/(N$4*I959/5)+Q959*F959),2))","v":""},{"$f":"IF(OR(AND(A959=\"\",B959=\"\",C959=\"\"),E959=0,E959=\"\",R959=0,R959=\"\"),\"\",ROUND((Q959*E959/R959),2))","v":""},{"$f":"IF(OR(AND(A959=\"\",B959=\"\",C959=\"\"),E959=0,E959=\"\",R959=0,R959=\"\"),\"\",ROUND((H959/(12*Q959*E959)+1)*Q959*E959/R959,2))","v":""},{"$f":"IF(OR(AND(A959=\"\",B959=\"\",C959=\"\"),R959=0,R959=\"\"),\"\",ROUND(W$4 / R959,1))","v":""},{"$f":"IF(OR(AND(A959=\"\",B959=\"\",C959=\"\"),N$4=\"\"),\"\",IF(AND(F959>0,H959>0),T959, IF(F959>0,S959, IF(AND(E959>0,H959>0),V959,U959))))","v":""},{"$f":"IF(W959<X959,W959,X959)","v":""},{"$f":"IF(W959<X959,Übersetzungstexte!A$186,\"\")","v":""},{"$f":"IF(AND(B959=\"\",C959=\"\"),\"\",CONCATENATE(B959,\",\",C959))","v":""}]
[]
[{"$f":"'Stammdaten Betrieb & Abteilung'!D$1","v":"  "},null,null,null,null,null,{"$f":"Übersetzungstexte!A$135","v":"Betrieb / Betriebsabteilung"},{"$f":"'Stammdaten Betrieb & Abteilung'!D$13","v":" "}]
[{"$f":"'Stammdaten Betrieb & Abteilung'!D$3","v":" "},null,null,null,null,null,{"$f":"Übersetzungstexte!A$136","v":"Abrechnungsperiode"},{"$f":"'Stammdaten Betrieb & Abteilung'!D$14","v":""}]
[{"$f":"'Stammdaten Betrieb & Abteilung'!D$4","v":" "},null,null,null,null,null,{"$f":"Übersetzungstexte!A$137","v":"Beginn / Ende der Kurzarbeit"},{"$f":"'Stammdaten Betrieb & Abteilung'!D$16","v":""}]
[]
[{"$f":"Übersetzungstexte!A$138","v":""},{"$f":"Übersetzungstexte!A$142","v":""},{"$f":"Übersetzungstexte!A$146","v":""},{"$f":"Übersetzungstexte!A$150","v":""},{"$f":"Übersetzungstexte!A$154","v":""},{"$f":"Übersetzungstexte!A$158","v":""},{"$f":"Übersetzungstexte!A$162","v":"Anzahl bez."},{"$f":"Übersetzungstexte!A$166","v":"Weitere"},{"$f":"Übersetzungstexte!A$170","v":"Jahres-"},{"$f":"Übersetzungstexte!A$174","v":""},{"$f":"Übersetzungstexte!A$178","v":""},{"$f":"Übersetzungstexte!A$182","v":"Anrechen-"},null,null,"Anzahl","Regel 7",null,"Regel 9","Regel 10","Regel 11","Regel 12","Regel 13","Regel 14","Regel 10-14","Regel 14","Regel 14"]
[{"$f":"Übersetzungstexte!A$139","v":""},{"$f":"Übersetzungstexte!A$143","v":""},{"$f":"Übersetzungstexte!A$147","v":""},{"$f":"Übersetzungstexte!A$151","v":""},{"$f":"Übersetzungstexte!A$155","v":""},{"$f":"Übersetzungstexte!A$159","v":""},{"$f":"Übersetzungstexte!A$163","v":"Monate "},{"$f":"Übersetzungstexte!A$167","v":"Lohn-"},{"$f":"Übersetzungstexte!A$171","v":"durchschn."},{"$f":"Übersetzungstexte!A$175","v":"Anzahl"},{"$f":"Übersetzungstexte!A$179","v":"Anzahl"},{"$f":"Übersetzungstexte!A$183","v":"barer"},null,null,"bezugs-","  FF12","S13 / 12","  deApM","Std. Lohn","Std. Lohn","Monatslohn","Monatslohn","Vergleichs-","Anrechenb.","Anrechenb.","Warnungs-"]
[{"$f":"Übersetzungstexte!A$140","v":""},{"$f":"Übersetzungstexte!A$144","v":""},{"$f":"Übersetzungstexte!A$148","v":""},{"$f":"Übersetzungstexte!A$152","v":"Geburts-"},{"$f":"Übersetzungstexte!A$156","v":"Monats-"},{"$f":"Übersetzungstexte!A$160","v":"Stunden-"},{"$f":"Übersetzungstexte!A$164","v":"pro Jahr"},{"$f":"Übersetzungstexte!A$168","v":"bestand-"},{"$f":"Übersetzungstexte!A$172","v":"wöchentl."},{"$f":"Übersetzungstexte!A$176","v":"Ferientage"},{"$f":"Übersetzungstexte!A$180","v":"Feiertage"},{"$f":"Übersetzungstexte!A$184","v":"Stunden-"},null,"AHV-","berechtigte",null,null,null,"ohne","mit","ohne","mit","wert","Std.-Verd.","Std.-","anzeige"]
[{"$f":"Übersetzungstexte!A$141","v":"Versicherten-Nr."},{"$f":"Übersetzungstexte!A$145","v":"Name"},{"$f":"Übersetzungstexte!A$149","v":"Vorname"},{"$f":"Übersetzungstexte!A$153","v":"datum"},{"$f":"Übersetzungstexte!A$157","v":"lohn"},{"$f":"Übersetzungstexte!A$161","v":"lohn"},{"$f":"Übersetzungstexte!A$165","v":"(12/13)"},{"$f":"Übersetzungstexte!A$169","v":"teile p. Jahr"},{"$f":"Übersetzungstexte!A$173","v":"Arbeitszeit"},{"$f":"Übersetzungstexte!A$177","v":"pro Jahr"},{"$f":"Übersetzungstexte!A$181","v":"pro Jahr"},{"$f":"Übersetzungstexte!A$185","v":"Verdienst"},null,"pflichtig","Mitarbeiter",null,null,null,"Prämie","Prämie","Prämie","Prämie",null,"aSV","Verdienst",null,"Name,Vorname"]
[null,null,null,null,null,null,null,null,null,null,null,{"$f":"Y969","v":""},{"$f":"Z969","v":""},{"$f":"IF(N$2-YEAR(D969)<N$3,0,1)","v":0},{"$f":"IF(L969=\"\",0,1)","v":0},{"$f":"IF(AND(A969=\"\",B969=\"\",C969=\"\"),\"\",ROUND((K969+J969)/(N$4-(K969+J969))*100,2))","v":""},{"$f":"ROUND(G969,0)/12","v":0},{"$f":"IF(AND(A969=\"\",B969=\"\",C969=\"\"),\"\",ROUND((N$4-(K969+J969))*I969/60,1))","v":""},{"$f":"IF(OR(AND(A969=\"\",B969=\"\",C969=\"\"),F969=0,F969=\"\"),\"\",ROUND((1+P969/100)*Q969*F969,2))","v":""},{"$f":"IF(OR(AND(A969=\"\",B969=\"\",C969=\"\"),F969=0,F969=\"\",I969=0,I969=\"\"),\"\",ROUND((1+P969/100)*(H969/(N$4*I969/5)+Q969*F969),2))","v":""},{"$f":"IF(OR(AND(A969=\"\",B969=\"\",C969=\"\"),E969=0,E969=\"\",R969=0,R969=\"\"),\"\",ROUND((Q969*E969/R969),2))","v":""},{"$f":"IF(OR(AND(A969=\"\",B969=\"\",C969=\"\"),E969=0,E969=\"\",R969=0,R969=\"\"),\"\",ROUND((H969/(12*Q969*E969)+1)*Q969*E969/R969,2))","v":""},{"$f":"IF(OR(AND(A969=\"\",B969=\"\",C969=\"\"),R969=0,R969=\"\"),\"\",ROUND(W$4 / R969,1))","v":""},{"$f":"IF(OR(AND(A969=\"\",B969=\"\",C969=\"\"),N$4=\"\"),\"\",IF(AND(F969>0,H969>0),T969, IF(F969>0,S969, IF(AND(E969>0,H969>0),V969,U969))))","v":""},{"$f":"IF(W969<X969,W969,X969)","v":""},{"$f":"IF(W969<X969,Übersetzungstexte!A$186,\"\")","v":""},{"$f":"IF(AND(B969=\"\",C969=\"\"),\"\",CONCATENATE(B969,\",\",C969))","v":""}]
[null,null,null,null,null,null,null,null,null,null,null,"","",0,0,"",0,"","","","","","","","",{"$f":"IF(W970<X970,Übersetzungstexte!A$186,\"\")","v":""},""]
[null,null,null,null,null,null,null,null,null,null,null,"","",0,0,"",0,"","","","","","","","",{"$f":"IF(W971<X971,Übersetzungstexte!A$186,\"\")","v":""},""]
[null,null,null,null,null,null,null,null,null,null,null,"","",0,0,"",0,"","","","","","","","",{"$f":"IF(W972<X972,Übersetzungstexte!A$186,\"\")","v":""},""]
[null,null,null,null,null,null,null,null,null,null,null,"","",0,0,"",0,"","","","","","","","",{"$f":"IF(W973<X973,Übersetzungstexte!A$186,\"\")","v":""},""]
[null,null,null,null,null,null,null,null,null,null,null,"","",0,0,"",0,"","","","","","","","",{"$f":"IF(W974<X974,Übersetzungstexte!A$186,\"\")","v":""},""]
[null,null,null,null,null,null,null,null,null,null,null,"","",0,0,"",0,"","","","","","","","",{"$f":"IF(W975<X975,Übersetzungstexte!A$186,\"\")","v":""},""]
[null,null,null,null,null,null,null,null,null,null,null,"","",0,0,"",0,"","","","","","","","",{"$f":"IF(W976<X976,Übersetzungstexte!A$186,\"\")","v":""},""]
[null,null,null,null,null,null,null,null,null,null,null,"","",0,0,"",0,"","","","","","","","",{"$f":"IF(W977<X977,Übersetzungstexte!A$186,\"\")","v":""},""]
[null,null,null,null,null,null,null,null,null,null,null,"","",0,0,"",0,"","","","","","","","",{"$f":"IF(W978<X978,Übersetzungstexte!A$186,\"\")","v":""},""]
[null,null,null,null,null,null,null,null,null,null,null,"","",0,0,"",0,"","","","","","","","",{"$f":"IF(W979<X979,Übersetzungstexte!A$186,\"\")","v":""},""]
[null,null,null,null,null,null,null,null,null,null,null,"","",0,0,"",0,"","","","","","","","",{"$f":"IF(W980<X980,Übersetzungstexte!A$186,\"\")","v":""},""]
[null,null,null,null,null,null,null,null,null,null,null,"","",0,0,"",0,"","","","","","","","",{"$f":"IF(W981<X981,Übersetzungstexte!A$186,\"\")","v":""},""]
[null,null,null,null,null,null,null,null,null,null,null,"","",0,0,"",0,"","","","","","","","",{"$f":"IF(W982<X982,Übersetzungstexte!A$186,\"\")","v":""},""]
[null,null,null,null,null,null,null,null,null,null,null,"","",0,0,"",0,"","","","","","","","",{"$f":"IF(W983<X983,Übersetzungstexte!A$186,\"\")","v":""},""]
[null,null,null,null,null,null,null,null,null,null,null,"","",0,0,"",0,"","","","","","","","",{"$f":"IF(W984<X984,Übersetzungstexte!A$186,\"\")","v":""},""]
[null,null,null,null,null,null,null,null,null,null,null,"","",0,0,"",0,"","","","","","","","",{"$f":"IF(W985<X985,Übersetzungstexte!A$186,\"\")","v":""},""]
[null,null,null,null,null,null,null,null,null,null,null,"","",0,0,"",0,"","","","","","","","",{"$f":"IF(W986<X986,Übersetzungstexte!A$186,\"\")","v":""},""]
[null,null,null,null,null,null,null,null,null,null,null,"","",0,0,"",0,"","","","","","","","",{"$f":"IF(W987<X987,Übersetzungstexte!A$186,\"\")","v":""},""]
[null,null,null,null,null,null,null,null,null,null,null,"",{"$f":"Z988","v":""},{"$f":"IF(N$2-YEAR(D988)<N$3,0,1)","v":0},{"$f":"IF(L988=\"\",0,1)","v":0},{"$f":"IF(AND(A988=\"\",B988=\"\",C988=\"\"),\"\",ROUND((K988+J988)/(N$4-(K988+J988))*100,2))","v":""},{"$f":"ROUND(G988,0)/12","v":0},{"$f":"IF(AND(A988=\"\",B988=\"\",C988=\"\"),\"\",ROUND((N$4-(K988+J988))*I988/60,1))","v":""},{"$f":"IF(OR(AND(A988=\"\",B988=\"\",C988=\"\"),F988=0,F988=\"\"),\"\",ROUND((1+P988/100)*Q988*F988,2))","v":""},{"$f":"IF(OR(AND(A988=\"\",B988=\"\",C988=\"\"),F988=0,F988=\"\",I988=0,I988=\"\"),\"\",ROUND((1+P988/100)*(H988/(N$4*I988/5)+Q988*F988),2))","v":""},{"$f":"IF(OR(AND(A988=\"\",B988=\"\",C988=\"\"),E988=0,E988=\"\",R988=0,R988=\"\"),\"\",ROUND((Q988*E988/R988),2))","v":""},{"$f":"IF(OR(AND(A988=\"\",B988=\"\",C988=\"\"),E988=0,E988=\"\",R988=0,R988=\"\"),\"\",ROUND((H988/(12*Q988*E988)+1)*Q988*E988/R988,2))","v":""},{"$f":"IF(OR(AND(A988=\"\",B988=\"\",C988=\"\"),R988=0,R988=\"\"),\"\",ROUND(W$4 / R988,1))","v":""},{"$f":"IF(OR(AND(A988=\"\",B988=\"\",C988=\"\"),N$4=\"\"),\"\",IF(AND(F988>0,H988>0),T988, IF(F988>0,S988, IF(AND(E988>0,H988>0),V988,U988))))","v":""},{"$f":"IF(W988<X988,W988,X988)","v":""},{"$f":"IF(W988<X988,Übersetzungstexte!A$186,\"\")","v":""},{"$f":"IF(AND(B988=\"\",C988=\"\"),\"\",CONCATENATE(B988,\",\",C988))","v":""}]
[null,null,null,null,null,null,null,null,null,null,null,"",{"$f":"Z989","v":""},{"$f":"IF(N$2-YEAR(D989)<N$3,0,1)","v":0},{"$f":"IF(L989=\"\",0,1)","v":0},{"$f":"IF(AND(A989=\"\",B989=\"\",C989=\"\"),\"\",ROUND((K989+J989)/(N$4-(K989+J989))*100,2))","v":""},{"$f":"ROUND(G989,0)/12","v":0},{"$f":"IF(AND(A989=\"\",B989=\"\",C989=\"\"),\"\",ROUND((N$4-(K989+J989))*I989/60,1))","v":""},{"$f":"IF(OR(AND(A989=\"\",B989=\"\",C989=\"\"),F989=0,F989=\"\"),\"\",ROUND((1+P989/100)*Q989*F989,2))","v":""},{"$f":"IF(OR(AND(A989=\"\",B989=\"\",C989=\"\"),F989=0,F989=\"\",I989=0,I989=\"\"),\"\",ROUND((1+P989/100)*(H989/(N$4*I989/5)+Q989*F989),2))","v":""},{"$f":"IF(OR(AND(A989=\"\",B989=\"\",C989=\"\"),E989=0,E989=\"\",R989=0,R989=\"\"),\"\",ROUND((Q989*E989/R989),2))","v":""},{"$f":"IF(OR(AND(A989=\"\",B989=\"\",C989=\"\"),E989=0,E989=\"\",R989=0,R989=\"\"),\"\",ROUND((H989/(12*Q989*E989)+1)*Q989*E989/R989,2))","v":""},{"$f":"IF(OR(AND(A989=\"\",B989=\"\",C989=\"\"),R989=0,R989=\"\"),\"\",ROUND(W$4 / R989,1))","v":""},{"$f":"IF(OR(AND(A989=\"\",B989=\"\",C989=\"\"),N$4=\"\"),\"\",IF(AND(F989>0,H989>0),T989, IF(F989>0,S989, IF(AND(E989>0,H989>0),V989,U989))))","v":""},{"$f":"IF(W989<X989,W989,X989)","v":""},{"$f":"IF(W989<X989,Übersetzungstexte!A$186,\"\")","v":""},{"$f":"IF(AND(B989=\"\",C989=\"\"),\"\",CONCATENATE(B989,\",\",C989))","v":""}]
[]
[{"$f":"'Stammdaten Betrieb & Abteilung'!D$1","v":"  "},null,null,null,null,null,{"$f":"Übersetzungstexte!A$135","v":"Betrieb / Betriebsabteilung"},{"$f":"'Stammdaten Betrieb & Abteilung'!D$13","v":" "}]
[{"$f":"'Stammdaten Betrieb & Abteilung'!D$3","v":" "},null,null,null,null,null,{"$f":"Übersetzungstexte!A$136","v":"Abrechnungsperiode"},{"$f":"'Stammdaten Betrieb & Abteilung'!D$14","v":""}]
[{"$f":"'Stammdaten Betrieb & Abteilung'!D$4","v":" "},null,null,null,null,null,{"$f":"Übersetzungstexte!A$137","v":"Beginn / Ende der Kurzarbeit"},{"$f":"'Stammdaten Betrieb & Abteilung'!D$16","v":""}]
[]
[{"$f":"Übersetzungstexte!A$138","v":""},{"$f":"Übersetzungstexte!A$142","v":""},{"$f":"Übersetzungstexte!A$146","v":""},{"$f":"Übersetzungstexte!A$150","v":""},{"$f":"Übersetzungstexte!A$154","v":""},{"$f":"Übersetzungstexte!A$158","v":""},{"$f":"Übersetzungstexte!A$162","v":"Anzahl bez."},{"$f":"Übersetzungstexte!A$166","v":"Weitere"},{"$f":"Übersetzungstexte!A$170","v":"Jahres-"},{"$f":"Übersetzungstexte!A$174","v":""},{"$f":"Übersetzungstexte!A$178","v":""},{"$f":"Übersetzungstexte!A$182","v":"Anrechen-"},null,null,"Anzahl","Regel 7",null,"Regel 9","Regel 10","Regel 11","Regel 12","Regel 13","Regel 14","Regel 10-14","Regel 14","Regel 14"]
[{"$f":"Übersetzungstexte!A$139","v":""},{"$f":"Übersetzungstexte!A$143","v":""},{"$f":"Übersetzungstexte!A$147","v":""},{"$f":"Übersetzungstexte!A$151","v":""},{"$f":"Übersetzungstexte!A$155","v":""},{"$f":"Übersetzungstexte!A$159","v":""},{"$f":"Übersetzungstexte!A$163","v":"Monate "},{"$f":"Übersetzungstexte!A$167","v":"Lohn-"},{"$f":"Übersetzungstexte!A$171","v":"durchschn."},{"$f":"Übersetzungstexte!A$175","v":"Anzahl"},{"$f":"Übersetzungstexte!A$179","v":"Anzahl"},{"$f":"Übersetzungstexte!A$183","v":"barer"},null,null,"bezugs-","  FF12","S13 / 12","  deApM","Std. Lohn","Std. Lohn","Monatslohn","Monatslohn","Vergleichs-","Anrechenb.","Anrechenb.","Warnungs-"]
[{"$f":"Übersetzungstexte!A$140","v":""},{"$f":"Übersetzungstexte!A$144","v":""},{"$f":"Übersetzungstexte!A$148","v":""},{"$f":"Übersetzungstexte!A$152","v":"Geburts-"},{"$f":"Übersetzungstexte!A$156","v":"Monats-"},{"$f":"Übersetzungstexte!A$160","v":"Stunden-"},{"$f":"Übersetzungstexte!A$164","v":"pro Jahr"},{"$f":"Übersetzungstexte!A$168","v":"bestand-"},{"$f":"Übersetzungstexte!A$172","v":"wöchentl."},{"$f":"Übersetzungstexte!A$176","v":"Ferientage"},{"$f":"Übersetzungstexte!A$180","v":"Feiertage"},{"$f":"Übersetzungstexte!A$184","v":"Stunden-"},null,"AHV-","berechtigte",null,null,null,"ohne","mit","ohne","mit","wert","Std.-Verd.","Std.-","anzeige"]
[{"$f":"Übersetzungstexte!A$141","v":"Versicherten-Nr."},{"$f":"Übersetzungstexte!A$145","v":"Name"},{"$f":"Übersetzungstexte!A$149","v":"Vorname"},{"$f":"Übersetzungstexte!A$153","v":"datum"},{"$f":"Übersetzungstexte!A$157","v":"lohn"},{"$f":"Übersetzungstexte!A$161","v":"lohn"},{"$f":"Übersetzungstexte!A$165","v":"(12/13)"},{"$f":"Übersetzungstexte!A$169","v":"teile p. Jahr"},{"$f":"Übersetzungstexte!A$173","v":"Arbeitszeit"},{"$f":"Übersetzungstexte!A$177","v":"pro Jahr"},{"$f":"Übersetzungstexte!A$181","v":"pro Jahr"},{"$f":"Übersetzungstexte!A$185","v":"Verdienst"},null,"pflichtig","Mitarbeiter",null,null,null,"Prämie","Prämie","Prämie","Prämie",null,"aSV","Verdienst",null,"Name,Vorname"]
[null,null,null,null,null,null,null,null,null,null,null,{"$f":"Y999","v":""},{"$f":"Z999","v":""},{"$f":"IF(N$2-YEAR(D999)<N$3,0,1)","v":0},{"$f":"IF(L999=\"\",0,1)","v":0},{"$f":"IF(AND(A999=\"\",B999=\"\",C999=\"\"),\"\",ROUND((K999+J999)/(N$4-(K999+J999))*100,2))","v":""},{"$f":"ROUND(G999,0)/12","v":0},{"$f":"IF(AND(A999=\"\",B999=\"\",C999=\"\"),\"\",ROUND((N$4-(K999+J999))*I999/60,1))","v":""},{"$f":"IF(OR(AND(A999=\"\",B999=\"\",C999=\"\"),F999=0,F999=\"\"),\"\",ROUND((1+P999/100)*Q999*F999,2))","v":""},{"$f":"IF(OR(AND(A999=\"\",B999=\"\",C999=\"\"),F999=0,F999=\"\",I999=0,I999=\"\"),\"\",ROUND((1+P999/100)*(H999/(N$4*I999/5)+Q999*F999),2))","v":""},{"$f":"IF(OR(AND(A999=\"\",B999=\"\",C999=\"\"),E999=0,E999=\"\",R999=0,R999=\"\"),\"\",ROUND((Q999*E999/R999),2))","v":""},{"$f":"IF(OR(AND(A999=\"\",B999=\"\",C999=\"\"),E999=0,E999=\"\",R999=0,R999=\"\"),\"\",ROUND((H999/(12*Q999*E999)+1)*Q999*E999/R999,2))","v":""},{"$f":"IF(OR(AND(A999=\"\",B999=\"\",C999=\"\"),R999=0,R999=\"\"),\"\",ROUND(W$4 / R999,1))","v":""},{"$f":"IF(OR(AND(A999=\"\",B999=\"\",C999=\"\"),N$4=\"\"),\"\",IF(AND(F999>0,H999>0),T999, IF(F999>0,S999, IF(AND(E999>0,H999>0),V999,U999))))","v":""},{"$f":"IF(W999<X999,W999,X999)","v":""},{"$f":"IF(W999<X999,Übersetzungstexte!A$186,\"\")","v":""},{"$f":"IF(AND(B999=\"\",C999=\"\"),\"\",CONCATENATE(B999,\",\",C999))","v":""}]
[null,null,null,null,null,null,null,null,null,null,null,"","",0,0,"",0,"","","","","","","","",{"$f":"IF(W1000<X1000,Übersetzungstexte!A$186,\"\")","v":""},""]
[null,null,null,null,null,null,null,null,null,null,null,"","",0,0,"",0,"","","","","","","","",{"$f":"IF(W1001<X1001,Übersetzungstexte!A$186,\"\")","v":""},""]
[null,null,null,null,null,null,null,null,null,null,null,"","",0,0,"",0,"","","","","","","","",{"$f":"IF(W1002<X1002,Übersetzungstexte!A$186,\"\")","v":""},""]
[null,null,null,null,null,null,null,null,null,null,null,"","",0,0,"",0,"","","","","","","","",{"$f":"IF(W1003<X1003,Übersetzungstexte!A$186,\"\")","v":""},""]
[null,null,null,null,null,null,null,null,null,null,null,"","",0,0,"",0,"","","","","","","","",{"$f":"IF(W1004<X1004,Übersetzungstexte!A$186,\"\")","v":""},""]
[null,null,null,null,null,null,null,null,null,null,null,"","",0,0,"",0,"","","","","","","","",{"$f":"IF(W1005<X1005,Übersetzungstexte!A$186,\"\")","v":""},""]
[null,null,null,null,null,null,null,null,null,null,null,"","",0,0,"",0,"","","","","","","","",{"$f":"IF(W1006<X1006,Übersetzungstexte!A$186,\"\")","v":""},""]
[null,null,null,null,null,null,null,null,null,null,null,"","",0,0,"",0,"","","","","","","","",{"$f":"IF(W1007<X1007,Übersetzungstexte!A$186,\"\")","v":""},""]
[null,null,null,null,null,null,null,null,null,null,null,"","",0,0,"",0,"","","","","","","","",{"$f":"IF(W1008<X1008,Übersetzungstexte!A$186,\"\")","v":""},""]
[null,null,null,null,null,null,null,null,null,null,null,"","",0,0,"",0,"","","","","","","","",{"$f":"IF(W1009<X1009,Übersetzungstexte!A$186,\"\")","v":""},""]
[null,null,null,null,null,null,null,null,null,null,null,"","",0,0,"",0,"","","","","","","","",{"$f":"IF(W1010<X1010,Übersetzungstexte!A$186,\"\")","v":""},""]
[null,null,null,null,null,null,null,null,null,null,null,"","",0,0,"",0,"","","","","","","","",{"$f":"IF(W1011<X1011,Übersetzungstexte!A$186,\"\")","v":""},""]
[null,null,null,null,null,null,null,null,null,null,null,"","",0,0,"",0,"","","","","","","","",{"$f":"IF(W1012<X1012,Übersetzungstexte!A$186,\"\")","v":""},""]
[null,null,null,null,null,null,null,null,null,null,null,"","",0,0,"",0,"","","","","","","","",{"$f":"IF(W1013<X1013,Übersetzungstexte!A$186,\"\")","v":""},""]
[null,null,null,null,null,null,null,null,null,null,null,"","",0,0,"",0,"","","","","","","","",{"$f":"IF(W1014<X1014,Übersetzungstexte!A$186,\"\")","v":""},""]
[null,null,null,null,null,null,null,null,null,null,null,"","",0,0,"",0,"","","","","","","","",{"$f":"IF(W1015<X1015,Übersetzungstexte!A$186,\"\")","v":""},""]
[null,null,null,null,null,null,null,null,null,null,null,"","",0,0,"",0,"","","","","","","","",{"$f":"IF(W1016<X1016,Übersetzungstexte!A$186,\"\")","v":""},""]
[null,null,null,null,null,null,null,null,null,null,null,"","",0,0,"",0,"","","","","","","","",{"$f":"IF(W1017<X1017,Übersetzungstexte!A$186,\"\")","v":""},""]
[null,null,null,null,null,null,null,null,null,null,null,"",{"$f":"Z1018","v":""},{"$f":"IF(N$2-YEAR(D1018)<N$3,0,1)","v":0},{"$f":"IF(L1018=\"\",0,1)","v":0},{"$f":"IF(AND(A1018=\"\",B1018=\"\",C1018=\"\"),\"\",ROUND((K1018+J1018)/(N$4-(K1018+J1018))*100,2))","v":""},{"$f":"ROUND(G1018,0)/12","v":0},{"$f":"IF(AND(A1018=\"\",B1018=\"\",C1018=\"\"),\"\",ROUND((N$4-(K1018+J1018))*I1018/60,1))","v":""},{"$f":"IF(OR(AND(A1018=\"\",B1018=\"\",C1018=\"\"),F1018=0,F1018=\"\"),\"\",ROUND((1+P1018/100)*Q1018*F1018,2))","v":""},{"$f":"IF(OR(AND(A1018=\"\",B1018=\"\",C1018=\"\"),F1018=0,F1018=\"\",I1018=0,I1018=\"\"),\"\",ROUND((1+P1018/100)*(H1018/(N$4*I1018/5)+Q1018*F1018),2))","v":""},{"$f":"IF(OR(AND(A1018=\"\",B1018=\"\",C1018=\"\"),E1018=0,E1018=\"\",R1018=0,R1018=\"\"),\"\",ROUND((Q1018*E1018/R1018),2))","v":""},{"$f":"IF(OR(AND(A1018=\"\",B1018=\"\",C1018=\"\"),E1018=0,E1018=\"\",R1018=0,R1018=\"\"),\"\",ROUND((H1018/(12*Q1018*E1018)+1)*Q1018*E1018/R1018,2))","v":""},{"$f":"IF(OR(AND(A1018=\"\",B1018=\"\",C1018=\"\"),R1018=0,R1018=\"\"),\"\",ROUND(W$4 / R1018,1))","v":""},{"$f":"IF(OR(AND(A1018=\"\",B1018=\"\",C1018=\"\"),N$4=\"\"),\"\",IF(AND(F1018>0,H1018>0),T1018, IF(F1018>0,S1018, IF(AND(E1018>0,H1018>0),V1018,U1018))))","v":""},{"$f":"IF(W1018<X1018,W1018,X1018)","v":""},{"$f":"IF(W1018<X1018,Übersetzungstexte!A$186,\"\")","v":""},{"$f":"IF(AND(B1018=\"\",C1018=\"\"),\"\",CONCATENATE(B1018,\",\",C1018))","v":""}]
[null,null,null,null,null,null,null,null,null,null,null,"",{"$f":"Z1019","v":""},{"$f":"IF(N$2-YEAR(D1019)<N$3,0,1)","v":0},{"$f":"IF(L1019=\"\",0,1)","v":0},{"$f":"IF(AND(A1019=\"\",B1019=\"\",C1019=\"\"),\"\",ROUND((K1019+J1019)/(N$4-(K1019+J1019))*100,2))","v":""},{"$f":"ROUND(G1019,0)/12","v":0},{"$f":"IF(AND(A1019=\"\",B1019=\"\",C1019=\"\"),\"\",ROUND((N$4-(K1019+J1019))*I1019/60,1))","v":""},{"$f":"IF(OR(AND(A1019=\"\",B1019=\"\",C1019=\"\"),F1019=0,F1019=\"\"),\"\",ROUND((1+P1019/100)*Q1019*F1019,2))","v":""},{"$f":"IF(OR(AND(A1019=\"\",B1019=\"\",C1019=\"\"),F1019=0,F1019=\"\",I1019=0,I1019=\"\"),\"\",ROUND((1+P1019/100)*(H1019/(N$4*I1019/5)+Q1019*F1019),2))","v":""},{"$f":"IF(OR(AND(A1019=\"\",B1019=\"\",C1019=\"\"),E1019=0,E1019=\"\",R1019=0,R1019=\"\"),\"\",ROUND((Q1019*E1019/R1019),2))","v":""},{"$f":"IF(OR(AND(A1019=\"\",B1019=\"\",C1019=\"\"),E1019=0,E1019=\"\",R1019=0,R1019=\"\"),\"\",ROUND((H1019/(12*Q1019*E1019)+1)*Q1019*E1019/R1019,2))","v":""},{"$f":"IF(OR(AND(A1019=\"\",B1019=\"\",C1019=\"\"),R1019=0,R1019=\"\"),\"\",ROUND(W$4 / R1019,1))","v":""},{"$f":"IF(OR(AND(A1019=\"\",B1019=\"\",C1019=\"\"),N$4=\"\"),\"\",IF(AND(F1019>0,H1019>0),T1019, IF(F1019>0,S1019, IF(AND(E1019>0,H1019>0),V1019,U1019))))","v":""},{"$f":"IF(W1019<X1019,W1019,X1019)","v":""},{"$f":"IF(W1019<X1019,Übersetzungstexte!A$186,\"\")","v":""},{"$f":"IF(AND(B1019=\"\",C1019=\"\"),\"\",CONCATENATE(B1019,\",\",C1019))","v":""}]
[]
[{"$f":"'Stammdaten Betrieb & Abteilung'!D$1","v":"  "},null,null,null,null,null,{"$f":"Übersetzungstexte!A$135","v":"Betrieb / Betriebsabteilung"},{"$f":"'Stammdaten Betrieb & Abteilung'!D$13","v":" "}]
[{"$f":"'Stammdaten Betrieb & Abteilung'!D$3","v":" "},null,null,null,null,null,{"$f":"Übersetzungstexte!A$136","v":"Abrechnungsperiode"},{"$f":"'Stammdaten Betrieb & Abteilung'!D$14","v":""}]
[{"$f":"'Stammdaten Betrieb & Abteilung'!D$4","v":" "},null,null,null,null,null,{"$f":"Übersetzungstexte!A$137","v":"Beginn / Ende der Kurzarbeit"},{"$f":"'Stammdaten Betrieb & Abteilung'!D$16","v":""}]
[]
[{"$f":"Übersetzungstexte!A$138","v":""},{"$f":"Übersetzungstexte!A$142","v":""},{"$f":"Übersetzungstexte!A$146","v":""},{"$f":"Übersetzungstexte!A$150","v":""},{"$f":"Übersetzungstexte!A$154","v":""},{"$f":"Übersetzungstexte!A$158","v":""},{"$f":"Übersetzungstexte!A$162","v":"Anzahl bez."},{"$f":"Übersetzungstexte!A$166","v":"Weitere"},{"$f":"Übersetzungstexte!A$170","v":"Jahres-"},{"$f":"Übersetzungstexte!A$174","v":""},{"$f":"Übersetzungstexte!A$178","v":""},{"$f":"Übersetzungstexte!A$182","v":"Anrechen-"},null,null,"Anzahl","Regel 7",null,"Regel 9","Regel 10","Regel 11","Regel 12","Regel 13","Regel 14","Regel 10-14","Regel 14","Regel 14"]
[{"$f":"Übersetzungstexte!A$139","v":""},{"$f":"Übersetzungstexte!A$143","v":""},{"$f":"Übersetzungstexte!A$147","v":""},{"$f":"Übersetzungstexte!A$151","v":""},{"$f":"Übersetzungstexte!A$155","v":""},{"$f":"Übersetzungstexte!A$159","v":""},{"$f":"Übersetzungstexte!A$163","v":"Monate "},{"$f":"Übersetzungstexte!A$167","v":"Lohn-"},{"$f":"Übersetzungstexte!A$171","v":"durchschn."},{"$f":"Übersetzungstexte!A$175","v":"Anzahl"},{"$f":"Übersetzungstexte!A$179","v":"Anzahl"},{"$f":"Übersetzungstexte!A$183","v":"barer"},null,null,"bezugs-","  FF12","S13 / 12","  deApM","Std. Lohn","Std. Lohn","Monatslohn","Monatslohn","Vergleichs-","Anrechenb.","Anrechenb.","Warnungs-"]
[{"$f":"Übersetzungstexte!A$140","v":""},{"$f":"Übersetzungstexte!A$144","v":""},{"$f":"Übersetzungstexte!A$148","v":""},{"$f":"Übersetzungstexte!A$152","v":"Geburts-"},{"$f":"Übersetzungstexte!A$156","v":"Monats-"},{"$f":"Übersetzungstexte!A$160","v":"Stunden-"},{"$f":"Übersetzungstexte!A$164","v":"pro Jahr"},{"$f":"Übersetzungstexte!A$168","v":"bestand-"},{"$f":"Übersetzungstexte!A$172","v":"wöchentl."},{"$f":"Übersetzungstexte!A$176","v":"Ferientage"},{"$f":"Übersetzungstexte!A$180","v":"Feiertage"},{"$f":"Übersetzungstexte!A$184","v":"Stunden-"},null,"AHV-","berechtigte",null,null,null,"ohne","mit","ohne","mit","wert","Std.-Verd.","Std.-","anzeige"]
[{"$f":"Übersetzungstexte!A$141","v":"Versicherten-Nr."},{"$f":"Übersetzungstexte!A$145","v":"Name"},{"$f":"Übersetzungstexte!A$149","v":"Vorname"},{"$f":"Übersetzungstexte!A$153","v":"datum"},{"$f":"Übersetzungstexte!A$157","v":"lohn"},{"$f":"Übersetzungstexte!A$161","v":"lohn"},{"$f":"Übersetzungstexte!A$165","v":"(12/13)"},{"$f":"Übersetzungstexte!A$169","v":"teile p. Jahr"},{"$f":"Übersetzungstexte!A$173","v":"Arbeitszeit"},{"$f":"Übersetzungstexte!A$177","v":"pro Jahr"},{"$f":"Übersetzungstexte!A$181","v":"pro Jahr"},{"$f":"Übersetzungstexte!A$185","v":"Verdienst"},null,"pflichtig","Mitarbeiter",null,null,null,"Prämie","Prämie","Prämie","Prämie",null,"aSV","Verdienst",null,"Name,Vorname"]
[null,null,null,null,null,null,null,null,null,null,null,{"$f":"Y1029","v":""},{"$f":"Z1029","v":""},{"$f":"IF(N$2-YEAR(D1029)<N$3,0,1)","v":0},{"$f":"IF(L1029=\"\",0,1)","v":0},{"$f":"IF(AND(A1029=\"\",B1029=\"\",C1029=\"\"),\"\",ROUND((K1029+J1029)/(N$4-(K1029+J1029))*100,2))","v":""},{"$f":"ROUND(G1029,0)/12","v":0},{"$f":"IF(AND(A1029=\"\",B1029=\"\",C1029=\"\"),\"\",ROUND((N$4-(K1029+J1029))*I1029/60,1))","v":""},{"$f":"IF(OR(AND(A1029=\"\",B1029=\"\",C1029=\"\"),F1029=0,F1029=\"\"),\"\",ROUND((1+P1029/100)*Q1029*F1029,2))","v":""},{"$f":"IF(OR(AND(A1029=\"\",B1029=\"\",C1029=\"\"),F1029=0,F1029=\"\",I1029=0,I1029=\"\"),\"\",ROUND((1+P1029/100)*(H1029/(N$4*I1029/5)+Q1029*F1029),2))","v":""},{"$f":"IF(OR(AND(A1029=\"\",B1029=\"\",C1029=\"\"),E1029=0,E1029=\"\",R1029=0,R1029=\"\"),\"\",ROUND((Q1029*E1029/R1029),2))","v":""},{"$f":"IF(OR(AND(A1029=\"\",B1029=\"\",C1029=\"\"),E1029=0,E1029=\"\",R1029=0,R1029=\"\"),\"\",ROUND((H1029/(12*Q1029*E1029)+1)*Q1029*E1029/R1029,2))","v":""},{"$f":"IF(OR(AND(A1029=\"\",B1029=\"\",C1029=\"\"),R1029=0,R1029=\"\"),\"\",ROUND(W$4 / R1029,1))","v":""},{"$f":"IF(OR(AND(A1029=\"\",B1029=\"\",C1029=\"\"),N$4=\"\"),\"\",IF(AND(F1029>0,H1029>0),T1029, IF(F1029>0,S1029, IF(AND(E1029>0,H1029>0),V1029,U1029))))","v":""},{"$f":"IF(W1029<X1029,W1029,X1029)","v":""},{"$f":"IF(W1029<X1029,Übersetzungstexte!A$186,\"\")","v":""},{"$f":"IF(AND(B1029=\"\",C1029=\"\"),\"\",CONCATENATE(B1029,\",\",C1029))","v":""}]
[null,null,null,null,null,null,null,null,null,null,null,"","",0,0,"",0,"","","","","","","","",{"$f":"IF(W1030<X1030,Übersetzungstexte!A$186,\"\")","v":""},""]
[null,null,null,null,null,null,null,null,null,null,null,"","",0,0,"",0,"","","","","","","","",{"$f":"IF(W1031<X1031,Übersetzungstexte!A$186,\"\")","v":""},""]
[null,null,null,null,null,null,null,null,null,null,null,"","",0,0,"",0,"","","","","","","","",{"$f":"IF(W1032<X1032,Übersetzungstexte!A$186,\"\")","v":""},""]
[null,null,null,null,null,null,null,null,null,null,null,"","",0,0,"",0,"","","","","","","","",{"$f":"IF(W1033<X1033,Übersetzungstexte!A$186,\"\")","v":""},""]
[null,null,null,null,null,null,null,null,null,null,null,"","",0,0,"",0,"","","","","","","","",{"$f":"IF(W1034<X1034,Übersetzungstexte!A$186,\"\")","v":""},""]
[null,null,null,null,null,null,null,null,null,null,null,"","",0,0,"",0,"","","","","","","","",{"$f":"IF(W1035<X1035,Übersetzungstexte!A$186,\"\")","v":""},""]
[null,null,null,null,null,null,null,null,null,null,null,"","",0,0,"",0,"","","","","","","","",{"$f":"IF(W1036<X1036,Übersetzungstexte!A$186,\"\")","v":""},""]
[null,null,null,null,null,null,null,null,null,null,null,"","",0,0,"",0,"","","","","","","","",{"$f":"IF(W1037<X1037,Übersetzungstexte!A$186,\"\")","v":""},""]
[null,null,null,null,null,null,null,null,null,null,null,"","",0,0,"",0,"","","","","","","","",{"$f":"IF(W1038<X1038,Übersetzungstexte!A$186,\"\")","v":""},""]
[null,null,null,null,null,null,null,null,null,null,null,"","",0,0,"",0,"","","","","","","","",{"$f":"IF(W1039<X1039,Übersetzungstexte!A$186,\"\")","v":""},""]
[null,null,null,null,null,null,null,null,null,null,null,"","",0,0,"",0,"","","","","","","","",{"$f":"IF(W1040<X1040,Übersetzungstexte!A$186,\"\")","v":""},""]
[null,null,null,null,null,null,null,null,null,null,null,"","",0,0,"",0,"","","","","","","","",{"$f":"IF(W1041<X1041,Übersetzungstexte!A$186,\"\")","v":""},""]
[null,null,null,null,null,null,null,null,null,null,null,"","",0,0,"",0,"","","","","","","","",{"$f":"IF(W1042<X1042,Übersetzungstexte!A$186,\"\")","v":""},""]
[null,null,null,null,null,null,null,null,null,null,null,"","",0,0,"",0,"","","","","","","","",{"$f":"IF(W1043<X1043,Übersetzungstexte!A$186,\"\")","v":""},""]
[null,null,null,null,null,null,null,null,null,null,null,"","",0,0,"",0,"","","","","","","","",{"$f":"IF(W1044<X1044,Übersetzungstexte!A$186,\"\")","v":""},""]
[null,null,null,null,null,null,null,null,null,null,null,"","",0,0,"",0,"","","","","","","","",{"$f":"IF(W1045<X1045,Übersetzungstexte!A$186,\"\")","v":""},""]
[null,null,null,null,null,null,null,null,null,null,null,"","",0,0,"",0,"","","","","","","","",{"$f":"IF(W1046<X1046,Übersetzungstexte!A$186,\"\")","v":""},""]
[null,null,null,null,null,null,null,null,null,null,null,"","",0,0,"",0,"","","","","","","","",{"$f":"IF(W1047<X1047,Übersetzungstexte!A$186,\"\")","v":""},""]
[null,null,null,null,null,null,null,null,null,null,null,"",{"$f":"Z1048","v":""},{"$f":"IF(N$2-YEAR(D1048)<N$3,0,1)","v":0},{"$f":"IF(L1048=\"\",0,1)","v":0},{"$f":"IF(AND(A1048=\"\",B1048=\"\",C1048=\"\"),\"\",ROUND((K1048+J1048)/(N$4-(K1048+J1048))*100,2))","v":""},{"$f":"ROUND(G1048,0)/12","v":0},{"$f":"IF(AND(A1048=\"\",B1048=\"\",C1048=\"\"),\"\",ROUND((N$4-(K1048+J1048))*I1048/60,1))","v":""},{"$f":"IF(OR(AND(A1048=\"\",B1048=\"\",C1048=\"\"),F1048=0,F1048=\"\"),\"\",ROUND((1+P1048/100)*Q1048*F1048,2))","v":""},{"$f":"IF(OR(AND(A1048=\"\",B1048=\"\",C1048=\"\"),F1048=0,F1048=\"\",I1048=0,I1048=\"\"),\"\",ROUND((1+P1048/100)*(H1048/(N$4*I1048/5)+Q1048*F1048),2))","v":""},{"$f":"IF(OR(AND(A1048=\"\",B1048=\"\",C1048=\"\"),E1048=0,E1048=\"\",R1048=0,R1048=\"\"),\"\",ROUND((Q1048*E1048/R1048),2))","v":""},{"$f":"IF(OR(AND(A1048=\"\",B1048=\"\",C1048=\"\"),E1048=0,E1048=\"\",R1048=0,R1048=\"\"),\"\",ROUND((H1048/(12*Q1048*E1048)+1)*Q1048*E1048/R1048,2))","v":""},{"$f":"IF(OR(AND(A1048=\"\",B1048=\"\",C1048=\"\"),R1048=0,R1048=\"\"),\"\",ROUND(W$4 / R1048,1))","v":""},{"$f":"IF(OR(AND(A1048=\"\",B1048=\"\",C1048=\"\"),N$4=\"\"),\"\",IF(AND(F1048>0,H1048>0),T1048, IF(F1048>0,S1048, IF(AND(E1048>0,H1048>0),V1048,U1048))))","v":""},{"$f":"IF(W1048<X1048,W1048,X1048)","v":""},{"$f":"IF(W1048<X1048,Übersetzungstexte!A$186,\"\")","v":""},{"$f":"IF(AND(B1048=\"\",C1048=\"\"),\"\",CONCATENATE(B1048,\",\",C1048))","v":""}]
[null,null,null,null,null,null,null,null,null,null,null,"",{"$f":"Z1049","v":""},{"$f":"IF(N$2-YEAR(D1049)<N$3,0,1)","v":0},{"$f":"IF(L1049=\"\",0,1)","v":0},{"$f":"IF(AND(A1049=\"\",B1049=\"\",C1049=\"\"),\"\",ROUND((K1049+J1049)/(N$4-(K1049+J1049))*100,2))","v":""},{"$f":"ROUND(G1049,0)/12","v":0},{"$f":"IF(AND(A1049=\"\",B1049=\"\",C1049=\"\"),\"\",ROUND((N$4-(K1049+J1049))*I1049/60,1))","v":""},{"$f":"IF(OR(AND(A1049=\"\",B1049=\"\",C1049=\"\"),F1049=0,F1049=\"\"),\"\",ROUND((1+P1049/100)*Q1049*F1049,2))","v":""},{"$f":"IF(OR(AND(A1049=\"\",B1049=\"\",C1049=\"\"),F1049=0,F1049=\"\",I1049=0,I1049=\"\"),\"\",ROUND((1+P1049/100)*(H1049/(N$4*I1049/5)+Q1049*F1049),2))","v":""},{"$f":"IF(OR(AND(A1049=\"\",B1049=\"\",C1049=\"\"),E1049=0,E1049=\"\",R1049=0,R1049=\"\"),\"\",ROUND((Q1049*E1049/R1049),2))","v":""},{"$f":"IF(OR(AND(A1049=\"\",B1049=\"\",C1049=\"\"),E1049=0,E1049=\"\",R1049=0,R1049=\"\"),\"\",ROUND((H1049/(12*Q1049*E1049)+1)*Q1049*E1049/R1049,2))","v":""},{"$f":"IF(OR(AND(A1049=\"\",B1049=\"\",C1049=\"\"),R1049=0,R1049=\"\"),\"\",ROUND(W$4 / R1049,1))","v":""},{"$f":"IF(OR(AND(A1049=\"\",B1049=\"\",C1049=\"\"),N$4=\"\"),\"\",IF(AND(F1049>0,H1049>0),T1049, IF(F1049>0,S1049, IF(AND(E1049>0,H1049>0),V1049,U1049))))","v":""},{"$f":"IF(W1049<X1049,W1049,X1049)","v":""},{"$f":"IF(W1049<X1049,Übersetzungstexte!A$186,\"\")","v":""},{"$f":"IF(AND(B1049=\"\",C1049=\"\"),\"\",CONCATENATE(B1049,\",\",C1049))","v":""}]
[]
[{"$f":"'Stammdaten Betrieb & Abteilung'!D$1","v":"  "},null,null,null,null,null,{"$f":"Übersetzungstexte!A$135","v":"Betrieb / Betriebsabteilung"},{"$f":"'Stammdaten Betrieb & Abteilung'!D$13","v":" "}]
[{"$f":"'Stammdaten Betrieb & Abteilung'!D$3","v":" "},null,null,null,null,null,{"$f":"Übersetzungstexte!A$136","v":"Abrechnungsperiode"},{"$f":"'Stammdaten Betrieb & Abteilung'!D$14","v":""}]
[{"$f":"'Stammdaten Betrieb & Abteilung'!D$4","v":" "},null,null,null,null,null,{"$f":"Übersetzungstexte!A$137","v":"Beginn / Ende der Kurzarbeit"},{"$f":"'Stammdaten Betrieb & Abteilung'!D$16","v":""}]
[]
[{"$f":"Übersetzungstexte!A$138","v":""},{"$f":"Übersetzungstexte!A$142","v":""},{"$f":"Übersetzungstexte!A$146","v":""},{"$f":"Übersetzungstexte!A$150","v":""},{"$f":"Übersetzungstexte!A$154","v":""},{"$f":"Übersetzungstexte!A$158","v":""},{"$f":"Übersetzungstexte!A$162","v":"Anzahl bez."},{"$f":"Übersetzungstexte!A$166","v":"Weitere"},{"$f":"Übersetzungstexte!A$170","v":"Jahres-"},{"$f":"Übersetzungstexte!A$174","v":""},{"$f":"Übersetzungstexte!A$178","v":""},{"$f":"Übersetzungstexte!A$182","v":"Anrechen-"},null,null,"Anzahl","Regel 7",null,"Regel 9","Regel 10","Regel 11","Regel 12","Regel 13","Regel 14","Regel 10-14","Regel 14","Regel 14"]
[{"$f":"Übersetzungstexte!A$139","v":""},{"$f":"Übersetzungstexte!A$143","v":""},{"$f":"Übersetzungstexte!A$147","v":""},{"$f":"Übersetzungstexte!A$151","v":""},{"$f":"Übersetzungstexte!A$155","v":""},{"$f":"Übersetzungstexte!A$159","v":""},{"$f":"Übersetzungstexte!A$163","v":"Monate "},{"$f":"Übersetzungstexte!A$167","v":"Lohn-"},{"$f":"Übersetzungstexte!A$171","v":"durchschn."},{"$f":"Übersetzungstexte!A$175","v":"Anzahl"},{"$f":"Übersetzungstexte!A$179","v":"Anzahl"},{"$f":"Übersetzungstexte!A$183","v":"barer"},null,null,"bezugs-","  FF12","S13 / 12","  deApM","Std. Lohn","Std. Lohn","Monatslohn","Monatslohn","Vergleichs-","Anrechenb.","Anrechenb.","Warnungs-"]
[{"$f":"Übersetzungstexte!A$140","v":""},{"$f":"Übersetzungstexte!A$144","v":""},{"$f":"Übersetzungstexte!A$148","v":""},{"$f":"Übersetzungstexte!A$152","v":"Geburts-"},{"$f":"Übersetzungstexte!A$156","v":"Monats-"},{"$f":"Übersetzungstexte!A$160","v":"Stunden-"},{"$f":"Übersetzungstexte!A$164","v":"pro Jahr"},{"$f":"Übersetzungstexte!A$168","v":"bestand-"},{"$f":"Übersetzungstexte!A$172","v":"wöchentl."},{"$f":"Übersetzungstexte!A$176","v":"Ferientage"},{"$f":"Übersetzungstexte!A$180","v":"Feiertage"},{"$f":"Übersetzungstexte!A$184","v":"Stunden-"},null,"AHV-","berechtigte",null,null,null,"ohne","mit","ohne","mit","wert","Std.-Verd.","Std.-","anzeige"]
[{"$f":"Übersetzungstexte!A$141","v":"Versicherten-Nr."},{"$f":"Übersetzungstexte!A$145","v":"Name"},{"$f":"Übersetzungstexte!A$149","v":"Vorname"},{"$f":"Übersetzungstexte!A$153","v":"datum"},{"$f":"Übersetzungstexte!A$157","v":"lohn"},{"$f":"Übersetzungstexte!A$161","v":"lohn"},{"$f":"Übersetzungstexte!A$165","v":"(12/13)"},{"$f":"Übersetzungstexte!A$169","v":"teile p. Jahr"},{"$f":"Übersetzungstexte!A$173","v":"Arbeitszeit"},{"$f":"Übersetzungstexte!A$177","v":"pro Jahr"},{"$f":"Übersetzungstexte!A$181","v":"pro Jahr"},{"$f":"Übersetzungstexte!A$185","v":"Verdienst"},null,"pflichtig","Mitarbeiter",null,null,null,"Prämie","Prämie","Prämie","Prämie",null,"aSV","Verdienst",null,"Name,Vorname"]
[null,null,null,null,null,null,null,null,null,null,null,{"$f":"Y1059","v":""},{"$f":"Z1059","v":""},{"$f":"IF(N$2-YEAR(D1059)<N$3,0,1)","v":0},{"$f":"IF(L1059=\"\",0,1)","v":0},{"$f":"IF(AND(A1059=\"\",B1059=\"\",C1059=\"\"),\"\",ROUND((K1059+J1059)/(N$4-(K1059+J1059))*100,2))","v":""},{"$f":"ROUND(G1059,0)/12","v":0},{"$f":"IF(AND(A1059=\"\",B1059=\"\",C1059=\"\"),\"\",ROUND((N$4-(K1059+J1059))*I1059/60,1))","v":""},{"$f":"IF(OR(AND(A1059=\"\",B1059=\"\",C1059=\"\"),F1059=0,F1059=\"\"),\"\",ROUND((1+P1059/100)*Q1059*F1059,2))","v":""},{"$f":"IF(OR(AND(A1059=\"\",B1059=\"\",C1059=\"\"),F1059=0,F1059=\"\",I1059=0,I1059=\"\"),\"\",ROUND((1+P1059/100)*(H1059/(N$4*I1059/5)+Q1059*F1059),2))","v":""},{"$f":"IF(OR(AND(A1059=\"\",B1059=\"\",C1059=\"\"),E1059=0,E1059=\"\",R1059=0,R1059=\"\"),\"\",ROUND((Q1059*E1059/R1059),2))","v":""},{"$f":"IF(OR(AND(A1059=\"\",B1059=\"\",C1059=\"\"),E1059=0,E1059=\"\",R1059=0,R1059=\"\"),\"\",ROUND((H1059/(12*Q1059*E1059)+1)*Q1059*E1059/R1059,2))","v":""},{"$f":"IF(OR(AND(A1059=\"\",B1059=\"\",C1059=\"\"),R1059=0,R1059=\"\"),\"\",ROUND(W$4 / R1059,1))","v":""},{"$f":"IF(OR(AND(A1059=\"\",B1059=\"\",C1059=\"\"),N$4=\"\"),\"\",IF(AND(F1059>0,H1059>0),T1059, IF(F1059>0,S1059, IF(AND(E1059>0,H1059>0),V1059,U1059))))","v":""},{"$f":"IF(W1059<X1059,W1059,X1059)","v":""},{"$f":"IF(W1059<X1059,Übersetzungstexte!A$186,\"\")","v":""},{"$f":"IF(AND(B1059=\"\",C1059=\"\"),\"\",CONCATENATE(B1059,\",\",C1059))","v":""}]
[null,null,null,null,null,null,null,null,null,null,null,"","",0,0,"",0,"","","","","","","","",{"$f":"IF(W1060<X1060,Übersetzungstexte!A$186,\"\")","v":""},""]
[null,null,null,null,null,null,null,null,null,null,null,"","",0,0,"",0,"","","","","","","","",{"$f":"IF(W1061<X1061,Übersetzungstexte!A$186,\"\")","v":""},""]
[null,null,null,null,null,null,null,null,null,null,null,"","",0,0,"",0,"","","","","","","","",{"$f":"IF(W1062<X1062,Übersetzungstexte!A$186,\"\")","v":""},""]
[null,null,null,null,null,null,null,null,null,null,null,"","",0,0,"",0,"","","","","","","","",{"$f":"IF(W1063<X1063,Übersetzungstexte!A$186,\"\")","v":""},""]
[null,null,null,null,null,null,null,null,null,null,null,"","",0,0,"",0,"","","","","","","","",{"$f":"IF(W1064<X1064,Übersetzungstexte!A$186,\"\")","v":""},""]
[null,null,null,null,null,null,null,null,null,null,null,"","",0,0,"",0,"","","","","","","","",{"$f":"IF(W1065<X1065,Übersetzungstexte!A$186,\"\")","v":""},""]
[null,null,null,null,null,null,null,null,null,null,null,"","",0,0,"",0,"","","","","","","","",{"$f":"IF(W1066<X1066,Übersetzungstexte!A$186,\"\")","v":""},""]
[null,null,null,null,null,null,null,null,null,null,null,"","",0,0,"",0,"","","","","","","","",{"$f":"IF(W1067<X1067,Übersetzungstexte!A$186,\"\")","v":""},""]
[null,null,null,null,null,null,null,null,null,null,null,"","",0,0,"",0,"","","","","","","","",{"$f":"IF(W1068<X1068,Übersetzungstexte!A$186,\"\")","v":""},""]
[null,null,null,null,null,null,null,null,null,null,null,"","",0,0,"",0,"","","","","","","","",{"$f":"IF(W1069<X1069,Übersetzungstexte!A$186,\"\")","v":""},""]
[null,null,null,null,null,null,null,null,null,null,null,"","",0,0,"",0,"","","","","","","","",{"$f":"IF(W1070<X1070,Übersetzungstexte!A$186,\"\")","v":""},""]
[null,null,null,null,null,null,null,null,null,null,null,"","",0,0,"",0,"","","","","","","","",{"$f":"IF(W1071<X1071,Übersetzungstexte!A$186,\"\")","v":""},""]
[null,null,null,null,null,null,null,null,null,null,null,"","",0,0,"",0,"","","","","","","","",{"$f":"IF(W1072<X1072,Übersetzungstexte!A$186,\"\")","v":""},""]
[null,null,null,null,null,null,null,null,null,null,null,"","",0,0,"",0,"","","","","","","","",{"$f":"IF(W1073<X1073,Übersetzungstexte!A$186,\"\")","v":""},""]
[null,null,null,null,null,null,null,null,null,null,null,"","",0,0,"",0,"","","","","","","","",{"$f":"IF(W1074<X1074,Übersetzungstexte!A$186,\"\")","v":""},""]
[null,null,null,null,null,null,null,null,null,null,null,"","",0,0,"",0,"","","","","","","","",{"$f":"IF(W1075<X1075,Übersetzungstexte!A$186,\"\")","v":""},""]
[null,null,null,null,null,null,null,null,null,null,null,"","",0,0,"",0,"","","","","","","","",{"$f":"IF(W1076<X1076,Übersetzungstexte!A$186,\"\")","v":""},""]
[null,null,null,null,null,null,null,null,null,null,null,"","",0,0,"",0,"","","","","","","","",{"$f":"IF(W1077<X1077,Übersetzungstexte!A$186,\"\")","v":""},""]
[null,null,null,null,null,null,null,null,null,null,null,"",{"$f":"Z1078","v":""},{"$f":"IF(N$2-YEAR(D1078)<N$3,0,1)","v":0},{"$f":"IF(L1078=\"\",0,1)","v":0},{"$f":"IF(AND(A1078=\"\",B1078=\"\",C1078=\"\"),\"\",ROUND((K1078+J1078)/(N$4-(K1078+J1078))*100,2))","v":""},{"$f":"ROUND(G1078,0)/12","v":0},{"$f":"IF(AND(A1078=\"\",B1078=\"\",C1078=\"\"),\"\",ROUND((N$4-(K1078+J1078))*I1078/60,1))","v":""},{"$f":"IF(OR(AND(A1078=\"\",B1078=\"\",C1078=\"\"),F1078=0,F1078=\"\"),\"\",ROUND((1+P1078/100)*Q1078*F1078,2))","v":""},{"$f":"IF(OR(AND(A1078=\"\",B1078=\"\",C1078=\"\"),F1078=0,F1078=\"\",I1078=0,I1078=\"\"),\"\",ROUND((1+P1078/100)*(H1078/(N$4*I1078/5)+Q1078*F1078),2))","v":""},{"$f":"IF(OR(AND(A1078=\"\",B1078=\"\",C1078=\"\"),E1078=0,E1078=\"\",R1078=0,R1078=\"\"),\"\",ROUND((Q1078*E1078/R1078),2))","v":""},{"$f":"IF(OR(AND(A1078=\"\",B1078=\"\",C1078=\"\"),E1078=0,E1078=\"\",R1078=0,R1078=\"\"),\"\",ROUND((H1078/(12*Q1078*E1078)+1)*Q1078*E1078/R1078,2))","v":""},{"$f":"IF(OR(AND(A1078=\"\",B1078=\"\",C1078=\"\"),R1078=0,R1078=\"\"),\"\",ROUND(W$4 / R1078,1))","v":""},{"$f":"IF(OR(AND(A1078=\"\",B1078=\"\",C1078=\"\"),N$4=\"\"),\"\",IF(AND(F1078>0,H1078>0),T1078, IF(F1078>0,S1078, IF(AND(E1078>0,H1078>0),V1078,U1078))))","v":""},{"$f":"IF(W1078<X1078,W1078,X1078)","v":""},{"$f":"IF(W1078<X1078,Übersetzungstexte!A$186,\"\")","v":""},{"$f":"IF(AND(B1078=\"\",C1078=\"\"),\"\",CONCATENATE(B1078,\",\",C1078))","v":""}]
[null,null,null,null,null,null,null,null,null,null,null,"",{"$f":"Z1079","v":""},{"$f":"IF(N$2-YEAR(D1079)<N$3,0,1)","v":0},{"$f":"IF(L1079=\"\",0,1)","v":0},{"$f":"IF(AND(A1079=\"\",B1079=\"\",C1079=\"\"),\"\",ROUND((K1079+J1079)/(N$4-(K1079+J1079))*100,2))","v":""},{"$f":"ROUND(G1079,0)/12","v":0},{"$f":"IF(AND(A1079=\"\",B1079=\"\",C1079=\"\"),\"\",ROUND((N$4-(K1079+J1079))*I1079/60,1))","v":""},{"$f":"IF(OR(AND(A1079=\"\",B1079=\"\",C1079=\"\"),F1079=0,F1079=\"\"),\"\",ROUND((1+P1079/100)*Q1079*F1079,2))","v":""},{"$f":"IF(OR(AND(A1079=\"\",B1079=\"\",C1079=\"\"),F1079=0,F1079=\"\",I1079=0,I1079=\"\"),\"\",ROUND((1+P1079/100)*(H1079/(N$4*I1079/5)+Q1079*F1079),2))","v":""},{"$f":"IF(OR(AND(A1079=\"\",B1079=\"\",C1079=\"\"),E1079=0,E1079=\"\",R1079=0,R1079=\"\"),\"\",ROUND((Q1079*E1079/R1079),2))","v":""},{"$f":"IF(OR(AND(A1079=\"\",B1079=\"\",C1079=\"\"),E1079=0,E1079=\"\",R1079=0,R1079=\"\"),\"\",ROUND((H1079/(12*Q1079*E1079)+1)*Q1079*E1079/R1079,2))","v":""},{"$f":"IF(OR(AND(A1079=\"\",B1079=\"\",C1079=\"\"),R1079=0,R1079=\"\"),\"\",ROUND(W$4 / R1079,1))","v":""},{"$f":"IF(OR(AND(A1079=\"\",B1079=\"\",C1079=\"\"),N$4=\"\"),\"\",IF(AND(F1079>0,H1079>0),T1079, IF(F1079>0,S1079, IF(AND(E1079>0,H1079>0),V1079,U1079))))","v":""},{"$f":"IF(W1079<X1079,W1079,X1079)","v":""},{"$f":"IF(W1079<X1079,Übersetzungstexte!A$186,\"\")","v":""},{"$f":"IF(AND(B1079=\"\",C1079=\"\"),\"\",CONCATENATE(B1079,\",\",C1079))","v":""}]
[]
[{"$f":"'Stammdaten Betrieb & Abteilung'!D$1","v":"  "},null,null,null,null,null,{"$f":"Übersetzungstexte!A$135","v":"Betrieb / Betriebsabteilung"},{"$f":"'Stammdaten Betrieb & Abteilung'!D$13","v":" "}]
[{"$f":"'Stammdaten Betrieb & Abteilung'!D$3","v":" "},null,null,null,null,null,{"$f":"Übersetzungstexte!A$136","v":"Abrechnungsperiode"},{"$f":"'Stammdaten Betrieb & Abteilung'!D$14","v":""}]
[{"$f":"'Stammdaten Betrieb & Abteilung'!D$4","v":" "},null,null,null,null,null,{"$f":"Übersetzungstexte!A$137","v":"Beginn / Ende der Kurzarbeit"},{"$f":"'Stammdaten Betrieb & Abteilung'!D$16","v":""}]
[]
[{"$f":"Übersetzungstexte!A$138","v":""},{"$f":"Übersetzungstexte!A$142","v":""},{"$f":"Übersetzungstexte!A$146","v":""},{"$f":"Übersetzungstexte!A$150","v":""},{"$f":"Übersetzungstexte!A$154","v":""},{"$f":"Übersetzungstexte!A$158","v":""},{"$f":"Übersetzungstexte!A$162","v":"Anzahl bez."},{"$f":"Übersetzungstexte!A$166","v":"Weitere"},{"$f":"Übersetzungstexte!A$170","v":"Jahres-"},{"$f":"Übersetzungstexte!A$174","v":""},{"$f":"Übersetzungstexte!A$178","v":""},{"$f":"Übersetzungstexte!A$182","v":"Anrechen-"},null,null,"Anzahl","Regel 7",null,"Regel 9","Regel 10","Regel 11","Regel 12","Regel 13","Regel 14","Regel 10-14","Regel 14","Regel 14"]
[{"$f":"Übersetzungstexte!A$139","v":""},{"$f":"Übersetzungstexte!A$143","v":""},{"$f":"Übersetzungstexte!A$147","v":""},{"$f":"Übersetzungstexte!A$151","v":""},{"$f":"Übersetzungstexte!A$155","v":""},{"$f":"Übersetzungstexte!A$159","v":""},{"$f":"Übersetzungstexte!A$163","v":"Monate "},{"$f":"Übersetzungstexte!A$167","v":"Lohn-"},{"$f":"Übersetzungstexte!A$171","v":"durchschn."},{"$f":"Übersetzungstexte!A$175","v":"Anzahl"},{"$f":"Übersetzungstexte!A$179","v":"Anzahl"},{"$f":"Übersetzungstexte!A$183","v":"barer"},null,null,"bezugs-","  FF12","S13 / 12","  deApM","Std. Lohn","Std. Lohn","Monatslohn","Monatslohn","Vergleichs-","Anrechenb.","Anrechenb.","Warnungs-"]
[{"$f":"Übersetzungstexte!A$140","v":""},{"$f":"Übersetzungstexte!A$144","v":""},{"$f":"Übersetzungstexte!A$148","v":""},{"$f":"Übersetzungstexte!A$152","v":"Geburts-"},{"$f":"Übersetzungstexte!A$156","v":"Monats-"},{"$f":"Übersetzungstexte!A$160","v":"Stunden-"},{"$f":"Übersetzungstexte!A$164","v":"pro Jahr"},{"$f":"Übersetzungstexte!A$168","v":"bestand-"},{"$f":"Übersetzungstexte!A$172","v":"wöchentl."},{"$f":"Übersetzungstexte!A$176","v":"Ferientage"},{"$f":"Übersetzungstexte!A$180","v":"Feiertage"},{"$f":"Übersetzungstexte!A$184","v":"Stunden-"},null,"AHV-","berechtigte",null,null,null,"ohne","mit","ohne","mit","wert","Std.-Verd.","Std.-","anzeige"]
[{"$f":"Übersetzungstexte!A$141","v":"Versicherten-Nr."},{"$f":"Übersetzungstexte!A$145","v":"Name"},{"$f":"Übersetzungstexte!A$149","v":"Vorname"},{"$f":"Übersetzungstexte!A$153","v":"datum"},{"$f":"Übersetzungstexte!A$157","v":"lohn"},{"$f":"Übersetzungstexte!A$161","v":"lohn"},{"$f":"Übersetzungstexte!A$165","v":"(12/13)"},{"$f":"Übersetzungstexte!A$169","v":"teile p. Jahr"},{"$f":"Übersetzungstexte!A$173","v":"Arbeitszeit"},{"$f":"Übersetzungstexte!A$177","v":"pro Jahr"},{"$f":"Übersetzungstexte!A$181","v":"pro Jahr"},{"$f":"Übersetzungstexte!A$185","v":"Verdienst"},null,"pflichtig","Mitarbeiter",null,null,null,"Prämie","Prämie","Prämie","Prämie",null,"aSV","Verdienst",null,"Name,Vorname"]
[null,null,null,null,null,null,null,null,null,null,null,{"$f":"Y1089","v":""},{"$f":"Z1089","v":""},{"$f":"IF(N$2-YEAR(D1089)<N$3,0,1)","v":0},{"$f":"IF(L1089=\"\",0,1)","v":0},{"$f":"IF(AND(A1089=\"\",B1089=\"\",C1089=\"\"),\"\",ROUND((K1089+J1089)/(N$4-(K1089+J1089))*100,2))","v":""},{"$f":"ROUND(G1089,0)/12","v":0},{"$f":"IF(AND(A1089=\"\",B1089=\"\",C1089=\"\"),\"\",ROUND((N$4-(K1089+J1089))*I1089/60,1))","v":""},{"$f":"IF(OR(AND(A1089=\"\",B1089=\"\",C1089=\"\"),F1089=0,F1089=\"\"),\"\",ROUND((1+P1089/100)*Q1089*F1089,2))","v":""},{"$f":"IF(OR(AND(A1089=\"\",B1089=\"\",C1089=\"\"),F1089=0,F1089=\"\",I1089=0,I1089=\"\"),\"\",ROUND((1+P1089/100)*(H1089/(N$4*I1089/5)+Q1089*F1089),2))","v":""},{"$f":"IF(OR(AND(A1089=\"\",B1089=\"\",C1089=\"\"),E1089=0,E1089=\"\",R1089=0,R1089=\"\"),\"\",ROUND((Q1089*E1089/R1089),2))","v":""},{"$f":"IF(OR(AND(A1089=\"\",B1089=\"\",C1089=\"\"),E1089=0,E1089=\"\",R1089=0,R1089=\"\"),\"\",ROUND((H1089/(12*Q1089*E1089)+1)*Q1089*E1089/R1089,2))","v":""},{"$f":"IF(OR(AND(A1089=\"\",B1089=\"\",C1089=\"\"),R1089=0,R1089=\"\"),\"\",ROUND(W$4 / R1089,1))","v":""},{"$f":"IF(OR(AND(A1089=\"\",B1089=\"\",C1089=\"\"),N$4=\"\"),\"\",IF(AND(F1089>0,H1089>0),T1089, IF(F1089>0,S1089, IF(AND(E1089>0,H1089>0),V1089,U1089))))","v":""},{"$f":"IF(W1089<X1089,W1089,X1089)","v":""},{"$f":"IF(W1089<X1089,Übersetzungstexte!A$186,\"\")","v":""},{"$f":"IF(AND(B1089=\"\",C1089=\"\"),\"\",CONCATENATE(B1089,\",\",C1089))","v":""}]
[null,null,null,null,null,null,null,null,null,null,null,"","",0,0,"",0,"","","","","","","","",{"$f":"IF(W1090<X1090,Übersetzungstexte!A$186,\"\")","v":""},""]
[null,null,null,null,null,null,null,null,null,null,null,"","",0,0,"",0,"","","","","","","","",{"$f":"IF(W1091<X1091,Übersetzungstexte!A$186,\"\")","v":""},""]
[null,null,null,null,null,null,null,null,null,null,null,"","",0,0,"",0,"","","","","","","","",{"$f":"IF(W1092<X1092,Übersetzungstexte!A$186,\"\")","v":""},""]
[null,null,null,null,null,null,null,null,null,null,null,"","",0,0,"",0,"","","","","","","","",{"$f":"IF(W1093<X1093,Übersetzungstexte!A$186,\"\")","v":""},""]
[null,null,null,null,null,null,null,null,null,null,null,"","",0,0,"",0,"","","","","","","","",{"$f":"IF(W1094<X1094,Übersetzungstexte!A$186,\"\")","v":""},""]
[null,null,null,null,null,null,null,null,null,null,null,"","",0,0,"",0,"","","","","","","","",{"$f":"IF(W1095<X1095,Übersetzungstexte!A$186,\"\")","v":""},""]
[null,null,null,null,null,null,null,null,null,null,null,"","",0,0,"",0,"","","","","","","","",{"$f":"IF(W1096<X1096,Übersetzungstexte!A$186,\"\")","v":""},""]
[null,null,null,null,null,null,null,null,null,null,null,"","",0,0,"",0,"","","","","","","","",{"$f":"IF(W1097<X1097,Übersetzungstexte!A$186,\"\")","v":""},""]
[null,null,null,null,null,null,null,null,null,null,null,"","",0,0,"",0,"","","","","","","","",{"$f":"IF(W1098<X1098,Übersetzungstexte!A$186,\"\")","v":""},""]
[null,null,null,null,null,null,null,null,null,null,null,"","",0,0,"",0,"","","","","","","","",{"$f":"IF(W1099<X1099,Übersetzungstexte!A$186,\"\")","v":""},""]
[null,null,null,null,null,null,null,null,null,null,null,"","",0,0,"",0,"","","","","","","","",{"$f":"IF(W1100<X1100,Übersetzungstexte!A$186,\"\")","v":""},""]
[null,null,null,null,null,null,null,null,null,null,null,"","",0,0,"",0,"","","","","","","","",{"$f":"IF(W1101<X1101,Übersetzungstexte!A$186,\"\")","v":""},""]
[null,null,null,null,null,null,null,null,null,null,null,"","",0,0,"",0,"","","","","","","","",{"$f":"IF(W1102<X1102,Übersetzungstexte!A$186,\"\")","v":""},""]
[null,null,null,null,null,null,null,null,null,null,null,"","",0,0,"",0,"","","","","","","","",{"$f":"IF(W1103<X1103,Übersetzungstexte!A$186,\"\")","v":""},""]
[null,null,null,null,null,null,null,null,null,null,null,"","",0,0,"",0,"","","","","","","","",{"$f":"IF(W1104<X1104,Übersetzungstexte!A$186,\"\")","v":""},""]
[null,null,null,null,null,null,null,null,null,null,null,"","",0,0,"",0,"","","","","","","","",{"$f":"IF(W1105<X1105,Übersetzungstexte!A$186,\"\")","v":""},""]
[null,null,null,null,null,null,null,null,null,null,null,"","",0,0,"",0,"","","","","","","","",{"$f":"IF(W1106<X1106,Übersetzungstexte!A$186,\"\")","v":""},""]
[null,null,null,null,null,null,null,null,null,null,null,"","",0,0,"",0,"","","","","","","","",{"$f":"IF(W1107<X1107,Übersetzungstexte!A$186,\"\")","v":""},""]
[null,null,null,null,null,null,null,null,null,null,null,"",{"$f":"Z1108","v":""},{"$f":"IF(N$2-YEAR(D1108)<N$3,0,1)","v":0},{"$f":"IF(L1108=\"\",0,1)","v":0},{"$f":"IF(AND(A1108=\"\",B1108=\"\",C1108=\"\"),\"\",ROUND((K1108+J1108)/(N$4-(K1108+J1108))*100,2))","v":""},{"$f":"ROUND(G1108,0)/12","v":0},{"$f":"IF(AND(A1108=\"\",B1108=\"\",C1108=\"\"),\"\",ROUND((N$4-(K1108+J1108))*I1108/60,1))","v":""},{"$f":"IF(OR(AND(A1108=\"\",B1108=\"\",C1108=\"\"),F1108=0,F1108=\"\"),\"\",ROUND((1+P1108/100)*Q1108*F1108,2))","v":""},{"$f":"IF(OR(AND(A1108=\"\",B1108=\"\",C1108=\"\"),F1108=0,F1108=\"\",I1108=0,I1108=\"\"),\"\",ROUND((1+P1108/100)*(H1108/(N$4*I1108/5)+Q1108*F1108),2))","v":""},{"$f":"IF(OR(AND(A1108=\"\",B1108=\"\",C1108=\"\"),E1108=0,E1108=\"\",R1108=0,R1108=\"\"),\"\",ROUND((Q1108*E1108/R1108),2))","v":""},{"$f":"IF(OR(AND(A1108=\"\",B1108=\"\",C1108=\"\"),E1108=0,E1108=\"\",R1108=0,R1108=\"\"),\"\",ROUND((H1108/(12*Q1108*E1108)+1)*Q1108*E1108/R1108,2))","v":""},{"$f":"IF(OR(AND(A1108=\"\",B1108=\"\",C1108=\"\"),R1108=0,R1108=\"\"),\"\",ROUND(W$4 / R1108,1))","v":""},{"$f":"IF(OR(AND(A1108=\"\",B1108=\"\",C1108=\"\"),N$4=\"\"),\"\",IF(AND(F1108>0,H1108>0),T1108, IF(F1108>0,S1108, IF(AND(E1108>0,H1108>0),V1108,U1108))))","v":""},{"$f":"IF(W1108<X1108,W1108,X1108)","v":""},{"$f":"IF(W1108<X1108,Übersetzungstexte!A$186,\"\")","v":""},{"$f":"IF(AND(B1108=\"\",C1108=\"\"),\"\",CONCATENATE(B1108,\",\",C1108))","v":""}]
[null,null,null,null,null,null,null,null,null,null,null,"",{"$f":"Z1109","v":""},{"$f":"IF(N$2-YEAR(D1109)<N$3,0,1)","v":0},{"$f":"IF(L1109=\"\",0,1)","v":0},{"$f":"IF(AND(A1109=\"\",B1109=\"\",C1109=\"\"),\"\",ROUND((K1109+J1109)/(N$4-(K1109+J1109))*100,2))","v":""},{"$f":"ROUND(G1109,0)/12","v":0},{"$f":"IF(AND(A1109=\"\",B1109=\"\",C1109=\"\"),\"\",ROUND((N$4-(K1109+J1109))*I1109/60,1))","v":""},{"$f":"IF(OR(AND(A1109=\"\",B1109=\"\",C1109=\"\"),F1109=0,F1109=\"\"),\"\",ROUND((1+P1109/100)*Q1109*F1109,2))","v":""},{"$f":"IF(OR(AND(A1109=\"\",B1109=\"\",C1109=\"\"),F1109=0,F1109=\"\",I1109=0,I1109=\"\"),\"\",ROUND((1+P1109/100)*(H1109/(N$4*I1109/5)+Q1109*F1109),2))","v":""},{"$f":"IF(OR(AND(A1109=\"\",B1109=\"\",C1109=\"\"),E1109=0,E1109=\"\",R1109=0,R1109=\"\"),\"\",ROUND((Q1109*E1109/R1109),2))","v":""},{"$f":"IF(OR(AND(A1109=\"\",B1109=\"\",C1109=\"\"),E1109=0,E1109=\"\",R1109=0,R1109=\"\"),\"\",ROUND((H1109/(12*Q1109*E1109)+1)*Q1109*E1109/R1109,2))","v":""},{"$f":"IF(OR(AND(A1109=\"\",B1109=\"\",C1109=\"\"),R1109=0,R1109=\"\"),\"\",ROUND(W$4 / R1109,1))","v":""},{"$f":"IF(OR(AND(A1109=\"\",B1109=\"\",C1109=\"\"),N$4=\"\"),\"\",IF(AND(F1109>0,H1109>0),T1109, IF(F1109>0,S1109, IF(AND(E1109>0,H1109>0),V1109,U1109))))","v":""},{"$f":"IF(W1109<X1109,W1109,X1109)","v":""},{"$f":"IF(W1109<X1109,Übersetzungstexte!A$186,\"\")","v":""},{"$f":"IF(AND(B1109=\"\",C1109=\"\"),\"\",CONCATENATE(B1109,\",\",C1109))","v":""}]
[]
[{"$f":"'Stammdaten Betrieb & Abteilung'!D$1","v":"  "},null,null,null,null,null,{"$f":"Übersetzungstexte!A$135","v":"Betrieb / Betriebsabteilung"},{"$f":"'Stammdaten Betrieb & Abteilung'!D$13","v":" "}]
[{"$f":"'Stammdaten Betrieb & Abteilung'!D$3","v":" "},null,null,null,null,null,{"$f":"Übersetzungstexte!A$136","v":"Abrechnungsperiode"},{"$f":"'Stammdaten Betrieb & Abteilung'!D$14","v":""}]
[{"$f":"'Stammdaten Betrieb & Abteilung'!D$4","v":" "},null,null,null,null,null,{"$f":"Übersetzungstexte!A$137","v":"Beginn / Ende der Kurzarbeit"},{"$f":"'Stammdaten Betrieb & Abteilung'!D$16","v":""}]
[]
[{"$f":"Übersetzungstexte!A$138","v":""},{"$f":"Übersetzungstexte!A$142","v":""},{"$f":"Übersetzungstexte!A$146","v":""},{"$f":"Übersetzungstexte!A$150","v":""},{"$f":"Übersetzungstexte!A$154","v":""},{"$f":"Übersetzungstexte!A$158","v":""},{"$f":"Übersetzungstexte!A$162","v":"Anzahl bez."},{"$f":"Übersetzungstexte!A$166","v":"Weitere"},{"$f":"Übersetzungstexte!A$170","v":"Jahres-"},{"$f":"Übersetzungstexte!A$174","v":""},{"$f":"Übersetzungstexte!A$178","v":""},{"$f":"Übersetzungstexte!A$182","v":"Anrechen-"},null,null,"Anzahl","Regel 7",null,"Regel 9","Regel 10","Regel 11","Regel 12","Regel 13","Regel 14","Regel 10-14","Regel 14","Regel 14"]
[{"$f":"Übersetzungstexte!A$139","v":""},{"$f":"Übersetzungstexte!A$143","v":""},{"$f":"Übersetzungstexte!A$147","v":""},{"$f":"Übersetzungstexte!A$151","v":""},{"$f":"Übersetzungstexte!A$155","v":""},{"$f":"Übersetzungstexte!A$159","v":""},{"$f":"Übersetzungstexte!A$163","v":"Monate "},{"$f":"Übersetzungstexte!A$167","v":"Lohn-"},{"$f":"Übersetzungstexte!A$171","v":"durchschn."},{"$f":"Übersetzungstexte!A$175","v":"Anzahl"},{"$f":"Übersetzungstexte!A$179","v":"Anzahl"},{"$f":"Übersetzungstexte!A$183","v":"barer"},null,null,"bezugs-","  FF12","S13 / 12","  deApM","Std. Lohn","Std. Lohn","Monatslohn","Monatslohn","Vergleichs-","Anrechenb.","Anrechenb.","Warnungs-"]
[{"$f":"Übersetzungstexte!A$140","v":""},{"$f":"Übersetzungstexte!A$144","v":""},{"$f":"Übersetzungstexte!A$148","v":""},{"$f":"Übersetzungstexte!A$152","v":"Geburts-"},{"$f":"Übersetzungstexte!A$156","v":"Monats-"},{"$f":"Übersetzungstexte!A$160","v":"Stunden-"},{"$f":"Übersetzungstexte!A$164","v":"pro Jahr"},{"$f":"Übersetzungstexte!A$168","v":"bestand-"},{"$f":"Übersetzungstexte!A$172","v":"wöchentl."},{"$f":"Übersetzungstexte!A$176","v":"Ferientage"},{"$f":"Übersetzungstexte!A$180","v":"Feiertage"},{"$f":"Übersetzungstexte!A$184","v":"Stunden-"},null,"AHV-","berechtigte",null,null,null,"ohne","mit","ohne","mit","wert","Std.-Verd.","Std.-","anzeige"]
[{"$f":"Übersetzungstexte!A$141","v":"Versicherten-Nr."},{"$f":"Übersetzungstexte!A$145","v":"Name"},{"$f":"Übersetzungstexte!A$149","v":"Vorname"},{"$f":"Übersetzungstexte!A$153","v":"datum"},{"$f":"Übersetzungstexte!A$157","v":"lohn"},{"$f":"Übersetzungstexte!A$161","v":"lohn"},{"$f":"Übersetzungstexte!A$165","v":"(12/13)"},{"$f":"Übersetzungstexte!A$169","v":"teile p. Jahr"},{"$f":"Übersetzungstexte!A$173","v":"Arbeitszeit"},{"$f":"Übersetzungstexte!A$177","v":"pro Jahr"},{"$f":"Übersetzungstexte!A$181","v":"pro Jahr"},{"$f":"Übersetzungstexte!A$185","v":"Verdienst"},null,"pflichtig","Mitarbeiter",null,null,null,"Prämie","Prämie","Prämie","Prämie",null,"aSV","Verdienst",null,"Name,Vorname"]
[null,null,null,null,null,null,null,null,null,null,null,{"$f":"Y1119","v":""},{"$f":"Z1119","v":""},{"$f":"IF(N$2-YEAR(D1119)<N$3,0,1)","v":0},{"$f":"IF(L1119=\"\",0,1)","v":0},{"$f":"IF(AND(A1119=\"\",B1119=\"\",C1119=\"\"),\"\",ROUND((K1119+J1119)/(N$4-(K1119+J1119))*100,2))","v":""},{"$f":"ROUND(G1119,0)/12","v":0},{"$f":"IF(AND(A1119=\"\",B1119=\"\",C1119=\"\"),\"\",ROUND((N$4-(K1119+J1119))*I1119/60,1))","v":""},{"$f":"IF(OR(AND(A1119=\"\",B1119=\"\",C1119=\"\"),F1119=0,F1119=\"\"),\"\",ROUND((1+P1119/100)*Q1119*F1119,2))","v":""},{"$f":"IF(OR(AND(A1119=\"\",B1119=\"\",C1119=\"\"),F1119=0,F1119=\"\",I1119=0,I1119=\"\"),\"\",ROUND((1+P1119/100)*(H1119/(N$4*I1119/5)+Q1119*F1119),2))","v":""},{"$f":"IF(OR(AND(A1119=\"\",B1119=\"\",C1119=\"\"),E1119=0,E1119=\"\",R1119=0,R1119=\"\"),\"\",ROUND((Q1119*E1119/R1119),2))","v":""},{"$f":"IF(OR(AND(A1119=\"\",B1119=\"\",C1119=\"\"),E1119=0,E1119=\"\",R1119=0,R1119=\"\"),\"\",ROUND((H1119/(12*Q1119*E1119)+1)*Q1119*E1119/R1119,2))","v":""},{"$f":"IF(OR(AND(A1119=\"\",B1119=\"\",C1119=\"\"),R1119=0,R1119=\"\"),\"\",ROUND(W$4 / R1119,1))","v":""},{"$f":"IF(OR(AND(A1119=\"\",B1119=\"\",C1119=\"\"),N$4=\"\"),\"\",IF(AND(F1119>0,H1119>0),T1119, IF(F1119>0,S1119, IF(AND(E1119>0,H1119>0),V1119,U1119))))","v":""},{"$f":"IF(W1119<X1119,W1119,X1119)","v":""},{"$f":"IF(W1119<X1119,Übersetzungstexte!A$186,\"\")","v":""},{"$f":"IF(AND(B1119=\"\",C1119=\"\"),\"\",CONCATENATE(B1119,\",\",C1119))","v":""}]
[null,null,null,null,null,null,null,null,null,null,null,"","",0,0,"",0,"","","","","","","","",{"$f":"IF(W1120<X1120,Übersetzungstexte!A$186,\"\")","v":""},""]
[null,null,null,null,null,null,null,null,null,null,null,"","",0,0,"",0,"","","","","","","","",{"$f":"IF(W1121<X1121,Übersetzungstexte!A$186,\"\")","v":""},""]
[null,null,null,null,null,null,null,null,null,null,null,"","",0,0,"",0,"","","","","","","","",{"$f":"IF(W1122<X1122,Übersetzungstexte!A$186,\"\")","v":""},""]
[null,null,null,null,null,null,null,null,null,null,null,"","",0,0,"",0,"","","","","","","","",{"$f":"IF(W1123<X1123,Übersetzungstexte!A$186,\"\")","v":""},""]
[null,null,null,null,null,null,null,null,null,null,null,"","",0,0,"",0,"","","","","","","","",{"$f":"IF(W1124<X1124,Übersetzungstexte!A$186,\"\")","v":""},""]
[null,null,null,null,null,null,null,null,null,null,null,"","",0,0,"",0,"","","","","","","","",{"$f":"IF(W1125<X1125,Übersetzungstexte!A$186,\"\")","v":""},""]
[null,null,null,null,null,null,null,null,null,null,null,"","",0,0,"",0,"","","","","","","","",{"$f":"IF(W1126<X1126,Übersetzungstexte!A$186,\"\")","v":""},""]
[null,null,null,null,null,null,null,null,null,null,null,"","",0,0,"",0,"","","","","","","","",{"$f":"IF(W1127<X1127,Übersetzungstexte!A$186,\"\")","v":""},""]
[null,null,null,null,null,null,null,null,null,null,null,"","",0,0,"",0,"","","","","","","","",{"$f":"IF(W1128<X1128,Übersetzungstexte!A$186,\"\")","v":""},""]
[null,null,null,null,null,null,null,null,null,null,null,"","",0,0,"",0,"","","","","","","","",{"$f":"IF(W1129<X1129,Übersetzungstexte!A$186,\"\")","v":""},""]
[null,null,null,null,null,null,null,null,null,null,null,"","",0,0,"",0,"","","","","","","","",{"$f":"IF(W1130<X1130,Übersetzungstexte!A$186,\"\")","v":""},""]
[null,null,null,null,null,null,null,null,null,null,null,"","",0,0,"",0,"","","","","","","","",{"$f":"IF(W1131<X1131,Übersetzungstexte!A$186,\"\")","v":""},""]
[null,null,null,null,null,null,null,null,null,null,null,"","",0,0,"",0,"","","","","","","","",{"$f":"IF(W1132<X1132,Übersetzungstexte!A$186,\"\")","v":""},""]
[null,null,null,null,null,null,null,null,null,null,null,"","",0,0,"",0,"","","","","","","","",{"$f":"IF(W1133<X1133,Übersetzungstexte!A$186,\"\")","v":""},""]
[null,null,null,null,null,null,null,null,null,null,null,"","",0,0,"",0,"","","","","","","","",{"$f":"IF(W1134<X1134,Übersetzungstexte!A$186,\"\")","v":""},""]
[null,null,null,null,null,null,null,null,null,null,null,"","",0,0,"",0,"","","","","","","","",{"$f":"IF(W1135<X1135,Übersetzungstexte!A$186,\"\")","v":""},""]
[null,null,null,null,null,null,null,null,null,null,null,"","",0,0,"",0,"","","","","","","","",{"$f":"IF(W1136<X1136,Übersetzungstexte!A$186,\"\")","v":""},""]
[null,null,null,null,null,null,null,null,null,null,null,"","",0,0,"",0,"","","","","","","","",{"$f":"IF(W1137<X1137,Übersetzungstexte!A$186,\"\")","v":""},""]
[null,null,null,null,null,null,null,null,null,null,null,"",{"$f":"Z1138","v":""},{"$f":"IF(N$2-YEAR(D1138)<N$3,0,1)","v":0},{"$f":"IF(L1138=\"\",0,1)","v":0},{"$f":"IF(AND(A1138=\"\",B1138=\"\",C1138=\"\"),\"\",ROUND((K1138+J1138)/(N$4-(K1138+J1138))*100,2))","v":""},{"$f":"ROUND(G1138,0)/12","v":0},{"$f":"IF(AND(A1138=\"\",B1138=\"\",C1138=\"\"),\"\",ROUND((N$4-(K1138+J1138))*I1138/60,1))","v":""},{"$f":"IF(OR(AND(A1138=\"\",B1138=\"\",C1138=\"\"),F1138=0,F1138=\"\"),\"\",ROUND((1+P1138/100)*Q1138*F1138,2))","v":""},{"$f":"IF(OR(AND(A1138=\"\",B1138=\"\",C1138=\"\"),F1138=0,F1138=\"\",I1138=0,I1138=\"\"),\"\",ROUND((1+P1138/100)*(H1138/(N$4*I1138/5)+Q1138*F1138),2))","v":""},{"$f":"IF(OR(AND(A1138=\"\",B1138=\"\",C1138=\"\"),E1138=0,E1138=\"\",R1138=0,R1138=\"\"),\"\",ROUND((Q1138*E1138/R1138),2))","v":""},{"$f":"IF(OR(AND(A1138=\"\",B1138=\"\",C1138=\"\"),E1138=0,E1138=\"\",R1138=0,R1138=\"\"),\"\",ROUND((H1138/(12*Q1138*E1138)+1)*Q1138*E1138/R1138,2))","v":""},{"$f":"IF(OR(AND(A1138=\"\",B1138=\"\",C1138=\"\"),R1138=0,R1138=\"\"),\"\",ROUND(W$4 / R1138,1))","v":""},{"$f":"IF(OR(AND(A1138=\"\",B1138=\"\",C1138=\"\"),N$4=\"\"),\"\",IF(AND(F1138>0,H1138>0),T1138, IF(F1138>0,S1138, IF(AND(E1138>0,H1138>0),V1138,U1138))))","v":""},{"$f":"IF(W1138<X1138,W1138,X1138)","v":""},{"$f":"IF(W1138<X1138,Übersetzungstexte!A$186,\"\")","v":""},{"$f":"IF(AND(B1138=\"\",C1138=\"\"),\"\",CONCATENATE(B1138,\",\",C1138))","v":""}]
[null,null,null,null,null,null,null,null,null,null,null,"",{"$f":"Z1139","v":""},{"$f":"IF(N$2-YEAR(D1139)<N$3,0,1)","v":0},{"$f":"IF(L1139=\"\",0,1)","v":0},{"$f":"IF(AND(A1139=\"\",B1139=\"\",C1139=\"\"),\"\",ROUND((K1139+J1139)/(N$4-(K1139+J1139))*100,2))","v":""},{"$f":"ROUND(G1139,0)/12","v":0},{"$f":"IF(AND(A1139=\"\",B1139=\"\",C1139=\"\"),\"\",ROUND((N$4-(K1139+J1139))*I1139/60,1))","v":""},{"$f":"IF(OR(AND(A1139=\"\",B1139=\"\",C1139=\"\"),F1139=0,F1139=\"\"),\"\",ROUND((1+P1139/100)*Q1139*F1139,2))","v":""},{"$f":"IF(OR(AND(A1139=\"\",B1139=\"\",C1139=\"\"),F1139=0,F1139=\"\",I1139=0,I1139=\"\"),\"\",ROUND((1+P1139/100)*(H1139/(N$4*I1139/5)+Q1139*F1139),2))","v":""},{"$f":"IF(OR(AND(A1139=\"\",B1139=\"\",C1139=\"\"),E1139=0,E1139=\"\",R1139=0,R1139=\"\"),\"\",ROUND((Q1139*E1139/R1139),2))","v":""},{"$f":"IF(OR(AND(A1139=\"\",B1139=\"\",C1139=\"\"),E1139=0,E1139=\"\",R1139=0,R1139=\"\"),\"\",ROUND((H1139/(12*Q1139*E1139)+1)*Q1139*E1139/R1139,2))","v":""},{"$f":"IF(OR(AND(A1139=\"\",B1139=\"\",C1139=\"\"),R1139=0,R1139=\"\"),\"\",ROUND(W$4 / R1139,1))","v":""},{"$f":"IF(OR(AND(A1139=\"\",B1139=\"\",C1139=\"\"),N$4=\"\"),\"\",IF(AND(F1139>0,H1139>0),T1139, IF(F1139>0,S1139, IF(AND(E1139>0,H1139>0),V1139,U1139))))","v":""},{"$f":"IF(W1139<X1139,W1139,X1139)","v":""},{"$f":"IF(W1139<X1139,Übersetzungstexte!A$186,\"\")","v":""},{"$f":"IF(AND(B1139=\"\",C1139=\"\"),\"\",CONCATENATE(B1139,\",\",C1139))","v":""}]
[]
[{"$f":"'Stammdaten Betrieb & Abteilung'!D$1","v":"  "},null,null,null,null,null,{"$f":"Übersetzungstexte!A$135","v":"Betrieb / Betriebsabteilung"},{"$f":"'Stammdaten Betrieb & Abteilung'!D$13","v":" "}]
[{"$f":"'Stammdaten Betrieb & Abteilung'!D$3","v":" "},null,null,null,null,null,{"$f":"Übersetzungstexte!A$136","v":"Abrechnungsperiode"},{"$f":"'Stammdaten Betrieb & Abteilung'!D$14","v":""}]
[{"$f":"'Stammdaten Betrieb & Abteilung'!D$4","v":" "},null,null,null,null,null,{"$f":"Übersetzungstexte!A$137","v":"Beginn / Ende der Kurzarbeit"},{"$f":"'Stammdaten Betrieb & Abteilung'!D$16","v":""}]
[]
[{"$f":"Übersetzungstexte!A$138","v":""},{"$f":"Übersetzungstexte!A$142","v":""},{"$f":"Übersetzungstexte!A$146","v":""},{"$f":"Übersetzungstexte!A$150","v":""},{"$f":"Übersetzungstexte!A$154","v":""},{"$f":"Übersetzungstexte!A$158","v":""},{"$f":"Übersetzungstexte!A$162","v":"Anzahl bez."},{"$f":"Übersetzungstexte!A$166","v":"Weitere"},{"$f":"Übersetzungstexte!A$170","v":"Jahres-"},{"$f":"Übersetzungstexte!A$174","v":""},{"$f":"Übersetzungstexte!A$178","v":""},{"$f":"Übersetzungstexte!A$182","v":"Anrechen-"},null,null,"Anzahl","Regel 7",null,"Regel 9","Regel 10","Regel 11","Regel 12","Regel 13","Regel 14","Regel 10-14","Regel 14","Regel 14"]
[{"$f":"Übersetzungstexte!A$139","v":""},{"$f":"Übersetzungstexte!A$143","v":""},{"$f":"Übersetzungstexte!A$147","v":""},{"$f":"Übersetzungstexte!A$151","v":""},{"$f":"Übersetzungstexte!A$155","v":""},{"$f":"Übersetzungstexte!A$159","v":""},{"$f":"Übersetzungstexte!A$163","v":"Monate "},{"$f":"Übersetzungstexte!A$167","v":"Lohn-"},{"$f":"Übersetzungstexte!A$171","v":"durchschn."},{"$f":"Übersetzungstexte!A$175","v":"Anzahl"},{"$f":"Übersetzungstexte!A$179","v":"Anzahl"},{"$f":"Übersetzungstexte!A$183","v":"barer"},null,null,"bezugs-","  FF12","S13 / 12","  deApM","Std. Lohn","Std. Lohn","Monatslohn","Monatslohn","Vergleichs-","Anrechenb.","Anrechenb.","Warnungs-"]
[{"$f":"Übersetzungstexte!A$140","v":""},{"$f":"Übersetzungstexte!A$144","v":""},{"$f":"Übersetzungstexte!A$148","v":""},{"$f":"Übersetzungstexte!A$152","v":"Geburts-"},{"$f":"Übersetzungstexte!A$156","v":"Monats-"},{"$f":"Übersetzungstexte!A$160","v":"Stunden-"},{"$f":"Übersetzungstexte!A$164","v":"pro Jahr"},{"$f":"Übersetzungstexte!A$168","v":"bestand-"},{"$f":"Übersetzungstexte!A$172","v":"wöchentl."},{"$f":"Übersetzungstexte!A$176","v":"Ferientage"},{"$f":"Übersetzungstexte!A$180","v":"Feiertage"},{"$f":"Übersetzungstexte!A$184","v":"Stunden-"},null,"AHV-","berechtigte",null,null,null,"ohne","mit","ohne","mit","wert","Std.-Verd.","Std.-","anzeige"]
[{"$f":"Übersetzungstexte!A$141","v":"Versicherten-Nr."},{"$f":"Übersetzungstexte!A$145","v":"Name"},{"$f":"Übersetzungstexte!A$149","v":"Vorname"},{"$f":"Übersetzungstexte!A$153","v":"datum"},{"$f":"Übersetzungstexte!A$157","v":"lohn"},{"$f":"Übersetzungstexte!A$161","v":"lohn"},{"$f":"Übersetzungstexte!A$165","v":"(12/13)"},{"$f":"Übersetzungstexte!A$169","v":"teile p. Jahr"},{"$f":"Übersetzungstexte!A$173","v":"Arbeitszeit"},{"$f":"Übersetzungstexte!A$177","v":"pro Jahr"},{"$f":"Übersetzungstexte!A$181","v":"pro Jahr"},{"$f":"Übersetzungstexte!A$185","v":"Verdienst"},null,"pflichtig","Mitarbeiter",null,null,null,"Prämie","Prämie","Prämie","Prämie",null,"aSV","Verdienst",null,"Name,Vorname"]
[null,null,null,null,null,null,null,null,null,null,null,{"$f":"Y1149","v":""},{"$f":"Z1149","v":""},{"$f":"IF(N$2-YEAR(D1149)<N$3,0,1)","v":0},{"$f":"IF(L1149=\"\",0,1)","v":0},{"$f":"IF(AND(A1149=\"\",B1149=\"\",C1149=\"\"),\"\",ROUND((K1149+J1149)/(N$4-(K1149+J1149))*100,2))","v":""},{"$f":"ROUND(G1149,0)/12","v":0},{"$f":"IF(AND(A1149=\"\",B1149=\"\",C1149=\"\"),\"\",ROUND((N$4-(K1149+J1149))*I1149/60,1))","v":""},{"$f":"IF(OR(AND(A1149=\"\",B1149=\"\",C1149=\"\"),F1149=0,F1149=\"\"),\"\",ROUND((1+P1149/100)*Q1149*F1149,2))","v":""},{"$f":"IF(OR(AND(A1149=\"\",B1149=\"\",C1149=\"\"),F1149=0,F1149=\"\",I1149=0,I1149=\"\"),\"\",ROUND((1+P1149/100)*(H1149/(N$4*I1149/5)+Q1149*F1149),2))","v":""},{"$f":"IF(OR(AND(A1149=\"\",B1149=\"\",C1149=\"\"),E1149=0,E1149=\"\",R1149=0,R1149=\"\"),\"\",ROUND((Q1149*E1149/R1149),2))","v":""},{"$f":"IF(OR(AND(A1149=\"\",B1149=\"\",C1149=\"\"),E1149=0,E1149=\"\",R1149=0,R1149=\"\"),\"\",ROUND((H1149/(12*Q1149*E1149)+1)*Q1149*E1149/R1149,2))","v":""},{"$f":"IF(OR(AND(A1149=\"\",B1149=\"\",C1149=\"\"),R1149=0,R1149=\"\"),\"\",ROUND(W$4 / R1149,1))","v":""},{"$f":"IF(OR(AND(A1149=\"\",B1149=\"\",C1149=\"\"),N$4=\"\"),\"\",IF(AND(F1149>0,H1149>0),T1149, IF(F1149>0,S1149, IF(AND(E1149>0,H1149>0),V1149,U1149))))","v":""},{"$f":"IF(W1149<X1149,W1149,X1149)","v":""},{"$f":"IF(W1149<X1149,Übersetzungstexte!A$186,\"\")","v":""},{"$f":"IF(AND(B1149=\"\",C1149=\"\"),\"\",CONCATENATE(B1149,\",\",C1149))","v":""}]
[null,null,null,null,null,null,null,null,null,null,null,"","",0,0,"",0,"","","","","","","","",{"$f":"IF(W1150<X1150,Übersetzungstexte!A$186,\"\")","v":""},""]
[null,null,null,null,null,null,null,null,null,null,null,"","",0,0,"",0,"","","","","","","","",{"$f":"IF(W1151<X1151,Übersetzungstexte!A$186,\"\")","v":""},""]
[null,null,null,null,null,null,null,null,null,null,null,"","",0,0,"",0,"","","","","","","","",{"$f":"IF(W1152<X1152,Übersetzungstexte!A$186,\"\")","v":""},""]
[null,null,null,null,null,null,null,null,null,null,null,"","",0,0,"",0,"","","","","","","","",{"$f":"IF(W1153<X1153,Übersetzungstexte!A$186,\"\")","v":""},""]
[null,null,null,null,null,null,null,null,null,null,null,"","",0,0,"",0,"","","","","","","","",{"$f":"IF(W1154<X1154,Übersetzungstexte!A$186,\"\")","v":""},""]
[null,null,null,null,null,null,null,null,null,null,null,"","",0,0,"",0,"","","","","","","","",{"$f":"IF(W1155<X1155,Übersetzungstexte!A$186,\"\")","v":""},""]
[null,null,null,null,null,null,null,null,null,null,null,"","",0,0,"",0,"","","","","","","","",{"$f":"IF(W1156<X1156,Übersetzungstexte!A$186,\"\")","v":""},""]
[null,null,null,null,null,null,null,null,null,null,null,"","",0,0,"",0,"","","","","","","","",{"$f":"IF(W1157<X1157,Übersetzungstexte!A$186,\"\")","v":""},""]
[null,null,null,null,null,null,null,null,null,null,null,"","",0,0,"",0,"","","","","","","","",{"$f":"IF(W1158<X1158,Übersetzungstexte!A$186,\"\")","v":""},""]
[null,null,null,null,null,null,null,null,null,null,null,"","",0,0,"",0,"","","","","","","","",{"$f":"IF(W1159<X1159,Übersetzungstexte!A$186,\"\")","v":""},""]
[null,null,null,null,null,null,null,null,null,null,null,"","",0,0,"",0,"","","","","","","","",{"$f":"IF(W1160<X1160,Übersetzungstexte!A$186,\"\")","v":""},""]
[null,null,null,null,null,null,null,null,null,null,null,"","",0,0,"",0,"","","","","","","","",{"$f":"IF(W1161<X1161,Übersetzungstexte!A$186,\"\")","v":""},""]
[null,null,null,null,null,null,null,null,null,null,null,"","",0,0,"",0,"","","","","","","","",{"$f":"IF(W1162<X1162,Übersetzungstexte!A$186,\"\")","v":""},""]
[null,null,null,null,null,null,null,null,null,null,null,"","",0,0,"",0,"","","","","","","","",{"$f":"IF(W1163<X1163,Übersetzungstexte!A$186,\"\")","v":""},""]
[null,null,null,null,null,null,null,null,null,null,null,"","",0,0,"",0,"","","","","","","","",{"$f":"IF(W1164<X1164,Übersetzungstexte!A$186,\"\")","v":""},""]
[null,null,null,null,null,null,null,null,null,null,null,"","",0,0,"",0,"","","","","","","","",{"$f":"IF(W1165<X1165,Übersetzungstexte!A$186,\"\")","v":""},""]
[null,null,null,null,null,null,null,null,null,null,null,"","",0,0,"",0,"","","","","","","","",{"$f":"IF(W1166<X1166,Übersetzungstexte!A$186,\"\")","v":""},""]
[null,null,null,null,null,null,null,null,null,null,null,"","",0,0,"",0,"","","","","","","","",{"$f":"IF(W1167<X1167,Übersetzungstexte!A$186,\"\")","v":""},""]
[null,null,null,null,null,null,null,null,null,null,null,"",{"$f":"Z1168","v":""},{"$f":"IF(N$2-YEAR(D1168)<N$3,0,1)","v":0},{"$f":"IF(L1168=\"\",0,1)","v":0},{"$f":"IF(AND(A1168=\"\",B1168=\"\",C1168=\"\"),\"\",ROUND((K1168+J1168)/(N$4-(K1168+J1168))*100,2))","v":""},{"$f":"ROUND(G1168,0)/12","v":0},{"$f":"IF(AND(A1168=\"\",B1168=\"\",C1168=\"\"),\"\",ROUND((N$4-(K1168+J1168))*I1168/60,1))","v":""},{"$f":"IF(OR(AND(A1168=\"\",B1168=\"\",C1168=\"\"),F1168=0,F1168=\"\"),\"\",ROUND((1+P1168/100)*Q1168*F1168,2))","v":""},{"$f":"IF(OR(AND(A1168=\"\",B1168=\"\",C1168=\"\"),F1168=0,F1168=\"\",I1168=0,I1168=\"\"),\"\",ROUND((1+P1168/100)*(H1168/(N$4*I1168/5)+Q1168*F1168),2))","v":""},{"$f":"IF(OR(AND(A1168=\"\",B1168=\"\",C1168=\"\"),E1168=0,E1168=\"\",R1168=0,R1168=\"\"),\"\",ROUND((Q1168*E1168/R1168),2))","v":""},{"$f":"IF(OR(AND(A1168=\"\",B1168=\"\",C1168=\"\"),E1168=0,E1168=\"\",R1168=0,R1168=\"\"),\"\",ROUND((H1168/(12*Q1168*E1168)+1)*Q1168*E1168/R1168,2))","v":""},{"$f":"IF(OR(AND(A1168=\"\",B1168=\"\",C1168=\"\"),R1168=0,R1168=\"\"),\"\",ROUND(W$4 / R1168,1))","v":""},{"$f":"IF(OR(AND(A1168=\"\",B1168=\"\",C1168=\"\"),N$4=\"\"),\"\",IF(AND(F1168>0,H1168>0),T1168, IF(F1168>0,S1168, IF(AND(E1168>0,H1168>0),V1168,U1168))))","v":""},{"$f":"IF(W1168<X1168,W1168,X1168)","v":""},{"$f":"IF(W1168<X1168,Übersetzungstexte!A$186,\"\")","v":""},{"$f":"IF(AND(B1168=\"\",C1168=\"\"),\"\",CONCATENATE(B1168,\",\",C1168))","v":""}]
[null,null,null,null,null,null,null,null,null,null,null,"",{"$f":"Z1169","v":""},{"$f":"IF(N$2-YEAR(D1169)<N$3,0,1)","v":0},{"$f":"IF(L1169=\"\",0,1)","v":0},{"$f":"IF(AND(A1169=\"\",B1169=\"\",C1169=\"\"),\"\",ROUND((K1169+J1169)/(N$4-(K1169+J1169))*100,2))","v":""},{"$f":"ROUND(G1169,0)/12","v":0},{"$f":"IF(AND(A1169=\"\",B1169=\"\",C1169=\"\"),\"\",ROUND((N$4-(K1169+J1169))*I1169/60,1))","v":""},{"$f":"IF(OR(AND(A1169=\"\",B1169=\"\",C1169=\"\"),F1169=0,F1169=\"\"),\"\",ROUND((1+P1169/100)*Q1169*F1169,2))","v":""},{"$f":"IF(OR(AND(A1169=\"\",B1169=\"\",C1169=\"\"),F1169=0,F1169=\"\",I1169=0,I1169=\"\"),\"\",ROUND((1+P1169/100)*(H1169/(N$4*I1169/5)+Q1169*F1169),2))","v":""},{"$f":"IF(OR(AND(A1169=\"\",B1169=\"\",C1169=\"\"),E1169=0,E1169=\"\",R1169=0,R1169=\"\"),\"\",ROUND((Q1169*E1169/R1169),2))","v":""},{"$f":"IF(OR(AND(A1169=\"\",B1169=\"\",C1169=\"\"),E1169=0,E1169=\"\",R1169=0,R1169=\"\"),\"\",ROUND((H1169/(12*Q1169*E1169)+1)*Q1169*E1169/R1169,2))","v":""},{"$f":"IF(OR(AND(A1169=\"\",B1169=\"\",C1169=\"\"),R1169=0,R1169=\"\"),\"\",ROUND(W$4 / R1169,1))","v":""},{"$f":"IF(OR(AND(A1169=\"\",B1169=\"\",C1169=\"\"),N$4=\"\"),\"\",IF(AND(F1169>0,H1169>0),T1169, IF(F1169>0,S1169, IF(AND(E1169>0,H1169>0),V1169,U1169))))","v":""},{"$f":"IF(W1169<X1169,W1169,X1169)","v":""},{"$f":"IF(W1169<X1169,Übersetzungstexte!A$186,\"\")","v":""},{"$f":"IF(AND(B1169=\"\",C1169=\"\"),\"\",CONCATENATE(B1169,\",\",C1169))","v":""}]
[]
[{"$f":"'Stammdaten Betrieb & Abteilung'!D$1","v":"  "},null,null,null,null,null,{"$f":"Übersetzungstexte!A$135","v":"Betrieb / Betriebsabteilung"},{"$f":"'Stammdaten Betrieb & Abteilung'!D$13","v":" "}]
[{"$f":"'Stammdaten Betrieb & Abteilung'!D$3","v":" "},null,null,null,null,null,{"$f":"Übersetzungstexte!A$136","v":"Abrechnungsperiode"},{"$f":"'Stammdaten Betrieb & Abteilung'!D$14","v":""}]
[{"$f":"'Stammdaten Betrieb & Abteilung'!D$4","v":" "},null,null,null,null,null,{"$f":"Übersetzungstexte!A$137","v":"Beginn / Ende der Kurzarbeit"},{"$f":"'Stammdaten Betrieb & Abteilung'!D$16","v":""}]
[]
[{"$f":"Übersetzungstexte!A$138","v":""},{"$f":"Übersetzungstexte!A$142","v":""},{"$f":"Übersetzungstexte!A$146","v":""},{"$f":"Übersetzungstexte!A$150","v":""},{"$f":"Übersetzungstexte!A$154","v":""},{"$f":"Übersetzungstexte!A$158","v":""},{"$f":"Übersetzungstexte!A$162","v":"Anzahl bez."},{"$f":"Übersetzungstexte!A$166","v":"Weitere"},{"$f":"Übersetzungstexte!A$170","v":"Jahres-"},{"$f":"Übersetzungstexte!A$174","v":""},{"$f":"Übersetzungstexte!A$178","v":""},{"$f":"Übersetzungstexte!A$182","v":"Anrechen-"},null,null,"Anzahl","Regel 7",null,"Regel 9","Regel 10","Regel 11","Regel 12","Regel 13","Regel 14","Regel 10-14","Regel 14","Regel 14"]
[{"$f":"Übersetzungstexte!A$139","v":""},{"$f":"Übersetzungstexte!A$143","v":""},{"$f":"Übersetzungstexte!A$147","v":""},{"$f":"Übersetzungstexte!A$151","v":""},{"$f":"Übersetzungstexte!A$155","v":""},{"$f":"Übersetzungstexte!A$159","v":""},{"$f":"Übersetzungstexte!A$163","v":"Monate "},{"$f":"Übersetzungstexte!A$167","v":"Lohn-"},{"$f":"Übersetzungstexte!A$171","v":"durchschn."},{"$f":"Übersetzungstexte!A$175","v":"Anzahl"},{"$f":"Übersetzungstexte!A$179","v":"Anzahl"},{"$f":"Übersetzungstexte!A$183","v":"barer"},null,null,"bezugs-","  FF12","S13 / 12","  deApM","Std. Lohn","Std. Lohn","Monatslohn","Monatslohn","Vergleichs-","Anrechenb.","Anrechenb.","Warnungs-"]
[{"$f":"Übersetzungstexte!A$140","v":""},{"$f":"Übersetzungstexte!A$144","v":""},{"$f":"Übersetzungstexte!A$148","v":""},{"$f":"Übersetzungstexte!A$152","v":"Geburts-"},{"$f":"Übersetzungstexte!A$156","v":"Monats-"},{"$f":"Übersetzungstexte!A$160","v":"Stunden-"},{"$f":"Übersetzungstexte!A$164","v":"pro Jahr"},{"$f":"Übersetzungstexte!A$168","v":"bestand-"},{"$f":"Übersetzungstexte!A$172","v":"wöchentl."},{"$f":"Übersetzungstexte!A$176","v":"Ferientage"},{"$f":"Übersetzungstexte!A$180","v":"Feiertage"},{"$f":"Übersetzungstexte!A$184","v":"Stunden-"},null,"AHV-","berechtigte",null,null,null,"ohne","mit","ohne","mit","wert","Std.-Verd.","Std.-","anzeige"]
[{"$f":"Übersetzungstexte!A$141","v":"Versicherten-Nr."},{"$f":"Übersetzungstexte!A$145","v":"Name"},{"$f":"Übersetzungstexte!A$149","v":"Vorname"},{"$f":"Übersetzungstexte!A$153","v":"datum"},{"$f":"Übersetzungstexte!A$157","v":"lohn"},{"$f":"Übersetzungstexte!A$161","v":"lohn"},{"$f":"Übersetzungstexte!A$165","v":"(12/13)"},{"$f":"Übersetzungstexte!A$169","v":"teile p. Jahr"},{"$f":"Übersetzungstexte!A$173","v":"Arbeitszeit"},{"$f":"Übersetzungstexte!A$177","v":"pro Jahr"},{"$f":"Übersetzungstexte!A$181","v":"pro Jahr"},{"$f":"Übersetzungstexte!A$185","v":"Verdienst"},null,"pflichtig","Mitarbeiter",null,null,null,"Prämie","Prämie","Prämie","Prämie",null,"aSV","Verdienst",null,"Name,Vorname"]
[null,null,null,null,null,null,null,null,null,null,null,{"$f":"Y1179","v":""},{"$f":"Z1179","v":""},{"$f":"IF(N$2-YEAR(D1179)<N$3,0,1)","v":0},{"$f":"IF(L1179=\"\",0,1)","v":0},{"$f":"IF(AND(A1179=\"\",B1179=\"\",C1179=\"\"),\"\",ROUND((K1179+J1179)/(N$4-(K1179+J1179))*100,2))","v":""},{"$f":"ROUND(G1179,0)/12","v":0},{"$f":"IF(AND(A1179=\"\",B1179=\"\",C1179=\"\"),\"\",ROUND((N$4-(K1179+J1179))*I1179/60,1))","v":""},{"$f":"IF(OR(AND(A1179=\"\",B1179=\"\",C1179=\"\"),F1179=0,F1179=\"\"),\"\",ROUND((1+P1179/100)*Q1179*F1179,2))","v":""},{"$f":"IF(OR(AND(A1179=\"\",B1179=\"\",C1179=\"\"),F1179=0,F1179=\"\",I1179=0,I1179=\"\"),\"\",ROUND((1+P1179/100)*(H1179/(N$4*I1179/5)+Q1179*F1179),2))","v":""},{"$f":"IF(OR(AND(A1179=\"\",B1179=\"\",C1179=\"\"),E1179=0,E1179=\"\",R1179=0,R1179=\"\"),\"\",ROUND((Q1179*E1179/R1179),2))","v":""},{"$f":"IF(OR(AND(A1179=\"\",B1179=\"\",C1179=\"\"),E1179=0,E1179=\"\",R1179=0,R1179=\"\"),\"\",ROUND((H1179/(12*Q1179*E1179)+1)*Q1179*E1179/R1179,2))","v":""},{"$f":"IF(OR(AND(A1179=\"\",B1179=\"\",C1179=\"\"),R1179=0,R1179=\"\"),\"\",ROUND(W$4 / R1179,1))","v":""},{"$f":"IF(OR(AND(A1179=\"\",B1179=\"\",C1179=\"\"),N$4=\"\"),\"\",IF(AND(F1179>0,H1179>0),T1179, IF(F1179>0,S1179, IF(AND(E1179>0,H1179>0),V1179,U1179))))","v":""},{"$f":"IF(W1179<X1179,W1179,X1179)","v":""},{"$f":"IF(W1179<X1179,Übersetzungstexte!A$186,\"\")","v":""},{"$f":"IF(AND(B1179=\"\",C1179=\"\"),\"\",CONCATENATE(B1179,\",\",C1179))","v":""}]
[null,null,null,null,null,null,null,null,null,null,null,"","",0,0,"",0,"","","","","","","","",{"$f":"IF(W1180<X1180,Übersetzungstexte!A$186,\"\")","v":""},""]
[null,null,null,null,null,null,null,null,null,null,null,"","",0,0,"",0,"","","","","","","","",{"$f":"IF(W1181<X1181,Übersetzungstexte!A$186,\"\")","v":""},""]
[null,null,null,null,null,null,null,null,null,null,null,"","",0,0,"",0,"","","","","","","","",{"$f":"IF(W1182<X1182,Übersetzungstexte!A$186,\"\")","v":""},""]
[null,null,null,null,null,null,null,null,null,null,null,"","",0,0,"",0,"","","","","","","","",{"$f":"IF(W1183<X1183,Übersetzungstexte!A$186,\"\")","v":""},""]
[null,null,null,null,null,null,null,null,null,null,null,"","",0,0,"",0,"","","","","","","","",{"$f":"IF(W1184<X1184,Übersetzungstexte!A$186,\"\")","v":""},""]
[null,null,null,null,null,null,null,null,null,null,null,"","",0,0,"",0,"","","","","","","","",{"$f":"IF(W1185<X1185,Übersetzungstexte!A$186,\"\")","v":""},""]
[null,null,null,null,null,null,null,null,null,null,null,"","",0,0,"",0,"","","","","","","","",{"$f":"IF(W1186<X1186,Übersetzungstexte!A$186,\"\")","v":""},""]
[null,null,null,null,null,null,null,null,null,null,null,"","",0,0,"",0,"","","","","","","","",{"$f":"IF(W1187<X1187,Übersetzungstexte!A$186,\"\")","v":""},""]
[null,null,null,null,null,null,null,null,null,null,null,"","",0,0,"",0,"","","","","","","","",{"$f":"IF(W1188<X1188,Übersetzungstexte!A$186,\"\")","v":""},""]
[null,null,null,null,null,null,null,null,null,null,null,"","",0,0,"",0,"","","","","","","","",{"$f":"IF(W1189<X1189,Übersetzungstexte!A$186,\"\")","v":""},""]
[null,null,null,null,null,null,null,null,null,null,null,"","",0,0,"",0,"","","","","","","","",{"$f":"IF(W1190<X1190,Übersetzungstexte!A$186,\"\")","v":""},""]
[null,null,null,null,null,null,null,null,null,null,null,"","",0,0,"",0,"","","","","","","","",{"$f":"IF(W1191<X1191,Übersetzungstexte!A$186,\"\")","v":""},""]
[null,null,null,null,null,null,null,null,null,null,null,"","",0,0,"",0,"","","","","","","","",{"$f":"IF(W1192<X1192,Übersetzungstexte!A$186,\"\")","v":""},""]
[null,null,null,null,null,null,null,null,null,null,null,"","",0,0,"",0,"","","","","","","","",{"$f":"IF(W1193<X1193,Übersetzungstexte!A$186,\"\")","v":""},""]
[null,null,null,null,null,null,null,null,null,null,null,"","",0,0,"",0,"","","","","","","","",{"$f":"IF(W1194<X1194,Übersetzungstexte!A$186,\"\")","v":""},""]
[null,null,null,null,null,null,null,null,null,null,null,"","",0,0,"",0,"","","","","","","","",{"$f":"IF(W1195<X1195,Übersetzungstexte!A$186,\"\")","v":""},""]
[null,null,null,null,null,null,null,null,null,null,null,"","",0,0,"",0,"","","","","","","","",{"$f":"IF(W1196<X1196,Übersetzungstexte!A$186,\"\")","v":""},""]
[null,null,null,null,null,null,null,null,null,null,null,"","",0,0,"",0,"","","","","","","","",{"$f":"IF(W1197<X1197,Übersetzungstexte!A$186,\"\")","v":""},""]
[null,null,null,null,null,null,null,null,null,null,null,"",{"$f":"Z1198","v":""},{"$f":"IF(N$2-YEAR(D1198)<N$3,0,1)","v":0},{"$f":"IF(L1198=\"\",0,1)","v":0},{"$f":"IF(AND(A1198=\"\",B1198=\"\",C1198=\"\"),\"\",ROUND((K1198+J1198)/(N$4-(K1198+J1198))*100,2))","v":""},{"$f":"ROUND(G1198,0)/12","v":0},{"$f":"IF(AND(A1198=\"\",B1198=\"\",C1198=\"\"),\"\",ROUND((N$4-(K1198+J1198))*I1198/60,1))","v":""},{"$f":"IF(OR(AND(A1198=\"\",B1198=\"\",C1198=\"\"),F1198=0,F1198=\"\"),\"\",ROUND((1+P1198/100)*Q1198*F1198,2))","v":""},{"$f":"IF(OR(AND(A1198=\"\",B1198=\"\",C1198=\"\"),F1198=0,F1198=\"\",I1198=0,I1198=\"\"),\"\",ROUND((1+P1198/100)*(H1198/(N$4*I1198/5)+Q1198*F1198),2))","v":""},{"$f":"IF(OR(AND(A1198=\"\",B1198=\"\",C1198=\"\"),E1198=0,E1198=\"\",R1198=0,R1198=\"\"),\"\",ROUND((Q1198*E1198/R1198),2))","v":""},{"$f":"IF(OR(AND(A1198=\"\",B1198=\"\",C1198=\"\"),E1198=0,E1198=\"\",R1198=0,R1198=\"\"),\"\",ROUND((H1198/(12*Q1198*E1198)+1)*Q1198*E1198/R1198,2))","v":""},{"$f":"IF(OR(AND(A1198=\"\",B1198=\"\",C1198=\"\"),R1198=0,R1198=\"\"),\"\",ROUND(W$4 / R1198,1))","v":""},{"$f":"IF(OR(AND(A1198=\"\",B1198=\"\",C1198=\"\"),N$4=\"\"),\"\",IF(AND(F1198>0,H1198>0),T1198, IF(F1198>0,S1198, IF(AND(E1198>0,H1198>0),V1198,U1198))))","v":""},{"$f":"IF(W1198<X1198,W1198,X1198)","v":""},{"$f":"IF(W1198<X1198,Übersetzungstexte!A$186,\"\")","v":""},{"$f":"IF(AND(B1198=\"\",C1198=\"\"),\"\",CONCATENATE(B1198,\",\",C1198))","v":""}]
[null,null,null,null,null,null,null,null,null,null,null,"",{"$f":"Z1199","v":""},{"$f":"IF(N$2-YEAR(D1199)<N$3,0,1)","v":0},{"$f":"IF(L1199=\"\",0,1)","v":0},{"$f":"IF(AND(A1199=\"\",B1199=\"\",C1199=\"\"),\"\",ROUND((K1199+J1199)/(N$4-(K1199+J1199))*100,2))","v":""},{"$f":"ROUND(G1199,0)/12","v":0},{"$f":"IF(AND(A1199=\"\",B1199=\"\",C1199=\"\"),\"\",ROUND((N$4-(K1199+J1199))*I1199/60,1))","v":""},{"$f":"IF(OR(AND(A1199=\"\",B1199=\"\",C1199=\"\"),F1199=0,F1199=\"\"),\"\",ROUND((1+P1199/100)*Q1199*F1199,2))","v":""},{"$f":"IF(OR(AND(A1199=\"\",B1199=\"\",C1199=\"\"),F1199=0,F1199=\"\",I1199=0,I1199=\"\"),\"\",ROUND((1+P1199/100)*(H1199/(N$4*I1199/5)+Q1199*F1199),2))","v":""},{"$f":"IF(OR(AND(A1199=\"\",B1199=\"\",C1199=\"\"),E1199=0,E1199=\"\",R1199=0,R1199=\"\"),\"\",ROUND((Q1199*E1199/R1199),2))","v":""},{"$f":"IF(OR(AND(A1199=\"\",B1199=\"\",C1199=\"\"),E1199=0,E1199=\"\",R1199=0,R1199=\"\"),\"\",ROUND((H1199/(12*Q1199*E1199)+1)*Q1199*E1199/R1199,2))","v":""},{"$f":"IF(OR(AND(A1199=\"\",B1199=\"\",C1199=\"\"),R1199=0,R1199=\"\"),\"\",ROUND(W$4 / R1199,1))","v":""},{"$f":"IF(OR(AND(A1199=\"\",B1199=\"\",C1199=\"\"),N$4=\"\"),\"\",IF(AND(F1199>0,H1199>0),T1199, IF(F1199>0,S1199, IF(AND(E1199>0,H1199>0),V1199,U1199))))","v":""},{"$f":"IF(W1199<X1199,W1199,X1199)","v":""},{"$f":"IF(W1199<X1199,Übersetzungstexte!A$186,\"\")","v":""},{"$f":"IF(AND(B1199=\"\",C1199=\"\"),\"\",CONCATENATE(B1199,\",\",C1199))","v":""}]
[]
[{"$f":"'Stammdaten Betrieb & Abteilung'!D$1","v":"  "},null,null,null,null,null,{"$f":"Übersetzungstexte!A$135","v":"Betrieb / Betriebsabteilung"},{"$f":"'Stammdaten Betrieb & Abteilung'!D$13","v":" "}]
[{"$f":"'Stammdaten Betrieb & Abteilung'!D$3","v":" "},null,null,null,null,null,{"$f":"Übersetzungstexte!A$136","v":"Abrechnungsperiode"},{"$f":"'Stammdaten Betrieb & Abteilung'!D$14","v":""}]
[{"$f":"'Stammdaten Betrieb & Abteilung'!D$4","v":" "},null,null,null,null,null,{"$f":"Übersetzungstexte!A$137","v":"Beginn / Ende der Kurzarbeit"},{"$f":"'Stammdaten Betrieb & Abteilung'!D$16","v":""}]
[]
[{"$f":"Übersetzungstexte!A$138","v":""},{"$f":"Übersetzungstexte!A$142","v":""},{"$f":"Übersetzungstexte!A$146","v":""},{"$f":"Übersetzungstexte!A$150","v":""},{"$f":"Übersetzungstexte!A$154","v":""},{"$f":"Übersetzungstexte!A$158","v":""},{"$f":"Übersetzungstexte!A$162","v":"Anzahl bez."},{"$f":"Übersetzungstexte!A$166","v":"Weitere"},{"$f":"Übersetzungstexte!A$170","v":"Jahres-"},{"$f":"Übersetzungstexte!A$174","v":""},{"$f":"Übersetzungstexte!A$178","v":""},{"$f":"Übersetzungstexte!A$182","v":"Anrechen-"},null,null,"Anzahl","Regel 7",null,"Regel 9","Regel 10","Regel 11","Regel 12","Regel 13","Regel 14","Regel 10-14","Regel 14","Regel 14"]
[{"$f":"Übersetzungstexte!A$139","v":""},{"$f":"Übersetzungstexte!A$143","v":""},{"$f":"Übersetzungstexte!A$147","v":""},{"$f":"Übersetzungstexte!A$151","v":""},{"$f":"Übersetzungstexte!A$155","v":""},{"$f":"Übersetzungstexte!A$159","v":""},{"$f":"Übersetzungstexte!A$163","v":"Monate "},{"$f":"Übersetzungstexte!A$167","v":"Lohn-"},{"$f":"Übersetzungstexte!A$171","v":"durchschn."},{"$f":"Übersetzungstexte!A$175","v":"Anzahl"},{"$f":"Übersetzungstexte!A$179","v":"Anzahl"},{"$f":"Übersetzungstexte!A$183","v":"barer"},null,null,"bezugs-","  FF12","S13 / 12","  deApM","Std. Lohn","Std. Lohn","Monatslohn","Monatslohn","Vergleichs-","Anrechenb.","Anrechenb.","Warnungs-"]
[{"$f":"Übersetzungstexte!A$140","v":""},{"$f":"Übersetzungstexte!A$144","v":""},{"$f":"Übersetzungstexte!A$148","v":""},{"$f":"Übersetzungstexte!A$152","v":"Geburts-"},{"$f":"Übersetzungstexte!A$156","v":"Monats-"},{"$f":"Übersetzungstexte!A$160","v":"Stunden-"},{"$f":"Übersetzungstexte!A$164","v":"pro Jahr"},{"$f":"Übersetzungstexte!A$168","v":"bestand-"},{"$f":"Übersetzungstexte!A$172","v":"wöchentl."},{"$f":"Übersetzungstexte!A$176","v":"Ferientage"},{"$f":"Übersetzungstexte!A$180","v":"Feiertage"},{"$f":"Übersetzungstexte!A$184","v":"Stunden-"},null,"AHV-","berechtigte",null,null,null,"ohne","mit","ohne","mit","wert","Std.-Verd.","Std.-","anzeige"]
[{"$f":"Übersetzungstexte!A$141","v":"Versicherten-Nr."},{"$f":"Übersetzungstexte!A$145","v":"Name"},{"$f":"Übersetzungstexte!A$149","v":"Vorname"},{"$f":"Übersetzungstexte!A$153","v":"datum"},{"$f":"Übersetzungstexte!A$157","v":"lohn"},{"$f":"Übersetzungstexte!A$161","v":"lohn"},{"$f":"Übersetzungstexte!A$165","v":"(12/13)"},{"$f":"Übersetzungstexte!A$169","v":"teile p. Jahr"},{"$f":"Übersetzungstexte!A$173","v":"Arbeitszeit"},{"$f":"Übersetzungstexte!A$177","v":"pro Jahr"},{"$f":"Übersetzungstexte!A$181","v":"pro Jahr"},{"$f":"Übersetzungstexte!A$185","v":"Verdienst"},null,"pflichtig","Mitarbeiter",null,null,null,"Prämie","Prämie","Prämie","Prämie",null,"aSV","Verdienst",null,"Name,Vorname"]
[null,null,null,null,null,null,null,null,null,null,null,{"$f":"Y1209","v":""},{"$f":"Z1209","v":""},{"$f":"IF(N$2-YEAR(D1209)<N$3,0,1)","v":0},{"$f":"IF(L1209=\"\",0,1)","v":0},{"$f":"IF(AND(A1209=\"\",B1209=\"\",C1209=\"\"),\"\",ROUND((K1209+J1209)/(N$4-(K1209+J1209))*100,2))","v":""},{"$f":"ROUND(G1209,0)/12","v":0},{"$f":"IF(AND(A1209=\"\",B1209=\"\",C1209=\"\"),\"\",ROUND((N$4-(K1209+J1209))*I1209/60,1))","v":""},{"$f":"IF(OR(AND(A1209=\"\",B1209=\"\",C1209=\"\"),F1209=0,F1209=\"\"),\"\",ROUND((1+P1209/100)*Q1209*F1209,2))","v":""},{"$f":"IF(OR(AND(A1209=\"\",B1209=\"\",C1209=\"\"),F1209=0,F1209=\"\",I1209=0,I1209=\"\"),\"\",ROUND((1+P1209/100)*(H1209/(N$4*I1209/5)+Q1209*F1209),2))","v":""},{"$f":"IF(OR(AND(A1209=\"\",B1209=\"\",C1209=\"\"),E1209=0,E1209=\"\",R1209=0,R1209=\"\"),\"\",ROUND((Q1209*E1209/R1209),2))","v":""},{"$f":"IF(OR(AND(A1209=\"\",B1209=\"\",C1209=\"\"),E1209=0,E1209=\"\",R1209=0,R1209=\"\"),\"\",ROUND((H1209/(12*Q1209*E1209)+1)*Q1209*E1209/R1209,2))","v":""},{"$f":"IF(OR(AND(A1209=\"\",B1209=\"\",C1209=\"\"),R1209=0,R1209=\"\"),\"\",ROUND(W$4 / R1209,1))","v":""},{"$f":"IF(OR(AND(A1209=\"\",B1209=\"\",C1209=\"\"),N$4=\"\"),\"\",IF(AND(F1209>0,H1209>0),T1209, IF(F1209>0,S1209, IF(AND(E1209>0,H1209>0),V1209,U1209))))","v":""},{"$f":"IF(W1209<X1209,W1209,X1209)","v":""},{"$f":"IF(W1209<X1209,Übersetzungstexte!A$186,\"\")","v":""},{"$f":"IF(AND(B1209=\"\",C1209=\"\"),\"\",CONCATENATE(B1209,\",\",C1209))","v":""}]
[null,null,null,null,null,null,null,null,null,null,null,"","",0,0,"",0,"","","","","","","","",{"$f":"IF(W1210<X1210,Übersetzungstexte!A$186,\"\")","v":""},""]
[null,null,null,null,null,null,null,null,null,null,null,"","",0,0,"",0,"","","","","","","","",{"$f":"IF(W1211<X1211,Übersetzungstexte!A$186,\"\")","v":""},""]
[null,null,null,null,null,null,null,null,null,null,null,"","",0,0,"",0,"","","","","","","","",{"$f":"IF(W1212<X1212,Übersetzungstexte!A$186,\"\")","v":""},""]
[null,null,null,null,null,null,null,null,null,null,null,"","",0,0,"",0,"","","","","","","","",{"$f":"IF(W1213<X1213,Übersetzungstexte!A$186,\"\")","v":""},""]
[null,null,null,null,null,null,null,null,null,null,null,"","",0,0,"",0,"","","","","","","","",{"$f":"IF(W1214<X1214,Übersetzungstexte!A$186,\"\")","v":""},""]
[null,null,null,null,null,null,null,null,null,null,null,"","",0,0,"",0,"","","","","","","","",{"$f":"IF(W1215<X1215,Übersetzungstexte!A$186,\"\")","v":""},""]
[null,null,null,null,null,null,null,null,null,null,null,"","",0,0,"",0,"","","","","","","","",{"$f":"IF(W1216<X1216,Übersetzungstexte!A$186,\"\")","v":""},""]
[null,null,null,null,null,null,null,null,null,null,null,"","",0,0,"",0,"","","","","","","","",{"$f":"IF(W1217<X1217,Übersetzungstexte!A$186,\"\")","v":""},""]
[null,null,null,null,null,null,null,null,null,null,null,"","",0,0,"",0,"","","","","","","","",{"$f":"IF(W1218<X1218,Übersetzungstexte!A$186,\"\")","v":""},""]
[null,null,null,null,null,null,null,null,null,null,null,"","",0,0,"",0,"","","","","","","","",{"$f":"IF(W1219<X1219,Übersetzungstexte!A$186,\"\")","v":""},""]
[null,null,null,null,null,null,null,null,null,null,null,"","",0,0,"",0,"","","","","","","","",{"$f":"IF(W1220<X1220,Übersetzungstexte!A$186,\"\")","v":""},""]
[null,null,null,null,null,null,null,null,null,null,null,"","",0,0,"",0,"","","","","","","","",{"$f":"IF(W1221<X1221,Übersetzungstexte!A$186,\"\")","v":""},""]
[null,null,null,null,null,null,null,null,null,null,null,"","",0,0,"",0,"","","","","","","","",{"$f":"IF(W1222<X1222,Übersetzungstexte!A$186,\"\")","v":""},""]
[null,null,null,null,null,null,null,null,null,null,null,"","",0,0,"",0,"","","","","","","","",{"$f":"IF(W1223<X1223,Übersetzungstexte!A$186,\"\")","v":""},""]
[null,null,null,null,null,null,null,null,null,null,null,"","",0,0,"",0,"","","","","","","","",{"$f":"IF(W1224<X1224,Übersetzungstexte!A$186,\"\")","v":""},""]
[null,null,null,null,null,null,null,null,null,null,null,"","",0,0,"",0,"","","","","","","","",{"$f":"IF(W1225<X1225,Übersetzungstexte!A$186,\"\")","v":""},""]
[null,null,null,null,null,null,null,null,null,null,null,"","",0,0,"",0,"","","","","","","","",{"$f":"IF(W1226<X1226,Übersetzungstexte!A$186,\"\")","v":""},""]
[null,null,null,null,null,null,null,null,null,null,null,"","",0,0,"",0,"","","","","","","","",{"$f":"IF(W1227<X1227,Übersetzungstexte!A$186,\"\")","v":""},""]
[null,null,null,null,null,null,null,null,null,null,null,"",{"$f":"Z1228","v":""},{"$f":"IF(N$2-YEAR(D1228)<N$3,0,1)","v":0},{"$f":"IF(L1228=\"\",0,1)","v":0},{"$f":"IF(AND(A1228=\"\",B1228=\"\",C1228=\"\"),\"\",ROUND((K1228+J1228)/(N$4-(K1228+J1228))*100,2))","v":""},{"$f":"ROUND(G1228,0)/12","v":0},{"$f":"IF(AND(A1228=\"\",B1228=\"\",C1228=\"\"),\"\",ROUND((N$4-(K1228+J1228))*I1228/60,1))","v":""},{"$f":"IF(OR(AND(A1228=\"\",B1228=\"\",C1228=\"\"),F1228=0,F1228=\"\"),\"\",ROUND((1+P1228/100)*Q1228*F1228,2))","v":""},{"$f":"IF(OR(AND(A1228=\"\",B1228=\"\",C1228=\"\"),F1228=0,F1228=\"\",I1228=0,I1228=\"\"),\"\",ROUND((1+P1228/100)*(H1228/(N$4*I1228/5)+Q1228*F1228),2))","v":""},{"$f":"IF(OR(AND(A1228=\"\",B1228=\"\",C1228=\"\"),E1228=0,E1228=\"\",R1228=0,R1228=\"\"),\"\",ROUND((Q1228*E1228/R1228),2))","v":""},{"$f":"IF(OR(AND(A1228=\"\",B1228=\"\",C1228=\"\"),E1228=0,E1228=\"\",R1228=0,R1228=\"\"),\"\",ROUND((H1228/(12*Q1228*E1228)+1)*Q1228*E1228/R1228,2))","v":""},{"$f":"IF(OR(AND(A1228=\"\",B1228=\"\",C1228=\"\"),R1228=0,R1228=\"\"),\"\",ROUND(W$4 / R1228,1))","v":""},{"$f":"IF(OR(AND(A1228=\"\",B1228=\"\",C1228=\"\"),N$4=\"\"),\"\",IF(AND(F1228>0,H1228>0),T1228, IF(F1228>0,S1228, IF(AND(E1228>0,H1228>0),V1228,U1228))))","v":""},{"$f":"IF(W1228<X1228,W1228,X1228)","v":""},{"$f":"IF(W1228<X1228,Übersetzungstexte!A$186,\"\")","v":""},{"$f":"IF(AND(B1228=\"\",C1228=\"\"),\"\",CONCATENATE(B1228,\",\",C1228))","v":""}]
[null,null,null,null,null,null,null,null,null,null,null,"",{"$f":"Z1229","v":""},{"$f":"IF(N$2-YEAR(D1229)<N$3,0,1)","v":0},{"$f":"IF(L1229=\"\",0,1)","v":0},{"$f":"IF(AND(A1229=\"\",B1229=\"\",C1229=\"\"),\"\",ROUND((K1229+J1229)/(N$4-(K1229+J1229))*100,2))","v":""},{"$f":"ROUND(G1229,0)/12","v":0},{"$f":"IF(AND(A1229=\"\",B1229=\"\",C1229=\"\"),\"\",ROUND((N$4-(K1229+J1229))*I1229/60,1))","v":""},{"$f":"IF(OR(AND(A1229=\"\",B1229=\"\",C1229=\"\"),F1229=0,F1229=\"\"),\"\",ROUND((1+P1229/100)*Q1229*F1229,2))","v":""},{"$f":"IF(OR(AND(A1229=\"\",B1229=\"\",C1229=\"\"),F1229=0,F1229=\"\",I1229=0,I1229=\"\"),\"\",ROUND((1+P1229/100)*(H1229/(N$4*I1229/5)+Q1229*F1229),2))","v":""},{"$f":"IF(OR(AND(A1229=\"\",B1229=\"\",C1229=\"\"),E1229=0,E1229=\"\",R1229=0,R1229=\"\"),\"\",ROUND((Q1229*E1229/R1229),2))","v":""},{"$f":"IF(OR(AND(A1229=\"\",B1229=\"\",C1229=\"\"),E1229=0,E1229=\"\",R1229=0,R1229=\"\"),\"\",ROUND((H1229/(12*Q1229*E1229)+1)*Q1229*E1229/R1229,2))","v":""},{"$f":"IF(OR(AND(A1229=\"\",B1229=\"\",C1229=\"\"),R1229=0,R1229=\"\"),\"\",ROUND(W$4 / R1229,1))","v":""},{"$f":"IF(OR(AND(A1229=\"\",B1229=\"\",C1229=\"\"),N$4=\"\"),\"\",IF(AND(F1229>0,H1229>0),T1229, IF(F1229>0,S1229, IF(AND(E1229>0,H1229>0),V1229,U1229))))","v":""},{"$f":"IF(W1229<X1229,W1229,X1229)","v":""},{"$f":"IF(W1229<X1229,Übersetzungstexte!A$186,\"\")","v":""},{"$f":"IF(AND(B1229=\"\",C1229=\"\"),\"\",CONCATENATE(B1229,\",\",C1229))","v":""}]
[]
[{"$f":"'Stammdaten Betrieb & Abteilung'!D$1","v":"  "},null,null,null,null,null,{"$f":"Übersetzungstexte!A$135","v":"Betrieb / Betriebsabteilung"},{"$f":"'Stammdaten Betrieb & Abteilung'!D$13","v":" "}]
[{"$f":"'Stammdaten Betrieb & Abteilung'!D$3","v":" "},null,null,null,null,null,{"$f":"Übersetzungstexte!A$136","v":"Abrechnungsperiode"},{"$f":"'Stammdaten Betrieb & Abteilung'!D$14","v":""}]
[{"$f":"'Stammdaten Betrieb & Abteilung'!D$4","v":" "},null,null,null,null,null,{"$f":"Übersetzungstexte!A$137","v":"Beginn / Ende der Kurzarbeit"},{"$f":"'Stammdaten Betrieb & Abteilung'!D$16","v":""}]
[]
[{"$f":"Übersetzungstexte!A$138","v":""},{"$f":"Übersetzungstexte!A$142","v":""},{"$f":"Übersetzungstexte!A$146","v":""},{"$f":"Übersetzungstexte!A$150","v":""},{"$f":"Übersetzungstexte!A$154","v":""},{"$f":"Übersetzungstexte!A$158","v":""},{"$f":"Übersetzungstexte!A$162","v":"Anzahl bez."},{"$f":"Übersetzungstexte!A$166","v":"Weitere"},{"$f":"Übersetzungstexte!A$170","v":"Jahres-"},{"$f":"Übersetzungstexte!A$174","v":""},{"$f":"Übersetzungstexte!A$178","v":""},{"$f":"Übersetzungstexte!A$182","v":"Anrechen-"},null,null,"Anzahl","Regel 7",null,"Regel 9","Regel 10","Regel 11","Regel 12","Regel 13","Regel 14","Regel 10-14","Regel 14","Regel 14"]
[{"$f":"Übersetzungstexte!A$139","v":""},{"$f":"Übersetzungstexte!A$143","v":""},{"$f":"Übersetzungstexte!A$147","v":""},{"$f":"Übersetzungstexte!A$151","v":""},{"$f":"Übersetzungstexte!A$155","v":""},{"$f":"Übersetzungstexte!A$159","v":""},{"$f":"Übersetzungstexte!A$163","v":"Monate "},{"$f":"Übersetzungstexte!A$167","v":"Lohn-"},{"$f":"Übersetzungstexte!A$171","v":"durchschn."},{"$f":"Übersetzungstexte!A$175","v":"Anzahl"},{"$f":"Übersetzungstexte!A$179","v":"Anzahl"},{"$f":"Übersetzungstexte!A$183","v":"barer"},null,null,"bezugs-","  FF12","S13 / 12","  deApM","Std. Lohn","Std. Lohn","Monatslohn","Monatslohn","Vergleichs-","Anrechenb.","Anrechenb.","Warnungs-"]
[{"$f":"Übersetzungstexte!A$140","v":""},{"$f":"Übersetzungstexte!A$144","v":""},{"$f":"Übersetzungstexte!A$148","v":""},{"$f":"Übersetzungstexte!A$152","v":"Geburts-"},{"$f":"Übersetzungstexte!A$156","v":"Monats-"},{"$f":"Übersetzungstexte!A$160","v":"Stunden-"},{"$f":"Übersetzungstexte!A$164","v":"pro Jahr"},{"$f":"Übersetzungstexte!A$168","v":"bestand-"},{"$f":"Übersetzungstexte!A$172","v":"wöchentl."},{"$f":"Übersetzungstexte!A$176","v":"Ferientage"},{"$f":"Übersetzungstexte!A$180","v":"Feiertage"},{"$f":"Übersetzungstexte!A$184","v":"Stunden-"},null,"AHV-","berechtigte",null,null,null,"ohne","mit","ohne","mit","wert","Std.-Verd.","Std.-","anzeige"]
[{"$f":"Übersetzungstexte!A$141","v":"Versicherten-Nr."},{"$f":"Übersetzungstexte!A$145","v":"Name"},{"$f":"Übersetzungstexte!A$149","v":"Vorname"},{"$f":"Übersetzungstexte!A$153","v":"datum"},{"$f":"Übersetzungstexte!A$157","v":"lohn"},{"$f":"Übersetzungstexte!A$161","v":"lohn"},{"$f":"Übersetzungstexte!A$165","v":"(12/13)"},{"$f":"Übersetzungstexte!A$169","v":"teile p. Jahr"},{"$f":"Übersetzungstexte!A$173","v":"Arbeitszeit"},{"$f":"Übersetzungstexte!A$177","v":"pro Jahr"},{"$f":"Übersetzungstexte!A$181","v":"pro Jahr"},{"$f":"Übersetzungstexte!A$185","v":"Verdienst"},null,"pflichtig","Mitarbeiter",null,null,null,"Prämie","Prämie","Prämie","Prämie",null,"aSV","Verdienst",null,"Name,Vorname"]
[null,null,null,null,null,null,null,null,null,null,null,{"$f":"Y1239","v":""},{"$f":"Z1239","v":""},{"$f":"IF(N$2-YEAR(D1239)<N$3,0,1)","v":0},{"$f":"IF(L1239=\"\",0,1)","v":0},{"$f":"IF(AND(A1239=\"\",B1239=\"\",C1239=\"\"),\"\",ROUND((K1239+J1239)/(N$4-(K1239+J1239))*100,2))","v":""},{"$f":"ROUND(G1239,0)/12","v":0},{"$f":"IF(AND(A1239=\"\",B1239=\"\",C1239=\"\"),\"\",ROUND((N$4-(K1239+J1239))*I1239/60,1))","v":""},{"$f":"IF(OR(AND(A1239=\"\",B1239=\"\",C1239=\"\"),F1239=0,F1239=\"\"),\"\",ROUND((1+P1239/100)*Q1239*F1239,2))","v":""},{"$f":"IF(OR(AND(A1239=\"\",B1239=\"\",C1239=\"\"),F1239=0,F1239=\"\",I1239=0,I1239=\"\"),\"\",ROUND((1+P1239/100)*(H1239/(N$4*I1239/5)+Q1239*F1239),2))","v":""},{"$f":"IF(OR(AND(A1239=\"\",B1239=\"\",C1239=\"\"),E1239=0,E1239=\"\",R1239=0,R1239=\"\"),\"\",ROUND((Q1239*E1239/R1239),2))","v":""},{"$f":"IF(OR(AND(A1239=\"\",B1239=\"\",C1239=\"\"),E1239=0,E1239=\"\",R1239=0,R1239=\"\"),\"\",ROUND((H1239/(12*Q1239*E1239)+1)*Q1239*E1239/R1239,2))","v":""},{"$f":"IF(OR(AND(A1239=\"\",B1239=\"\",C1239=\"\"),R1239=0,R1239=\"\"),\"\",ROUND(W$4 / R1239,1))","v":""},{"$f":"IF(OR(AND(A1239=\"\",B1239=\"\",C1239=\"\"),N$4=\"\"),\"\",IF(AND(F1239>0,H1239>0),T1239, IF(F1239>0,S1239, IF(AND(E1239>0,H1239>0),V1239,U1239))))","v":""},{"$f":"IF(W1239<X1239,W1239,X1239)","v":""},{"$f":"IF(W1239<X1239,Übersetzungstexte!A$186,\"\")","v":""},{"$f":"IF(AND(B1239=\"\",C1239=\"\"),\"\",CONCATENATE(B1239,\",\",C1239))","v":""}]
[null,null,null,null,null,null,null,null,null,null,null,"","",0,0,"",0,"","","","","","","","",{"$f":"IF(W1240<X1240,Übersetzungstexte!A$186,\"\")","v":""},""]
[null,null,null,null,null,null,null,null,null,null,null,"","",0,0,"",0,"","","","","","","","",{"$f":"IF(W1241<X1241,Übersetzungstexte!A$186,\"\")","v":""},""]
[null,null,null,null,null,null,null,null,null,null,null,"","",0,0,"",0,"","","","","","","","",{"$f":"IF(W1242<X1242,Übersetzungstexte!A$186,\"\")","v":""},""]
[null,null,null,null,null,null,null,null,null,null,null,"","",0,0,"",0,"","","","","","","","",{"$f":"IF(W1243<X1243,Übersetzungstexte!A$186,\"\")","v":""},""]
[null,null,null,null,null,null,null,null,null,null,null,"","",0,0,"",0,"","","","","","","","",{"$f":"IF(W1244<X1244,Übersetzungstexte!A$186,\"\")","v":""},""]
[null,null,null,null,null,null,null,null,null,null,null,"","",0,0,"",0,"","","","","","","","",{"$f":"IF(W1245<X1245,Übersetzungstexte!A$186,\"\")","v":""},""]
[null,null,null,null,null,null,null,null,null,null,null,"","",0,0,"",0,"","","","","","","","",{"$f":"IF(W1246<X1246,Übersetzungstexte!A$186,\"\")","v":""},""]
[null,null,null,null,null,null,null,null,null,null,null,"","",0,0,"",0,"","","","","","","","",{"$f":"IF(W1247<X1247,Übersetzungstexte!A$186,\"\")","v":""},""]
[null,null,null,null,null,null,null,null,null,null,null,"","",0,0,"",0,"","","","","","","","",{"$f":"IF(W1248<X1248,Übersetzungstexte!A$186,\"\")","v":""},""]
[null,null,null,null,null,null,null,null,null,null,null,"","",0,0,"",0,"","","","","","","","",{"$f":"IF(W1249<X1249,Übersetzungstexte!A$186,\"\")","v":""},""]
[null,null,null,null,null,null,null,null,null,null,null,"","",0,0,"",0,"","","","","","","","",{"$f":"IF(W1250<X1250,Übersetzungstexte!A$186,\"\")","v":""},""]
[null,null,null,null,null,null,null,null,null,null,null,"","",0,0,"",0,"","","","","","","","",{"$f":"IF(W1251<X1251,Übersetzungstexte!A$186,\"\")","v":""},""]
[null,null,null,null,null,null,null,null,null,null,null,"","",0,0,"",0,"","","","","","","","",{"$f":"IF(W1252<X1252,Übersetzungstexte!A$186,\"\")","v":""},""]
[null,null,null,null,null,null,null,null,null,null,null,"","",0,0,"",0,"","","","","","","","",{"$f":"IF(W1253<X1253,Übersetzungstexte!A$186,\"\")","v":""},""]
[null,null,null,null,null,null,null,null,null,null,null,"","",0,0,"",0,"","","","","","","","",{"$f":"IF(W1254<X1254,Übersetzungstexte!A$186,\"\")","v":""},""]
[null,null,null,null,null,null,null,null,null,null,null,"","",0,0,"",0,"","","","","","","","",{"$f":"IF(W1255<X1255,Übersetzungstexte!A$186,\"\")","v":""},""]
[null,null,null,null,null,null,null,null,null,null,null,"","",0,0,"",0,"","","","","","","","",{"$f":"IF(W1256<X1256,Übersetzungstexte!A$186,\"\")","v":""},""]
[null,null,null,null,null,null,null,null,null,null,null,"","",0,0,"",0,"","","","","","","","",{"$f":"IF(W1257<X1257,Übersetzungstexte!A$186,\"\")","v":""},""]
[null,null,null,null,null,null,null,null,null,null,null,"",{"$f":"Z1258","v":""},{"$f":"IF(N$2-YEAR(D1258)<N$3,0,1)","v":0},{"$f":"IF(L1258=\"\",0,1)","v":0},{"$f":"IF(AND(A1258=\"\",B1258=\"\",C1258=\"\"),\"\",ROUND((K1258+J1258)/(N$4-(K1258+J1258))*100,2))","v":""},{"$f":"ROUND(G1258,0)/12","v":0},{"$f":"IF(AND(A1258=\"\",B1258=\"\",C1258=\"\"),\"\",ROUND((N$4-(K1258+J1258))*I1258/60,1))","v":""},{"$f":"IF(OR(AND(A1258=\"\",B1258=\"\",C1258=\"\"),F1258=0,F1258=\"\"),\"\",ROUND((1+P1258/100)*Q1258*F1258,2))","v":""},{"$f":"IF(OR(AND(A1258=\"\",B1258=\"\",C1258=\"\"),F1258=0,F1258=\"\",I1258=0,I1258=\"\"),\"\",ROUND((1+P1258/100)*(H1258/(N$4*I1258/5)+Q1258*F1258),2))","v":""},{"$f":"IF(OR(AND(A1258=\"\",B1258=\"\",C1258=\"\"),E1258=0,E1258=\"\",R1258=0,R1258=\"\"),\"\",ROUND((Q1258*E1258/R1258),2))","v":""},{"$f":"IF(OR(AND(A1258=\"\",B1258=\"\",C1258=\"\"),E1258=0,E1258=\"\",R1258=0,R1258=\"\"),\"\",ROUND((H1258/(12*Q1258*E1258)+1)*Q1258*E1258/R1258,2))","v":""},{"$f":"IF(OR(AND(A1258=\"\",B1258=\"\",C1258=\"\"),R1258=0,R1258=\"\"),\"\",ROUND(W$4 / R1258,1))","v":""},{"$f":"IF(OR(AND(A1258=\"\",B1258=\"\",C1258=\"\"),N$4=\"\"),\"\",IF(AND(F1258>0,H1258>0),T1258, IF(F1258>0,S1258, IF(AND(E1258>0,H1258>0),V1258,U1258))))","v":""},{"$f":"IF(W1258<X1258,W1258,X1258)","v":""},{"$f":"IF(W1258<X1258,Übersetzungstexte!A$186,\"\")","v":""},{"$f":"IF(AND(B1258=\"\",C1258=\"\"),\"\",CONCATENATE(B1258,\",\",C1258))","v":""}]
[null,null,null,null,null,null,null,null,null,null,null,"",{"$f":"Z1259","v":""},{"$f":"IF(N$2-YEAR(D1259)<N$3,0,1)","v":0},{"$f":"IF(L1259=\"\",0,1)","v":0},{"$f":"IF(AND(A1259=\"\",B1259=\"\",C1259=\"\"),\"\",ROUND((K1259+J1259)/(N$4-(K1259+J1259))*100,2))","v":""},{"$f":"ROUND(G1259,0)/12","v":0},{"$f":"IF(AND(A1259=\"\",B1259=\"\",C1259=\"\"),\"\",ROUND((N$4-(K1259+J1259))*I1259/60,1))","v":""},{"$f":"IF(OR(AND(A1259=\"\",B1259=\"\",C1259=\"\"),F1259=0,F1259=\"\"),\"\",ROUND((1+P1259/100)*Q1259*F1259,2))","v":""},{"$f":"IF(OR(AND(A1259=\"\",B1259=\"\",C1259=\"\"),F1259=0,F1259=\"\",I1259=0,I1259=\"\"),\"\",ROUND((1+P1259/100)*(H1259/(N$4*I1259/5)+Q1259*F1259),2))","v":""},{"$f":"IF(OR(AND(A1259=\"\",B1259=\"\",C1259=\"\"),E1259=0,E1259=\"\",R1259=0,R1259=\"\"),\"\",ROUND((Q1259*E1259/R1259),2))","v":""},{"$f":"IF(OR(AND(A1259=\"\",B1259=\"\",C1259=\"\"),E1259=0,E1259=\"\",R1259=0,R1259=\"\"),\"\",ROUND((H1259/(12*Q1259*E1259)+1)*Q1259*E1259/R1259,2))","v":""},{"$f":"IF(OR(AND(A1259=\"\",B1259=\"\",C1259=\"\"),R1259=0,R1259=\"\"),\"\",ROUND(W$4 / R1259,1))","v":""},{"$f":"IF(OR(AND(A1259=\"\",B1259=\"\",C1259=\"\"),N$4=\"\"),\"\",IF(AND(F1259>0,H1259>0),T1259, IF(F1259>0,S1259, IF(AND(E1259>0,H1259>0),V1259,U1259))))","v":""},{"$f":"IF(W1259<X1259,W1259,X1259)","v":""},{"$f":"IF(W1259<X1259,Übersetzungstexte!A$186,\"\")","v":""},{"$f":"IF(AND(B1259=\"\",C1259=\"\"),\"\",CONCATENATE(B1259,\",\",C1259))","v":""}]
[]
[{"$f":"'Stammdaten Betrieb & Abteilung'!D$1","v":"  "},null,null,null,null,null,{"$f":"Übersetzungstexte!A$135","v":"Betrieb / Betriebsabteilung"},{"$f":"'Stammdaten Betrieb & Abteilung'!D$13","v":" "}]
[{"$f":"'Stammdaten Betrieb & Abteilung'!D$3","v":" "},null,null,null,null,null,{"$f":"Übersetzungstexte!A$136","v":"Abrechnungsperiode"},{"$f":"'Stammdaten Betrieb & Abteilung'!D$14","v":""}]
[{"$f":"'Stammdaten Betrieb & Abteilung'!D$4","v":" "},null,null,null,null,null,{"$f":"Übersetzungstexte!A$137","v":"Beginn / Ende der Kurzarbeit"},{"$f":"'Stammdaten Betrieb & Abteilung'!D$16","v":""}]
[]
[{"$f":"Übersetzungstexte!A$138","v":""},{"$f":"Übersetzungstexte!A$142","v":""},{"$f":"Übersetzungstexte!A$146","v":""},{"$f":"Übersetzungstexte!A$150","v":""},{"$f":"Übersetzungstexte!A$154","v":""},{"$f":"Übersetzungstexte!A$158","v":""},{"$f":"Übersetzungstexte!A$162","v":"Anzahl bez."},{"$f":"Übersetzungstexte!A$166","v":"Weitere"},{"$f":"Übersetzungstexte!A$170","v":"Jahres-"},{"$f":"Übersetzungstexte!A$174","v":""},{"$f":"Übersetzungstexte!A$178","v":""},{"$f":"Übersetzungstexte!A$182","v":"Anrechen-"},null,null,"Anzahl","Regel 7",null,"Regel 9","Regel 10","Regel 11","Regel 12","Regel 13","Regel 14","Regel 10-14","Regel 14","Regel 14"]
[{"$f":"Übersetzungstexte!A$139","v":""},{"$f":"Übersetzungstexte!A$143","v":""},{"$f":"Übersetzungstexte!A$147","v":""},{"$f":"Übersetzungstexte!A$151","v":""},{"$f":"Übersetzungstexte!A$155","v":""},{"$f":"Übersetzungstexte!A$159","v":""},{"$f":"Übersetzungstexte!A$163","v":"Monate "},{"$f":"Übersetzungstexte!A$167","v":"Lohn-"},{"$f":"Übersetzungstexte!A$171","v":"durchschn."},{"$f":"Übersetzungstexte!A$175","v":"Anzahl"},{"$f":"Übersetzungstexte!A$179","v":"Anzahl"},{"$f":"Übersetzungstexte!A$183","v":"barer"},null,null,"bezugs-","  FF12","S13 / 12","  deApM","Std. Lohn","Std. Lohn","Monatslohn","Monatslohn","Vergleichs-","Anrechenb.","Anrechenb.","Warnungs-"]
[{"$f":"Übersetzungstexte!A$140","v":""},{"$f":"Übersetzungstexte!A$144","v":""},{"$f":"Übersetzungstexte!A$148","v":""},{"$f":"Übersetzungstexte!A$152","v":"Geburts-"},{"$f":"Übersetzungstexte!A$156","v":"Monats-"},{"$f":"Übersetzungstexte!A$160","v":"Stunden-"},{"$f":"Übersetzungstexte!A$164","v":"pro Jahr"},{"$f":"Übersetzungstexte!A$168","v":"bestand-"},{"$f":"Übersetzungstexte!A$172","v":"wöchentl."},{"$f":"Übersetzungstexte!A$176","v":"Ferientage"},{"$f":"Übersetzungstexte!A$180","v":"Feiertage"},{"$f":"Übersetzungstexte!A$184","v":"Stunden-"},null,"AHV-","berechtigte",null,null,null,"ohne","mit","ohne","mit","wert","Std.-Verd.","Std.-","anzeige"]
[{"$f":"Übersetzungstexte!A$141","v":"Versicherten-Nr."},{"$f":"Übersetzungstexte!A$145","v":"Name"},{"$f":"Übersetzungstexte!A$149","v":"Vorname"},{"$f":"Übersetzungstexte!A$153","v":"datum"},{"$f":"Übersetzungstexte!A$157","v":"lohn"},{"$f":"Übersetzungstexte!A$161","v":"lohn"},{"$f":"Übersetzungstexte!A$165","v":"(12/13)"},{"$f":"Übersetzungstexte!A$169","v":"teile p. Jahr"},{"$f":"Übersetzungstexte!A$173","v":"Arbeitszeit"},{"$f":"Übersetzungstexte!A$177","v":"pro Jahr"},{"$f":"Übersetzungstexte!A$181","v":"pro Jahr"},{"$f":"Übersetzungstexte!A$185","v":"Verdienst"},null,"pflichtig","Mitarbeiter",null,null,null,"Prämie","Prämie","Prämie","Prämie",null,"aSV","Verdienst",null,"Name,Vorname"]
[null,null,null,null,null,null,null,null,null,null,null,{"$f":"Y1269","v":""},{"$f":"Z1269","v":""},{"$f":"IF(N$2-YEAR(D1269)<N$3,0,1)","v":0},{"$f":"IF(L1269=\"\",0,1)","v":0},{"$f":"IF(AND(A1269=\"\",B1269=\"\",C1269=\"\"),\"\",ROUND((K1269+J1269)/(N$4-(K1269+J1269))*100,2))","v":""},{"$f":"ROUND(G1269,0)/12","v":0},{"$f":"IF(AND(A1269=\"\",B1269=\"\",C1269=\"\"),\"\",ROUND((N$4-(K1269+J1269))*I1269/60,1))","v":""},{"$f":"IF(OR(AND(A1269=\"\",B1269=\"\",C1269=\"\"),F1269=0,F1269=\"\"),\"\",ROUND((1+P1269/100)*Q1269*F1269,2))","v":""},{"$f":"IF(OR(AND(A1269=\"\",B1269=\"\",C1269=\"\"),F1269=0,F1269=\"\",I1269=0,I1269=\"\"),\"\",ROUND((1+P1269/100)*(H1269/(N$4*I1269/5)+Q1269*F1269),2))","v":""},{"$f":"IF(OR(AND(A1269=\"\",B1269=\"\",C1269=\"\"),E1269=0,E1269=\"\",R1269=0,R1269=\"\"),\"\",ROUND((Q1269*E1269/R1269),2))","v":""},{"$f":"IF(OR(AND(A1269=\"\",B1269=\"\",C1269=\"\"),E1269=0,E1269=\"\",R1269=0,R1269=\"\"),\"\",ROUND((H1269/(12*Q1269*E1269)+1)*Q1269*E1269/R1269,2))","v":""},{"$f":"IF(OR(AND(A1269=\"\",B1269=\"\",C1269=\"\"),R1269=0,R1269=\"\"),\"\",ROUND(W$4 / R1269,1))","v":""},{"$f":"IF(OR(AND(A1269=\"\",B1269=\"\",C1269=\"\"),N$4=\"\"),\"\",IF(AND(F1269>0,H1269>0),T1269, IF(F1269>0,S1269, IF(AND(E1269>0,H1269>0),V1269,U1269))))","v":""},{"$f":"IF(W1269<X1269,W1269,X1269)","v":""},{"$f":"IF(W1269<X1269,Übersetzungstexte!A$186,\"\")","v":""},{"$f":"IF(AND(B1269=\"\",C1269=\"\"),\"\",CONCATENATE(B1269,\",\",C1269))","v":""}]
[null,null,null,null,null,null,null,null,null,null,null,"","",0,0,"",0,"","","","","","","","",{"$f":"IF(W1270<X1270,Übersetzungstexte!A$186,\"\")","v":""},""]
[null,null,null,null,null,null,null,null,null,null,null,"","",0,0,"",0,"","","","","","","","",{"$f":"IF(W1271<X1271,Übersetzungstexte!A$186,\"\")","v":""},""]
[null,null,null,null,null,null,null,null,null,null,null,"","",0,0,"",0,"","","","","","","","",{"$f":"IF(W1272<X1272,Übersetzungstexte!A$186,\"\")","v":""},""]
[null,null,null,null,null,null,null,null,null,null,null,"","",0,0,"",0,"","","","","","","","",{"$f":"IF(W1273<X1273,Übersetzungstexte!A$186,\"\")","v":""},""]
[null,null,null,null,null,null,null,null,null,null,null,"","",0,0,"",0,"","","","","","","","",{"$f":"IF(W1274<X1274,Übersetzungstexte!A$186,\"\")","v":""},""]
[null,null,null,null,null,null,null,null,null,null,null,"","",0,0,"",0,"","","","","","","","",{"$f":"IF(W1275<X1275,Übersetzungstexte!A$186,\"\")","v":""},""]
[null,null,null,null,null,null,null,null,null,null,null,"","",0,0,"",0,"","","","","","","","",{"$f":"IF(W1276<X1276,Übersetzungstexte!A$186,\"\")","v":""},""]
[null,null,null,null,null,null,null,null,null,null,null,"","",0,0,"",0,"","","","","","","","",{"$f":"IF(W1277<X1277,Übersetzungstexte!A$186,\"\")","v":""},""]
[null,null,null,null,null,null,null,null,null,null,null,"","",0,0,"",0,"","","","","","","","",{"$f":"IF(W1278<X1278,Übersetzungstexte!A$186,\"\")","v":""},""]
[null,null,null,null,null,null,null,null,null,null,null,"","",0,0,"",0,"","","","","","","","",{"$f":"IF(W1279<X1279,Übersetzungstexte!A$186,\"\")","v":""},""]
[null,null,null,null,null,null,null,null,null,null,null,"","",0,0,"",0,"","","","","","","","",{"$f":"IF(W1280<X1280,Übersetzungstexte!A$186,\"\")","v":""},""]
[null,null,null,null,null,null,null,null,null,null,null,"","",0,0,"",0,"","","","","","","","",{"$f":"IF(W1281<X1281,Übersetzungstexte!A$186,\"\")","v":""},""]
[null,null,null,null,null,null,null,null,null,null,null,"","",0,0,"",0,"","","","","","","","",{"$f":"IF(W1282<X1282,Übersetzungstexte!A$186,\"\")","v":""},""]
[null,null,null,null,null,null,null,null,null,null,null,"","",0,0,"",0,"","","","","","","","",{"$f":"IF(W1283<X1283,Übersetzungstexte!A$186,\"\")","v":""},""]
[null,null,null,null,null,null,null,null,null,null,null,"","",0,0,"",0,"","","","","","","","",{"$f":"IF(W1284<X1284,Übersetzungstexte!A$186,\"\")","v":""},""]
[null,null,null,null,null,null,null,null,null,null,null,"","",0,0,"",0,"","","","","","","","",{"$f":"IF(W1285<X1285,Übersetzungstexte!A$186,\"\")","v":""},""]
[null,null,null,null,null,null,null,null,null,null,null,"","",0,0,"",0,"","","","","","","","",{"$f":"IF(W1286<X1286,Übersetzungstexte!A$186,\"\")","v":""},""]
[null,null,null,null,null,null,null,null,null,null,null,"","",0,0,"",0,"","","","","","","","",{"$f":"IF(W1287<X1287,Übersetzungstexte!A$186,\"\")","v":""},""]
[null,null,null,null,null,null,null,null,null,null,null,"",{"$f":"Z1288","v":""},{"$f":"IF(N$2-YEAR(D1288)<N$3,0,1)","v":0},{"$f":"IF(L1288=\"\",0,1)","v":0},{"$f":"IF(AND(A1288=\"\",B1288=\"\",C1288=\"\"),\"\",ROUND((K1288+J1288)/(N$4-(K1288+J1288))*100,2))","v":""},{"$f":"ROUND(G1288,0)/12","v":0},{"$f":"IF(AND(A1288=\"\",B1288=\"\",C1288=\"\"),\"\",ROUND((N$4-(K1288+J1288))*I1288/60,1))","v":""},{"$f":"IF(OR(AND(A1288=\"\",B1288=\"\",C1288=\"\"),F1288=0,F1288=\"\"),\"\",ROUND((1+P1288/100)*Q1288*F1288,2))","v":""},{"$f":"IF(OR(AND(A1288=\"\",B1288=\"\",C1288=\"\"),F1288=0,F1288=\"\",I1288=0,I1288=\"\"),\"\",ROUND((1+P1288/100)*(H1288/(N$4*I1288/5)+Q1288*F1288),2))","v":""},{"$f":"IF(OR(AND(A1288=\"\",B1288=\"\",C1288=\"\"),E1288=0,E1288=\"\",R1288=0,R1288=\"\"),\"\",ROUND((Q1288*E1288/R1288),2))","v":""},{"$f":"IF(OR(AND(A1288=\"\",B1288=\"\",C1288=\"\"),E1288=0,E1288=\"\",R1288=0,R1288=\"\"),\"\",ROUND((H1288/(12*Q1288*E1288)+1)*Q1288*E1288/R1288,2))","v":""},{"$f":"IF(OR(AND(A1288=\"\",B1288=\"\",C1288=\"\"),R1288=0,R1288=\"\"),\"\",ROUND(W$4 / R1288,1))","v":""},{"$f":"IF(OR(AND(A1288=\"\",B1288=\"\",C1288=\"\"),N$4=\"\"),\"\",IF(AND(F1288>0,H1288>0),T1288, IF(F1288>0,S1288, IF(AND(E1288>0,H1288>0),V1288,U1288))))","v":""},{"$f":"IF(W1288<X1288,W1288,X1288)","v":""},{"$f":"IF(W1288<X1288,Übersetzungstexte!A$186,\"\")","v":""},{"$f":"IF(AND(B1288=\"\",C1288=\"\"),\"\",CONCATENATE(B1288,\",\",C1288))","v":""}]
[null,null,null,null,null,null,null,null,null,null,null,"",{"$f":"Z1289","v":""},{"$f":"IF(N$2-YEAR(D1289)<N$3,0,1)","v":0},{"$f":"IF(L1289=\"\",0,1)","v":0},{"$f":"IF(AND(A1289=\"\",B1289=\"\",C1289=\"\"),\"\",ROUND((K1289+J1289)/(N$4-(K1289+J1289))*100,2))","v":""},{"$f":"ROUND(G1289,0)/12","v":0},{"$f":"IF(AND(A1289=\"\",B1289=\"\",C1289=\"\"),\"\",ROUND((N$4-(K1289+J1289))*I1289/60,1))","v":""},{"$f":"IF(OR(AND(A1289=\"\",B1289=\"\",C1289=\"\"),F1289=0,F1289=\"\"),\"\",ROUND((1+P1289/100)*Q1289*F1289,2))","v":""},{"$f":"IF(OR(AND(A1289=\"\",B1289=\"\",C1289=\"\"),F1289=0,F1289=\"\",I1289=0,I1289=\"\"),\"\",ROUND((1+P1289/100)*(H1289/(N$4*I1289/5)+Q1289*F1289),2))","v":""},{"$f":"IF(OR(AND(A1289=\"\",B1289=\"\",C1289=\"\"),E1289=0,E1289=\"\",R1289=0,R1289=\"\"),\"\",ROUND((Q1289*E1289/R1289),2))","v":""},{"$f":"IF(OR(AND(A1289=\"\",B1289=\"\",C1289=\"\"),E1289=0,E1289=\"\",R1289=0,R1289=\"\"),\"\",ROUND((H1289/(12*Q1289*E1289)+1)*Q1289*E1289/R1289,2))","v":""},{"$f":"IF(OR(AND(A1289=\"\",B1289=\"\",C1289=\"\"),R1289=0,R1289=\"\"),\"\",ROUND(W$4 / R1289,1))","v":""},{"$f":"IF(OR(AND(A1289=\"\",B1289=\"\",C1289=\"\"),N$4=\"\"),\"\",IF(AND(F1289>0,H1289>0),T1289, IF(F1289>0,S1289, IF(AND(E1289>0,H1289>0),V1289,U1289))))","v":""},{"$f":"IF(W1289<X1289,W1289,X1289)","v":""},{"$f":"IF(W1289<X1289,Übersetzungstexte!A$186,\"\")","v":""},{"$f":"IF(AND(B1289=\"\",C1289=\"\"),\"\",CONCATENATE(B1289,\",\",C1289))","v":""}]
[]
[{"$f":"'Stammdaten Betrieb & Abteilung'!D$1","v":"  "},null,null,null,null,null,{"$f":"Übersetzungstexte!A$135","v":"Betrieb / Betriebsabteilung"},{"$f":"'Stammdaten Betrieb & Abteilung'!D$13","v":" "}]
[{"$f":"'Stammdaten Betrieb & Abteilung'!D$3","v":" "},null,null,null,null,null,{"$f":"Übersetzungstexte!A$136","v":"Abrechnungsperiode"},{"$f":"'Stammdaten Betrieb & Abteilung'!D$14","v":""}]
[{"$f":"'Stammdaten Betrieb & Abteilung'!D$4","v":" "},null,null,null,null,null,{"$f":"Übersetzungstexte!A$137","v":"Beginn / Ende der Kurzarbeit"},{"$f":"'Stammdaten Betrieb & Abteilung'!D$16","v":""}]
[]
[{"$f":"Übersetzungstexte!A$138","v":""},{"$f":"Übersetzungstexte!A$142","v":""},{"$f":"Übersetzungstexte!A$146","v":""},{"$f":"Übersetzungstexte!A$150","v":""},{"$f":"Übersetzungstexte!A$154","v":""},{"$f":"Übersetzungstexte!A$158","v":""},{"$f":"Übersetzungstexte!A$162","v":"Anzahl bez."},{"$f":"Übersetzungstexte!A$166","v":"Weitere"},{"$f":"Übersetzungstexte!A$170","v":"Jahres-"},{"$f":"Übersetzungstexte!A$174","v":""},{"$f":"Übersetzungstexte!A$178","v":""},{"$f":"Übersetzungstexte!A$182","v":"Anrechen-"},null,null,"Anzahl","Regel 7",null,"Regel 9","Regel 10","Regel 11","Regel 12","Regel 13","Regel 14","Regel 10-14","Regel 14","Regel 14"]
[{"$f":"Übersetzungstexte!A$139","v":""},{"$f":"Übersetzungstexte!A$143","v":""},{"$f":"Übersetzungstexte!A$147","v":""},{"$f":"Übersetzungstexte!A$151","v":""},{"$f":"Übersetzungstexte!A$155","v":""},{"$f":"Übersetzungstexte!A$159","v":""},{"$f":"Übersetzungstexte!A$163","v":"Monate "},{"$f":"Übersetzungstexte!A$167","v":"Lohn-"},{"$f":"Übersetzungstexte!A$171","v":"durchschn."},{"$f":"Übersetzungstexte!A$175","v":"Anzahl"},{"$f":"Übersetzungstexte!A$179","v":"Anzahl"},{"$f":"Übersetzungstexte!A$183","v":"barer"},null,null,"bezugs-","  FF12","S13 / 12","  deApM","Std. Lohn","Std. Lohn","Monatslohn","Monatslohn","Vergleichs-","Anrechenb.","Anrechenb.","Warnungs-"]
[{"$f":"Übersetzungstexte!A$140","v":""},{"$f":"Übersetzungstexte!A$144","v":""},{"$f":"Übersetzungstexte!A$148","v":""},{"$f":"Übersetzungstexte!A$152","v":"Geburts-"},{"$f":"Übersetzungstexte!A$156","v":"Monats-"},{"$f":"Übersetzungstexte!A$160","v":"Stunden-"},{"$f":"Übersetzungstexte!A$164","v":"pro Jahr"},{"$f":"Übersetzungstexte!A$168","v":"bestand-"},{"$f":"Übersetzungstexte!A$172","v":"wöchentl."},{"$f":"Übersetzungstexte!A$176","v":"Ferientage"},{"$f":"Übersetzungstexte!A$180","v":"Feiertage"},{"$f":"Übersetzungstexte!A$184","v":"Stunden-"},null,"AHV-","berechtigte",null,null,null,"ohne","mit","ohne","mit","wert","Std.-Verd.","Std.-","anzeige"]
[{"$f":"Übersetzungstexte!A$141","v":"Versicherten-Nr."},{"$f":"Übersetzungstexte!A$145","v":"Name"},{"$f":"Übersetzungstexte!A$149","v":"Vorname"},{"$f":"Übersetzungstexte!A$153","v":"datum"},{"$f":"Übersetzungstexte!A$157","v":"lohn"},{"$f":"Übersetzungstexte!A$161","v":"lohn"},{"$f":"Übersetzungstexte!A$165","v":"(12/13)"},{"$f":"Übersetzungstexte!A$169","v":"teile p. Jahr"},{"$f":"Übersetzungstexte!A$173","v":"Arbeitszeit"},{"$f":"Übersetzungstexte!A$177","v":"pro Jahr"},{"$f":"Übersetzungstexte!A$181","v":"pro Jahr"},{"$f":"Übersetzungstexte!A$185","v":"Verdienst"},null,"pflichtig","Mitarbeiter",null,null,null,"Prämie","Prämie","Prämie","Prämie",null,"aSV","Verdienst",null,"Name,Vorname"]
[null,null,null,null,null,null,null,null,null,null,null,{"$f":"Y1299","v":""},{"$f":"Z1299","v":""},{"$f":"IF(N$2-YEAR(D1299)<N$3,0,1)","v":0},{"$f":"IF(L1299=\"\",0,1)","v":0},{"$f":"IF(AND(A1299=\"\",B1299=\"\",C1299=\"\"),\"\",ROUND((K1299+J1299)/(N$4-(K1299+J1299))*100,2))","v":""},{"$f":"ROUND(G1299,0)/12","v":0},{"$f":"IF(AND(A1299=\"\",B1299=\"\",C1299=\"\"),\"\",ROUND((N$4-(K1299+J1299))*I1299/60,1))","v":""},{"$f":"IF(OR(AND(A1299=\"\",B1299=\"\",C1299=\"\"),F1299=0,F1299=\"\"),\"\",ROUND((1+P1299/100)*Q1299*F1299,2))","v":""},{"$f":"IF(OR(AND(A1299=\"\",B1299=\"\",C1299=\"\"),F1299=0,F1299=\"\",I1299=0,I1299=\"\"),\"\",ROUND((1+P1299/100)*(H1299/(N$4*I1299/5)+Q1299*F1299),2))","v":""},{"$f":"IF(OR(AND(A1299=\"\",B1299=\"\",C1299=\"\"),E1299=0,E1299=\"\",R1299=0,R1299=\"\"),\"\",ROUND((Q1299*E1299/R1299),2))","v":""},{"$f":"IF(OR(AND(A1299=\"\",B1299=\"\",C1299=\"\"),E1299=0,E1299=\"\",R1299=0,R1299=\"\"),\"\",ROUND((H1299/(12*Q1299*E1299)+1)*Q1299*E1299/R1299,2))","v":""},{"$f":"IF(OR(AND(A1299=\"\",B1299=\"\",C1299=\"\"),R1299=0,R1299=\"\"),\"\",ROUND(W$4 / R1299,1))","v":""},{"$f":"IF(OR(AND(A1299=\"\",B1299=\"\",C1299=\"\"),N$4=\"\"),\"\",IF(AND(F1299>0,H1299>0),T1299, IF(F1299>0,S1299, IF(AND(E1299>0,H1299>0),V1299,U1299))))","v":""},{"$f":"IF(W1299<X1299,W1299,X1299)","v":""},{"$f":"IF(W1299<X1299,Übersetzungstexte!A$186,\"\")","v":""},{"$f":"IF(AND(B1299=\"\",C1299=\"\"),\"\",CONCATENATE(B1299,\",\",C1299))","v":""}]
[null,null,null,null,null,null,null,null,null,null,null,"","",0,0,"",0,"","","","","","","","",{"$f":"IF(W1300<X1300,Übersetzungstexte!A$186,\"\")","v":""},""]
[null,null,null,null,null,null,null,null,null,null,null,"","",0,0,"",0,"","","","","","","","",{"$f":"IF(W1301<X1301,Übersetzungstexte!A$186,\"\")","v":""},""]
[null,null,null,null,null,null,null,null,null,null,null,"","",0,0,"",0,"","","","","","","","",{"$f":"IF(W1302<X1302,Übersetzungstexte!A$186,\"\")","v":""},""]
[null,null,null,null,null,null,null,null,null,null,null,"","",0,0,"",0,"","","","","","","","",{"$f":"IF(W1303<X1303,Übersetzungstexte!A$186,\"\")","v":""},""]
[null,null,null,null,null,null,null,null,null,null,null,"","",0,0,"",0,"","","","","","","","",{"$f":"IF(W1304<X1304,Übersetzungstexte!A$186,\"\")","v":""},""]
[null,null,null,null,null,null,null,null,null,null,null,"","",0,0,"",0,"","","","","","","","",{"$f":"IF(W1305<X1305,Übersetzungstexte!A$186,\"\")","v":""},""]
[null,null,null,null,null,null,null,null,null,null,null,"","",0,0,"",0,"","","","","","","","",{"$f":"IF(W1306<X1306,Übersetzungstexte!A$186,\"\")","v":""},""]
[null,null,null,null,null,null,null,null,null,null,null,"","",0,0,"",0,"","","","","","","","",{"$f":"IF(W1307<X1307,Übersetzungstexte!A$186,\"\")","v":""},""]
[null,null,null,null,null,null,null,null,null,null,null,"","",0,0,"",0,"","","","","","","","",{"$f":"IF(W1308<X1308,Übersetzungstexte!A$186,\"\")","v":""},""]
[null,null,null,null,null,null,null,null,null,null,null,"","",0,0,"",0,"","","","","","","","",{"$f":"IF(W1309<X1309,Übersetzungstexte!A$186,\"\")","v":""},""]
[null,null,null,null,null,null,null,null,null,null,null,"","",0,0,"",0,"","","","","","","","",{"$f":"IF(W1310<X1310,Übersetzungstexte!A$186,\"\")","v":""},""]
[null,null,null,null,null,null,null,null,null,null,null,"","",0,0,"",0,"","","","","","","","",{"$f":"IF(W1311<X1311,Übersetzungstexte!A$186,\"\")","v":""},""]
[null,null,null,null,null,null,null,null,null,null,null,"","",0,0,"",0,"","","","","","","","",{"$f":"IF(W1312<X1312,Übersetzungstexte!A$186,\"\")","v":""},""]
[null,null,null,null,null,null,null,null,null,null,null,"","",0,0,"",0,"","","","","","","","",{"$f":"IF(W1313<X1313,Übersetzungstexte!A$186,\"\")","v":""},""]
[null,null,null,null,null,null,null,null,null,null,null,"","",0,0,"",0,"","","","","","","","",{"$f":"IF(W1314<X1314,Übersetzungstexte!A$186,\"\")","v":""},""]
[null,null,null,null,null,null,null,null,null,null,null,"","",0,0,"",0,"","","","","","","","",{"$f":"IF(W1315<X1315,Übersetzungstexte!A$186,\"\")","v":""},""]
[null,null,null,null,null,null,null,null,null,null,null,"","",0,0,"",0,"","","","","","","","",{"$f":"IF(W1316<X1316,Übersetzungstexte!A$186,\"\")","v":""},""]
[null,null,null,null,null,null,null,null,null,null,null,"","",0,0,"",0,"","","","","","","","",{"$f":"IF(W1317<X1317,Übersetzungstexte!A$186,\"\")","v":""},""]
[null,null,null,null,null,null,null,null,null,null,null,"",{"$f":"Z1318","v":""},{"$f":"IF(N$2-YEAR(D1318)<N$3,0,1)","v":0},{"$f":"IF(L1318=\"\",0,1)","v":0},{"$f":"IF(AND(A1318=\"\",B1318=\"\",C1318=\"\"),\"\",ROUND((K1318+J1318)/(N$4-(K1318+J1318))*100,2))","v":""},{"$f":"ROUND(G1318,0)/12","v":0},{"$f":"IF(AND(A1318=\"\",B1318=\"\",C1318=\"\"),\"\",ROUND((N$4-(K1318+J1318))*I1318/60,1))","v":""},{"$f":"IF(OR(AND(A1318=\"\",B1318=\"\",C1318=\"\"),F1318=0,F1318=\"\"),\"\",ROUND((1+P1318/100)*Q1318*F1318,2))","v":""},{"$f":"IF(OR(AND(A1318=\"\",B1318=\"\",C1318=\"\"),F1318=0,F1318=\"\",I1318=0,I1318=\"\"),\"\",ROUND((1+P1318/100)*(H1318/(N$4*I1318/5)+Q1318*F1318),2))","v":""},{"$f":"IF(OR(AND(A1318=\"\",B1318=\"\",C1318=\"\"),E1318=0,E1318=\"\",R1318=0,R1318=\"\"),\"\",ROUND((Q1318*E1318/R1318),2))","v":""},{"$f":"IF(OR(AND(A1318=\"\",B1318=\"\",C1318=\"\"),E1318=0,E1318=\"\",R1318=0,R1318=\"\"),\"\",ROUND((H1318/(12*Q1318*E1318)+1)*Q1318*E1318/R1318,2))","v":""},{"$f":"IF(OR(AND(A1318=\"\",B1318=\"\",C1318=\"\"),R1318=0,R1318=\"\"),\"\",ROUND(W$4 / R1318,1))","v":""},{"$f":"IF(OR(AND(A1318=\"\",B1318=\"\",C1318=\"\"),N$4=\"\"),\"\",IF(AND(F1318>0,H1318>0),T1318, IF(F1318>0,S1318, IF(AND(E1318>0,H1318>0),V1318,U1318))))","v":""},{"$f":"IF(W1318<X1318,W1318,X1318)","v":""},{"$f":"IF(W1318<X1318,Übersetzungstexte!A$186,\"\")","v":""},{"$f":"IF(AND(B1318=\"\",C1318=\"\"),\"\",CONCATENATE(B1318,\",\",C1318))","v":""}]
[null,null,null,null,null,null,null,null,null,null,null,"",{"$f":"Z1319","v":""},{"$f":"IF(N$2-YEAR(D1319)<N$3,0,1)","v":0},{"$f":"IF(L1319=\"\",0,1)","v":0},{"$f":"IF(AND(A1319=\"\",B1319=\"\",C1319=\"\"),\"\",ROUND((K1319+J1319)/(N$4-(K1319+J1319))*100,2))","v":""},{"$f":"ROUND(G1319,0)/12","v":0},{"$f":"IF(AND(A1319=\"\",B1319=\"\",C1319=\"\"),\"\",ROUND((N$4-(K1319+J1319))*I1319/60,1))","v":""},{"$f":"IF(OR(AND(A1319=\"\",B1319=\"\",C1319=\"\"),F1319=0,F1319=\"\"),\"\",ROUND((1+P1319/100)*Q1319*F1319,2))","v":""},{"$f":"IF(OR(AND(A1319=\"\",B1319=\"\",C1319=\"\"),F1319=0,F1319=\"\",I1319=0,I1319=\"\"),\"\",ROUND((1+P1319/100)*(H1319/(N$4*I1319/5)+Q1319*F1319),2))","v":""},{"$f":"IF(OR(AND(A1319=\"\",B1319=\"\",C1319=\"\"),E1319=0,E1319=\"\",R1319=0,R1319=\"\"),\"\",ROUND((Q1319*E1319/R1319),2))","v":""},{"$f":"IF(OR(AND(A1319=\"\",B1319=\"\",C1319=\"\"),E1319=0,E1319=\"\",R1319=0,R1319=\"\"),\"\",ROUND((H1319/(12*Q1319*E1319)+1)*Q1319*E1319/R1319,2))","v":""},{"$f":"IF(OR(AND(A1319=\"\",B1319=\"\",C1319=\"\"),R1319=0,R1319=\"\"),\"\",ROUND(W$4 / R1319,1))","v":""},{"$f":"IF(OR(AND(A1319=\"\",B1319=\"\",C1319=\"\"),N$4=\"\"),\"\",IF(AND(F1319>0,H1319>0),T1319, IF(F1319>0,S1319, IF(AND(E1319>0,H1319>0),V1319,U1319))))","v":""},{"$f":"IF(W1319<X1319,W1319,X1319)","v":""},{"$f":"IF(W1319<X1319,Übersetzungstexte!A$186,\"\")","v":""},{"$f":"IF(AND(B1319=\"\",C1319=\"\"),\"\",CONCATENATE(B1319,\",\",C1319))","v":""}]
[]
[{"$f":"'Stammdaten Betrieb & Abteilung'!D$1","v":"  "},null,null,null,null,null,{"$f":"Übersetzungstexte!A$135","v":"Betrieb / Betriebsabteilung"},{"$f":"'Stammdaten Betrieb & Abteilung'!D$13","v":" "}]
[{"$f":"'Stammdaten Betrieb & Abteilung'!D$3","v":" "},null,null,null,null,null,{"$f":"Übersetzungstexte!A$136","v":"Abrechnungsperiode"},{"$f":"'Stammdaten Betrieb & Abteilung'!D$14","v":""}]
[{"$f":"'Stammdaten Betrieb & Abteilung'!D$4","v":" "},null,null,null,null,null,{"$f":"Übersetzungstexte!A$137","v":"Beginn / Ende der Kurzarbeit"},{"$f":"'Stammdaten Betrieb & Abteilung'!D$16","v":""}]
[]
[{"$f":"Übersetzungstexte!A$138","v":""},{"$f":"Übersetzungstexte!A$142","v":""},{"$f":"Übersetzungstexte!A$146","v":""},{"$f":"Übersetzungstexte!A$150","v":""},{"$f":"Übersetzungstexte!A$154","v":""},{"$f":"Übersetzungstexte!A$158","v":""},{"$f":"Übersetzungstexte!A$162","v":"Anzahl bez."},{"$f":"Übersetzungstexte!A$166","v":"Weitere"},{"$f":"Übersetzungstexte!A$170","v":"Jahres-"},{"$f":"Übersetzungstexte!A$174","v":""},{"$f":"Übersetzungstexte!A$178","v":""},{"$f":"Übersetzungstexte!A$182","v":"Anrechen-"},null,null,"Anzahl","Regel 7",null,"Regel 9","Regel 10","Regel 11","Regel 12","Regel 13","Regel 14","Regel 10-14","Regel 14","Regel 14"]
[{"$f":"Übersetzungstexte!A$139","v":""},{"$f":"Übersetzungstexte!A$143","v":""},{"$f":"Übersetzungstexte!A$147","v":""},{"$f":"Übersetzungstexte!A$151","v":""},{"$f":"Übersetzungstexte!A$155","v":""},{"$f":"Übersetzungstexte!A$159","v":""},{"$f":"Übersetzungstexte!A$163","v":"Monate "},{"$f":"Übersetzungstexte!A$167","v":"Lohn-"},{"$f":"Übersetzungstexte!A$171","v":"durchschn."},{"$f":"Übersetzungstexte!A$175","v":"Anzahl"},{"$f":"Übersetzungstexte!A$179","v":"Anzahl"},{"$f":"Übersetzungstexte!A$183","v":"barer"},null,null,"bezugs-","  FF12","S13 / 12","  deApM","Std. Lohn","Std. Lohn","Monatslohn","Monatslohn","Vergleichs-","Anrechenb.","Anrechenb.","Warnungs-"]
[{"$f":"Übersetzungstexte!A$140","v":""},{"$f":"Übersetzungstexte!A$144","v":""},{"$f":"Übersetzungstexte!A$148","v":""},{"$f":"Übersetzungstexte!A$152","v":"Geburts-"},{"$f":"Übersetzungstexte!A$156","v":"Monats-"},{"$f":"Übersetzungstexte!A$160","v":"Stunden-"},{"$f":"Übersetzungstexte!A$164","v":"pro Jahr"},{"$f":"Übersetzungstexte!A$168","v":"bestand-"},{"$f":"Übersetzungstexte!A$172","v":"wöchentl."},{"$f":"Übersetzungstexte!A$176","v":"Ferientage"},{"$f":"Übersetzungstexte!A$180","v":"Feiertage"},{"$f":"Übersetzungstexte!A$184","v":"Stunden-"},null,"AHV-","berechtigte",null,null,null,"ohne","mit","ohne","mit","wert","Std.-Verd.","Std.-","anzeige"]
[{"$f":"Übersetzungstexte!A$141","v":"Versicherten-Nr."},{"$f":"Übersetzungstexte!A$145","v":"Name"},{"$f":"Übersetzungstexte!A$149","v":"Vorname"},{"$f":"Übersetzungstexte!A$153","v":"datum"},{"$f":"Übersetzungstexte!A$157","v":"lohn"},{"$f":"Übersetzungstexte!A$161","v":"lohn"},{"$f":"Übersetzungstexte!A$165","v":"(12/13)"},{"$f":"Übersetzungstexte!A$169","v":"teile p. Jahr"},{"$f":"Übersetzungstexte!A$173","v":"Arbeitszeit"},{"$f":"Übersetzungstexte!A$177","v":"pro Jahr"},{"$f":"Übersetzungstexte!A$181","v":"pro Jahr"},{"$f":"Übersetzungstexte!A$185","v":"Verdienst"},null,"pflichtig","Mitarbeiter",null,null,null,"Prämie","Prämie","Prämie","Prämie",null,"aSV","Verdienst",null,"Name,Vorname"]
[null,null,null,null,null,null,null,null,null,null,null,{"$f":"Y1329","v":""},{"$f":"Z1329","v":""},{"$f":"IF(N$2-YEAR(D1329)<N$3,0,1)","v":0},{"$f":"IF(L1329=\"\",0,1)","v":0},{"$f":"IF(AND(A1329=\"\",B1329=\"\",C1329=\"\"),\"\",ROUND((K1329+J1329)/(N$4-(K1329+J1329))*100,2))","v":""},{"$f":"ROUND(G1329,0)/12","v":0},{"$f":"IF(AND(A1329=\"\",B1329=\"\",C1329=\"\"),\"\",ROUND((N$4-(K1329+J1329))*I1329/60,1))","v":""},{"$f":"IF(OR(AND(A1329=\"\",B1329=\"\",C1329=\"\"),F1329=0,F1329=\"\"),\"\",ROUND((1+P1329/100)*Q1329*F1329,2))","v":""},{"$f":"IF(OR(AND(A1329=\"\",B1329=\"\",C1329=\"\"),F1329=0,F1329=\"\",I1329=0,I1329=\"\"),\"\",ROUND((1+P1329/100)*(H1329/(N$4*I1329/5)+Q1329*F1329),2))","v":""},{"$f":"IF(OR(AND(A1329=\"\",B1329=\"\",C1329=\"\"),E1329=0,E1329=\"\",R1329=0,R1329=\"\"),\"\",ROUND((Q1329*E1329/R1329),2))","v":""},{"$f":"IF(OR(AND(A1329=\"\",B1329=\"\",C1329=\"\"),E1329=0,E1329=\"\",R1329=0,R1329=\"\"),\"\",ROUND((H1329/(12*Q1329*E1329)+1)*Q1329*E1329/R1329,2))","v":""},{"$f":"IF(OR(AND(A1329=\"\",B1329=\"\",C1329=\"\"),R1329=0,R1329=\"\"),\"\",ROUND(W$4 / R1329,1))","v":""},{"$f":"IF(OR(AND(A1329=\"\",B1329=\"\",C1329=\"\"),N$4=\"\"),\"\",IF(AND(F1329>0,H1329>0),T1329, IF(F1329>0,S1329, IF(AND(E1329>0,H1329>0),V1329,U1329))))","v":""},{"$f":"IF(W1329<X1329,W1329,X1329)","v":""},{"$f":"IF(W1329<X1329,Übersetzungstexte!A$186,\"\")","v":""},{"$f":"IF(AND(B1329=\"\",C1329=\"\"),\"\",CONCATENATE(B1329,\",\",C1329))","v":""}]
[null,null,null,null,null,null,null,null,null,null,null,"","",0,0,"",0,"","","","","","","","",{"$f":"IF(W1330<X1330,Übersetzungstexte!A$186,\"\")","v":""},""]
[null,null,null,null,null,null,null,null,null,null,null,"","",0,0,"",0,"","","","","","","","",{"$f":"IF(W1331<X1331,Übersetzungstexte!A$186,\"\")","v":""},""]
[null,null,null,null,null,null,null,null,null,null,null,"","",0,0,"",0,"","","","","","","","",{"$f":"IF(W1332<X1332,Übersetzungstexte!A$186,\"\")","v":""},""]
[null,null,null,null,null,null,null,null,null,null,null,"","",0,0,"",0,"","","","","","","","",{"$f":"IF(W1333<X1333,Übersetzungstexte!A$186,\"\")","v":""},""]
[null,null,null,null,null,null,null,null,null,null,null,"","",0,0,"",0,"","","","","","","","",{"$f":"IF(W1334<X1334,Übersetzungstexte!A$186,\"\")","v":""},""]
[null,null,null,null,null,null,null,null,null,null,null,"","",0,0,"",0,"","","","","","","","",{"$f":"IF(W1335<X1335,Übersetzungstexte!A$186,\"\")","v":""},""]
[null,null,null,null,null,null,null,null,null,null,null,"","",0,0,"",0,"","","","","","","","",{"$f":"IF(W1336<X1336,Übersetzungstexte!A$186,\"\")","v":""},""]
[null,null,null,null,null,null,null,null,null,null,null,"","",0,0,"",0,"","","","","","","","",{"$f":"IF(W1337<X1337,Übersetzungstexte!A$186,\"\")","v":""},""]
[null,null,null,null,null,null,null,null,null,null,null,"","",0,0,"",0,"","","","","","","","",{"$f":"IF(W1338<X1338,Übersetzungstexte!A$186,\"\")","v":""},""]
[null,null,null,null,null,null,null,null,null,null,null,"","",0,0,"",0,"","","","","","","","",{"$f":"IF(W1339<X1339,Übersetzungstexte!A$186,\"\")","v":""},""]
[null,null,null,null,null,null,null,null,null,null,null,"","",0,0,"",0,"","","","","","","","",{"$f":"IF(W1340<X1340,Übersetzungstexte!A$186,\"\")","v":""},""]
[null,null,null,null,null,null,null,null,null,null,null,"","",0,0,"",0,"","","","","","","","",{"$f":"IF(W1341<X1341,Übersetzungstexte!A$186,\"\")","v":""},""]
[null,null,null,null,null,null,null,null,null,null,null,"","",0,0,"",0,"","","","","","","","",{"$f":"IF(W1342<X1342,Übersetzungstexte!A$186,\"\")","v":""},""]
[null,null,null,null,null,null,null,null,null,null,null,"","",0,0,"",0,"","","","","","","","",{"$f":"IF(W1343<X1343,Übersetzungstexte!A$186,\"\")","v":""},""]
[null,null,null,null,null,null,null,null,null,null,null,"","",0,0,"",0,"","","","","","","","",{"$f":"IF(W1344<X1344,Übersetzungstexte!A$186,\"\")","v":""},""]
[null,null,null,null,null,null,null,null,null,null,null,"","",0,0,"",0,"","","","","","","","",{"$f":"IF(W1345<X1345,Übersetzungstexte!A$186,\"\")","v":""},""]
[null,null,null,null,null,null,null,null,null,null,null,"","",0,0,"",0,"","","","","","","","",{"$f":"IF(W1346<X1346,Übersetzungstexte!A$186,\"\")","v":""},""]
[null,null,null,null,null,null,null,null,null,null,null,"","",0,0,"",0,"","","","","","","","",{"$f":"IF(W1347<X1347,Übersetzungstexte!A$186,\"\")","v":""},""]
[null,null,null,null,null,null,null,null,null,null,null,"",{"$f":"Z1348","v":""},{"$f":"IF(N$2-YEAR(D1348)<N$3,0,1)","v":0},{"$f":"IF(L1348=\"\",0,1)","v":0},{"$f":"IF(AND(A1348=\"\",B1348=\"\",C1348=\"\"),\"\",ROUND((K1348+J1348)/(N$4-(K1348+J1348))*100,2))","v":""},{"$f":"ROUND(G1348,0)/12","v":0},{"$f":"IF(AND(A1348=\"\",B1348=\"\",C1348=\"\"),\"\",ROUND((N$4-(K1348+J1348))*I1348/60,1))","v":""},{"$f":"IF(OR(AND(A1348=\"\",B1348=\"\",C1348=\"\"),F1348=0,F1348=\"\"),\"\",ROUND((1+P1348/100)*Q1348*F1348,2))","v":""},{"$f":"IF(OR(AND(A1348=\"\",B1348=\"\",C1348=\"\"),F1348=0,F1348=\"\",I1348=0,I1348=\"\"),\"\",ROUND((1+P1348/100)*(H1348/(N$4*I1348/5)+Q1348*F1348),2))","v":""},{"$f":"IF(OR(AND(A1348=\"\",B1348=\"\",C1348=\"\"),E1348=0,E1348=\"\",R1348=0,R1348=\"\"),\"\",ROUND((Q1348*E1348/R1348),2))","v":""},{"$f":"IF(OR(AND(A1348=\"\",B1348=\"\",C1348=\"\"),E1348=0,E1348=\"\",R1348=0,R1348=\"\"),\"\",ROUND((H1348/(12*Q1348*E1348)+1)*Q1348*E1348/R1348,2))","v":""},{"$f":"IF(OR(AND(A1348=\"\",B1348=\"\",C1348=\"\"),R1348=0,R1348=\"\"),\"\",ROUND(W$4 / R1348,1))","v":""},{"$f":"IF(OR(AND(A1348=\"\",B1348=\"\",C1348=\"\"),N$4=\"\"),\"\",IF(AND(F1348>0,H1348>0),T1348, IF(F1348>0,S1348, IF(AND(E1348>0,H1348>0),V1348,U1348))))","v":""},{"$f":"IF(W1348<X1348,W1348,X1348)","v":""},{"$f":"IF(W1348<X1348,Übersetzungstexte!A$186,\"\")","v":""},{"$f":"IF(AND(B1348=\"\",C1348=\"\"),\"\",CONCATENATE(B1348,\",\",C1348))","v":""}]
[null,null,null,null,null,null,null,null,null,null,null,"",{"$f":"Z1349","v":""},{"$f":"IF(N$2-YEAR(D1349)<N$3,0,1)","v":0},{"$f":"IF(L1349=\"\",0,1)","v":0},{"$f":"IF(AND(A1349=\"\",B1349=\"\",C1349=\"\"),\"\",ROUND((K1349+J1349)/(N$4-(K1349+J1349))*100,2))","v":""},{"$f":"ROUND(G1349,0)/12","v":0},{"$f":"IF(AND(A1349=\"\",B1349=\"\",C1349=\"\"),\"\",ROUND((N$4-(K1349+J1349))*I1349/60,1))","v":""},{"$f":"IF(OR(AND(A1349=\"\",B1349=\"\",C1349=\"\"),F1349=0,F1349=\"\"),\"\",ROUND((1+P1349/100)*Q1349*F1349,2))","v":""},{"$f":"IF(OR(AND(A1349=\"\",B1349=\"\",C1349=\"\"),F1349=0,F1349=\"\",I1349=0,I1349=\"\"),\"\",ROUND((1+P1349/100)*(H1349/(N$4*I1349/5)+Q1349*F1349),2))","v":""},{"$f":"IF(OR(AND(A1349=\"\",B1349=\"\",C1349=\"\"),E1349=0,E1349=\"\",R1349=0,R1349=\"\"),\"\",ROUND((Q1349*E1349/R1349),2))","v":""},{"$f":"IF(OR(AND(A1349=\"\",B1349=\"\",C1349=\"\"),E1349=0,E1349=\"\",R1349=0,R1349=\"\"),\"\",ROUND((H1349/(12*Q1349*E1349)+1)*Q1349*E1349/R1349,2))","v":""},{"$f":"IF(OR(AND(A1349=\"\",B1349=\"\",C1349=\"\"),R1349=0,R1349=\"\"),\"\",ROUND(W$4 / R1349,1))","v":""},{"$f":"IF(OR(AND(A1349=\"\",B1349=\"\",C1349=\"\"),N$4=\"\"),\"\",IF(AND(F1349>0,H1349>0),T1349, IF(F1349>0,S1349, IF(AND(E1349>0,H1349>0),V1349,U1349))))","v":""},{"$f":"IF(W1349<X1349,W1349,X1349)","v":""},{"$f":"IF(W1349<X1349,Übersetzungstexte!A$186,\"\")","v":""},{"$f":"IF(AND(B1349=\"\",C1349=\"\"),\"\",CONCATENATE(B1349,\",\",C1349))","v":""}]
[]
[{"$f":"'Stammdaten Betrieb & Abteilung'!D$1","v":"  "},null,null,null,null,null,{"$f":"Übersetzungstexte!A$135","v":"Betrieb / Betriebsabteilung"},{"$f":"'Stammdaten Betrieb & Abteilung'!D$13","v":" "}]
[{"$f":"'Stammdaten Betrieb & Abteilung'!D$3","v":" "},null,null,null,null,null,{"$f":"Übersetzungstexte!A$136","v":"Abrechnungsperiode"},{"$f":"'Stammdaten Betrieb & Abteilung'!D$14","v":""}]
[{"$f":"'Stammdaten Betrieb & Abteilung'!D$4","v":" "},null,null,null,null,null,{"$f":"Übersetzungstexte!A$137","v":"Beginn / Ende der Kurzarbeit"},{"$f":"'Stammdaten Betrieb & Abteilung'!D$16","v":""}]
[]
[{"$f":"Übersetzungstexte!A$138","v":""},{"$f":"Übersetzungstexte!A$142","v":""},{"$f":"Übersetzungstexte!A$146","v":""},{"$f":"Übersetzungstexte!A$150","v":""},{"$f":"Übersetzungstexte!A$154","v":""},{"$f":"Übersetzungstexte!A$158","v":""},{"$f":"Übersetzungstexte!A$162","v":"Anzahl bez."},{"$f":"Übersetzungstexte!A$166","v":"Weitere"},{"$f":"Übersetzungstexte!A$170","v":"Jahres-"},{"$f":"Übersetzungstexte!A$174","v":""},{"$f":"Übersetzungstexte!A$178","v":""},{"$f":"Übersetzungstexte!A$182","v":"Anrechen-"},null,null,"Anzahl","Regel 7",null,"Regel 9","Regel 10","Regel 11","Regel 12","Regel 13","Regel 14","Regel 10-14","Regel 14","Regel 14"]
[{"$f":"Übersetzungstexte!A$139","v":""},{"$f":"Übersetzungstexte!A$143","v":""},{"$f":"Übersetzungstexte!A$147","v":""},{"$f":"Übersetzungstexte!A$151","v":""},{"$f":"Übersetzungstexte!A$155","v":""},{"$f":"Übersetzungstexte!A$159","v":""},{"$f":"Übersetzungstexte!A$163","v":"Monate "},{"$f":"Übersetzungstexte!A$167","v":"Lohn-"},{"$f":"Übersetzungstexte!A$171","v":"durchschn."},{"$f":"Übersetzungstexte!A$175","v":"Anzahl"},{"$f":"Übersetzungstexte!A$179","v":"Anzahl"},{"$f":"Übersetzungstexte!A$183","v":"barer"},null,null,"bezugs-","  FF12","S13 / 12","  deApM","Std. Lohn","Std. Lohn","Monatslohn","Monatslohn","Vergleichs-","Anrechenb.","Anrechenb.","Warnungs-"]
[{"$f":"Übersetzungstexte!A$140","v":""},{"$f":"Übersetzungstexte!A$144","v":""},{"$f":"Übersetzungstexte!A$148","v":""},{"$f":"Übersetzungstexte!A$152","v":"Geburts-"},{"$f":"Übersetzungstexte!A$156","v":"Monats-"},{"$f":"Übersetzungstexte!A$160","v":"Stunden-"},{"$f":"Übersetzungstexte!A$164","v":"pro Jahr"},{"$f":"Übersetzungstexte!A$168","v":"bestand-"},{"$f":"Übersetzungstexte!A$172","v":"wöchentl."},{"$f":"Übersetzungstexte!A$176","v":"Ferientage"},{"$f":"Übersetzungstexte!A$180","v":"Feiertage"},{"$f":"Übersetzungstexte!A$184","v":"Stunden-"},null,"AHV-","berechtigte",null,null,null,"ohne","mit","ohne","mit","wert","Std.-Verd.","Std.-","anzeige"]
[{"$f":"Übersetzungstexte!A$141","v":"Versicherten-Nr."},{"$f":"Übersetzungstexte!A$145","v":"Name"},{"$f":"Übersetzungstexte!A$149","v":"Vorname"},{"$f":"Übersetzungstexte!A$153","v":"datum"},{"$f":"Übersetzungstexte!A$157","v":"lohn"},{"$f":"Übersetzungstexte!A$161","v":"lohn"},{"$f":"Übersetzungstexte!A$165","v":"(12/13)"},{"$f":"Übersetzungstexte!A$169","v":"teile p. Jahr"},{"$f":"Übersetzungstexte!A$173","v":"Arbeitszeit"},{"$f":"Übersetzungstexte!A$177","v":"pro Jahr"},{"$f":"Übersetzungstexte!A$181","v":"pro Jahr"},{"$f":"Übersetzungstexte!A$185","v":"Verdienst"},null,"pflichtig","Mitarbeiter",null,null,null,"Prämie","Prämie","Prämie","Prämie",null,"aSV","Verdienst",null,"Name,Vorname"]
[null,null,null,null,null,null,null,null,null,null,null,{"$f":"Y1359","v":""},{"$f":"Z1359","v":""},{"$f":"IF(N$2-YEAR(D1359)<N$3,0,1)","v":0},{"$f":"IF(L1359=\"\",0,1)","v":0},{"$f":"IF(AND(A1359=\"\",B1359=\"\",C1359=\"\"),\"\",ROUND((K1359+J1359)/(N$4-(K1359+J1359))*100,2))","v":""},{"$f":"ROUND(G1359,0)/12","v":0},{"$f":"IF(AND(A1359=\"\",B1359=\"\",C1359=\"\"),\"\",ROUND((N$4-(K1359+J1359))*I1359/60,1))","v":""},{"$f":"IF(OR(AND(A1359=\"\",B1359=\"\",C1359=\"\"),F1359=0,F1359=\"\"),\"\",ROUND((1+P1359/100)*Q1359*F1359,2))","v":""},{"$f":"IF(OR(AND(A1359=\"\",B1359=\"\",C1359=\"\"),F1359=0,F1359=\"\",I1359=0,I1359=\"\"),\"\",ROUND((1+P1359/100)*(H1359/(N$4*I1359/5)+Q1359*F1359),2))","v":""},{"$f":"IF(OR(AND(A1359=\"\",B1359=\"\",C1359=\"\"),E1359=0,E1359=\"\",R1359=0,R1359=\"\"),\"\",ROUND((Q1359*E1359/R1359),2))","v":""},{"$f":"IF(OR(AND(A1359=\"\",B1359=\"\",C1359=\"\"),E1359=0,E1359=\"\",R1359=0,R1359=\"\"),\"\",ROUND((H1359/(12*Q1359*E1359)+1)*Q1359*E1359/R1359,2))","v":""},{"$f":"IF(OR(AND(A1359=\"\",B1359=\"\",C1359=\"\"),R1359=0,R1359=\"\"),\"\",ROUND(W$4 / R1359,1))","v":""},{"$f":"IF(OR(AND(A1359=\"\",B1359=\"\",C1359=\"\"),N$4=\"\"),\"\",IF(AND(F1359>0,H1359>0),T1359, IF(F1359>0,S1359, IF(AND(E1359>0,H1359>0),V1359,U1359))))","v":""},{"$f":"IF(W1359<X1359,W1359,X1359)","v":""},{"$f":"IF(W1359<X1359,Übersetzungstexte!A$186,\"\")","v":""},{"$f":"IF(AND(B1359=\"\",C1359=\"\"),\"\",CONCATENATE(B1359,\",\",C1359))","v":""}]
[null,null,null,null,null,null,null,null,null,null,null,"","",0,0,"",0,"","","","","","","","",{"$f":"IF(W1360<X1360,Übersetzungstexte!A$186,\"\")","v":""},""]
[null,null,null,null,null,null,null,null,null,null,null,"","",0,0,"",0,"","","","","","","","",{"$f":"IF(W1361<X1361,Übersetzungstexte!A$186,\"\")","v":""},""]
[null,null,null,null,null,null,null,null,null,null,null,"","",0,0,"",0,"","","","","","","","",{"$f":"IF(W1362<X1362,Übersetzungstexte!A$186,\"\")","v":""},""]
[null,null,null,null,null,null,null,null,null,null,null,"","",0,0,"",0,"","","","","","","","",{"$f":"IF(W1363<X1363,Übersetzungstexte!A$186,\"\")","v":""},""]
[null,null,null,null,null,null,null,null,null,null,null,"","",0,0,"",0,"","","","","","","","",{"$f":"IF(W1364<X1364,Übersetzungstexte!A$186,\"\")","v":""},""]
[null,null,null,null,null,null,null,null,null,null,null,"","",0,0,"",0,"","","","","","","","",{"$f":"IF(W1365<X1365,Übersetzungstexte!A$186,\"\")","v":""},""]
[null,null,null,null,null,null,null,null,null,null,null,"","",0,0,"",0,"","","","","","","","",{"$f":"IF(W1366<X1366,Übersetzungstexte!A$186,\"\")","v":""},""]
[null,null,null,null,null,null,null,null,null,null,null,"","",0,0,"",0,"","","","","","","","",{"$f":"IF(W1367<X1367,Übersetzungstexte!A$186,\"\")","v":""},""]
[null,null,null,null,null,null,null,null,null,null,null,"","",0,0,"",0,"","","","","","","","",{"$f":"IF(W1368<X1368,Übersetzungstexte!A$186,\"\")","v":""},""]
[null,null,null,null,null,null,null,null,null,null,null,"","",0,0,"",0,"","","","","","","","",{"$f":"IF(W1369<X1369,Übersetzungstexte!A$186,\"\")","v":""},""]
[null,null,null,null,null,null,null,null,null,null,null,"","",0,0,"",0,"","","","","","","","",{"$f":"IF(W1370<X1370,Übersetzungstexte!A$186,\"\")","v":""},""]
[null,null,null,null,null,null,null,null,null,null,null,"","",0,0,"",0,"","","","","","","","",{"$f":"IF(W1371<X1371,Übersetzungstexte!A$186,\"\")","v":""},""]
[null,null,null,null,null,null,null,null,null,null,null,"","",0,0,"",0,"","","","","","","","",{"$f":"IF(W1372<X1372,Übersetzungstexte!A$186,\"\")","v":""},""]
[null,null,null,null,null,null,null,null,null,null,null,"","",0,0,"",0,"","","","","","","","",{"$f":"IF(W1373<X1373,Übersetzungstexte!A$186,\"\")","v":""},""]
[null,null,null,null,null,null,null,null,null,null,null,"","",0,0,"",0,"","","","","","","","",{"$f":"IF(W1374<X1374,Übersetzungstexte!A$186,\"\")","v":""},""]
[null,null,null,null,null,null,null,null,null,null,null,"","",0,0,"",0,"","","","","","","","",{"$f":"IF(W1375<X1375,Übersetzungstexte!A$186,\"\")","v":""},""]
[null,null,null,null,null,null,null,null,null,null,null,"","",0,0,"",0,"","","","","","","","",{"$f":"IF(W1376<X1376,Übersetzungstexte!A$186,\"\")","v":""},""]
[null,null,null,null,null,null,null,null,null,null,null,"","",0,0,"",0,"","","","","","","","",{"$f":"IF(W1377<X1377,Übersetzungstexte!A$186,\"\")","v":""},""]
[null,null,null,null,null,null,null,null,null,null,null,"",{"$f":"Z1378","v":""},{"$f":"IF(N$2-YEAR(D1378)<N$3,0,1)","v":0},{"$f":"IF(L1378=\"\",0,1)","v":0},{"$f":"IF(AND(A1378=\"\",B1378=\"\",C1378=\"\"),\"\",ROUND((K1378+J1378)/(N$4-(K1378+J1378))*100,2))","v":""},{"$f":"ROUND(G1378,0)/12","v":0},{"$f":"IF(AND(A1378=\"\",B1378=\"\",C1378=\"\"),\"\",ROUND((N$4-(K1378+J1378))*I1378/60,1))","v":""},{"$f":"IF(OR(AND(A1378=\"\",B1378=\"\",C1378=\"\"),F1378=0,F1378=\"\"),\"\",ROUND((1+P1378/100)*Q1378*F1378,2))","v":""},{"$f":"IF(OR(AND(A1378=\"\",B1378=\"\",C1378=\"\"),F1378=0,F1378=\"\",I1378=0,I1378=\"\"),\"\",ROUND((1+P1378/100)*(H1378/(N$4*I1378/5)+Q1378*F1378),2))","v":""},{"$f":"IF(OR(AND(A1378=\"\",B1378=\"\",C1378=\"\"),E1378=0,E1378=\"\",R1378=0,R1378=\"\"),\"\",ROUND((Q1378*E1378/R1378),2))","v":""},{"$f":"IF(OR(AND(A1378=\"\",B1378=\"\",C1378=\"\"),E1378=0,E1378=\"\",R1378=0,R1378=\"\"),\"\",ROUND((H1378/(12*Q1378*E1378)+1)*Q1378*E1378/R1378,2))","v":""},{"$f":"IF(OR(AND(A1378=\"\",B1378=\"\",C1378=\"\"),R1378=0,R1378=\"\"),\"\",ROUND(W$4 / R1378,1))","v":""},{"$f":"IF(OR(AND(A1378=\"\",B1378=\"\",C1378=\"\"),N$4=\"\"),\"\",IF(AND(F1378>0,H1378>0),T1378, IF(F1378>0,S1378, IF(AND(E1378>0,H1378>0),V1378,U1378))))","v":""},{"$f":"IF(W1378<X1378,W1378,X1378)","v":""},{"$f":"IF(W1378<X1378,Übersetzungstexte!A$186,\"\")","v":""},{"$f":"IF(AND(B1378=\"\",C1378=\"\"),\"\",CONCATENATE(B1378,\",\",C1378))","v":""}]
[null,null,null,null,null,null,null,null,null,null,null,"",{"$f":"Z1379","v":""},{"$f":"IF(N$2-YEAR(D1379)<N$3,0,1)","v":0},{"$f":"IF(L1379=\"\",0,1)","v":0},{"$f":"IF(AND(A1379=\"\",B1379=\"\",C1379=\"\"),\"\",ROUND((K1379+J1379)/(N$4-(K1379+J1379))*100,2))","v":""},{"$f":"ROUND(G1379,0)/12","v":0},{"$f":"IF(AND(A1379=\"\",B1379=\"\",C1379=\"\"),\"\",ROUND((N$4-(K1379+J1379))*I1379/60,1))","v":""},{"$f":"IF(OR(AND(A1379=\"\",B1379=\"\",C1379=\"\"),F1379=0,F1379=\"\"),\"\",ROUND((1+P1379/100)*Q1379*F1379,2))","v":""},{"$f":"IF(OR(AND(A1379=\"\",B1379=\"\",C1379=\"\"),F1379=0,F1379=\"\",I1379=0,I1379=\"\"),\"\",ROUND((1+P1379/100)*(H1379/(N$4*I1379/5)+Q1379*F1379),2))","v":""},{"$f":"IF(OR(AND(A1379=\"\",B1379=\"\",C1379=\"\"),E1379=0,E1379=\"\",R1379=0,R1379=\"\"),\"\",ROUND((Q1379*E1379/R1379),2))","v":""},{"$f":"IF(OR(AND(A1379=\"\",B1379=\"\",C1379=\"\"),E1379=0,E1379=\"\",R1379=0,R1379=\"\"),\"\",ROUND((H1379/(12*Q1379*E1379)+1)*Q1379*E1379/R1379,2))","v":""},{"$f":"IF(OR(AND(A1379=\"\",B1379=\"\",C1379=\"\"),R1379=0,R1379=\"\"),\"\",ROUND(W$4 / R1379,1))","v":""},{"$f":"IF(OR(AND(A1379=\"\",B1379=\"\",C1379=\"\"),N$4=\"\"),\"\",IF(AND(F1379>0,H1379>0),T1379, IF(F1379>0,S1379, IF(AND(E1379>0,H1379>0),V1379,U1379))))","v":""},{"$f":"IF(W1379<X1379,W1379,X1379)","v":""},{"$f":"IF(W1379<X1379,Übersetzungstexte!A$186,\"\")","v":""},{"$f":"IF(AND(B1379=\"\",C1379=\"\"),\"\",CONCATENATE(B1379,\",\",C1379))","v":""}]
[]
[{"$f":"'Stammdaten Betrieb & Abteilung'!D$1","v":"  "},null,null,null,null,null,{"$f":"Übersetzungstexte!A$135","v":"Betrieb / Betriebsabteilung"},{"$f":"'Stammdaten Betrieb & Abteilung'!D$13","v":" "}]
[{"$f":"'Stammdaten Betrieb & Abteilung'!D$3","v":" "},null,null,null,null,null,{"$f":"Übersetzungstexte!A$136","v":"Abrechnungsperiode"},{"$f":"'Stammdaten Betrieb & Abteilung'!D$14","v":""}]
[{"$f":"'Stammdaten Betrieb & Abteilung'!D$4","v":" "},null,null,null,null,null,{"$f":"Übersetzungstexte!A$137","v":"Beginn / Ende der Kurzarbeit"},{"$f":"'Stammdaten Betrieb & Abteilung'!D$16","v":""}]
[]
[{"$f":"Übersetzungstexte!A$138","v":""},{"$f":"Übersetzungstexte!A$142","v":""},{"$f":"Übersetzungstexte!A$146","v":""},{"$f":"Übersetzungstexte!A$150","v":""},{"$f":"Übersetzungstexte!A$154","v":""},{"$f":"Übersetzungstexte!A$158","v":""},{"$f":"Übersetzungstexte!A$162","v":"Anzahl bez."},{"$f":"Übersetzungstexte!A$166","v":"Weitere"},{"$f":"Übersetzungstexte!A$170","v":"Jahres-"},{"$f":"Übersetzungstexte!A$174","v":""},{"$f":"Übersetzungstexte!A$178","v":""},{"$f":"Übersetzungstexte!A$182","v":"Anrechen-"},null,null,"Anzahl","Regel 7",null,"Regel 9","Regel 10","Regel 11","Regel 12","Regel 13","Regel 14","Regel 10-14","Regel 14","Regel 14"]
[{"$f":"Übersetzungstexte!A$139","v":""},{"$f":"Übersetzungstexte!A$143","v":""},{"$f":"Übersetzungstexte!A$147","v":""},{"$f":"Übersetzungstexte!A$151","v":""},{"$f":"Übersetzungstexte!A$155","v":""},{"$f":"Übersetzungstexte!A$159","v":""},{"$f":"Übersetzungstexte!A$163","v":"Monate "},{"$f":"Übersetzungstexte!A$167","v":"Lohn-"},{"$f":"Übersetzungstexte!A$171","v":"durchschn."},{"$f":"Übersetzungstexte!A$175","v":"Anzahl"},{"$f":"Übersetzungstexte!A$179","v":"Anzahl"},{"$f":"Übersetzungstexte!A$183","v":"barer"},null,null,"bezugs-","  FF12","S13 / 12","  deApM","Std. Lohn","Std. Lohn","Monatslohn","Monatslohn","Vergleichs-","Anrechenb.","Anrechenb.","Warnungs-"]
[{"$f":"Übersetzungstexte!A$140","v":""},{"$f":"Übersetzungstexte!A$144","v":""},{"$f":"Übersetzungstexte!A$148","v":""},{"$f":"Übersetzungstexte!A$152","v":"Geburts-"},{"$f":"Übersetzungstexte!A$156","v":"Monats-"},{"$f":"Übersetzungstexte!A$160","v":"Stunden-"},{"$f":"Übersetzungstexte!A$164","v":"pro Jahr"},{"$f":"Übersetzungstexte!A$168","v":"bestand-"},{"$f":"Übersetzungstexte!A$172","v":"wöchentl."},{"$f":"Übersetzungstexte!A$176","v":"Ferientage"},{"$f":"Übersetzungstexte!A$180","v":"Feiertage"},{"$f":"Übersetzungstexte!A$184","v":"Stunden-"},null,"AHV-","berechtigte",null,null,null,"ohne","mit","ohne","mit","wert","Std.-Verd.","Std.-","anzeige"]
[{"$f":"Übersetzungstexte!A$141","v":"Versicherten-Nr."},{"$f":"Übersetzungstexte!A$145","v":"Name"},{"$f":"Übersetzungstexte!A$149","v":"Vorname"},{"$f":"Übersetzungstexte!A$153","v":"datum"},{"$f":"Übersetzungstexte!A$157","v":"lohn"},{"$f":"Übersetzungstexte!A$161","v":"lohn"},{"$f":"Übersetzungstexte!A$165","v":"(12/13)"},{"$f":"Übersetzungstexte!A$169","v":"teile p. Jahr"},{"$f":"Übersetzungstexte!A$173","v":"Arbeitszeit"},{"$f":"Übersetzungstexte!A$177","v":"pro Jahr"},{"$f":"Übersetzungstexte!A$181","v":"pro Jahr"},{"$f":"Übersetzungstexte!A$185","v":"Verdienst"},null,"pflichtig","Mitarbeiter",null,null,null,"Prämie","Prämie","Prämie","Prämie",null,"aSV","Verdienst",null,"Name,Vorname"]
[null,null,null,null,null,null,null,null,null,null,null,{"$f":"Y1389","v":""},{"$f":"Z1389","v":""},{"$f":"IF(N$2-YEAR(D1389)<N$3,0,1)","v":0},{"$f":"IF(L1389=\"\",0,1)","v":0},{"$f":"IF(AND(A1389=\"\",B1389=\"\",C1389=\"\"),\"\",ROUND((K1389+J1389)/(N$4-(K1389+J1389))*100,2))","v":""},{"$f":"ROUND(G1389,0)/12","v":0},{"$f":"IF(AND(A1389=\"\",B1389=\"\",C1389=\"\"),\"\",ROUND((N$4-(K1389+J1389))*I1389/60,1))","v":""},{"$f":"IF(OR(AND(A1389=\"\",B1389=\"\",C1389=\"\"),F1389=0,F1389=\"\"),\"\",ROUND((1+P1389/100)*Q1389*F1389,2))","v":""},{"$f":"IF(OR(AND(A1389=\"\",B1389=\"\",C1389=\"\"),F1389=0,F1389=\"\",I1389=0,I1389=\"\"),\"\",ROUND((1+P1389/100)*(H1389/(N$4*I1389/5)+Q1389*F1389),2))","v":""},{"$f":"IF(OR(AND(A1389=\"\",B1389=\"\",C1389=\"\"),E1389=0,E1389=\"\",R1389=0,R1389=\"\"),\"\",ROUND((Q1389*E1389/R1389),2))","v":""},{"$f":"IF(OR(AND(A1389=\"\",B1389=\"\",C1389=\"\"),E1389=0,E1389=\"\",R1389=0,R1389=\"\"),\"\",ROUND((H1389/(12*Q1389*E1389)+1)*Q1389*E1389/R1389,2))","v":""},{"$f":"IF(OR(AND(A1389=\"\",B1389=\"\",C1389=\"\"),R1389=0,R1389=\"\"),\"\",ROUND(W$4 / R1389,1))","v":""},{"$f":"IF(OR(AND(A1389=\"\",B1389=\"\",C1389=\"\"),N$4=\"\"),\"\",IF(AND(F1389>0,H1389>0),T1389, IF(F1389>0,S1389, IF(AND(E1389>0,H1389>0),V1389,U1389))))","v":""},{"$f":"IF(W1389<X1389,W1389,X1389)","v":""},{"$f":"IF(W1389<X1389,Übersetzungstexte!A$186,\"\")","v":""},{"$f":"IF(AND(B1389=\"\",C1389=\"\"),\"\",CONCATENATE(B1389,\",\",C1389))","v":""}]
[null,null,null,null,null,null,null,null,null,null,null,"","",0,0,"",0,"","","","","","","","",{"$f":"IF(W1390<X1390,Übersetzungstexte!A$186,\"\")","v":""},""]
[null,null,null,null,null,null,null,null,null,null,null,"","",0,0,"",0,"","","","","","","","",{"$f":"IF(W1391<X1391,Übersetzungstexte!A$186,\"\")","v":""},""]
[null,null,null,null,null,null,null,null,null,null,null,"","",0,0,"",0,"","","","","","","","",{"$f":"IF(W1392<X1392,Übersetzungstexte!A$186,\"\")","v":""},""]
[null,null,null,null,null,null,null,null,null,null,null,"","",0,0,"",0,"","","","","","","","",{"$f":"IF(W1393<X1393,Übersetzungstexte!A$186,\"\")","v":""},""]
[null,null,null,null,null,null,null,null,null,null,null,"","",0,0,"",0,"","","","","","","","",{"$f":"IF(W1394<X1394,Übersetzungstexte!A$186,\"\")","v":""},""]
[null,null,null,null,null,null,null,null,null,null,null,"","",0,0,"",0,"","","","","","","","",{"$f":"IF(W1395<X1395,Übersetzungstexte!A$186,\"\")","v":""},""]
[null,null,null,null,null,null,null,null,null,null,null,"","",0,0,"",0,"","","","","","","","",{"$f":"IF(W1396<X1396,Übersetzungstexte!A$186,\"\")","v":""},""]
[null,null,null,null,null,null,null,null,null,null,null,"","",0,0,"",0,"","","","","","","","",{"$f":"IF(W1397<X1397,Übersetzungstexte!A$186,\"\")","v":""},""]
[null,null,null,null,null,null,null,null,null,null,null,"","",0,0,"",0,"","","","","","","","",{"$f":"IF(W1398<X1398,Übersetzungstexte!A$186,\"\")","v":""},""]
[null,null,null,null,null,null,null,null,null,null,null,"","",0,0,"",0,"","","","","","","","",{"$f":"IF(W1399<X1399,Übersetzungstexte!A$186,\"\")","v":""},""]
[null,null,null,null,null,null,null,null,null,null,null,"","",0,0,"",0,"","","","","","","","",{"$f":"IF(W1400<X1400,Übersetzungstexte!A$186,\"\")","v":""},""]
[null,null,null,null,null,null,null,null,null,null,null,"","",0,0,"",0,"","","","","","","","",{"$f":"IF(W1401<X1401,Übersetzungstexte!A$186,\"\")","v":""},""]
[null,null,null,null,null,null,null,null,null,null,null,"","",0,0,"",0,"","","","","","","","",{"$f":"IF(W1402<X1402,Übersetzungstexte!A$186,\"\")","v":""},""]
[null,null,null,null,null,null,null,null,null,null,null,"","",0,0,"",0,"","","","","","","","",{"$f":"IF(W1403<X1403,Übersetzungstexte!A$186,\"\")","v":""},""]
[null,null,null,null,null,null,null,null,null,null,null,"","",0,0,"",0,"","","","","","","","",{"$f":"IF(W1404<X1404,Übersetzungstexte!A$186,\"\")","v":""},""]
[null,null,null,null,null,null,null,null,null,null,null,"","",0,0,"",0,"","","","","","","","",{"$f":"IF(W1405<X1405,Übersetzungstexte!A$186,\"\")","v":""},""]
[null,null,null,null,null,null,null,null,null,null,null,"","",0,0,"",0,"","","","","","","","",{"$f":"IF(W1406<X1406,Übersetzungstexte!A$186,\"\")","v":""},""]
[null,null,null,null,null,null,null,null,null,null,null,"","",0,0,"",0,"","","","","","","","",{"$f":"IF(W1407<X1407,Übersetzungstexte!A$186,\"\")","v":""},""]
[null,null,null,null,null,null,null,null,null,null,null,"",{"$f":"Z1408","v":""},{"$f":"IF(N$2-YEAR(D1408)<N$3,0,1)","v":0},{"$f":"IF(L1408=\"\",0,1)","v":0},{"$f":"IF(AND(A1408=\"\",B1408=\"\",C1408=\"\"),\"\",ROUND((K1408+J1408)/(N$4-(K1408+J1408))*100,2))","v":""},{"$f":"ROUND(G1408,0)/12","v":0},{"$f":"IF(AND(A1408=\"\",B1408=\"\",C1408=\"\"),\"\",ROUND((N$4-(K1408+J1408))*I1408/60,1))","v":""},{"$f":"IF(OR(AND(A1408=\"\",B1408=\"\",C1408=\"\"),F1408=0,F1408=\"\"),\"\",ROUND((1+P1408/100)*Q1408*F1408,2))","v":""},{"$f":"IF(OR(AND(A1408=\"\",B1408=\"\",C1408=\"\"),F1408=0,F1408=\"\",I1408=0,I1408=\"\"),\"\",ROUND((1+P1408/100)*(H1408/(N$4*I1408/5)+Q1408*F1408),2))","v":""},{"$f":"IF(OR(AND(A1408=\"\",B1408=\"\",C1408=\"\"),E1408=0,E1408=\"\",R1408=0,R1408=\"\"),\"\",ROUND((Q1408*E1408/R1408),2))","v":""},{"$f":"IF(OR(AND(A1408=\"\",B1408=\"\",C1408=\"\"),E1408=0,E1408=\"\",R1408=0,R1408=\"\"),\"\",ROUND((H1408/(12*Q1408*E1408)+1)*Q1408*E1408/R1408,2))","v":""},{"$f":"IF(OR(AND(A1408=\"\",B1408=\"\",C1408=\"\"),R1408=0,R1408=\"\"),\"\",ROUND(W$4 / R1408,1))","v":""},{"$f":"IF(OR(AND(A1408=\"\",B1408=\"\",C1408=\"\"),N$4=\"\"),\"\",IF(AND(F1408>0,H1408>0),T1408, IF(F1408>0,S1408, IF(AND(E1408>0,H1408>0),V1408,U1408))))","v":""},{"$f":"IF(W1408<X1408,W1408,X1408)","v":""},{"$f":"IF(W1408<X1408,Übersetzungstexte!A$186,\"\")","v":""},{"$f":"IF(AND(B1408=\"\",C1408=\"\"),\"\",CONCATENATE(B1408,\",\",C1408))","v":""}]
[null,null,null,null,null,null,null,null,null,null,null,"",{"$f":"Z1409","v":""},{"$f":"IF(N$2-YEAR(D1409)<N$3,0,1)","v":0},{"$f":"IF(L1409=\"\",0,1)","v":0},{"$f":"IF(AND(A1409=\"\",B1409=\"\",C1409=\"\"),\"\",ROUND((K1409+J1409)/(N$4-(K1409+J1409))*100,2))","v":""},{"$f":"ROUND(G1409,0)/12","v":0},{"$f":"IF(AND(A1409=\"\",B1409=\"\",C1409=\"\"),\"\",ROUND((N$4-(K1409+J1409))*I1409/60,1))","v":""},{"$f":"IF(OR(AND(A1409=\"\",B1409=\"\",C1409=\"\"),F1409=0,F1409=\"\"),\"\",ROUND((1+P1409/100)*Q1409*F1409,2))","v":""},{"$f":"IF(OR(AND(A1409=\"\",B1409=\"\",C1409=\"\"),F1409=0,F1409=\"\",I1409=0,I1409=\"\"),\"\",ROUND((1+P1409/100)*(H1409/(N$4*I1409/5)+Q1409*F1409),2))","v":""},{"$f":"IF(OR(AND(A1409=\"\",B1409=\"\",C1409=\"\"),E1409=0,E1409=\"\",R1409=0,R1409=\"\"),\"\",ROUND((Q1409*E1409/R1409),2))","v":""},{"$f":"IF(OR(AND(A1409=\"\",B1409=\"\",C1409=\"\"),E1409=0,E1409=\"\",R1409=0,R1409=\"\"),\"\",ROUND((H1409/(12*Q1409*E1409)+1)*Q1409*E1409/R1409,2))","v":""},{"$f":"IF(OR(AND(A1409=\"\",B1409=\"\",C1409=\"\"),R1409=0,R1409=\"\"),\"\",ROUND(W$4 / R1409,1))","v":""},{"$f":"IF(OR(AND(A1409=\"\",B1409=\"\",C1409=\"\"),N$4=\"\"),\"\",IF(AND(F1409>0,H1409>0),T1409, IF(F1409>0,S1409, IF(AND(E1409>0,H1409>0),V1409,U1409))))","v":""},{"$f":"IF(W1409<X1409,W1409,X1409)","v":""},{"$f":"IF(W1409<X1409,Übersetzungstexte!A$186,\"\")","v":""},{"$f":"IF(AND(B1409=\"\",C1409=\"\"),\"\",CONCATENATE(B1409,\",\",C1409))","v":""}]
[]
[{"$f":"'Stammdaten Betrieb & Abteilung'!D$1","v":"  "},null,null,null,null,null,{"$f":"Übersetzungstexte!A$135","v":"Betrieb / Betriebsabteilung"},{"$f":"'Stammdaten Betrieb & Abteilung'!D$13","v":" "}]
[{"$f":"'Stammdaten Betrieb & Abteilung'!D$3","v":" "},null,null,null,null,null,{"$f":"Übersetzungstexte!A$136","v":"Abrechnungsperiode"},{"$f":"'Stammdaten Betrieb & Abteilung'!D$14","v":""}]
[{"$f":"'Stammdaten Betrieb & Abteilung'!D$4","v":" "},null,null,null,null,null,{"$f":"Übersetzungstexte!A$137","v":"Beginn / Ende der Kurzarbeit"},{"$f":"'Stammdaten Betrieb & Abteilung'!D$16","v":""}]
[]
[{"$f":"Übersetzungstexte!A$138","v":""},{"$f":"Übersetzungstexte!A$142","v":""},{"$f":"Übersetzungstexte!A$146","v":""},{"$f":"Übersetzungstexte!A$150","v":""},{"$f":"Übersetzungstexte!A$154","v":""},{"$f":"Übersetzungstexte!A$158","v":""},{"$f":"Übersetzungstexte!A$162","v":"Anzahl bez."},{"$f":"Übersetzungstexte!A$166","v":"Weitere"},{"$f":"Übersetzungstexte!A$170","v":"Jahres-"},{"$f":"Übersetzungstexte!A$174","v":""},{"$f":"Übersetzungstexte!A$178","v":""},{"$f":"Übersetzungstexte!A$182","v":"Anrechen-"},null,null,"Anzahl","Regel 7",null,"Regel 9","Regel 10","Regel 11","Regel 12","Regel 13","Regel 14","Regel 10-14","Regel 14","Regel 14"]
[{"$f":"Übersetzungstexte!A$139","v":""},{"$f":"Übersetzungstexte!A$143","v":""},{"$f":"Übersetzungstexte!A$147","v":""},{"$f":"Übersetzungstexte!A$151","v":""},{"$f":"Übersetzungstexte!A$155","v":""},{"$f":"Übersetzungstexte!A$159","v":""},{"$f":"Übersetzungstexte!A$163","v":"Monate "},{"$f":"Übersetzungstexte!A$167","v":"Lohn-"},{"$f":"Übersetzungstexte!A$171","v":"durchschn."},{"$f":"Übersetzungstexte!A$175","v":"Anzahl"},{"$f":"Übersetzungstexte!A$179","v":"Anzahl"},{"$f":"Übersetzungstexte!A$183","v":"barer"},null,null,"bezugs-","  FF12","S13 / 12","  deApM","Std. Lohn","Std. Lohn","Monatslohn","Monatslohn","Vergleichs-","Anrechenb.","Anrechenb.","Warnungs-"]
[{"$f":"Übersetzungstexte!A$140","v":""},{"$f":"Übersetzungstexte!A$144","v":""},{"$f":"Übersetzungstexte!A$148","v":""},{"$f":"Übersetzungstexte!A$152","v":"Geburts-"},{"$f":"Übersetzungstexte!A$156","v":"Monats-"},{"$f":"Übersetzungstexte!A$160","v":"Stunden-"},{"$f":"Übersetzungstexte!A$164","v":"pro Jahr"},{"$f":"Übersetzungstexte!A$168","v":"bestand-"},{"$f":"Übersetzungstexte!A$172","v":"wöchentl."},{"$f":"Übersetzungstexte!A$176","v":"Ferientage"},{"$f":"Übersetzungstexte!A$180","v":"Feiertage"},{"$f":"Übersetzungstexte!A$184","v":"Stunden-"},null,"AHV-","berechtigte",null,null,null,"ohne","mit","ohne","mit","wert","Std.-Verd.","Std.-","anzeige"]
[{"$f":"Übersetzungstexte!A$141","v":"Versicherten-Nr."},{"$f":"Übersetzungstexte!A$145","v":"Name"},{"$f":"Übersetzungstexte!A$149","v":"Vorname"},{"$f":"Übersetzungstexte!A$153","v":"datum"},{"$f":"Übersetzungstexte!A$157","v":"lohn"},{"$f":"Übersetzungstexte!A$161","v":"lohn"},{"$f":"Übersetzungstexte!A$165","v":"(12/13)"},{"$f":"Übersetzungstexte!A$169","v":"teile p. Jahr"},{"$f":"Übersetzungstexte!A$173","v":"Arbeitszeit"},{"$f":"Übersetzungstexte!A$177","v":"pro Jahr"},{"$f":"Übersetzungstexte!A$181","v":"pro Jahr"},{"$f":"Übersetzungstexte!A$185","v":"Verdienst"},null,"pflichtig","Mitarbeiter",null,null,null,"Prämie","Prämie","Prämie","Prämie",null,"aSV","Verdienst",null,"Name,Vorname"]
[null,null,null,null,null,null,null,null,null,null,null,{"$f":"Y1419","v":""},"",{"$f":"IF(N$2-YEAR(D1419)<N$3,0,1)","v":0},{"$f":"IF(L1419=\"\",0,1)","v":0},{"$f":"IF(AND(A1419=\"\",B1419=\"\",C1419=\"\"),\"\",ROUND((K1419+J1419)/(N$4-(K1419+J1419))*100,2))","v":""},{"$f":"ROUND(G1419,0)/12","v":0},{"$f":"IF(AND(A1419=\"\",B1419=\"\",C1419=\"\"),\"\",ROUND((N$4-(K1419+J1419))*I1419/60,1))","v":""},{"$f":"IF(OR(AND(A1419=\"\",B1419=\"\",C1419=\"\"),F1419=0,F1419=\"\"),\"\",ROUND((1+P1419/100)*Q1419*F1419,2))","v":""},{"$f":"IF(OR(AND(A1419=\"\",B1419=\"\",C1419=\"\"),F1419=0,F1419=\"\",I1419=0,I1419=\"\"),\"\",ROUND((1+P1419/100)*(H1419/(N$4*I1419/5)+Q1419*F1419),2))","v":""},{"$f":"IF(OR(AND(A1419=\"\",B1419=\"\",C1419=\"\"),E1419=0,E1419=\"\",R1419=0,R1419=\"\"),\"\",ROUND((Q1419*E1419/R1419),2))","v":""},{"$f":"IF(OR(AND(A1419=\"\",B1419=\"\",C1419=\"\"),E1419=0,E1419=\"\",R1419=0,R1419=\"\"),\"\",ROUND((H1419/(12*Q1419*E1419)+1)*Q1419*E1419/R1419,2))","v":""},{"$f":"IF(OR(AND(A1419=\"\",B1419=\"\",C1419=\"\"),R1419=0,R1419=\"\"),\"\",ROUND(W$4 / R1419,1))","v":""},{"$f":"IF(OR(AND(A1419=\"\",B1419=\"\",C1419=\"\"),N$4=\"\"),\"\",IF(AND(F1419>0,H1419>0),T1419, IF(F1419>0,S1419, IF(AND(E1419>0,H1419>0),V1419,U1419))))","v":""},{"$f":"IF(W1419<X1419,W1419,X1419)","v":""},{"$f":"IF(W1419<X1419,Übersetzungstexte!A$186,\"\")","v":""},{"$f":"IF(AND(B1419=\"\",C1419=\"\"),\"\",CONCATENATE(B1419,\",\",C1419))","v":""}]
[null,null,null,null,null,null,null,null,null,null,null,"","",{"$f":"IF(N$2-YEAR(D1420)<N$3,0,1)","v":0},{"$f":"IF(L1420=\"\",0,1)","v":0},{"$f":"IF(AND(A1420=\"\",B1420=\"\",C1420=\"\"),\"\",ROUND((K1420+J1420)/(N$4-(K1420+J1420))*100,2))","v":""},{"$f":"ROUND(G1420,0)/12","v":0},{"$f":"IF(AND(A1420=\"\",B1420=\"\",C1420=\"\"),\"\",ROUND((N$4-(K1420+J1420))*I1420/60,1))","v":""},{"$f":"IF(OR(AND(A1420=\"\",B1420=\"\",C1420=\"\"),F1420=0,F1420=\"\"),\"\",ROUND((1+P1420/100)*Q1420*F1420,2))","v":""},{"$f":"IF(OR(AND(A1420=\"\",B1420=\"\",C1420=\"\"),F1420=0,F1420=\"\",I1420=0,I1420=\"\"),\"\",ROUND((1+P1420/100)*(H1420/(N$4*I1420/5)+Q1420*F1420),2))","v":""},{"$f":"IF(OR(AND(A1420=\"\",B1420=\"\",C1420=\"\"),E1420=0,E1420=\"\",R1420=0,R1420=\"\"),\"\",ROUND((Q1420*E1420/R1420),2))","v":""},{"$f":"IF(OR(AND(A1420=\"\",B1420=\"\",C1420=\"\"),E1420=0,E1420=\"\",R1420=0,R1420=\"\"),\"\",ROUND((H1420/(12*Q1420*E1420)+1)*Q1420*E1420/R1420,2))","v":""},{"$f":"IF(OR(AND(A1420=\"\",B1420=\"\",C1420=\"\"),R1420=0,R1420=\"\"),\"\",ROUND(W$4 / R1420,1))","v":""},{"$f":"IF(OR(AND(A1420=\"\",B1420=\"\",C1420=\"\"),N$4=\"\"),\"\",IF(AND(F1420>0,H1420>0),T1420, IF(F1420>0,S1420, IF(AND(E1420>0,H1420>0),V1420,U1420))))","v":""},{"$f":"IF(W1420<X1420,W1420,X1420)","v":""},{"$f":"IF(W1420<X1420,Übersetzungstexte!A$186,\"\")","v":""},{"$f":"IF(AND(B1420=\"\",C1420=\"\"),\"\",CONCATENATE(B1420,\",\",C1420))","v":""}]
[null,null,null,null,null,null,null,null,null,null,null,"","",{"$f":"IF(N$2-YEAR(D1421)<N$3,0,1)","v":0},{"$f":"IF(L1421=\"\",0,1)","v":0},{"$f":"IF(AND(A1421=\"\",B1421=\"\",C1421=\"\"),\"\",ROUND((K1421+J1421)/(N$4-(K1421+J1421))*100,2))","v":""},{"$f":"ROUND(G1421,0)/12","v":0},{"$f":"IF(AND(A1421=\"\",B1421=\"\",C1421=\"\"),\"\",ROUND((N$4-(K1421+J1421))*I1421/60,1))","v":""},{"$f":"IF(OR(AND(A1421=\"\",B1421=\"\",C1421=\"\"),F1421=0,F1421=\"\"),\"\",ROUND((1+P1421/100)*Q1421*F1421,2))","v":""},{"$f":"IF(OR(AND(A1421=\"\",B1421=\"\",C1421=\"\"),F1421=0,F1421=\"\",I1421=0,I1421=\"\"),\"\",ROUND((1+P1421/100)*(H1421/(N$4*I1421/5)+Q1421*F1421),2))","v":""},{"$f":"IF(OR(AND(A1421=\"\",B1421=\"\",C1421=\"\"),E1421=0,E1421=\"\",R1421=0,R1421=\"\"),\"\",ROUND((Q1421*E1421/R1421),2))","v":""},{"$f":"IF(OR(AND(A1421=\"\",B1421=\"\",C1421=\"\"),E1421=0,E1421=\"\",R1421=0,R1421=\"\"),\"\",ROUND((H1421/(12*Q1421*E1421)+1)*Q1421*E1421/R1421,2))","v":""},{"$f":"IF(OR(AND(A1421=\"\",B1421=\"\",C1421=\"\"),R1421=0,R1421=\"\"),\"\",ROUND(W$4 / R1421,1))","v":""},{"$f":"IF(OR(AND(A1421=\"\",B1421=\"\",C1421=\"\"),N$4=\"\"),\"\",IF(AND(F1421>0,H1421>0),T1421, IF(F1421>0,S1421, IF(AND(E1421>0,H1421>0),V1421,U1421))))","v":""},{"$f":"IF(W1421<X1421,W1421,X1421)","v":""},{"$f":"IF(W1421<X1421,Übersetzungstexte!A$186,\"\")","v":""},{"$f":"IF(AND(B1421=\"\",C1421=\"\"),\"\",CONCATENATE(B1421,\",\",C1421))","v":""}]
[null,null,null,null,null,null,null,null,null,null,null,{"$f":"Y1422","v":""},{"$f":"Z1422","v":""},{"$f":"IF(N$2-YEAR(D1422)<N$3,0,1)","v":0},{"$f":"IF(L1422=\"\",0,1)","v":0},{"$f":"IF(AND(A1422=\"\",B1422=\"\",C1422=\"\"),\"\",ROUND((K1422+J1422)/(N$4-(K1422+J1422))*100,2))","v":""},{"$f":"ROUND(G1422,0)/12","v":0},{"$f":"IF(AND(A1422=\"\",B1422=\"\",C1422=\"\"),\"\",ROUND((N$4-(K1422+J1422))*I1422/60,1))","v":""},{"$f":"IF(OR(AND(A1422=\"\",B1422=\"\",C1422=\"\"),F1422=0,F1422=\"\"),\"\",ROUND((1+P1422/100)*Q1422*F1422,2))","v":""},{"$f":"IF(OR(AND(A1422=\"\",B1422=\"\",C1422=\"\"),F1422=0,F1422=\"\",I1422=0,I1422=\"\"),\"\",ROUND((1+P1422/100)*(H1422/(N$4*I1422/5)+Q1422*F1422),2))","v":""},{"$f":"IF(OR(AND(A1422=\"\",B1422=\"\",C1422=\"\"),E1422=0,E1422=\"\",R1422=0,R1422=\"\"),\"\",ROUND((Q1422*E1422/R1422),2))","v":""},{"$f":"IF(OR(AND(A1422=\"\",B1422=\"\",C1422=\"\"),E1422=0,E1422=\"\",R1422=0,R1422=\"\"),\"\",ROUND((H1422/(12*Q1422*E1422)+1)*Q1422*E1422/R1422,2))","v":""},{"$f":"IF(OR(AND(A1422=\"\",B1422=\"\",C1422=\"\"),R1422=0,R1422=\"\"),\"\",ROUND(W$4 / R1422,1))","v":""},{"$f":"IF(OR(AND(A1422=\"\",B1422=\"\",C1422=\"\"),N$4=\"\"),\"\",IF(AND(F1422>0,H1422>0),T1422, IF(F1422>0,S1422, IF(AND(E1422>0,H1422>0),V1422,U1422))))","v":""},{"$f":"IF(W1422<X1422,W1422,X1422)","v":""},{"$f":"IF(W1422<X1422,Übersetzungstexte!A$186,\"\")","v":""},{"$f":"IF(AND(B1422=\"\",C1422=\"\"),\"\",CONCATENATE(B1422,\",\",C1422))","v":""}]
[null,null,null,null,null,null,null,null,null,null,null,"","",0,0,"",0,"","","","","","","","",{"$f":"IF(W1423<X1423,Übersetzungstexte!A$186,\"\")","v":""},""]
[null,null,null,null,null,null,null,null,null,null,null,"","",0,0,"",0,"","","","","","","","",{"$f":"IF(W1424<X1424,Übersetzungstexte!A$186,\"\")","v":""},""]
[null,null,null,null,null,null,null,null,null,null,null,"","",0,0,"",0,"","","","","","","","",{"$f":"IF(W1425<X1425,Übersetzungstexte!A$186,\"\")","v":""},""]
[null,null,null,null,null,null,null,null,null,null,null,"","",0,0,"",0,"","","","","","","","",{"$f":"IF(W1426<X1426,Übersetzungstexte!A$186,\"\")","v":""},""]
[null,null,null,null,null,null,null,null,null,null,null,"","",0,0,"",0,"","","","","","","","",{"$f":"IF(W1427<X1427,Übersetzungstexte!A$186,\"\")","v":""},""]
[null,null,null,null,null,null,null,null,null,null,null,"","",0,0,"",0,"","","","","","","","",{"$f":"IF(W1428<X1428,Übersetzungstexte!A$186,\"\")","v":""},""]
[null,null,null,null,null,null,null,null,null,null,null,"","",0,0,"",0,"","","","","","","","",{"$f":"IF(W1429<X1429,Übersetzungstexte!A$186,\"\")","v":""},""]
[null,null,null,null,null,null,null,null,null,null,null,"","",0,0,"",0,"","","","","","","","",{"$f":"IF(W1430<X1430,Übersetzungstexte!A$186,\"\")","v":""},""]
[null,null,null,null,null,null,null,null,null,null,null,"","",0,0,"",0,"","","","","","","","",{"$f":"IF(W1431<X1431,Übersetzungstexte!A$186,\"\")","v":""},""]
[null,null,null,null,null,null,null,null,null,null,null,"","",0,0,"",0,"","","","","","","","",{"$f":"IF(W1432<X1432,Übersetzungstexte!A$186,\"\")","v":""},""]
[null,null,null,null,null,null,null,null,null,null,null,"","",0,0,"",0,"","","","","","","","",{"$f":"IF(W1433<X1433,Übersetzungstexte!A$186,\"\")","v":""},""]
[null,null,null,null,null,null,null,null,null,null,null,"","",0,0,"",0,"","","","","","","","",{"$f":"IF(W1434<X1434,Übersetzungstexte!A$186,\"\")","v":""},""]
[null,null,null,null,null,null,null,null,null,null,null,"","",0,0,"",0,"","","","","","","","",{"$f":"IF(W1435<X1435,Übersetzungstexte!A$186,\"\")","v":""},""]
[null,null,null,null,null,null,null,null,null,null,null,"","",0,0,"",0,"","","","","","","","",{"$f":"IF(W1436<X1436,Übersetzungstexte!A$186,\"\")","v":""},""]
[null,null,null,null,null,null,null,null,null,null,null,"","",0,0,"",0,"","","","","","","","",{"$f":"IF(W1437<X1437,Übersetzungstexte!A$186,\"\")","v":""},""]

{"sheet":"Saisonale Ausfallstunden","index":2,"n_rows":1440,"n_cols":26,"rows_kept":1440,"cut":false,"hidden":false,"merged":[[2,0,2,12]]}
[{"$f":"'Stammdaten Betrieb & Abteilung'!D$1","v":"  "},null,null,null,null,null,null,{"$f":"Übersetzungstexte!A$190","v":"Betrieb / Betriebsabteilung"},{"$f":"'Stammdaten Betrieb & Abteilung'!D$13","v":" "},null,null,null,null,null,null,{"$f":"YEAR('Stammdaten Betrieb & Abteilung'!B$14)-1","v":1899}]
[{"$f":"'Stammdaten Betrieb & Abteilung'!D$3","v":" "},null,null,null,null,null,null,{"$f":"Übersetzungstexte!A$191","v":"PLZ/Ort"},{"$f":"'Stammdaten Betrieb & Abteilung'!D$4","v":" "},null,null,null,null,null,null,{"$f":"MONTH('Stammdaten Betrieb & Abteilung'!B$14)","v":1}]
[{"$f":"Übersetzungstexte!A123","v":"Formular anwendbar bei Kurzarbeit (ordentliches Verfahren) - Gültig von Januar bis März 2023 "},null,null,null,null,null,null,null,null,null,null,null,null,null,null,{"$f":"DATE(P1,P2,1)","v":"3799-01-01"}]
[null,null,null,null,null,{"$f":"CONCATENATE(Übersetzungstexte!A$192,\" \",TEXT(MONTH(P$3),\"00\"),\".\",YEAR(P$3))","v":"Zeitgleiche Periode des Vorjahres: 01.3799"},null,null,null,null,null,null,{"$f":"CONCATENATE(Übersetzungstexte!A$211,\" \",TEXT(MONTH(P$4),\"00\"),\".\",YEAR(P$4))","v":"Zeitgleiche Periode des vorletzten Jahres: 01.3798"},null,null,{"$f":"DATE(P1-1,P2,1)","v":"3798-01-01"}]
[1,2,3,4,5,6,null,1,2,3,4,5,6,null,null,null,null,"Regel 4","Regel 5","Sollstd.","Absenzen",null,"Sollstd.","Absenzen"]
[{"$f":"Übersetzungstexte!A$193","v":""},{"$f":"Übersetzungstexte!A$196","v":"vertragliche"},{"$f":"Übersetzungstexte!A$199","v":"Sollstd. zeitgl."},{"$f":"Übersetzungstexte!A$202","v":"Istzeit"},{"$f":"Übersetzungstexte!A$205","v":"Bezahlte/"},{"$f":"Übersetzungstexte!A$208","v":"Ausfallstunden"},null,{"$f":"Übersetzungstexte!A$212","v":""},{"$f":"Übersetzungstexte!A$215","v":"vertragliche"},{"$f":"Übersetzungstexte!A$218","v":"Sollstd. zeitgl."},{"$f":"Übersetzungstexte!A$221","v":"Istzeit"},{"$f":"Übersetzungstexte!A$224","v":"Bezahlte/"},{"$f":"Übersetzungstexte!A$227","v":"Ausfallstunden"},null,null,"anrechen-","vertragl.","Ausfall-","Ausfall-","betroffene","betroffene","Ausfall-","betroffene","betroffene","Ausfall-"]
[{"$f":"Übersetzungstexte!A$194","v":""},{"$f":"Übersetzungstexte!A$197","v":"wöchentliche"},{"$f":"Übersetzungstexte!A$200","v":"Periode inkl."},{"$f":"Übersetzungstexte!A$203","v":""},{"$f":"Übersetzungstexte!A$206","v":"Unbezahlte"},{"$f":"Übersetzungstexte!A$209","v":""},null,{"$f":"Übersetzungstexte!A$213","v":""},{"$f":"Übersetzungstexte!A$216","v":"wöchentliche"},{"$f":"Übersetzungstexte!A$219","v":"Periode inkl."},{"$f":"Übersetzungstexte!A$222","v":""},{"$f":"Übersetzungstexte!A$225","v":"Unbezahlte"},{"$f":"Übersetzungstexte!A$228","v":""},null,null,"barer Std.-","wöchentl.","stunden","stunden","Mitarbeiter","Mitarbeiter","stunden","Mitarbeiter","Mitarbeiter","stunden","Max. der"]
[{"$f":"Übersetzungstexte!A$195","v":"Name,Vorname"},{"$f":"Übersetzungstexte!A$198","v":"Arbeitszeit"},{"$f":"Übersetzungstexte!A$201","v":"Vorholzeit"},{"$f":"Übersetzungstexte!A$204","v":""},{"$f":"Übersetzungstexte!A$207","v":"Absenzen"},{"$f":"Übersetzungstexte!A$210","v":""},null,{"$f":"Übersetzungstexte!A$214","v":"Name,Vorname"},{"$f":"Übersetzungstexte!A$217","v":"Arbeitszeit"},{"$f":"Übersetzungstexte!A$220","v":"Vorholzeit"},{"$f":"Übersetzungstexte!A$223","v":""},{"$f":"Übersetzungstexte!A$226","v":"Absenzen"},{"$f":"Übersetzungstexte!A$229","v":""},null,"Name,Vorname","Verdienst","Arbeitszeit",{"$f":"P$3","v":"3799-01-01"},{"$f":"P$4","v":"3798-01-01"},"Vorjahr","Vorjahr","Vorjahr","Vorvorjahr","Vorvorjahr","Vorvorjahr","Spalte"]
[{"$f":"'Stammdaten Mitarbeitende'!AA9","v":"Mustermann,Hans"},41,168,129,20,{"$f":"R9","v":19},null,{"$f":"A9","v":"Mustermann,Hans"},40,168,129,20,{"$f":"S9","v":19},null,{"$f":"'Stammdaten Mitarbeitende'!AA9","v":"Mustermann,Hans"},{"$f":"IF($A9=\"\",\"\",'Stammdaten Mitarbeitende'!L9)","v":{"$error":"#VALUE!"}},{"$f":"IF(OR($A9=\"\",'Stammdaten Mitarbeitende'!J9=\"\"),\"\",'Stammdaten Mitarbeitende'!J9)","v":20},{"$f":"IF(OR($A9=\"\",C9=\"\",D9=\"\",E9=\"\"),\"\",MAX(C9-D9-E9,0))","v":19},{"$f":"IF(OR($H9=\"\",J9=\"\",K9=\"\",L9=\"\"),\"\",MAX(J9-K9-L9,0))","v":19},{"$f":"IF(OR(F9<=0,F9=\"\"),0,C9)","v":168},{"$f":"IF(OR(F9<=0,F9=\"\"),0,E9)","v":20},{"$f":"IF(OR(F9<=0,F9=\"\"),0,R9)","v":19},{"$f":"IF(OR(M9<=0,M9=\"\"),0,J9)","v":168},{"$f":"IF(OR(M9<=0,M9=\"\"),0,L9)","v":20},{"$f":"IF(OR(M9<=0,M9=\"\"),0,S9)","v":19},{"$f":"MAX(P9:Y9)","v":{"$error":"#VALUE!"}}]
[{"$f":"O10","v":""},null,null,null,null,{"$f":"R10","v":""},null,{"$f":"O10","v":""},null,null,null,null,{"$f":"S10","v":""},null,{"$f":"'Stammdaten Mitarbeitende'!AA10","v":""},{"$f":"IF($A10=\"\",\"\",'Stammdaten Mitarbeitende'!L10)","v":""},{"$f":"IF(OR($A10=\"\",'Stammdaten Mitarbeitende'!J10=\"\"),\"\",'Stammdaten Mitarbeitende'!J10)","v":""},{"$f":"IF(OR($A10=\"\",C10=\"\",D10=\"\",E10=\"\"),\"\",MAX(C10-D10-E10,0))","v":""},{"$f":"IF(OR($H10=\"\",J10=\"\",K10=\"\",L10=\"\"),\"\",MAX(J10-K10-L10,0))","v":""},{"$f":"IF(OR(F10=\"\"),0,C10)","v":0},{"$f":"IF(OR(F10=\"\"),0,E10)","v":0},0,{"$f":"IF(OR(M10=\"\"),0,J10)","v":0},{"$f":"IF(OR(M10=\"\"),0,L10)","v":0},{"$f":"IF(OR(M10<=0,M10=\"\"),0,S10)","v":0},{"$f":"MAX(P10:Y10)","v":0}]
[{"$f":"O11","v":""},null,null,null,null,{"$f":"R11","v":""},null,{"$f":"O11","v":""},null,null,null,null,{"$f":"S11","v":""},null,{"$f":"'Stammdaten Mitarbeitende'!AA11","v":""},{"$f":"IF($A11=\"\",\"\",'Stammdaten Mitarbeitende'!L11)","v":""},{"$f":"IF(OR($A11=\"\",'Stammdaten Mitarbeitende'!J11=\"\"),\"\",'Stammdaten Mitarbeitende'!J11)","v":""},"","",0,0,0,0,0,0,0]
["",null,null,null,null,"",null,"",null,null,null,null,"",null,{"$f":"'Stammdaten Mitarbeitende'!AA12","v":""},{"$f":"IF($A12=\"\",\"\",'Stammdaten Mitarbeitende'!L12)","v":""},{"$f":"IF(OR($A12=\"\",'Stammdaten Mitarbeitende'!J12=\"\"),\"\",'Stammdaten Mitarbeitende'!J12)","v":""},"","",0,0,0,0,0,0,0]
["",null,null,null,null,"",null,"",null,null,null,null,"",null,{"$f":"'Stammdaten Mitarbeitende'!AA13","v":""},{"$f":"IF($A13=\"\",\"\",'Stammdaten Mitarbeitende'!L13)","v":""},{"$f":"IF(OR($A13=\"\",'Stammdaten Mitarbeitende'!J13=\"\"),\"\",'Stammdaten Mitarbeitende'!J13)","v":""},"","",0,0,0,0,0,0,0]
["",null,null,null,null,"",null,"",null,null,null,null,"",null,{"$f":"'Stammdaten Mitarbeitende'!AA14","v":""},{"$f":"IF($A14=\"\",\"\",'Stammdaten Mitarbeitende'!L14)","v":""},{"$f":"IF(OR($A14=\"\",'Stammdaten Mitarbeitende'!J14=\"\"),\"\",'Stammdaten Mitarbeitende'!J14)","v":""},"","",0,0,0,0,0,0,0]
["",null,null,null,null,"",null,"",null,null,null,null,"",null,{"$f":"'Stammdaten Mitarbeitende'!AA15","v":""},{"$f":"IF($A15=\"\",\"\",'Stammdaten Mitarbeitende'!L15)","v":""},{"$f":"IF(OR($A15=\"\",'Stammdaten Mitarbeitende'!J15=\"\"),\"\",'Stammdaten Mitarbeitende'!J15)","v":""},"","",0,0,0,0,0,0,0]
["",null,null,null,null,"",null,"",null,null,null,null,"",null,{"$f":"'Stammdaten Mitarbeitende'!AA16","v":""},{"$f":"IF($A16=\"\",\"\",'Stammdaten Mitarbeitende'!L16)","v":""},{"$f":"IF(OR($A16=\"\",'Stammdaten Mitarbeitende'!J16=\"\"),\"\",'Stammdaten Mitarbeitende'!J16)","v":""},"","",0,0,0,0,0,0,0]
["",null,null,null,null,"",null,"",null,null,null,null,"",null,{"$f":"'Stammdaten Mitarbeitende'!AA17","v":""},{"$f":"IF($A17=\"\",\"\",'Stammdaten Mitarbeitende'!L17)","v":""},{"$f":"IF(OR($A17=\"\",'Stammdaten Mitarbeitende'!J17=\"\"),\"\",'Stammdaten Mitarbeitende'!J17)","v":""},"","",0,0,0,0,0,0,0]
["",null,null,null,null,"",null,"",null,null,null,null,"",null,{"$f":"'Stammdaten Mitarbeitende'!AA18","v":""},{"$f":"IF($A18=\"\",\"\",'Stammdaten Mitarbeitende'!L18)","v":""},{"$f":"IF(OR($A18=\"\",'Stammdaten Mitarbeitende'!J18=\"\"),\"\",'Stammdaten Mitarbeitende'!J18)","v":""},"","",0,0,0,0,0,0,0]
["",null,null,null,null,"",null,"",null,null,null,null,"",null,{"$f":"'Stammdaten Mitarbeitende'!AA19","v":""},{"$f":"IF($A19=\"\",\"\",'Stammdaten Mitarbeitende'!L19)","v":""},{"$f":"IF(OR($A19=\"\",'Stammdaten Mitarbeitende'!J19=\"\"),\"\",'Stammdaten Mitarbeitende'!J19)","v":""},"","",0,0,0,0,0,0,0]
["",null,null,null,null,"",null,"",null,null,null,null,"",null,{"$f":"'Stammdaten Mitarbeitende'!AA20","v":""},{"$f":"IF($A20=\"\",\"\",'Stammdaten Mitarbeitende'!L20)","v":""},{"$f":"IF(OR($A20=\"\",'Stammdaten Mitarbeitende'!J20=\"\"),\"\",'Stammdaten Mitarbeitende'!J20)","v":""},"","",0,0,0,0,0,0,0]
["",null,null,null,null,"",null,"",null,null,null,null,"",null,{"$f":"'Stammdaten Mitarbeitende'!AA21","v":""},{"$f":"IF($A21=\"\",\"\",'Stammdaten Mitarbeitende'!L21)","v":""},{"$f":"IF(OR($A21=\"\",'Stammdaten Mitarbeitende'!J21=\"\"),\"\",'Stammdaten Mitarbeitende'!J21)","v":""},"","",0,0,0,0,0,0,0]
["",null,null,null,null,"",null,"",null,null,null,null,"",null,{"$f":"'Stammdaten Mitarbeitende'!AA22","v":""},{"$f":"IF($A22=\"\",\"\",'Stammdaten Mitarbeitende'!L22)","v":""},{"$f":"IF(OR($A22=\"\",'Stammdaten Mitarbeitende'!J22=\"\"),\"\",'Stammdaten Mitarbeitende'!J22)","v":""},"","",0,0,0,0,0,0,0]
["",null,null,null,null,"",null,"",null,null,null,null,"",null,{"$f":"'Stammdaten Mitarbeitende'!AA23","v":""},{"$f":"IF($A23=\"\",\"\",'Stammdaten Mitarbeitende'!L23)","v":""},{"$f":"IF(OR($A23=\"\",'Stammdaten Mitarbeitende'!J23=\"\"),\"\",'Stammdaten Mitarbeitende'!J23)","v":""},"","",0,0,0,0,0,0,0]
["",null,null,null,null,"",null,"",null,null,null,null,"",null,{"$f":"'Stammdaten Mitarbeitende'!AA24","v":""},{"$f":"IF($A24=\"\",\"\",'Stammdaten Mitarbeitende'!L24)","v":""},{"$f":"IF(OR($A24=\"\",'Stammdaten Mitarbeitende'!J24=\"\"),\"\",'Stammdaten Mitarbeitende'!J24)","v":""},"","",0,0,0,0,0,0,0]
["",null,null,null,null,"",null,"",null,null,null,null,"",null,{"$f":"'Stammdaten Mitarbeitende'!AA25","v":""},{"$f":"IF($A25=\"\",\"\",'Stammdaten Mitarbeitende'!L25)","v":""},{"$f":"IF(OR($A25=\"\",'Stammdaten Mitarbeitende'!J25=\"\"),\"\",'Stammdaten Mitarbeitende'!J25)","v":""},"","",0,0,0,0,0,0,0]
["",null,null,null,null,"",null,"",null,null,null,null,"",null,{"$f":"'Stammdaten Mitarbeitende'!AA26","v":""},{"$f":"IF($A26=\"\",\"\",'Stammdaten Mitarbeitende'!L26)","v":""},{"$f":"IF(OR($A26=\"\",'Stammdaten Mitarbeitende'!J26=\"\"),\"\",'Stammdaten Mitarbeitende'!J26)","v":""},"","",0,0,0,0,0,0,0]
["",null,null,null,null,"",null,"",null,null,null,null,"",null,{"$f":"'Stammdaten Mitarbeitende'!AA27","v":""},{"$f":"IF($A27=\"\",\"\",'Stammdaten Mitarbeitende'!L27)","v":""},{"$f":"IF(OR($A27=\"\",'Stammdaten Mitarbeitende'!J27=\"\"),\"\",'Stammdaten Mitarbeitende'!J27)","v":""},"","",0,0,0,0,0,0,0]
["",null,null,null,null,"",null,"",null,null,null,null,"",null,{"$f":"'Stammdaten Mitarbeitende'!AA28","v":""},{"$f":"IF($A28=\"\",\"\",'Stammdaten Mitarbeitende'!L28)","v":""},{"$f":"IF(OR($A28=\"\",'Stammdaten Mitarbeitende'!J28=\"\"),\"\",'Stammdaten Mitarbeitende'!J28)","v":""},"","",0,0,0,0,0,0,0]
["",null,null,null,null,"",null,"",null,null,null,null,"",null,{"$f":"'Stammdaten Mitarbeitende'!AA29","v":""},{"$f":"IF($A29=\"\",\"\",'Stammdaten Mitarbeitende'!L29)","v":""},{"$f":"IF(OR($A29=\"\",'Stammdaten Mitarbeitende'!J29=\"\"),\"\",'Stammdaten Mitarbeitende'!J29)","v":""},"","",0,0,0,0,0,0,0]
[{"$f":"Übersetzungstexte!A$230","v":"Seitentotal"},null,{"$f":"SUM(C10:C29)","v":0},null,{"$f":"SUM(E10:E29)","v":0},{"$f":"SUM(F10:F29)","v":0},null,{"$f":"Übersetzungstexte!A$230","v":"Seitentotal"},null,{"$f":"SUM(J10:J29)","v":0},null,{"$f":"SUM(L10:L29)","v":0},{"$f":"SUM(M10:M29)","v":0}]
[{"$f":"'Stammdaten Betrieb & Abteilung'!D$1","v":"  "},null,null,null,null,null,null,{"$f":"Übersetzungstexte!A$190","v":"Betrieb / Betriebsabteilung"},{"$f":"'Stammdaten Betrieb & Abteilung'!D$13","v":" "}]
[{"$f":"'Stammdaten Betrieb & Abteilung'!D$3","v":" "},null,null,null,null,null,null,{"$f":"Übersetzungstexte!A$191","v":"PLZ/Ort"},{"$f":"'Stammdaten Betrieb & Abteilung'!D$4","v":" "}]
[]
[null,null,null,null,null,{"$f":"CONCATENATE(Übersetzungstexte!A$192,\" \",TEXT(MONTH(P$3),\"00\"),\".\",YEAR(P$3))","v":"Zeitgleiche Periode des Vorjahres: 01.3799"},null,null,null,null,null,null,{"$f":"CONCATENATE(Übersetzungstexte!A$211,\" \",TEXT(MONTH(P$4),\"00\"),\".\",YEAR(P$4))","v":"Zeitgleiche Periode des vorletzten Jahres: 01.3798"}]
[1,2,3,4,5,6,null,1,2,3,4,5,6,null,null,null,null,"Regel 4","Regel 5","Sollstd.","Absenzen",null,"Sollstd.","Absenzen"]
[{"$f":"Übersetzungstexte!A$193","v":""},{"$f":"Übersetzungstexte!A$196","v":"vertragliche"},{"$f":"Übersetzungstexte!A$199","v":"Sollstd. zeitgl."},{"$f":"Übersetzungstexte!A$202","v":"Istzeit"},{"$f":"Übersetzungstexte!A$205","v":"Bezahlte/"},{"$f":"Übersetzungstexte!A$208","v":"Ausfallstunden"},null,{"$f":"Übersetzungstexte!A$212","v":""},{"$f":"Übersetzungstexte!A$215","v":"vertragliche"},{"$f":"Übersetzungstexte!A$218","v":"Sollstd. zeitgl."},{"$f":"Übersetzungstexte!A$221","v":"Istzeit"},{"$f":"Übersetzungstexte!A$224","v":"Bezahlte/"},{"$f":"Übersetzungstexte!A$227","v":"Ausfallstunden"},null,null,"anrechen-","vertragl.","Ausfall-","Ausfall-","betroffene","betroffene","Ausfall-","betroffene","betroffene","Ausfall-"]
[{"$f":"Übersetzungstexte!A$194","v":""},{"$f":"Übersetzungstexte!A$197","v":"wöchentliche"},{"$f":"Übersetzungstexte!A$200","v":"Periode inkl."},{"$f":"Übersetzungstexte!A$203","v":""},{"$f":"Übersetzungstexte!A$206","v":"Unbezahlte"},{"$f":"Übersetzungstexte!A$209","v":""},null,{"$f":"Übersetzungstexte!A$213","v":""},{"$f":"Übersetzungstexte!A$216","v":"wöchentliche"},{"$f":"Übersetzungstexte!A$219","v":"Periode inkl."},{"$f":"Übersetzungstexte!A$222","v":""},{"$f":"Übersetzungstexte!A$225","v":"Unbezahlte"},{"$f":"Übersetzungstexte!A$228","v":""},null,null,"barer Std.-","wöchentl.","stunden","stunden","Mitarbeiter","Mitarbeiter","stunden","Mitarbeiter","Mitarbeiter","stunden","Max. der"]
[{"$f":"Übersetzungstexte!A$195","v":"Name,Vorname"},{"$f":"Übersetzungstexte!A$198","v":"Arbeitszeit"},{"$f":"Übersetzungstexte!A$201","v":"Vorholzeit"},{"$f":"Übersetzungstexte!A$204","v":""},{"$f":"Übersetzungstexte!A$207","v":"Absenzen"},{"$f":"Übersetzungstexte!A$210","v":""},null,{"$f":"Übersetzungstexte!A$214","v":"Name,Vorname"},{"$f":"Übersetzungstexte!A$217","v":"Arbeitszeit"},{"$f":"Übersetzungstexte!A$220","v":"Vorholzeit"},{"$f":"Übersetzungstexte!A$223","v":""},{"$f":"Übersetzungstexte!A$226","v":"Absenzen"},{"$f":"Übersetzungstexte!A$229","v":""},null,"Name,Vorname","Verdienst","Arbeitszeit",{"$f":"P$3","v":"3799-01-01"},{"$f":"P$4","v":"3798-01-01"},"Vorjahr","Vorjahr","Vorjahr","Vorvorjahr","Vorvorjahr","Vorvorjahr","Spalte"]
[{"$f":"O39","v":""},null,null,null,null,{"$f":"R39","v":""},null,{"$f":"O39","v":""},null,null,null,null,{"$f":"S39","v":""},null,{"$f":"'Stammdaten Mitarbeitende'!AA39","v":""},{"$f":"IF($A39=\"\",\"\",'Stammdaten Mitarbeitende'!L39)","v":""},{"$f":"IF(OR($A39=\"\",'Stammdaten Mitarbeitende'!J39=\"\"),\"\",'Stammdaten Mitarbeitende'!J39)","v":""},{"$f":"IF(OR($A39=\"\",C39=\"\",D39=\"\",E39=\"\"),\"\",MAX(C39-D39-E39,0))","v":""},{"$f":"IF(OR($H39=\"\",J39=\"\",K39=\"\",L39=\"\"),\"\",MAX(J39-K39-L39,0))","v":""},{"$f":"IF(OR(F39=\"\"),0,C39)","v":0},{"$f":"IF(OR(F39=\"\"),0,E39)","v":0},{"$f":"IF(OR(F39<=0,F39=\"\"),0,R39)","v":0},{"$f":"IF(OR(M39=\"\"),0,J39)","v":0},{"$f":"IF(OR(M39=\"\"),0,L39)","v":0},{"$f":"IF(OR(M39<=0,M39=\"\"),0,S39)","v":0},{"$f":"MAX(P39:Y39)","v":0}]
["",null,null,null,null,"",null,"",null,null,null,null,"",null,{"$f":"'Stammdaten Mitarbeitende'!AA40","v":""},{"$f":"IF($A40=\"\",\"\",'Stammdaten Mitarbeitende'!L40)","v":""},{"$f":"IF(OR($A40=\"\",'Stammdaten Mitarbeitende'!J40=\"\"),\"\",'Stammdaten Mitarbeitende'!J40)","v":""},"",{"$f":"IF(OR($H40=\"\",J40=\"\",K40=\"\",L40=\"\"),\"\",MAX(J40-K40-L40,0))","v":""},0,0,0,0,0,0,{"$f":"MAX(P40:Y40)","v":0}]
["",null,null,null,null,"",null,"",null,null,null,null,"",null,{"$f":"'Stammdaten Mitarbeitende'!AA41","v":""},{"$f":"IF($A41=\"\",\"\",'Stammdaten Mitarbeitende'!L41)","v":""},{"$f":"IF(OR($A41=\"\",'Stammdaten Mitarbeitende'!J41=\"\"),\"\",'Stammdaten Mitarbeitende'!J41)","v":""},"","",0,0,0,0,0,0,0]
["",null,null,null,null,"",null,"",null,null,null,null,"",null,{"$f":"'Stammdaten Mitarbeitende'!AA42","v":""},{"$f":"IF($A42=\"\",\"\",'Stammdaten Mitarbeitende'!L42)","v":""},{"$f":"IF(OR($A42=\"\",'Stammdaten Mitarbeitende'!J42=\"\"),\"\",'Stammdaten Mitarbeitende'!J42)","v":""},"","",0,0,0,0,0,0,0]
["",null,null,null,null,"",null,"",null,null,null,null,"",null,{"$f":"'Stammdaten Mitarbeitende'!AA43","v":""},{"$f":"IF($A43=\"\",\"\",'Stammdaten Mitarbeitende'!L43)","v":""},{"$f":"IF(OR($A43=\"\",'Stammdaten Mitarbeitende'!J43=\"\"),\"\",'Stammdaten Mitarbeitende'!J43)","v":""},"","",0,0,0,0,0,0,0]
["",null,null,null,null,"",null,"",null,null,null,null,"",null,{"$f":"'Stammdaten Mitarbeitende'!AA44","v":""},{"$f":"IF($A44=\"\",\"\",'Stammdaten Mitarbeitende'!L44)","v":""},{"$f":"IF(OR($A44=\"\",'Stammdaten Mitarbeitende'!J44=\"\"),\"\",'Stammdaten Mitarbeitende'!J44)","v":""},"","",0,0,0,0,0,0,0]
["",null,null,null,null,"",null,"",null,null,null,null,"",null,{"$f":"'Stammdaten Mitarbeitende'!AA45","v":""},{"$f":"IF($A45=\"\",\"\",'Stammdaten Mitarbeitende'!L45)","v":""},{"$f":"IF(OR($A45=\"\",'Stammdaten Mitarbeitende'!J45=\"\"),\"\",'Stammdaten Mitarbeitende'!J45)","v":""},"","",0,0,0,0,0,0,0]
["",null,null,null,null,"",null,"",null,null,null,null,"",null,{"$f":"'Stammdaten Mitarbeitende'!AA46","v":""},{"$f":"IF($A46=\"\",\"\",'Stammdaten Mitarbeitende'!L46)","v":""},{"$f":"IF(OR($A46=\"\",'Stammdaten Mitarbeitende'!J46=\"\"),\"\",'Stammdaten Mitarbeitende'!J46)","v":""},"","",0,0,0,0,0,0,0]
["",null,null,null,null,"",null,"",null,null,null,null,"",null,{"$f":"'Stammdaten Mitarbeitende'!AA47","v":""},{"$f":"IF($A47=\"\",\"\",'Stammdaten Mitarbeitende'!L47)","v":""},{"$f":"IF(OR($A47=\"\",'Stammdaten Mitarbeitende'!J47=\"\"),\"\",'Stammdaten Mitarbeitende'!J47)","v":""},"","",0,0,0,0,0,0,0]
["",null,null,null,null,"",null,"",null,null,null,null,"",null,{"$f":"'Stammdaten Mitarbeitende'!AA48","v":""},{"$f":"IF($A48=\"\",\"\",'Stammdaten Mitarbeitende'!L48)","v":""},{"$f":"IF(OR($A48=\"\",'Stammdaten Mitarbeitende'!J48=\"\"),\"\",'Stammdaten Mitarbeitende'!J48)","v":""},"","",0,0,0,0,0,0,0]
["",null,null,null,null,"",null,"",null,null,null,null,"",null,{"$f":"'Stammdaten Mitarbeitende'!AA49","v":""},{"$f":"IF($A49=\"\",\"\",'Stammdaten Mitarbeitende'!L49)","v":""},{"$f":"IF(OR($A49=\"\",'Stammdaten Mitarbeitende'!J49=\"\"),\"\",'Stammdaten Mitarbeitende'!J49)","v":""},"","",0,0,0,0,0,0,0]
["",null,null,null,null,"",null,"",null,null,null,null,"",null,{"$f":"'Stammdaten Mitarbeitende'!AA50","v":""},{"$f":"IF($A50=\"\",\"\",'Stammdaten Mitarbeitende'!L50)","v":""},{"$f":"IF(OR($A50=\"\",'Stammdaten Mitarbeitende'!J50=\"\"),\"\",'Stammdaten Mitarbeitende'!J50)","v":""},"","",0,0,0,0,0,0,0]
["",null,null,null,null,"",null,"",null,null,null,null,"",null,{"$f":"'Stammdaten Mitarbeitende'!AA51","v":""},{"$f":"IF($A51=\"\",\"\",'Stammdaten Mitarbeitende'!L51)","v":""},{"$f":"IF(OR($A51=\"\",'Stammdaten Mitarbeitende'!J51=\"\"),\"\",'Stammdaten Mitarbeitende'!J51)","v":""},"","",0,0,0,0,0,0,0]
["",null,null,null,null,"",null,"",null,null,null,null,"",null,{"$f":"'Stammdaten Mitarbeitende'!AA52","v":""},{"$f":"IF($A52=\"\",\"\",'Stammdaten Mitarbeitende'!L52)","v":""},{"$f":"IF(OR($A52=\"\",'Stammdaten Mitarbeitende'!J52=\"\"),\"\",'Stammdaten Mitarbeitende'!J52)","v":""},"","",0,0,0,0,0,0,0]
["",null,null,null,null,"",null,"",null,null,null,null,"",null,{"$f":"'Stammdaten Mitarbeitende'!AA53","v":""},{"$f":"IF($A53=\"\",\"\",'Stammdaten Mitarbeitende'!L53)","v":""},{"$f":"IF(OR($A53=\"\",'Stammdaten Mitarbeitende'!J53=\"\"),\"\",'Stammdaten Mitarbeitende'!J53)","v":""},"","",0,0,0,0,0,0,0]
["",null,null,null,null,"",null,"",null,null,null,null,"",null,{"$f":"'Stammdaten Mitarbeitende'!AA54","v":""},{"$f":"IF($A54=\"\",\"\",'Stammdaten Mitarbeitende'!L54)","v":""},{"$f":"IF(OR($A54=\"\",'Stammdaten Mitarbeitende'!J54=\"\"),\"\",'Stammdaten Mitarbeitende'!J54)","v":""},"","",0,0,0,0,0,0,0]
["",null,null,null,null,"",null,"",null,null,null,null,"",null,{"$f":"'Stammdaten Mitarbeitende'!AA55","v":""},{"$f":"IF($A55=\"\",\"\",'Stammdaten Mitarbeitende'!L55)","v":""},{"$f":"IF(OR($A55=\"\",'Stammdaten Mitarbeitende'!J55=\"\"),\"\",'Stammdaten Mitarbeitende'!J55)","v":""},"","",0,0,0,0,0,0,0]
["",null,null,null,null,"",null,"",null,null,null,null,"",null,{"$f":"'Stammdaten Mitarbeitende'!AA56","v":""},{"$f":"IF($A56=\"\",\"\",'Stammdaten Mitarbeitende'!L56)","v":""},{"$f":"IF(OR($A56=\"\",'Stammdaten Mitarbeitende'!J56=\"\"),\"\",'Stammdaten Mitarbeitende'!J56)","v":""},"","",0,0,0,0,0,0,0]
["",null,null,null,null,"",null,"",null,null,null,null,"",null,{"$f":"'Stammdaten Mitarbeitende'!AA57","v":""},{"$f":"IF($A57=\"\",\"\",'Stammdaten Mitarbeitende'!L57)","v":""},{"$f":"IF(OR($A57=\"\",'Stammdaten Mitarbeitende'!J57=\"\"),\"\",'Stammdaten Mitarbeitende'!J57)","v":""},"","",0,0,0,0,0,0,0]
["",null,null,null,null,"",null,"",null,null,null,null,"",null,{"$f":"'Stammdaten Mitarbeitende'!AA58","v":""},{"$f":"IF($A58=\"\",\"\",'Stammdaten Mitarbeitende'!L58)","v":""},{"$f":"IF(OR($A58=\"\",'Stammdaten Mitarbeitende'!J58=\"\"),\"\",'Stammdaten Mitarbeitende'!J58)","v":""},"","",0,0,0,0,0,0,0]
["",null,null,null,null,"",null,"",null,null,null,null,"",null,{"$f":"'Stammdaten Mitarbeitende'!AA59","v":""},{"$f":"IF($A59=\"\",\"\",'Stammdaten Mitarbeitende'!L59)","v":""},{"$f":"IF(OR($A59=\"\",'Stammdaten Mitarbeitende'!J59=\"\"),\"\",'Stammdaten Mitarbeitende'!J59)","v":""},"","",0,0,0,0,0,0,0]
[{"$f":"Übersetzungstexte!A$230","v":"Seitentotal"},null,{"$f":"SUM(C39:C59)","v":0},null,{"$f":"SUM(E39:E59)","v":0},{"$f":"SUM(F39:F59)","v":0},null,{"$f":"Übersetzungstexte!A$230","v":"Seitentotal"},null,{"$f":"SUM(J39:J59)","v":0},null,{"$f":"SUM(L39:L59)","v":0},{"$f":"SUM(M39:M59)","v":0}]
[{"$f":"'Stammdaten Betrieb & Abteilung'!D$1","v":"  "},null,null,null,null,null,null,{"$f":"Übersetzungstexte!A$190","v":"Betrieb / Betriebsabteilung"},{"$f":"'Stammdaten Betrieb & Abteilung'!D$13","v":" "}]
[{"$f":"'Stammdaten Betrieb & Abteilung'!D$3","v":" "},null,null,null,null,null,null,{"$f":"Übersetzungstexte!A$191","v":"PLZ/Ort"},{"$f":"'Stammdaten Betrieb & Abteilung'!D$4","v":" "}]
[]
[null,null,null,null,null,{"$f":"CONCATENATE(Übersetzungstexte!A$192,\" \",TEXT(MONTH(P$3),\"00\"),\".\",YEAR(P$3))","v":"Zeitgleiche Periode des Vorjahres: 01.3799"},null,null,null,null,null,null,{"$f":"CONCATENATE(Übersetzungstexte!A$211,\" \",TEXT(MONTH(P$4),\"00\"),\".\",YEAR(P$4))","v":"Zeitgleiche Periode des vorletzten Jahres: 01.3798"}]
[1,2,3,4,5,6,null,1,2,3,4,5,6,null,null,null,null,"Regel 4","Regel 5","Sollstd.","Absenzen",null,"Sollstd.","Absenzen"]
[{"$f":"Übersetzungstexte!A$193","v":""},{"$f":"Übersetzungstexte!A$196","v":"vertragliche"},{"$f":"Übersetzungstexte!A$199","v":"Sollstd. zeitgl."},{"$f":"Übersetzungstexte!A$202","v":"Istzeit"},{"$f":"Übersetzungstexte!A$205","v":"Bezahlte/"},{"$f":"Übersetzungstexte!A$208","v":"Ausfallstunden"},null,{"$f":"Übersetzungstexte!A$212","v":""},{"$f":"Übersetzungstexte!A$215","v":"vertragliche"},{"$f":"Übersetzungstexte!A$218","v":"Sollstd. zeitgl."},{"$f":"Übersetzungstexte!A$221","v":"Istzeit"},{"$f":"Übersetzungstexte!A$224","v":"Bezahlte/"},{"$f":"Übersetzungstexte!A$227","v":"Ausfallstunden"},null,null,"anrechen-","vertragl.","Ausfall-","Ausfall-","betroffene","betroffene","Ausfall-","betroffene","betroffene","Ausfall-"]
[{"$f":"Übersetzungstexte!A$194","v":""},{"$f":"Übersetzungstexte!A$197","v":"wöchentliche"},{"$f":"Übersetzungstexte!A$200","v":"Periode inkl."},{"$f":"Übersetzungstexte!A$203","v":""},{"$f":"Übersetzungstexte!A$206","v":"Unbezahlte"},{"$f":"Übersetzungstexte!A$209","v":""},null,{"$f":"Übersetzungstexte!A$213","v":""},{"$f":"Übersetzungstexte!A$216","v":"wöchentliche"},{"$f":"Übersetzungstexte!A$219","v":"Periode inkl."},{"$f":"Übersetzungstexte!A$222","v":""},{"$f":"Übersetzungstexte!A$225","v":"Unbezahlte"},{"$f":"Übersetzungstexte!A$228","v":""},null,null,"barer Std.-","wöchentl.","stunden","stunden","Mitarbeiter","Mitarbeiter","stunden","Mitarbeiter","Mitarbeiter","stunden","Max. der"]
[{"$f":"Übersetzungstexte!A$195","v":"Name,Vorname"},{"$f":"Übersetzungstexte!A$198","v":"Arbeitszeit"},{"$f":"Übersetzungstexte!A$201","v":"Vorholzeit"},{"$f":"Übersetzungstexte!A$204","v":""},{"$f":"Übersetzungstexte!A$207","v":"Absenzen"},{"$f":"Übersetzungstexte!A$210","v":""},null,{"$f":"Übersetzungstexte!A$214","v":"Name,Vorname"},{"$f":"Übersetzungstexte!A$217","v":"Arbeitszeit"},{"$f":"Übersetzungstexte!A$220","v":"Vorholzeit"},{"$f":"Übersetzungstexte!A$223","v":""},{"$f":"Übersetzungstexte!A$226","v":"Absenzen"},{"$f":"Übersetzungstexte!A$229","v":""},null,"Name,Vorname","Verdienst","Arbeitszeit",{"$f":"P$3","v":"3799-01-01"},{"$f":"P$4","v":"3798-01-01"},"Vorjahr","Vorjahr","Vorjahr","Vorvorjahr","Vorvorjahr","Vorvorjahr","Spalte"]
[{"$f":"O69","v":""},null,null,null,null,{"$f":"R69","v":""},null,{"$f":"O69","v":""},null,null,null,null,{"$f":"S69","v":""},null,{"$f":"'Stammdaten Mitarbeitende'!AA69","v":""},{"$f":"IF($A69=\"\",\"\",'Stammdaten Mitarbeitende'!L69)","v":""},{"$f":"IF(OR($A69=\"\",'Stammdaten Mitarbeitende'!J69=\"\"),\"\",'Stammdaten Mitarbeitende'!J69)","v":""},{"$f":"IF(OR($A69=\"\",C69=\"\",D69=\"\",E69=\"\"),\"\",MAX(C69-D69-E69,0))","v":""},{"$f":"IF(OR($H69=\"\",J69=\"\",K69=\"\",L69=\"\"),\"\",MAX(J69-K69-L69,0))","v":""},{"$f":"IF(OR(F69=\"\"),0,C69)","v":0},{"$f":"IF(OR(F69=\"\"),0,E69)","v":0},{"$f":"IF(OR(F69<=0,F69=\"\"),0,R69)","v":0},{"$f":"IF(OR(M69=\"\"),0,J69)","v":0},{"$f":"IF(OR(M69=\"\"),0,L69)","v":0},{"$f":"IF(OR(M69<=0,M69=\"\"),0,S69)","v":0},{"$f":"MAX(P69:Y69)","v":0}]
["",null,null,null,null,"",null,"",null,null,null,null,"",null,{"$f":"'Stammdaten Mitarbeitende'!AA70","v":""},{"$f":"IF($A70=\"\",\"\",'Stammdaten Mitarbeitende'!L70)","v":""},{"$f":"IF(OR($A70=\"\",'Stammdaten Mitarbeitende'!J70=\"\"),\"\",'Stammdaten Mitarbeitende'!J70)","v":""},"",{"$f":"IF(OR($H70=\"\",J70=\"\",K70=\"\",L70=\"\"),\"\",MAX(J70-K70-L70,0))","v":""},0,0,0,0,0,0,{"$f":"MAX(P70:Y70)","v":0}]
["",null,null,null,null,"",null,"",null,null,null,null,"",null,{"$f":"'Stammdaten Mitarbeitende'!AA71","v":""},{"$f":"IF($A71=\"\",\"\",'Stammdaten Mitarbeitende'!L71)","v":""},{"$f":"IF(OR($A71=\"\",'Stammdaten Mitarbeitende'!J71=\"\"),\"\",'Stammdaten Mitarbeitende'!J71)","v":""},"","",0,0,0,0,0,0,0]
["",null,null,null,null,"",null,"",null,null,null,null,"",null,{"$f":"'Stammdaten Mitarbeitende'!AA72","v":""},{"$f":"IF($A72=\"\",\"\",'Stammdaten Mitarbeitende'!L72)","v":""},{"$f":"IF(OR($A72=\"\",'Stammdaten Mitarbeitende'!J72=\"\"),\"\",'Stammdaten Mitarbeitende'!J72)","v":""},"","",0,0,0,0,0,0,0]
["",null,null,null,null,"",null,"",null,null,null,null,"",null,{"$f":"'Stammdaten Mitarbeitende'!AA73","v":""},{"$f":"IF($A73=\"\",\"\",'Stammdaten Mitarbeitende'!L73)","v":""},{"$f":"IF(OR($A73=\"\",'Stammdaten Mitarbeitende'!J73=\"\"),\"\",'Stammdaten Mitarbeitende'!J73)","v":""},"","",0,0,0,0,0,0,0]
["",null,null,null,null,"",null,"",null,null,null,null,"",null,{"$f":"'Stammdaten Mitarbeitende'!AA74","v":""},{"$f":"IF($A74=\"\",\"\",'Stammdaten Mitarbeitende'!L74)","v":""},{"$f":"IF(OR($A74=\"\",'Stammdaten Mitarbeitende'!J74=\"\"),\"\",'Stammdaten Mitarbeitende'!J74)","v":""},"","",0,0,0,0,0,0,0]
["",null,null,null,null,"",null,"",null,null,null,null,"",null,{"$f":"'Stammdaten Mitarbeitende'!AA75","v":""},{"$f":"IF($A75=\"\",\"\",'Stammdaten Mitarbeitende'!L75)","v":""},{"$f":"IF(OR($A75=\"\",'Stammdaten Mitarbeitende'!J75=\"\"),\"\",'Stammdaten Mitarbeitende'!J75)","v":""},"","",0,0,0,0,0,0,0]
["",null,null,null,null,"",null,"",null,null,null,null,"",null,{"$f":"'Stammdaten Mitarbeitende'!AA76","v":""},{"$f":"IF($A76=\"\",\"\",'Stammdaten Mitarbeitende'!L76)","v":""},{"$f":"IF(OR($A76=\"\",'Stammdaten Mitarbeitende'!J76=\"\"),\"\",'Stammdaten Mitarbeitende'!J76)","v":""},"","",0,0,0,0,0,0,0]
["",null,null,null,null,"",null,"",null,null,null,null,"",null,{"$f":"'Stammdaten Mitarbeitende'!AA77","v":""},{"$f":"IF($A77=\"\",\"\",'Stammdaten Mitarbeitende'!L77)","v":""},{"$f":"IF(OR($A77=\"\",'Stammdaten Mitarbeitende'!J77=\"\"),\"\",'Stammdaten Mitarbeitende'!J77)","v":""},"","",0,0,0,0,0,0,0]
["",null,null,null,null,"",null,"",null,null,null,null,"",null,{"$f":"'Stammdaten Mitarbeitende'!AA78","v":""},{"$f":"IF($A78=\"\",\"\",'Stammdaten Mitarbeitende'!L78)","v":""},{"$f":"IF(OR($A78=\"\",'Stammdaten Mitarbeitende'!J78=\"\"),\"\",'Stammdaten Mitarbeitende'!J78)","v":""},"","",0,0,0,0,0,0,0]
["",null,null,null,null,"",null,"",null,null,null,null,"",null,{"$f":"'Stammdaten Mitarbeitende'!AA79","v":""},{"$f":"IF($A79=\"\",\"\",'Stammdaten Mitarbeitende'!L79)","v":""},{"$f":"IF(OR($A79=\"\",'Stammdaten Mitarbeitende'!J79=\"\"),\"\",'Stammdaten Mitarbeitende'!J79)","v":""},"","",0,0,0,0,0,0,0]
["",null,null,null,null,"",null,"",null,null,null,null,"",null,{"$f":"'Stammdaten Mitarbeitende'!AA80","v":""},{"$f":"IF($A80=\"\",\"\",'Stammdaten Mitarbeitende'!L80)","v":""},{"$f":"IF(OR($A80=\"\",'Stammdaten Mitarbeitende'!J80=\"\"),\"\",'Stammdaten Mitarbeitende'!J80)","v":""},"","",0,0,0,0,0,0,0]
["",null,null,null,null,"",null,"",null,null,null,null,"",null,{"$f":"'Stammdaten Mitarbeitende'!AA81","v":""},{"$f":"IF($A81=\"\",\"\",'Stammdaten Mitarbeitende'!L81)","v":""},{"$f":"IF(OR($A81=\"\",'Stammdaten Mitarbeitende'!J81=\"\"),\"\",'Stammdaten Mitarbeitende'!J81)","v":""},"","",0,0,0,0,0,0,0]
["",null,null,null,null,"",null,"",null,null,null,null,"",null,{"$f":"'Stammdaten Mitarbeitende'!AA82","v":""},{"$f":"IF($A82=\"\",\"\",'Stammdaten Mitarbeitende'!L82)","v":""},{"$f":"IF(OR($A82=\"\",'Stammdaten Mitarbeitende'!J82=\"\"),\"\",'Stammdaten Mitarbeitende'!J82)","v":""},"","",0,0,0,0,0,0,0]
["",null,null,null,null,"",null,"",null,null,null,null,"",null,{"$f":"'Stammdaten Mitarbeitende'!AA83","v":""},{"$f":"IF($A83=\"\",\"\",'Stammdaten Mitarbeitende'!L83)","v":""},{"$f":"IF(OR($A83=\"\",'Stammdaten Mitarbeitende'!J83=\"\"),\"\",'Stammdaten Mitarbeitende'!J83)","v":""},"","",0,0,0,0,0,0,0]
["",null,null,null,null,"",null,"",null,null,null,null,"",null,{"$f":"'Stammdaten Mitarbeitende'!AA84","v":""},{"$f":"IF($A84=\"\",\"\",'Stammdaten Mitarbeitende'!L84)","v":""},{"$f":"IF(OR($A84=\"\",'Stammdaten Mitarbeitende'!J84=\"\"),\"\",'Stammdaten Mitarbeitende'!J84)","v":""},"","",0,0,0,0,0,0,0]
["",null,null,null,null,"",null,"",null,null,null,null,"",null,{"$f":"'Stammdaten Mitarbeitende'!AA85","v":""},{"$f":"IF($A85=\"\",\"\",'Stammdaten Mitarbeitende'!L85)","v":""},{"$f":"IF(OR($A85=\"\",'Stammdaten Mitarbeitende'!J85=\"\"),\"\",'Stammdaten Mitarbeitende'!J85)","v":""},"","",0,0,0,0,0,0,0]
["",null,null,null,null,"",null,"",null,null,null,null,"",null,{"$f":"'Stammdaten Mitarbeitende'!AA86","v":""},{"$f":"IF($A86=\"\",\"\",'Stammdaten Mitarbeitende'!L86)","v":""},{"$f":"IF(OR($A86=\"\",'Stammdaten Mitarbeitende'!J86=\"\"),\"\",'Stammdaten Mitarbeitende'!J86)","v":""},"","",0,0,0,0,0,0,0]
["",null,null,null,null,"",null,"",null,null,null,null,"",null,{"$f":"'Stammdaten Mitarbeitende'!AA87","v":""},{"$f":"IF($A87=\"\",\"\",'Stammdaten Mitarbeitende'!L87)","v":""},{"$f":"IF(OR($A87=\"\",'Stammdaten Mitarbeitende'!J87=\"\"),\"\",'Stammdaten Mitarbeitende'!J87)","v":""},"","",0,0,0,0,0,0,0]
["",null,null,null,null,"",null,"",null,null,null,null,"",null,{"$f":"'Stammdaten Mitarbeitende'!AA88","v":""},{"$f":"IF($A88=\"\",\"\",'Stammdaten Mitarbeitende'!L88)","v":""},{"$f":"IF(OR($A88=\"\",'Stammdaten Mitarbeitende'!J88=\"\"),\"\",'Stammdaten Mitarbeitende'!J88)","v":""},"","",0,0,0,0,0,0,0]
["",null,null,null,null,"",null,"",null,null,null,null,"",null,{"$f":"'Stammdaten Mitarbeitende'!AA89","v":""},{"$f":"IF($A89=\"\",\"\",'Stammdaten Mitarbeitende'!L89)","v":""},{"$f":"IF(OR($A89=\"\",'Stammdaten Mitarbeitende'!J89=\"\"),\"\",'Stammdaten Mitarbeitende'!J89)","v":""},"","",0,0,0,0,0,0,0]
[{"$f":"Übersetzungstexte!A$230","v":"Seitentotal"},null,{"$f":"SUM(C69:C89)","v":0},null,{"$f":"SUM(E69:E89)","v":0},{"$f":"SUM(F69:F89)","v":0},null,{"$f":"Übersetzungstexte!A$230","v":"Seitentotal"},null,{"$f":"SUM(J69:J89)","v":0},null,{"$f":"SUM(L69:L89)","v":0},{"$f":"SUM(M69:M89)","v":0}]
[{"$f":"'Stammdaten Betrieb & Abteilung'!D$1","v":"  "},null,null,null,null,null,null,{"$f":"Übersetzungstexte!A$190","v":"Betrieb / Betriebsabteilung"},{"$f":"'Stammdaten Betrieb & Abteilung'!D$13","v":" "}]
[{"$f":"'Stammdaten Betrieb & Abteilung'!D$3","v":" "},null,null,null,null,null,null,{"$f":"Übersetzungstexte!A$191","v":"PLZ/Ort"},{"$f":"'Stammdaten Betrieb & Abteilung'!D$4","v":" "}]
[]
[null,null,null,null,null,{"$f":"CONCATENATE(Übersetzungstexte!A$192,\" \",TEXT(MONTH(P$3),\"00\"),\".\",YEAR(P$3))","v":"Zeitgleiche Periode des Vorjahres: 01.3799"},null,null,null,null,null,null,{"$f":"CONCATENATE(Übersetzungstexte!A$211,\" \",TEXT(MONTH(P$4),\"00\"),\".\",YEAR(P$4))","v":"Zeitgleiche Periode des vorletzten Jahres: 01.3798"}]
[1,2,3,4,5,6,null,1,2,3,4,5,6,null,null,null,null,"Regel 4","Regel 5","Sollstd.","Absenzen",null,"Sollstd.","Absenzen"]
[{"$f":"Übersetzungstexte!A$193","v":""},{"$f":"Übersetzungstexte!A$196","v":"vertragliche"},{"$f":"Übersetzungstexte!A$199","v":"Sollstd. zeitgl."},{"$f":"Übersetzungstexte!A$202","v":"Istzeit"},{"$f":"Übersetzungstexte!A$205","v":"Bezahlte/"},{"$f":"Übersetzungstexte!A$208","v":"Ausfallstunden"},null,{"$f":"Übersetzungstexte!A$212","v":""},{"$f":"Übersetzungstexte!A$215","v":"vertragliche"},{"$f":"Übersetzungstexte!A$218","v":"Sollstd. zeitgl."},{"$f":"Übersetzungstexte!A$221","v":"Istzeit"},{"$f":"Übersetzungstexte!A$224","v":"Bezahlte/"},{"$f":"Übersetzungstexte!A$227","v":"Ausfallstunden"},null,null,"anrechen-","vertragl.","Ausfall-","Ausfall-","betroffene","betroffene","Ausfall-","betroffene","betroffene","Ausfall-"]
[{"$f":"Übersetzungstexte!A$194","v":""},{"$f":"Übersetzungstexte!A$197","v":"wöchentliche"},{"$f":"Übersetzungstexte!A$200","v":"Periode inkl."},{"$f":"Übersetzungstexte!A$203","v":""},{"$f":"Übersetzungstexte!A$206","v":"Unbezahlte"},{"$f":"Übersetzungstexte!A$209","v":""},null,{"$f":"Übersetzungstexte!A$213","v":""},{"$f":"Übersetzungstexte!A$216","v":"wöchentliche"},{"$f":"Übersetzungstexte!A$219","v":"Periode inkl."},{"$f":"Übersetzungstexte!A$222","v":""},{"$f":"Übersetzungstexte!A$225","v":"Unbezahlte"},{"$f":"Übersetzungstexte!A$228","v":""},null,null,"barer Std.-","wöchentl.","stunden","stunden","Mitarbeiter","Mitarbeiter","stunden","Mitarbeiter","Mitarbeiter","stunden","Max. der"]
[{"$f":"Übersetzungstexte!A$195","v":"Name,Vorname"},{"$f":"Übersetzungstexte!A$198","v":"Arbeitszeit"},{"$f":"Übersetzungstexte!A$201","v":"Vorholzeit"},{"$f":"Übersetzungstexte!A$204","v":""},{"$f":"Übersetzungstexte!A$207","v":"Absenzen"},{"$f":"Übersetzungstexte!A$210","v":""},null,{"$f":"Übersetzungstexte!A$214","v":"Name,Vorname"},{"$f":"Übersetzungstexte!A$217","v":"Arbeitszeit"},{"$f":"Übersetzungstexte!A$220","v":"Vorholzeit"},{"$f":"Übersetzungstexte!A$223","v":""},{"$f":"Übersetzungstexte!A$226","v":"Absenzen"},{"$f":"Übersetzungstexte!A$229","v":""},null,"Name,Vorname","Verdienst","Arbeitszeit",{"$f":"P$3","v":"3799-01-01"},{"$f":"P$4","v":"3798-01-01"},"Vorjahr","Vorjahr","Vorjahr","Vorvorjahr","Vorvorjahr","Vorvorjahr","Spalte"]
[{"$f":"O99","v":""},null,null,null,null,{"$f":"R99","v":""},null,{"$f":"O99","v":""},null,null,null,null,{"$f":"S99","v":""},null,{"$f":"'Stammdaten Mitarbeitende'!AA99","v":""},{"$f":"IF($A99=\"\",\"\",'Stammdaten Mitarbeitende'!L99)","v":""},{"$f":"IF(OR($A99=\"\",'Stammdaten Mitarbeitende'!J99=\"\"),\"\",'Stammdaten Mitarbeitende'!J99)","v":""},{"$f":"IF(OR($A99=\"\",C99=\"\",D99=\"\",E99=\"\"),\"\",MAX(C99-D99-E99,0))","v":""},{"$f":"IF(OR($H99=\"\",J99=\"\",K99=\"\",L99=\"\"),\"\",MAX(J99-K99-L99,0))","v":""},{"$f":"IF(OR(F99=\"\"),0,C99)","v":0},{"$f":"IF(OR(F99=\"\"),0,E99)","v":0},{"$f":"IF(OR(F99<=0,F99=\"\"),0,R99)","v":0},{"$f":"IF(OR(M99=\"\"),0,J99)","v":0},{"$f":"IF(OR(M99=\"\"),0,L99)","v":0},{"$f":"IF(OR(M99<=0,M99=\"\"),0,S99)","v":0},{"$f":"MAX(P99:Y99)","v":0}]
["",null,null,null,null,"",null,"",null,null,null,null,"",null,{"$f":"'Stammdaten Mitarbeitende'!AA100","v":""},{"$f":"IF($A100=\"\",\"\",'Stammdaten Mitarbeitende'!L100)","v":""},{"$f":"IF(OR($A100=\"\",'Stammdaten Mitarbeitende'!J100=\"\"),\"\",'Stammdaten Mitarbeitende'!J100)","v":""},"",{"$f":"IF(OR($H100=\"\",J100=\"\",K100=\"\",L100=\"\"),\"\",MAX(J100-K100-L100,0))","v":""},0,0,0,0,0,0,{"$f":"MAX(P100:Y100)","v":0}]
["",null,null,null,null,"",null,"",null,null,null,null,"",null,{"$f":"'Stammdaten Mitarbeitende'!AA101","v":""},{"$f":"IF($A101=\"\",\"\",'Stammdaten Mitarbeitende'!L101)","v":""},{"$f":"IF(OR($A101=\"\",'Stammdaten Mitarbeitende'!J101=\"\"),\"\",'Stammdaten Mitarbeitende'!J101)","v":""},"","",0,0,0,0,0,0,0]
["",null,null,null,null,"",null,"",null,null,null,null,"",null,{"$f":"'Stammdaten Mitarbeitende'!AA102","v":""},{"$f":"IF($A102=\"\",\"\",'Stammdaten Mitarbeitende'!L102)","v":""},{"$f":"IF(OR($A102=\"\",'Stammdaten Mitarbeitende'!J102=\"\"),\"\",'Stammdaten Mitarbeitende'!J102)","v":""},"","",0,0,0,0,0,0,0]
["",null,null,null,null,"",null,"",null,null,null,null,"",null,{"$f":"'Stammdaten Mitarbeitende'!AA103","v":""},{"$f":"IF($A103=\"\",\"\",'Stammdaten Mitarbeitende'!L103)","v":""},{"$f":"IF(OR($A103=\"\",'Stammdaten Mitarbeitende'!J103=\"\"),\"\",'Stammdaten Mitarbeitende'!J103)","v":""},"","",0,0,0,0,0,0,0]
["",null,null,null,null,"",null,"",null,null,null,null,"",null,{"$f":"'Stammdaten Mitarbeitende'!AA104","v":""},{"$f":"IF($A104=\"\",\"\",'Stammdaten Mitarbeitende'!L104)","v":""},{"$f":"IF(OR($A104=\"\",'Stammdaten Mitarbeitende'!J104=\"\"),\"\",'Stammdaten Mitarbeitende'!J104)","v":""},"","",0,0,0,0,0,0,0]
["",null,null,null,null,"",null,"",null,null,null,null,"",null,{"$f":"'Stammdaten Mitarbeitende'!AA105","v":""},{"$f":"IF($A105=\"\",\"\",'Stammdaten Mitarbeitende'!L105)","v":""},{"$f":"IF(OR($A105=\"\",'Stammdaten Mitarbeitende'!J105=\"\"),\"\",'Stammdaten Mitarbeitende'!J105)","v":""},"","",0,0,0,0,0,0,0]
["",null,null,null,null,"",null,"",null,null,null,null,"",null,{"$f":"'Stammdaten Mitarbeitende'!AA106","v":""},{"$f":"IF($A106=\"\",\"\",'Stammdaten Mitarbeitende'!L106)","v":""},{"$f":"IF(OR($A106=\"\",'Stammdaten Mitarbeitende'!J106=\"\"),\"\",'Stammdaten Mitarbeitende'!J106)","v":""},"","",0,0,0,0,0,0,0]
["",null,null,null,null,"",null,"",null,null,null,null,"",null,{"$f":"'Stammdaten Mitarbeitende'!AA107","v":""},{"$f":"IF($A107=\"\",\"\",'Stammdaten Mitarbeitende'!L107)","v":""},{"$f":"IF(OR($A107=\"\",'Stammdaten Mitarbeitende'!J107=\"\"),\"\",'Stammdaten Mitarbeitende'!J107)","v":""},"","",0,0,0,0,0,0,0]
["",null,null,null,null,"",null,"",null,null,null,null,"",null,{"$f":"'Stammdaten Mitarbeitende'!AA108","v":""},{"$f":"IF($A108=\"\",\"\",'Stammdaten Mitarbeitende'!L108)","v":""},{"$f":"IF(OR($A108=\"\",'Stammdaten Mitarbeitende'!J108=\"\"),\"\",'Stammdaten Mitarbeitende'!J108)","v":""},"","",0,0,0,0,0,0,0]
["",null,null,null,null,"",null,"",null,null,null,null,"",null,{"$f":"'Stammdaten Mitarbeitende'!AA109","v":""},{"$f":"IF($A109=\"\",\"\",'Stammdaten Mitarbeitende'!L109)","v":""},{"$f":"IF(OR($A109=\"\",'Stammdaten Mitarbeitende'!J109=\"\"),\"\",'Stammdaten Mitarbeitende'!J109)","v":""},"","",0,0,0,0,0,0,0]
["",null,null,null,null,"",null,"",null,null,null,null,"",null,{"$f":"'Stammdaten Mitarbeitende'!AA110","v":""},{"$f":"IF($A110=\"\",\"\",'Stammdaten Mitarbeitende'!L110)","v":""},{"$f":"IF(OR($A110=\"\",'Stammdaten Mitarbeitende'!J110=\"\"),\"\",'Stammdaten Mitarbeitende'!J110)","v":""},"","",0,0,0,0,0,0,0]
["",null,null,null,null,"",null,"",null,null,null,null,"",null,{"$f":"'Stammdaten Mitarbeitende'!AA111","v":""},{"$f":"IF($A111=\"\",\"\",'Stammdaten Mitarbeitende'!L111)","v":""},{"$f":"IF(OR($A111=\"\",'Stammdaten Mitarbeitende'!J111=\"\"),\"\",'Stammdaten Mitarbeitende'!J111)","v":""},"","",0,0,0,0,0,0,0]
["",null,null,null,null,"",null,"",null,null,null,null,"",null,{"$f":"'Stammdaten Mitarbeitende'!AA112","v":""},{"$f":"IF($A112=\"\",\"\",'Stammdaten Mitarbeitende'!L112)","v":""},{"$f":"IF(OR($A112=\"\",'Stammdaten Mitarbeitende'!J112=\"\"),\"\",'Stammdaten Mitarbeitende'!J112)","v":""},"","",0,0,0,0,0,0,0]
["",null,null,null,null,"",null,"",null,null,null,null,"",null,{"$f":"'Stammdaten Mitarbeitende'!AA113","v":""},{"$f":"IF($A113=\"\",\"\",'Stammdaten Mitarbeitende'!L113)","v":""},{"$f":"IF(OR($A113=\"\",'Stammdaten Mitarbeitende'!J113=\"\"),\"\",'Stammdaten Mitarbeitende'!J113)","v":""},"","",0,0,0,0,0,0,0]
["",null,null,null,null,"",null,"",null,null,null,null,"",null,{"$f":"'Stammdaten Mitarbeitende'!AA114","v":""},{"$f":"IF($A114=\"\",\"\",'Stammdaten Mitarbeitende'!L114)","v":""},{"$f":"IF(OR($A114=\"\",'Stammdaten Mitarbeitende'!J114=\"\"),\"\",'Stammdaten Mitarbeitende'!J114)","v":""},"","",0,0,0,0,0,0,0]
["",null,null,null,null,"",null,"",null,null,null,null,"",null,{"$f":"'Stammdaten Mitarbeitende'!AA115","v":""},{"$f":"IF($A115=\"\",\"\",'Stammdaten Mitarbeitende'!L115)","v":""},{"$f":"IF(OR($A115=\"\",'Stammdaten Mitarbeitende'!J115=\"\"),\"\",'Stammdaten Mitarbeitende'!J115)","v":""},"","",0,0,0,0,0,0,0]
["",null,null,null,null,"",null,"",null,null,null,null,"",null,{"$f":"'Stammdaten Mitarbeitende'!AA116","v":""},{"$f":"IF($A116=\"\",\"\",'Stammdaten Mitarbeitende'!L116)","v":""},{"$f":"IF(OR($A116=\"\",'Stammdaten Mitarbeitende'!J116=\"\"),\"\",'Stammdaten Mitarbeitende'!J116)","v":""},"","",0,0,0,0,0,0,0]
["",null,null,null,null,"",null,"",null,null,null,null,"",null,{"$f":"'Stammdaten Mitarbeitende'!AA117","v":""},{"$f":"IF($A117=\"\",\"\",'Stammdaten Mitarbeitende'!L117)","v":""},{"$f":"IF(OR($A117=\"\",'Stammdaten Mitarbeitende'!J117=\"\"),\"\",'Stammdaten Mitarbeitende'!J117)","v":""},"","",0,0,0,0,0,0,0]
["",null,null,null,null,"",null,"",null,null,null,null,"",null,{"$f":"'Stammdaten Mitarbeitende'!AA118","v":""},{"$f":"IF($A118=\"\",\"\",'Stammdaten Mitarbeitende'!L118)","v":""},{"$f":"IF(OR($A118=\"\",'Stammdaten Mitarbeitende'!J118=\"\"),\"\",'Stammdaten Mitarbeitende'!J118)","v":""},"","",0,0,0,0,0,0,0]
["",null,null,null,null,"",null,"",null,null,null,null,"",null,{"$f":"'Stammdaten Mitarbeitende'!AA119","v":""},{"$f":"IF($A119=\"\",\"\",'Stammdaten Mitarbeitende'!L119)","v":""},{"$f":"IF(OR($A119=\"\",'Stammdaten Mitarbeitende'!J119=\"\"),\"\",'Stammdaten Mitarbeitende'!J119)","v":""},"","",0,0,0,0,0,0,0]
[{"$f":"Übersetzungstexte!A$230","v":"Seitentotal"},null,{"$f":"SUM(C99:C119)","v":0},null,{"$f":"SUM(E99:E119)","v":0},{"$f":"SUM(F99:F119)","v":0},null,{"$f":"Übersetzungstexte!A$230","v":"Seitentotal"},null,{"$f":"SUM(J99:J119)","v":0},null,{"$f":"SUM(L99:L119)","v":0},{"$f":"SUM(M99:M119)","v":0}]
[{"$f":"'Stammdaten Betrieb & Abteilung'!D$1","v":"  "},null,null,null,null,null,null,{"$f":"Übersetzungstexte!A$190","v":"Betrieb / Betriebsabteilung"},{"$f":"'Stammdaten Betrieb & Abteilung'!D$13","v":" "}]
[{"$f":"'Stammdaten Betrieb & Abteilung'!D$3","v":" "},null,null,null,null,null,null,{"$f":"Übersetzungstexte!A$191","v":"PLZ/Ort"},{"$f":"'Stammdaten Betrieb & Abteilung'!D$4","v":" "}]
[]
[null,null,null,null,null,{"$f":"CONCATENATE(Übersetzungstexte!A$192,\" \",TEXT(MONTH(P$3),\"00\"),\".\",YEAR(P$3))","v":"Zeitgleiche Periode des Vorjahres: 01.3799"},null,null,null,null,null,null,{"$f":"CONCATENATE(Übersetzungstexte!A$211,\" \",TEXT(MONTH(P$4),\"00\"),\".\",YEAR(P$4))","v":"Zeitgleiche Periode des vorletzten Jahres: 01.3798"}]
[1,2,3,4,5,6,null,1,2,3,4,5,6,null,null,null,null,"Regel 4","Regel 5","Sollstd.","Absenzen",null,"Sollstd.","Absenzen"]
[{"$f":"Übersetzungstexte!A$193","v":""},{"$f":"Übersetzungstexte!A$196","v":"vertragliche"},{"$f":"Übersetzungstexte!A$199","v":"Sollstd. zeitgl."},{"$f":"Übersetzungstexte!A$202","v":"Istzeit"},{"$f":"Übersetzungstexte!A$205","v":"Bezahlte/"},{"$f":"Übersetzungstexte!A$208","v":"Ausfallstunden"},null,{"$f":"Übersetzungstexte!A$212","v":""},{"$f":"Übersetzungstexte!A$215","v":"vertragliche"},{"$f":"Übersetzungstexte!A$218","v":"Sollstd. zeitgl."},{"$f":"Übersetzungstexte!A$221","v":"Istzeit"},{"$f":"Übersetzungstexte!A$224","v":"Bezahlte/"},{"$f":"Übersetzungstexte!A$227","v":"Ausfallstunden"},null,null,"anrechen-","vertragl.","Ausfall-","Ausfall-","betroffene","betroffene","Ausfall-","betroffene","betroffene","Ausfall-"]
[{"$f":"Übersetzungstexte!A$194","v":""},{"$f":"Übersetzungstexte!A$197","v":"wöchentliche"},{"$f":"Übersetzungstexte!A$200","v":"Periode inkl."},{"$f":"Übersetzungstexte!A$203","v":""},{"$f":"Übersetzungstexte!A$206","v":"Unbezahlte"},{"$f":"Übersetzungstexte!A$209","v":""},null,{"$f":"Übersetzungstexte!A$213","v":""},{"$f":"Übersetzungstexte!A$216","v":"wöchentliche"},{"$f":"Übersetzungstexte!A$219","v":"Periode inkl."},{"$f":"Übersetzungstexte!A$222","v":""},{"$f":"Übersetzungstexte!A$225","v":"Unbezahlte"},{"$f":"Übersetzungstexte!A$228","v":""},null,null,"barer Std.-","wöchentl.","stunden","stunden","Mitarbeiter","Mitarbeiter","stunden","Mitarbeiter","Mitarbeiter","stunden","Max. der"]
[{"$f":"Übersetzungstexte!A$195","v":"Name,Vorname"},{"$f":"Übersetzungstexte!A$198","v":"Arbeitszeit"},{"$f":"Übersetzungstexte!A$201","v":"Vorholzeit"},{"$f":"Übersetzungstexte!A$204","v":""},{"$f":"Übersetzungstexte!A$207","v":"Absenzen"},{"$f":"Übersetzungstexte!A$210","v":""},null,{"$f":"Übersetzungstexte!A$214","v":"Name,Vorname"},{"$f":"Übersetzungstexte!A$217","v":"Arbeitszeit"},{"$f":"Übersetzungstexte!A$220","v":"Vorholzeit"},{"$f":"Übersetzungstexte!A$223","v":""},{"$f":"Übersetzungstexte!A$226","v":"Absenzen"},{"$f":"Übersetzungstexte!A$229","v":""},null,"Name,Vorname","Verdienst","Arbeitszeit",{"$f":"P$3","v":"3799-01-01"},{"$f":"P$4","v":"3798-01-01"},"Vorjahr","Vorjahr","Vorjahr","Vorvorjahr","Vorvorjahr","Vorvorjahr","Spalte"]
[{"$f":"O129","v":""},null,null,null,null,{"$f":"R129","v":""},null,{"$f":"O129","v":""},null,null,null,null,{"$f":"S129","v":""},null,{"$f":"'Stammdaten Mitarbeitende'!AA129","v":""},{"$f":"IF($A129=\"\",\"\",'Stammdaten Mitarbeitende'!L129)","v":""},{"$f":"IF(OR($A129=\"\",'Stammdaten Mitarbeitende'!J129=\"\"),\"\",'Stammdaten Mitarbeitende'!J129)","v":""},{"$f":"IF(OR($A129=\"\",C129=\"\",D129=\"\",E129=\"\"),\"\",MAX(C129-D129-E129,0))","v":""},{"$f":"IF(OR($H129=\"\",J129=\"\",K129=\"\",L129=\"\"),\"\",MAX(J129-K129-L129,0))","v":""},{"$f":"IF(OR(F129=\"\"),0,C129)","v":0},{"$f":"IF(OR(F129=\"\"),0,E129)","v":0},{"$f":"IF(OR(F129<=0,F129=\"\"),0,R129)","v":0},{"$f":"IF(OR(M129=\"\"),0,J129)","v":0},{"$f":"IF(OR(M129=\"\"),0,L129)","v":0},{"$f":"IF(OR(M129<=0,M129=\"\"),0,S129)","v":0},{"$f":"MAX(P129:Y129)","v":0}]
["",null,null,null,null,"",null,"",null,null,null,null,"",null,{"$f":"'Stammdaten Mitarbeitende'!AA130","v":""},{"$f":"IF($A130=\"\",\"\",'Stammdaten Mitarbeitende'!L130)","v":""},{"$f":"IF(OR($A130=\"\",'Stammdaten Mitarbeitende'!J130=\"\"),\"\",'Stammdaten Mitarbeitende'!J130)","v":""},"",{"$f":"IF(OR($H130=\"\",J130=\"\",K130=\"\",L130=\"\"),\"\",MAX(J130-K130-L130,0))","v":""},0,0,0,0,0,0,{"$f":"MAX(P130:Y130)","v":0}]
["",null,null,null,null,"",null,"",null,null,null,null,"",null,{"$f":"'Stammdaten Mitarbeitende'!AA131","v":""},{"$f":"IF($A131=\"\",\"\",'Stammdaten Mitarbeitende'!L131)","v":""},{"$f":"IF(OR($A131=\"\",'Stammdaten Mitarbeitende'!J131=\"\"),\"\",'Stammdaten Mitarbeitende'!J131)","v":""},"","",0,0,0,0,0,0,0]
["",null,null,null,null,"",null,"",null,null,null,null,"",null,{"$f":"'Stammdaten Mitarbeitende'!AA132","v":""},{"$f":"IF($A132=\"\",\"\",'Stammdaten Mitarbeitende'!L132)","v":""},{"$f":"IF(OR($A132=\"\",'Stammdaten Mitarbeitende'!J132=\"\"),\"\",'Stammdaten Mitarbeitende'!J132)","v":""},"","",0,0,0,0,0,0,0]
["",null,null,null,null,"",null,"",null,null,null,null,"",null,{"$f":"'Stammdaten Mitarbeitende'!AA133","v":""},{"$f":"IF($A133=\"\",\"\",'Stammdaten Mitarbeitende'!L133)","v":""},{"$f":"IF(OR($A133=\"\",'Stammdaten Mitarbeitende'!J133=\"\"),\"\",'Stammdaten Mitarbeitende'!J133)","v":""},"","",0,0,0,0,0,0,0]
["",null,null,null,null,"",null,"",null,null,null,null,"",null,{"$f":"'Stammdaten Mitarbeitende'!AA134","v":""},{"$f":"IF($A134=\"\",\"\",'Stammdaten Mitarbeitende'!L134)","v":""},{"$f":"IF(OR($A134=\"\",'Stammdaten Mitarbeitende'!J134=\"\"),\"\",'Stammdaten Mitarbeitende'!J134)","v":""},"","",0,0,0,0,0,0,0]
["",null,null,null,null,"",null,"",null,null,null,null,"",null,{"$f":"'Stammdaten Mitarbeitende'!AA135","v":""},{"$f":"IF($A135=\"\",\"\",'Stammdaten Mitarbeitende'!L135)","v":""},{"$f":"IF(OR($A135=\"\",'Stammdaten Mitarbeitende'!J135=\"\"),\"\",'Stammdaten Mitarbeitende'!J135)","v":""},"","",0,0,0,0,0,0,0]
["",null,null,null,null,"",null,"",null,null,null,null,"",null,{"$f":"'Stammdaten Mitarbeitende'!AA136","v":""},{"$f":"IF($A136=\"\",\"\",'Stammdaten Mitarbeitende'!L136)","v":""},{"$f":"IF(OR($A136=\"\",'Stammdaten Mitarbeitende'!J136=\"\"),\"\",'Stammdaten Mitarbeitende'!J136)","v":""},"","",0,0,0,0,0,0,0]
["",null,null,null,null,"",null,"",null,null,null,null,"",null,{"$f":"'Stammdaten Mitarbeitende'!AA137","v":""},{"$f":"IF($A137=\"\",\"\",'Stammdaten Mitarbeitende'!L137)","v":""},{"$f":"IF(OR($A137=\"\",'Stammdaten Mitarbeitende'!J137=\"\"),\"\",'Stammdaten Mitarbeitende'!J137)","v":""},"","",0,0,0,0,0,0,0]
["",null,null,null,null,"",null,"",null,null,null,null,"",null,{"$f":"'Stammdaten Mitarbeitende'!AA138","v":""},{"$f":"IF($A138=\"\",\"\",'Stammdaten Mitarbeitende'!L138)","v":""},{"$f":"IF(OR($A138=\"\",'Stammdaten Mitarbeitende'!J138=\"\"),\"\",'Stammdaten Mitarbeitende'!J138)","v":""},"","",0,0,0,0,0,0,0]
["",null,null,null,null,"",null,"",null,null,null,null,"",null,{"$f":"'Stammdaten Mitarbeitende'!AA139","v":""},{"$f":"IF($A139=\"\",\"\",'Stammdaten Mitarbeitende'!L139)","v":""},{"$f":"IF(OR($A139=\"\",'Stammdaten Mitarbeitende'!J139=\"\"),\"\",'Stammdaten Mitarbeitende'!J139)","v":""},"","",0,0,0,0,0,0,0]
["",null,null,null,null,"",null,"",null,null,null,null,"",null,{"$f":"'Stammdaten Mitarbeitende'!AA140","v":""},{"$f":"IF($A140=\"\",\"\",'Stammdaten Mitarbeitende'!L140)","v":""},{"$f":"IF(OR($A140=\"\",'Stammdaten Mitarbeitende'!J140=\"\"),\"\",'Stammdaten Mitarbeitende'!J140)","v":""},"","",0,0,0,0,0,0,0]
["",null,null,null,null,"",null,"",null,null,null,null,"",null,{"$f":"'Stammdaten Mitarbeitende'!AA141","v":""},{"$f":"IF($A141=\"\",\"\",'Stammdaten Mitarbeitende'!L141)","v":""},{"$f":"IF(OR($A141=\"\",'Stammdaten Mitarbeitende'!J141=\"\"),\"\",'Stammdaten Mitarbeitende'!J141)","v":""},"","",0,0,0,0,0,0,0]
["",null,null,null,null,"",null,"",null,null,null,null,"",null,{"$f":"'Stammdaten Mitarbeitende'!AA142","v":""},{"$f":"IF($A142=\"\",\"\",'Stammdaten Mitarbeitende'!L142)","v":""},{"$f":"IF(OR($A142=\"\",'Stammdaten Mitarbeitende'!J142=\"\"),\"\",'Stammdaten Mitarbeitende'!J142)","v":""},"","",0,0,0,0,0,0,0]
["",null,null,null,null,"",null,"",null,null,null,null,"",null,{"$f":"'Stammdaten Mitarbeitende'!AA143","v":""},{"$f":"IF($A143=\"\",\"\",'Stammdaten Mitarbeitende'!L143)","v":""},{"$f":"IF(OR($A143=\"\",'Stammdaten Mitarbeitende'!J143=\"\"),\"\",'Stammdaten Mitarbeitende'!J143)","v":""},"","",0,0,0,0,0,0,0]
["",null,null,null,null,"",null,"",null,null,null,null,"",null,{"$f":"'Stammdaten Mitarbeitende'!AA144","v":""},{"$f":"IF($A144=\"\",\"\",'Stammdaten Mitarbeitende'!L144)","v":""},{"$f":"IF(OR($A144=\"\",'Stammdaten Mitarbeitende'!J144=\"\"),\"\",'Stammdaten Mitarbeitende'!J144)","v":""},"","",0,0,0,0,0,0,0]
["",null,null,null,null,"",null,"",null,null,null,null,"",null,{"$f":"'Stammdaten Mitarbeitende'!AA145","v":""},{"$f":"IF($A145=\"\",\"\",'Stammdaten Mitarbeitende'!L145)","v":""},{"$f":"IF(OR($A145=\"\",'Stammdaten Mitarbeitende'!J145=\"\"),\"\",'Stammdaten Mitarbeitende'!J145)","v":""},"","",0,0,0,0,0,0,0]
["",null,null,null,null,"",null,"",null,null,null,null,"",null,{"$f":"'Stammdaten Mitarbeitende'!AA146","v":""},{"$f":"IF($A146=\"\",\"\",'Stammdaten Mitarbeitende'!L146)","v":""},{"$f":"IF(OR($A146=\"\",'Stammdaten Mitarbeitende'!J146=\"\"),\"\",'Stammdaten Mitarbeitende'!J146)","v":""},"","",0,0,0,0,0,0,0]
["",null,null,null,null,"",null,"",null,null,null,null,"",null,{"$f":"'Stammdaten Mitarbeitende'!AA147","v":""},{"$f":"IF($A147=\"\",\"\",'Stammdaten Mitarbeitende'!L147)","v":""},{"$f":"IF(OR($A147=\"\",'Stammdaten Mitarbeitende'!J147=\"\"),\"\",'Stammdaten Mitarbeitende'!J147)","v":""},"","",0,0,0,0,0,0,0]
["",null,null,null,null,"",null,"",null,null,null,null,"",null,{"$f":"'Stammdaten Mitarbeitende'!AA148","v":""},{"$f":"IF($A148=\"\",\"\",'Stammdaten Mitarbeitende'!L148)","v":""},{"$f":"IF(OR($A148=\"\",'Stammdaten Mitarbeitende'!J148=\"\"),\"\",'Stammdaten Mitarbeitende'!J148)","v":""},"","",0,0,0,0,0,0,0]
["",null,null,null,null,"",null,"",null,null,null,null,"",null,{"$f":"'Stammdaten Mitarbeitende'!AA149","v":""},{"$f":"IF($A149=\"\",\"\",'Stammdaten Mitarbeitende'!L149)","v":""},{"$f":"IF(OR($A149=\"\",'Stammdaten Mitarbeitende'!J149=\"\"),\"\",'Stammdaten Mitarbeitende'!J149)","v":""},"","",0,0,0,0,0,0,0]
[{"$f":"Übersetzungstexte!A$230","v":"Seitentotal"},null,{"$f":"SUM(C129:C149)","v":0},null,{"$f":"SUM(E129:E149)","v":0},{"$f":"SUM(F129:F149)","v":0},null,{"$f":"Übersetzungstexte!A$230","v":"Seitentotal"},null,{"$f":"SUM(J129:J149)","v":0},null,{"$f":"SUM(L129:L149)","v":0},{"$f":"SUM(M129:M149)","v":0}]
[{"$f":"'Stammdaten Betrieb & Abteilung'!D$1","v":"  "},null,null,null,null,null,null,{"$f":"Übersetzungstexte!A$190","v":"Betrieb / Betriebsabteilung"},{"$f":"'Stammdaten Betrieb & Abteilung'!D$13","v":" "}]
[{"$f":"'Stammdaten Betrieb & Abteilung'!D$3","v":" "},null,null,null,null,null,null,{"$f":"Übersetzungstexte!A$191","v":"PLZ/Ort"},{"$f":"'Stammdaten Betrieb & Abteilung'!D$4","v":" "}]
[]
[null,null,null,null,null,{"$f":"CONCATENATE(Übersetzungstexte!A$192,\" \",TEXT(MONTH(P$3),\"00\"),\".\",YEAR(P$3))","v":"Zeitgleiche Periode des Vorjahres: 01.3799"},null,null,null,null,null,null,{"$f":"CONCATENATE(Übersetzungstexte!A$211,\" \",TEXT(MONTH(P$4),\"00\"),\".\",YEAR(P$4))","v":"Zeitgleiche Periode des vorletzten Jahres: 01.3798"}]
[1,2,3,4,5,6,null,1,2,3,4,5,6,null,null,null,null,"Regel 4","Regel 5","Sollstd.","Absenzen",null,"Sollstd.","Absenzen"]
[{"$f":"Übersetzungstexte!A$193","v":""},{"$f":"Übersetzungstexte!A$196","v":"vertragliche"},{"$f":"Übersetzungstexte!A$199","v":"Sollstd. zeitgl."},{"$f":"Übersetzungstexte!A$202","v":"Istzeit"},{"$f":"Übersetzungstexte!A$205","v":"Bezahlte/"},{"$f":"Übersetzungstexte!A$208","v":"Ausfallstunden"},null,{"$f":"Übersetzungstexte!A$212","v":""},{"$f":"Übersetzungstexte!A$215","v":"vertragliche"},{"$f":"Übersetzungstexte!A$218","v":"Sollstd. zeitgl."},{"$f":"Übersetzungstexte!A$221","v":"Istzeit"},{"$f":"Übersetzungstexte!A$224","v":"Bezahlte/"},{"$f":"Übersetzungstexte!A$227","v":"Ausfallstunden"},null,null,"anrechen-","vertragl.","Ausfall-","Ausfall-","betroffene","betroffene","Ausfall-","betroffene","betroffene","Ausfall-"]
[{"$f":"Übersetzungstexte!A$194","v":""},{"$f":"Übersetzungstexte!A$197","v":"wöchentliche"},{"$f":"Übersetzungstexte!A$200","v":"Periode inkl."},{"$f":"Übersetzungstexte!A$203","v":""},{"$f":"Übersetzungstexte!A$206","v":"Unbezahlte"},{"$f":"Übersetzungstexte!A$209","v":""},null,{"$f":"Übersetzungstexte!A$213","v":""},{"$f":"Übersetzungstexte!A$216","v":"wöchentliche"},{"$f":"Übersetzungstexte!A$219","v":"Periode inkl."},{"$f":"Übersetzungstexte!A$222","v":""},{"$f":"Übersetzungstexte!A$225","v":"Unbezahlte"},{"$f":"Übersetzungstexte!A$228","v":""},null,null,"barer Std.-","wöchentl.","stunden","stunden","Mitarbeiter","Mitarbeiter","stunden","Mitarbeiter","Mitarbeiter","stunden","Max. der"]
[{"$f":"Übersetzungstexte!A$195","v":"Name,Vorname"},{"$f":"Übersetzungstexte!A$198","v":"Arbeitszeit"},{"$f":"Übersetzungstexte!A$201","v":"Vorholzeit"},{"$f":"Übersetzungstexte!A$204","v":""},{"$f":"Übersetzungstexte!A$207","v":"Absenzen"},{"$f":"Übersetzungstexte!A$210","v":""},null,{"$f":"Übersetzungstexte!A$214","v":"Name,Vorname"},{"$f":"Übersetzungstexte!A$217","v":"Arbeitszeit"},{"$f":"Übersetzungstexte!A$220","v":"Vorholzeit"},{"$f":"Übersetzungstexte!A$223","v":""},{"$f":"Übersetzungstexte!A$226","v":"Absenzen"},{"$f":"Übersetzungstexte!A$229","v":""},null,"Name,Vorname","Verdienst","Arbeitszeit",{"$f":"P$3","v":"3799-01-01"},{"$f":"P$4","v":"3798-01-01"},"Vorjahr","Vorjahr","Vorjahr","Vorvorjahr","Vorvorjahr","Vorvorjahr","Spalte"]
[{"$f":"O159","v":""},null,null,null,null,{"$f":"R159","v":""},null,{"$f":"O159","v":""},null,null,null,null,{"$f":"S159","v":""},null,{"$f":"'Stammdaten Mitarbeitende'!AA159","v":""},{"$f":"IF($A159=\"\",\"\",'Stammdaten Mitarbeitende'!L159)","v":""},{"$f":"IF(OR($A159=\"\",'Stammdaten Mitarbeitende'!J159=\"\"),\"\",'Stammdaten Mitarbeitende'!J159)","v":""},{"$f":"IF(OR($A159=\"\",C159=\"\",D159=\"\",E159=\"\"),\"\",MAX(C159-D159-E159,0))","v":""},{"$f":"IF(OR($H159=\"\",J159=\"\",K159=\"\",L159=\"\"),\"\",MAX(J159-K159-L159,0))","v":""},{"$f":"IF(OR(F159=\"\"),0,C159)","v":0},{"$f":"IF(OR(F159=\"\"),0,E159)","v":0},{"$f":"IF(OR(F159<=0,F159=\"\"),0,R159)","v":0},{"$f":"IF(OR(M159=\"\"),0,J159)","v":0},{"$f":"IF(OR(M159=\"\"),0,L159)","v":0},{"$f":"IF(OR(M159<=0,M159=\"\"),0,S159)","v":0},{"$f":"MAX(P159:Y159)","v":0}]
["",null,null,null,null,"",null,"",null,null,null,null,"",null,{"$f":"'Stammdaten Mitarbeitende'!AA160","v":""},{"$f":"IF($A160=\"\",\"\",'Stammdaten Mitarbeitende'!L160)","v":""},{"$f":"IF(OR($A160=\"\",'Stammdaten Mitarbeitende'!J160=\"\"),\"\",'Stammdaten Mitarbeitende'!J160)","v":""},"",{"$f":"IF(OR($H160=\"\",J160=\"\",K160=\"\",L160=\"\"),\"\",MAX(J160-K160-L160,0))","v":""},0,0,0,0,0,0,{"$f":"MAX(P160:Y160)","v":0}]
["",null,null,null,null,"",null,"",null,null,null,null,"",null,{"$f":"'Stammdaten Mitarbeitende'!AA161","v":""},{"$f":"IF($A161=\"\",\"\",'Stammdaten Mitarbeitende'!L161)","v":""},{"$f":"IF(OR($A161=\"\",'Stammdaten Mitarbeitende'!J161=\"\"),\"\",'Stammdaten Mitarbeitende'!J161)","v":""},"","",0,0,0,0,0,0,0]
["",null,null,null,null,"",null,"",null,null,null,null,"",null,{"$f":"'Stammdaten Mitarbeitende'!AA162","v":""},{"$f":"IF($A162=\"\",\"\",'Stammdaten Mitarbeitende'!L162)","v":""},{"$f":"IF(OR($A162=\"\",'Stammdaten Mitarbeitende'!J162=\"\"),\"\",'Stammdaten Mitarbeitende'!J162)","v":""},"","",0,0,0,0,0,0,0]
["",null,null,null,null,"",null,"",null,null,null,null,"",null,{"$f":"'Stammdaten Mitarbeitende'!AA163","v":""},{"$f":"IF($A163=\"\",\"\",'Stammdaten Mitarbeitende'!L163)","v":""},{"$f":"IF(OR($A163=\"\",'Stammdaten Mitarbeitende'!J163=\"\"),\"\",'Stammdaten Mitarbeitende'!J163)","v":""},"","",0,0,0,0,0,0,0]
["",null,null,null,null,"",null,"",null,null,null,null,"",null,{"$f":"'Stammdaten Mitarbeitende'!AA164","v":""},{"$f":"IF($A164=\"\",\"\",'Stammdaten Mitarbeitende'!L164)","v":""},{"$f":"IF(OR($A164=\"\",'Stammdaten Mitarbeitende'!J164=\"\"),\"\",'Stammdaten Mitarbeitende'!J164)","v":""},"","",0,0,0,0,0,0,0]
["",null,null,null,null,"",null,"",null,null,null,null,"",null,{"$f":"'Stammdaten Mitarbeitende'!AA165","v":""},{"$f":"IF($A165=\"\",\"\",'Stammdaten Mitarbeitende'!L165)","v":""},{"$f":"IF(OR($A165=\"\",'Stammdaten Mitarbeitende'!J165=\"\"),\"\",'Stammdaten Mitarbeitende'!J165)","v":""},"","",0,0,0,0,0,0,0]
["",null,null,null,null,"",null,"",null,null,null,null,"",null,{"$f":"'Stammdaten Mitarbeitende'!AA166","v":""},{"$f":"IF($A166=\"\",\"\",'Stammdaten Mitarbeitende'!L166)","v":""},{"$f":"IF(OR($A166=\"\",'Stammdaten Mitarbeitende'!J166=\"\"),\"\",'Stammdaten Mitarbeitende'!J166)","v":""},"","",0,0,0,0,0,0,0]
["",null,null,null,null,"",null,"",null,null,null,null,"",null,{"$f":"'Stammdaten Mitarbeitende'!AA167","v":""},{"$f":"IF($A167=\"\",\"\",'Stammdaten Mitarbeitende'!L167)","v":""},{"$f":"IF(OR($A167=\"\",'Stammdaten Mitarbeitende'!J167=\"\"),\"\",'Stammdaten Mitarbeitende'!J167)","v":""},"","",0,0,0,0,0,0,0]
["",null,null,null,null,"",null,"",null,null,null,null,"",null,{"$f":"'Stammdaten Mitarbeitende'!AA168","v":""},{"$f":"IF($A168=\"\",\"\",'Stammdaten Mitarbeitende'!L168)","v":""},{"$f":"IF(OR($A168=\"\",'Stammdaten Mitarbeitende'!J168=\"\"),\"\",'Stammdaten Mitarbeitende'!J168)","v":""},"","",0,0,0,0,0,0,0]
["",null,null,null,null,"",null,"",null,null,null,null,"",null,{"$f":"'Stammdaten Mitarbeitende'!AA169","v":""},{"$f":"IF($A169=\"\",\"\",'Stammdaten Mitarbeitende'!L169)","v":""},{"$f":"IF(OR($A169=\"\",'Stammdaten Mitarbeitende'!J169=\"\"),\"\",'Stammdaten Mitarbeitende'!J169)","v":""},"","",0,0,0,0,0,0,0]
["",null,null,null,null,"",null,"",null,null,null,null,"",null,{"$f":"'Stammdaten Mitarbeitende'!AA170","v":""},{"$f":"IF($A170=\"\",\"\",'Stammdaten Mitarbeitende'!L170)","v":""},{"$f":"IF(OR($A170=\"\",'Stammdaten Mitarbeitende'!J170=\"\"),\"\",'Stammdaten Mitarbeitende'!J170)","v":""},"","",0,0,0,0,0,0,0]
["",null,null,null,null,"",null,"",null,null,null,null,"",null,{"$f":"'Stammdaten Mitarbeitende'!AA171","v":""},{"$f":"IF($A171=\"\",\"\",'Stammdaten Mitarbeitende'!L171)","v":""},{"$f":"IF(OR($A171=\"\",'Stammdaten Mitarbeitende'!J171=\"\"),\"\",'Stammdaten Mitarbeitende'!J171)","v":""},"","",0,0,0,0,0,0,0]
["",null,null,null,null,"",null,"",null,null,null,null,"",null,{"$f":"'Stammdaten Mitarbeitende'!AA172","v":""},{"$f":"IF($A172=\"\",\"\",'Stammdaten Mitarbeitende'!L172)","v":""},{"$f":"IF(OR($A172=\"\",'Stammdaten Mitarbeitende'!J172=\"\"),\"\",'Stammdaten Mitarbeitende'!J172)","v":""},"","",0,0,0,0,0,0,0]
["",null,null,null,null,"",null,"",null,null,null,null,"",null,{"$f":"'Stammdaten Mitarbeitende'!AA173","v":""},{"$f":"IF($A173=\"\",\"\",'Stammdaten Mitarbeitende'!L173)","v":""},{"$f":"IF(OR($A173=\"\",'Stammdaten Mitarbeitende'!J173=\"\"),\"\",'Stammdaten Mitarbeitende'!J173)","v":""},"","",0,0,0,0,0,0,0]
["",null,null,null,null,"",null,"",null,null,null,null,"",null,{"$f":"'Stammdaten Mitarbeitende'!AA174","v":""},{"$f":"IF($A174=\"\",\"\",'Stammdaten Mitarbeitende'!L174)","v":""},{"$f":"IF(OR($A174=\"\",'Stammdaten Mitarbeitende'!J174=\"\"),\"\",'Stammdaten Mitarbeitende'!J174)","v":""},"","",0,0,0,0,0,0,0]
["",null,null,null,null,"",null,"",null,null,null,null,"",null,{"$f":"'Stammdaten Mitarbeitende'!AA175","v":""},{"$f":"IF($A175=\"\",\"\",'Stammdaten Mitarbeitende'!L175)","v":""},{"$f":"IF(OR($A175=\"\",'Stammdaten Mitarbeitende'!J175=\"\"),\"\",'Stammdaten Mitarbeitende'!J175)","v":""},"","",0,0,0,0,0,0,0]
["",null,null,null,null,"",null,"",null,null,null,null,"",null,{"$f":"'Stammdaten Mitarbeitende'!AA176","v":""},{"$f":"IF($A176=\"\",\"\",'Stammdaten Mitarbeitende'!L176)","v":""},{"$f":"IF(OR($A176=\"\",'Stammdaten Mitarbeitende'!J176=\"\"),\"\",'Stammdaten Mitarbeitende'!J176)","v":""},"","",0,0,0,0,0,0,0]
["",null,null,null,null,"",null,"",null,null,null,null,"",null,{"$f":"'Stammdaten Mitarbeitende'!AA177","v":""},{"$f":"IF($A177=\"\",\"\",'Stammdaten Mitarbeitende'!L177)","v":""},{"$f":"IF(OR($A177=\"\",'Stammdaten Mitarbeitende'!J177=\"\"),\"\",'Stammdaten Mitarbeitende'!J177)","v":""},"","",0,0,0,0,0,0,0]
["",null,null,null,null,"",null,"",null,null,null,null,"",null,{"$f":"'Stammdaten Mitarbeitende'!AA178","v":""},{"$f":"IF($A178=\"\",\"\",'Stammdaten Mitarbeitende'!L178)","v":""},{"$f":"IF(OR($A178=\"\",'Stammdaten Mitarbeitende'!J178=\"\"),\"\",'Stammdaten Mitarbeitende'!J178)","v":""},"","",0,0,0,0,0,0,0]
["",null,null,null,null,"",null,"",null,null,null,null,"",null,{"$f":"'Stammdaten Mitarbeitende'!AA179","v":""},{"$f":"IF($A179=\"\",\"\",'Stammdaten Mitarbeitende'!L179)","v":""},{"$f":"IF(OR($A179=\"\",'Stammdaten Mitarbeitende'!J179=\"\"),\"\",'Stammdaten Mitarbeitende'!J179)","v":""},"","",0,0,0,0,0,0,0]
[{"$f":"Übersetzungstexte!A$230","v":"Seitentotal"},null,{"$f":"SUM(C159:C179)","v":0},null,{"$f":"SUM(E159:E179)","v":0},{"$f":"SUM(F159:F179)","v":0},null,{"$f":"Übersetzungstexte!A$230","v":"Seitentotal"},null,{"$f":"SUM(J159:J179)","v":0},null,{"$f":"SUM(L159:L179)","v":0},{"$f":"SUM(M159:M179)","v":0}]
[{"$f":"'Stammdaten Betrieb & Abteilung'!D$1","v":"  "},null,null,null,null,null,null,{"$f":"Übersetzungstexte!A$190","v":"Betrieb / Betriebsabteilung"},{"$f":"'Stammdaten Betrieb & Abteilung'!D$13","v":" "}]
[{"$f":"'Stammdaten Betrieb & Abteilung'!D$3","v":" "},null,null,null,null,null,null,{"$f":"Übersetzungstexte!A$191","v":"PLZ/Ort"},{"$f":"'Stammdaten Betrieb & Abteilung'!D$4","v":" "}]
[]
[null,null,null,null,null,{"$f":"CONCATENATE(Übersetzungstexte!A$192,\" \",TEXT(MONTH(P$3),\"00\"),\".\",YEAR(P$3))","v":"Zeitgleiche Periode des Vorjahres: 01.3799"},null,null,null,null,null,null,{"$f":"CONCATENATE(Übersetzungstexte!A$211,\" \",TEXT(MONTH(P$4),\"00\"),\".\",YEAR(P$4))","v":"Zeitgleiche Periode des vorletzten Jahres: 01.3798"}]
[1,2,3,4,5,6,null,1,2,3,4,5,6,null,null,null,null,"Regel 4","Regel 5","Sollstd.","Absenzen",null,"Sollstd.","Absenzen"]
[{"$f":"Übersetzungstexte!A$193","v":""},{"$f":"Übersetzungstexte!A$196","v":"vertragliche"},{"$f":"Übersetzungstexte!A$199","v":"Sollstd. zeitgl."},{"$f":"Übersetzungstexte!A$202","v":"Istzeit"},{"$f":"Übersetzungstexte!A$205","v":"Bezahlte/"},{"$f":"Übersetzungstexte!A$208","v":"Ausfallstunden"},null,{"$f":"Übersetzungstexte!A$212","v":""},{"$f":"Übersetzungstexte!A$215","v":"vertragliche"},{"$f":"Übersetzungstexte!A$218","v":"Sollstd. zeitgl."},{"$f":"Übersetzungstexte!A$221","v":"Istzeit"},{"$f":"Übersetzungstexte!A$224","v":"Bezahlte/"},{"$f":"Übersetzungstexte!A$227","v":"Ausfallstunden"},null,null,"anrechen-","vertragl.","Ausfall-","Ausfall-","betroffene","betroffene","Ausfall-","betroffene","betroffene","Ausfall-"]
[{"$f":"Übersetzungstexte!A$194","v":""},{"$f":"Übersetzungstexte!A$197","v":"wöchentliche"},{"$f":"Übersetzungstexte!A$200","v":"Periode inkl."},{"$f":"Übersetzungstexte!A$203","v":""},{"$f":"Übersetzungstexte!A$206","v":"Unbezahlte"},{"$f":"Übersetzungstexte!A$209","v":""},null,{"$f":"Übersetzungstexte!A$213","v":""},{"$f":"Übersetzungstexte!A$216","v":"wöchentliche"},{"$f":"Übersetzungstexte!A$219","v":"Periode inkl."},{"$f":"Übersetzungstexte!A$222","v":""},{"$f":"Übersetzungstexte!A$225","v":"Unbezahlte"},{"$f":"Übersetzungstexte!A$228","v":""},null,null,"barer Std.-","wöchentl.","stunden","stunden","Mitarbeiter","Mitarbeiter","stunden","Mitarbeiter","Mitarbeiter","stunden","Max. der"]
[{"$f":"Übersetzungstexte!A$195","v":"Name,Vorname"},{"$f":"Übersetzungstexte!A$198","v":"Arbeitszeit"},{"$f":"Übersetzungstexte!A$201","v":"Vorholzeit"},{"$f":"Übersetzungstexte!A$204","v":""},{"$f":"Übersetzungstexte!A$207","v":"Absenzen"},{"$f":"Übersetzungstexte!A$210","v":""},null,{"$f":"Übersetzungstexte!A$214","v":"Name,Vorname"},{"$f":"Übersetzungstexte!A$217","v":"Arbeitszeit"},{"$f":"Übersetzungstexte!A$220","v":"Vorholzeit"},{"$f":"Übersetzungstexte!A$223","v":""},{"$f":"Übersetzungstexte!A$226","v":"Absenzen"},{"$f":"Übersetzungstexte!A$229","v":""},null,"Name,Vorname","Verdienst","Arbeitszeit",{"$f":"P$3","v":"3799-01-01"},{"$f":"P$4","v":"3798-01-01"},"Vorjahr","Vorjahr","Vorjahr","Vorvorjahr","Vorvorjahr","Vorvorjahr","Spalte"]
[{"$f":"O189","v":""},null,null,null,null,{"$f":"R189","v":""},null,{"$f":"O189","v":""},null,null,null,null,{"$f":"S189","v":""},null,{"$f":"'Stammdaten Mitarbeitende'!AA189","v":""},{"$f":"IF($A189=\"\",\"\",'Stammdaten Mitarbeitende'!L189)","v":""},{"$f":"IF(OR($A189=\"\",'Stammdaten Mitarbeitende'!J189=\"\"),\"\",'Stammdaten Mitarbeitende'!J189)","v":""},{"$f":"IF(OR($A189=\"\",C189=\"\",D189=\"\",E189=\"\"),\"\",MAX(C189-D189-E189,0))","v":""},{"$f":"IF(OR($H189=\"\",J189=\"\",K189=\"\",L189=\"\"),\"\",MAX(J189-K189-L189,0))","v":""},{"$f":"IF(OR(F189=\"\"),0,C189)","v":0},{"$f":"IF(OR(F189=\"\"),0,E189)","v":0},{"$f":"IF(OR(F189<=0,F189=\"\"),0,R189)","v":0},{"$f":"IF(OR(M189=\"\"),0,J189)","v":0},{"$f":"IF(OR(M189=\"\"),0,L189)","v":0},{"$f":"IF(OR(M189<=0,M189=\"\"),0,S189)","v":0},{"$f":"MAX(P189:Y189)","v":0}]
["",null,null,null,null,"",null,"",null,null,null,null,"",null,{"$f":"'Stammdaten Mitarbeitende'!AA190","v":""},{"$f":"IF($A190=\"\",\"\",'Stammdaten Mitarbeitende'!L190)","v":""},{"$f":"IF(OR($A190=\"\",'Stammdaten Mitarbeitende'!J190=\"\"),\"\",'Stammdaten Mitarbeitende'!J190)","v":""},"",{"$f":"IF(OR($H190=\"\",J190=\"\",K190=\"\",L190=\"\"),\"\",MAX(J190-K190-L190,0))","v":""},0,0,0,0,0,0,{"$f":"MAX(P190:Y190)","v":0}]
["",null,null,null,null,"",null,"",null,null,null,null,"",null,{"$f":"'Stammdaten Mitarbeitende'!AA191","v":""},{"$f":"IF($A191=\"\",\"\",'Stammdaten Mitarbeitende'!L191)","v":""},{"$f":"IF(OR($A191=\"\",'Stammdaten Mitarbeitende'!J191=\"\"),\"\",'Stammdaten Mitarbeitende'!J191)","v":""},"","",0,0,0,0,0,0,0]
["",null,null,null,null,"",null,"",null,null,null,null,"",null,{"$f":"'Stammdaten Mitarbeitende'!AA192","v":""},{"$f":"IF($A192=\"\",\"\",'Stammdaten Mitarbeitende'!L192)","v":""},{"$f":"IF(OR($A192=\"\",'Stammdaten Mitarbeitende'!J192=\"\"),\"\",'Stammdaten Mitarbeitende'!J192)","v":""},"","",0,0,0,0,0,0,0]
["",null,null,null,null,"",null,"",null,null,null,null,"",null,{"$f":"'Stammdaten Mitarbeitende'!AA193","v":""},{"$f":"IF($A193=\"\",\"\",'Stammdaten Mitarbeitende'!L193)","v":""},{"$f":"IF(OR($A193=\"\",'Stammdaten Mitarbeitende'!J193=\"\"),\"\",'Stammdaten Mitarbeitende'!J193)","v":""},"","",0,0,0,0,0,0,0]
["",null,null,null,null,"",null,"",null,null,null,null,"",null,{"$f":"'Stammdaten Mitarbeitende'!AA194","v":""},{"$f":"IF($A194=\"\",\"\",'Stammdaten Mitarbeitende'!L194)","v":""},{"$f":"IF(OR($A194=\"\",'Stammdaten Mitarbeitende'!J194=\"\"),\"\",'Stammdaten Mitarbeitende'!J194)","v":""},"","",0,0,0,0,0,0,0]
["",null,null,null,null,"",null,"",null,null,null,null,"",null,{"$f":"'Stammdaten Mitarbeitende'!AA195","v":""},{"$f":"IF($A195=\"\",\"\",'Stammdaten Mitarbeitende'!L195)","v":""},{"$f":"IF(OR($A195=\"\",'Stammdaten Mitarbeitende'!J195=\"\"),\"\",'Stammdaten Mitarbeitende'!J195)","v":""},"","",0,0,0,0,0,0,0]
["",null,null,null,null,"",null,"",null,null,null,null,"",null,{"$f":"'Stammdaten Mitarbeitende'!AA196","v":""},{"$f":"IF($A196=\"\",\"\",'Stammdaten Mitarbeitende'!L196)","v":""},{"$f":"IF(OR($A196=\"\",'Stammdaten Mitarbeitende'!J196=\"\"),\"\",'Stammdaten Mitarbeitende'!J196)","v":""},"","",0,0,0,0,0,0,0]
["",null,null,null,null,"",null,"",null,null,null,null,"",null,{"$f":"'Stammdaten Mitarbeitende'!AA197","v":""},{"$f":"IF($A197=\"\",\"\",'Stammdaten Mitarbeitende'!L197)","v":""},{"$f":"IF(OR($A197=\"\",'Stammdaten Mitarbeitende'!J197=\"\"),\"\",'Stammdaten Mitarbeitende'!J197)","v":""},"","",0,0,0,0,0,0,0]
["",null,null,null,null,"",null,"",null,null,null,null,"",null,{"$f":"'Stammdaten Mitarbeitende'!AA198","v":""},{"$f":"IF($A198=\"\",\"\",'Stammdaten Mitarbeitende'!L198)","v":""},{"$f":"IF(OR($A198=\"\",'Stammdaten Mitarbeitende'!J198=\"\"),\"\",'Stammdaten Mitarbeitende'!J198)","v":""},"","",0,0,0,0,0,0,0]
["",null,null,null,null,"",null,"",null,null,null,null,"",null,{"$f":"'Stammdaten Mitarbeitende'!AA199","v":""},{"$f":"IF($A199=\"\",\"\",'Stammdaten Mitarbeitende'!L199)","v":""},{"$f":"IF(OR($A199=\"\",'Stammdaten Mitarbeitende'!J199=\"\"),\"\",'Stammdaten Mitarbeitende'!J199)","v":""},"","",0,0,0,0,0,0,0]
["",null,null,null,null,"",null,"",null,null,null,null,"",null,{"$f":"'Stammdaten Mitarbeitende'!AA200","v":""},{"$f":"IF($A200=\"\",\"\",'Stammdaten Mitarbeitende'!L200)","v":""},{"$f":"IF(OR($A200=\"\",'Stammdaten Mitarbeitende'!J200=\"\"),\"\",'Stammdaten Mitarbeitende'!J200)","v":""},"","",0,0,0,0,0,0,0]
["",null,null,null,null,"",null,"",null,null,null,null,"",null,{"$f":"'Stammdaten Mitarbeitende'!AA201","v":""},{"$f":"IF($A201=\"\",\"\",'Stammdaten Mitarbeitende'!L201)","v":""},{"$f":"IF(OR($A201=\"\",'Stammdaten Mitarbeitende'!J201=\"\"),\"\",'Stammdaten Mitarbeitende'!J201)","v":""},"","",0,0,0,0,0,0,0]
["",null,null,null,null,"",null,"",null,null,null,null,"",null,{"$f":"'Stammdaten Mitarbeitende'!AA202","v":""},{"$f":"IF($A202=\"\",\"\",'Stammdaten Mitarbeitende'!L202)","v":""},{"$f":"IF(OR($A202=\"\",'Stammdaten Mitarbeitende'!J202=\"\"),\"\",'Stammdaten Mitarbeitende'!J202)","v":""},"","",0,0,0,0,0,0,0]
["",null,null,null,null,"",null,"",null,null,null,null,"",null,{"$f":"'Stammdaten Mitarbeitende'!AA203","v":""},{"$f":"IF($A203=\"\",\"\",'Stammdaten Mitarbeitende'!L203)","v":""},{"$f":"IF(OR($A203=\"\",'Stammdaten Mitarbeitende'!J203=\"\"),\"\",'Stammdaten Mitarbeitende'!J203)","v":""},"","",0,0,0,0,0,0,0]
["",null,null,null,null,"",null,"",null,null,null,null,"",null,{"$f":"'Stammdaten Mitarbeitende'!AA204","v":""},{"$f":"IF($A204=\"\",\"\",'Stammdaten Mitarbeitende'!L204)","v":""},{"$f":"IF(OR($A204=\"\",'Stammdaten Mitarbeitende'!J204=\"\"),\"\",'Stammdaten Mitarbeitende'!J204)","v":""},"","",0,0,0,0,0,0,0]
["",null,null,null,null,"",null,"",null,null,null,null,"",null,{"$f":"'Stammdaten Mitarbeitende'!AA205","v":""},{"$f":"IF($A205=\"\",\"\",'Stammdaten Mitarbeitende'!L205)","v":""},{"$f":"IF(OR($A205=\"\",'Stammdaten Mitarbeitende'!J205=\"\"),\"\",'Stammdaten Mitarbeitende'!J205)","v":""},"","",0,0,0,0,0,0,0]
["",null,null,null,null,"",null,"",null,null,null,null,"",null,{"$f":"'Stammdaten Mitarbeitende'!AA206","v":""},{"$f":"IF($A206=\"\",\"\",'Stammdaten Mitarbeitende'!L206)","v":""},{"$f":"IF(OR($A206=\"\",'Stammdaten Mitarbeitende'!J206=\"\"),\"\",'Stammdaten Mitarbeitende'!J206)","v":""},"","",0,0,0,0,0,0,0]
["",null,null,null,null,"",null,"",null,null,null,null,"",null,{"$f":"'Stammdaten Mitarbeitende'!AA207","v":""},{"$f":"IF($A207=\"\",\"\",'Stammdaten Mitarbeitende'!L207)","v":""},{"$f":"IF(OR($A207=\"\",'Stammdaten Mitarbeitende'!J207=\"\"),\"\",'Stammdaten Mitarbeitende'!J207)","v":""},"","",0,0,0,0,0,0,0]
["",null,null,null,null,"",null,"",null,null,null,null,"",null,{"$f":"'Stammdaten Mitarbeitende'!AA208","v":""},{"$f":"IF($A208=\"\",\"\",'Stammdaten Mitarbeitende'!L208)","v":""},{"$f":"IF(OR($A208=\"\",'Stammdaten Mitarbeitende'!J208=\"\"),\"\",'Stammdaten Mitarbeitende'!J208)","v":""},"","",0,0,0,0,0,0,0]
["",null,null,null,null,"",null,"",null,null,null,null,"",null,{"$f":"'Stammdaten Mitarbeitende'!AA209","v":""},{"$f":"IF($A209=\"\",\"\",'Stammdaten Mitarbeitende'!L209)","v":""},{"$f":"IF(OR($A209=\"\",'Stammdaten Mitarbeitende'!J209=\"\"),\"\",'Stammdaten Mitarbeitende'!J209)","v":""},"","",0,0,0,0,0,0,0]
[{"$f":"Übersetzungstexte!A$230","v":"Seitentotal"},null,{"$f":"SUM(C189:C209)","v":0},null,{"$f":"SUM(E189:E209)","v":0},{"$f":"SUM(F189:F209)","v":0},null,{"$f":"Übersetzungstexte!A$230","v":"Seitentotal"},null,{"$f":"SUM(J189:J209)","v":0},null,{"$f":"SUM(L189:L209)","v":0},{"$f":"SUM(M189:M209)","v":0}]
[{"$f":"'Stammdaten Betrieb & Abteilung'!D$1","v":"  "},null,null,null,null,null,null,{"$f":"Übersetzungstexte!A$190","v":"Betrieb / Betriebsabteilung"},{"$f":"'Stammdaten Betrieb & Abteilung'!D$13","v":" "}]
[{"$f":"'Stammdaten Betrieb & Abteilung'!D$3","v":" "},null,null,null,null,null,null,{"$f":"Übersetzungstexte!A$191","v":"PLZ/Ort"},{"$f":"'Stammdaten Betrieb & Abteilung'!D$4","v":" "}]
[]
[null,null,null,null,null,{"$f":"CONCATENATE(Übersetzungstexte!A$192,\" \",TEXT(MONTH(P$3),\"00\"),\".\",YEAR(P$3))","v":"Zeitgleiche Periode des Vorjahres: 01.3799"},null,null,null,null,null,null,{"$f":"CONCATENATE(Übersetzungstexte!A$211,\" \",TEXT(MONTH(P$4),\"00\"),\".\",YEAR(P$4))","v":"Zeitgleiche Periode des vorletzten Jahres: 01.3798"}]
[1,2,3,4,5,6,null,1,2,3,4,5,6,null,null,null,null,"Regel 4","Regel 5","Sollstd.","Absenzen",null,"Sollstd.","Absenzen"]
[{"$f":"Übersetzungstexte!A$193","v":""},{"$f":"Übersetzungstexte!A$196","v":"vertragliche"},{"$f":"Übersetzungstexte!A$199","v":"Sollstd. zeitgl."},{"$f":"Übersetzungstexte!A$202","v":"Istzeit"},{"$f":"Übersetzungstexte!A$205","v":"Bezahlte/"},{"$f":"Übersetzungstexte!A$208","v":"Ausfallstunden"},null,{"$f":"Übersetzungstexte!A$212","v":""},{"$f":"Übersetzungstexte!A$215","v":"vertragliche"},{"$f":"Übersetzungstexte!A$218","v":"Sollstd. zeitgl."},{"$f":"Übersetzungstexte!A$221","v":"Istzeit"},{"$f":"Übersetzungstexte!A$224","v":"Bezahlte/"},{"$f":"Übersetzungstexte!A$227","v":"Ausfallstunden"},null,null,"anrechen-","vertragl.","Ausfall-","Ausfall-","betroffene","betroffene","Ausfall-","betroffene","betroffene","Ausfall-"]
[{"$f":"Übersetzungstexte!A$194","v":""},{"$f":"Übersetzungstexte!A$197","v":"wöchentliche"},{"$f":"Übersetzungstexte!A$200","v":"Periode inkl."},{"$f":"Übersetzungstexte!A$203","v":""},{"$f":"Übersetzungstexte!A$206","v":"Unbezahlte"},{"$f":"Übersetzungstexte!A$209","v":""},null,{"$f":"Übersetzungstexte!A$213","v":""},{"$f":"Übersetzungstexte!A$216","v":"wöchentliche"},{"$f":"Übersetzungstexte!A$219","v":"Periode inkl."},{"$f":"Übersetzungstexte!A$222","v":""},{"$f":"Übersetzungstexte!A$225","v":"Unbezahlte"},{"$f":"Übersetzungstexte!A$228","v":""},null,null,"barer Std.-","wöchentl.","stunden","stunden","Mitarbeiter","Mitarbeiter","stunden","Mitarbeiter","Mitarbeiter","stunden","Max. der"]
[{"$f":"Übersetzungstexte!A$195","v":"Name,Vorname"},{"$f":"Übersetzungstexte!A$198","v":"Arbeitszeit"},{"$f":"Übersetzungstexte!A$201","v":"Vorholzeit"},{"$f":"Übersetzungstexte!A$204","v":""},{"$f":"Übersetzungstexte!A$207","v":"Absenzen"},{"$f":"Übersetzungstexte!A$210","v":""},null,{"$f":"Übersetzungstexte!A$214","v":"Name,Vorname"},{"$f":"Übersetzungstexte!A$217","v":"Arbeitszeit"},{"$f":"Übersetzungstexte!A$220","v":"Vorholzeit"},{"$f":"Übersetzungstexte!A$223","v":""},{"$f":"Übersetzungstexte!A$226","v":"Absenzen"},{"$f":"Übersetzungstexte!A$229","v":""},null,"Name,Vorname","Verdienst","Arbeitszeit",{"$f":"P$3","v":"3799-01-01"},{"$f":"P$4","v":"3798-01-01"},"Vorjahr","Vorjahr","Vorjahr","Vorvorjahr","Vorvorjahr","Vorvorjahr","Spalte"]
[{"$f":"O219","v":""},null,null,null,null,{"$f":"R219","v":""},null,{"$f":"O219","v":""},null,null,null,null,{"$f":"S219","v":""},null,{"$f":"'Stammdaten Mitarbeitende'!AA219","v":""},{"$f":"IF($A219=\"\",\"\",'Stammdaten Mitarbeitende'!L219)","v":""},{"$f":"IF(OR($A219=\"\",'Stammdaten Mitarbeitende'!J219=\"\"),\"\",'Stammdaten Mitarbeitende'!J219)","v":""},{"$f":"IF(OR($A219=\"\",C219=\"\",D219=\"\",E219=\"\"),\"\",MAX(C219-D219-E219,0))","v":""},{"$f":"IF(OR($H219=\"\",J219=\"\",K219=\"\",L219=\"\"),\"\",MAX(J219-K219-L219,0))","v":""},{"$f":"IF(OR(F219=\"\"),0,C219)","v":0},{"$f":"IF(OR(F219=\"\"),0,E219)","v":0},{"$f":"IF(OR(F219<=0,F219=\"\"),0,R219)","v":0},{"$f":"IF(OR(M219=\"\"),0,J219)","v":0},{"$f":"IF(OR(M219=\"\"),0,L219)","v":0},{"$f":"IF(OR(M219<=0,M219=\"\"),0,S219)","v":0},{"$f":"MAX(P219:Y219)","v":0}]
["",null,null,null,null,"",null,"",null,null,null,null,"",null,{"$f":"'Stammdaten Mitarbeitende'!AA220","v":""},{"$f":"IF($A220=\"\",\"\",'Stammdaten Mitarbeitende'!L220)","v":""},{"$f":"IF(OR($A220=\"\",'Stammdaten Mitarbeitende'!J220=\"\"),\"\",'Stammdaten Mitarbeitende'!J220)","v":""},"",{"$f":"IF(OR($H220=\"\",J220=\"\",K220=\"\",L220=\"\"),\"\",MAX(J220-K220-L220,0))","v":""},0,0,0,0,0,0,{"$f":"MAX(P220:Y220)","v":0}]
["",null,null,null,null,"",null,"",null,null,null,null,"",null,{"$f":"'Stammdaten Mitarbeitende'!AA221","v":""},{"$f":"IF($A221=\"\",\"\",'Stammdaten Mitarbeitende'!L221)","v":""},{"$f":"IF(OR($A221=\"\",'Stammdaten Mitarbeitende'!J221=\"\"),\"\",'Stammdaten Mitarbeitende'!J221)","v":""},"","",0,0,0,0,0,0,0]
["",null,null,null,null,"",null,"",null,null,null,null,"",null,{"$f":"'Stammdaten Mitarbeitende'!AA222","v":""},{"$f":"IF($A222=\"\",\"\",'Stammdaten Mitarbeitende'!L222)","v":""},{"$f":"IF(OR($A222=\"\",'Stammdaten Mitarbeitende'!J222=\"\"),\"\",'Stammdaten Mitarbeitende'!J222)","v":""},"","",0,0,0,0,0,0,0]
["",null,null,null,null,"",null,"",null,null,null,null,"",null,{"$f":"'Stammdaten Mitarbeitende'!AA223","v":""},{"$f":"IF($A223=\"\",\"\",'Stammdaten Mitarbeitende'!L223)","v":""},{"$f":"IF(OR($A223=\"\",'Stammdaten Mitarbeitende'!J223=\"\"),\"\",'Stammdaten Mitarbeitende'!J223)","v":""},"","",0,0,0,0,0,0,0]
["",null,null,null,null,"",null,"",null,null,null,null,"",null,{"$f":"'Stammdaten Mitarbeitende'!AA224","v":""},{"$f":"IF($A224=\"\",\"\",'Stammdaten Mitarbeitende'!L224)","v":""},{"$f":"IF(OR($A224=\"\",'Stammdaten Mitarbeitende'!J224=\"\"),\"\",'Stammdaten Mitarbeitende'!J224)","v":""},"","",0,0,0,0,0,0,0]
["",null,null,null,null,"",null,"",null,null,null,null,"",null,{"$f":"'Stammdaten Mitarbeitende'!AA225","v":""},{"$f":"IF($A225=\"\",\"\",'Stammdaten Mitarbeitende'!L225)","v":""},{"$f":"IF(OR($A225=\"\",'Stammdaten Mitarbeitende'!J225=\"\"),\"\",'Stammdaten Mitarbeitende'!J225)","v":""},"","",0,0,0,0,0,0,0]
["",null,null,null,null,"",null,"",null,null,null,null,"",null,{"$f":"'Stammdaten Mitarbeitende'!AA226","v":""},{"$f":"IF($A226=\"\",\"\",'Stammdaten Mitarbeitende'!L226)","v":""},{"$f":"IF(OR($A226=\"\",'Stammdaten Mitarbeitende'!J226=\"\"),\"\",'Stammdaten Mitarbeitende'!J226)","v":""},"","",0,0,0,0,0,0,0]
["",null,null,null,null,"",null,"",null,null,null,null,"",null,{"$f":"'Stammdaten Mitarbeitende'!AA227","v":""},{"$f":"IF($A227=\"\",\"\",'Stammdaten Mitarbeitende'!L227)","v":""},{"$f":"IF(OR($A227=\"\",'Stammdaten Mitarbeitende'!J227=\"\"),\"\",'Stammdaten Mitarbeitende'!J227)","v":""},"","",0,0,0,0,0,0,0]
["",null,null,null,null,"",null,"",null,null,null,null,"",null,{"$f":"'Stammdaten Mitarbeitende'!AA228","v":""},{"$f":"IF($A228=\"\",\"\",'Stammdaten Mitarbeitende'!L228)","v":""},{"$f":"IF(OR($A228=\"\",'Stammdaten Mitarbeitende'!J228=\"\"),\"\",'Stammdaten Mitarbeitende'!J228)","v":""},"","",0,0,0,0,0,0,0]
["",null,null,null,null,"",null,"",null,null,null,null,"",null,{"$f":"'Stammdaten Mitarbeitende'!AA229","v":""},{"$f":"IF($A229=\"\",\"\",'Stammdaten Mitarbeitende'!L229)","v":""},{"$f":"IF(OR($A229=\"\",'Stammdaten Mitarbeitende'!J229=\"\"),\"\",'Stammdaten Mitarbeitende'!J229)","v":""},"","",0,0,0,0,0,0,0]
["",null,null,null,null,"",null,"",null,null,null,null,"",null,{"$f":"'Stammdaten Mitarbeitende'!AA230","v":""},{"$f":"IF($A230=\"\",\"\",'Stammdaten Mitarbeitende'!L230)","v":""},{"$f":"IF(OR($A230=\"\",'Stammdaten Mitarbeitende'!J230=\"\"),\"\",'Stammdaten Mitarbeitende'!J230)","v":""},"","",0,0,0,0,0,0,0]
["",null,null,null,null,"",null,"",null,null,null,null,"",null,{"$f":"'Stammdaten Mitarbeitende'!AA231","v":""},{"$f":"IF($A231=\"\",\"\",'Stammdaten Mitarbeitende'!L231)","v":""},{"$f":"IF(OR($A231=\"\",'Stammdaten Mitarbeitende'!J231=\"\"),\"\",'Stammdaten Mitarbeitende'!J231)","v":""},"","",0,0,0,0,0,0,0]
["",null,null,null,null,"",null,"",null,null,null,null,"",null,{"$f":"'Stammdaten Mitarbeitende'!AA232","v":""},{"$f":"IF($A232=\"\",\"\",'Stammdaten Mitarbeitende'!L232)","v":""},{"$f":"IF(OR($A232=\"\",'Stammdaten Mitarbeitende'!J232=\"\"),\"\",'Stammdaten Mitarbeitende'!J232)","v":""},"","",0,0,0,0,0,0,0]
["",null,null,null,null,"",null,"",null,null,null,null,"",null,{"$f":"'Stammdaten Mitarbeitende'!AA233","v":""},{"$f":"IF($A233=\"\",\"\",'Stammdaten Mitarbeitende'!L233)","v":""},{"$f":"IF(OR($A233=\"\",'Stammdaten Mitarbeitende'!J233=\"\"),\"\",'Stammdaten Mitarbeitende'!J233)","v":""},"","",0,0,0,0,0,0,0]
["",null,null,null,null,"",null,"",null,null,null,null,"",null,{"$f":"'Stammdaten Mitarbeitende'!AA234","v":""},{"$f":"IF($A234=\"\",\"\",'Stammdaten Mitarbeitende'!L234)","v":""},{"$f":"IF(OR($A234=\"\",'Stammdaten Mitarbeitende'!J234=\"\"),\"\",'Stammdaten Mitarbeitende'!J234)","v":""},"","",0,0,0,0,0,0,0]
["",null,null,null,null,"",null,"",null,null,null,null,"",null,{"$f":"'Stammdaten Mitarbeitende'!AA235","v":""},{"$f":"IF($A235=\"\",\"\",'Stammdaten Mitarbeitende'!L235)","v":""},{"$f":"IF(OR($A235=\"\",'Stammdaten Mitarbeitende'!J235=\"\"),\"\",'Stammdaten Mitarbeitende'!J235)","v":""},"","",0,0,0,0,0,0,0]
["",null,null,null,null,"",null,"",null,null,null,null,"",null,{"$f":"'Stammdaten Mitarbeitende'!AA236","v":""},{"$f":"IF($A236=\"\",\"\",'Stammdaten Mitarbeitende'!L236)","v":""},{"$f":"IF(OR($A236=\"\",'Stammdaten Mitarbeitende'!J236=\"\"),\"\",'Stammdaten Mitarbeitende'!J236)","v":""},"","",0,0,0,0,0,0,0]
["",null,null,null,null,"",null,"",null,null,null,null,"",null,{"$f":"'Stammdaten Mitarbeitende'!AA237","v":""},{"$f":"IF($A237=\"\",\"\",'Stammdaten Mitarbeitende'!L237)","v":""},{"$f":"IF(OR($A237=\"\",'Stammdaten Mitarbeitende'!J237=\"\"),\"\",'Stammdaten Mitarbeitende'!J237)","v":""},"","",0,0,0,0,0,0,0]
["",null,null,null,null,"",null,"",null,null,null,null,"",null,{"$f":"'Stammdaten Mitarbeitende'!AA238","v":""},{"$f":"IF($A238=\"\",\"\",'Stammdaten Mitarbeitende'!L238)","v":""},{"$f":"IF(OR($A238=\"\",'Stammdaten Mitarbeitende'!J238=\"\"),\"\",'Stammdaten Mitarbeitende'!J238)","v":""},"","",0,0,0,0,0,0,0]
["",null,null,null,null,"",null,"",null,null,null,null,"",null,{"$f":"'Stammdaten Mitarbeitende'!AA239","v":""},{"$f":"IF($A239=\"\",\"\",'Stammdaten Mitarbeitende'!L239)","v":""},{"$f":"IF(OR($A239=\"\",'Stammdaten Mitarbeitende'!J239=\"\"),\"\",'Stammdaten Mitarbeitende'!J239)","v":""},"","",0,0,0,0,0,0,0]
[{"$f":"Übersetzungstexte!A$230","v":"Seitentotal"},null,{"$f":"SUM(C219:C239)","v":0},null,{"$f":"SUM(E219:E239)","v":0},{"$f":"SUM(F219:F239)","v":0},null,{"$f":"Übersetzungstexte!A$230","v":"Seitentotal"},null,{"$f":"SUM(J219:J239)","v":0},null,{"$f":"SUM(L219:L239)","v":0},{"$f":"SUM(M219:M239)","v":0}]
[{"$f":"'Stammdaten Betrieb & Abteilung'!D$1","v":"  "},null,null,null,null,null,null,{"$f":"Übersetzungstexte!A$190","v":"Betrieb / Betriebsabteilung"},{"$f":"'Stammdaten Betrieb & Abteilung'!D$13","v":" "}]
[{"$f":"'Stammdaten Betrieb & Abteilung'!D$3","v":" "},null,null,null,null,null,null,{"$f":"Übersetzungstexte!A$191","v":"PLZ/Ort"},{"$f":"'Stammdaten Betrieb & Abteilung'!D$4","v":" "}]
[]
[null,null,null,null,null,{"$f":"CONCATENATE(Übersetzungstexte!A$192,\" \",TEXT(MONTH(P$3),\"00\"),\".\",YEAR(P$3))","v":"Zeitgleiche Periode des Vorjahres: 01.3799"},null,null,null,null,null,null,{"$f":"CONCATENATE(Übersetzungstexte!A$211,\" \",TEXT(MONTH(P$4),\"00\"),\".\",YEAR(P$4))","v":"Zeitgleiche Periode des vorletzten Jahres: 01.3798"}]
[1,2,3,4,5,6,null,1,2,3,4,5,6,null,null,null,null,"Regel 4","Regel 5","Sollstd.","Absenzen",null,"Sollstd.","Absenzen"]
[{"$f":"Übersetzungstexte!A$193","v":""},{"$f":"Übersetzungstexte!A$196","v":"vertragliche"},{"$f":"Übersetzungstexte!A$199","v":"Sollstd. zeitgl."},{"$f":"Übersetzungstexte!A$202","v":"Istzeit"},{"$f":"Übersetzungstexte!A$205","v":"Bezahlte/"},{"$f":"Übersetzungstexte!A$208","v":"Ausfallstunden"},null,{"$f":"Übersetzungstexte!A$212","v":""},{"$f":"Übersetzungstexte!A$215","v":"vertragliche"},{"$f":"Übersetzungstexte!A$218","v":"Sollstd. zeitgl."},{"$f":"Übersetzungstexte!A$221","v":"Istzeit"},{"$f":"Übersetzungstexte!A$224","v":"Bezahlte/"},{"$f":"Übersetzungstexte!A$227","v":"Ausfallstunden"},null,null,"anrechen-","vertragl.","Ausfall-","Ausfall-","betroffene","betroffene","Ausfall-","betroffene","betroffene","Ausfall-"]
[{"$f":"Übersetzungstexte!A$194","v":""},{"$f":"Übersetzungstexte!A$197","v":"wöchentliche"},{"$f":"Übersetzungstexte!A$200","v":"Periode inkl."},{"$f":"Übersetzungstexte!A$203","v":""},{"$f":"Übersetzungstexte!A$206","v":"Unbezahlte"},{"$f":"Übersetzungstexte!A$209","v":""},null,{"$f":"Übersetzungstexte!A$213","v":""},{"$f":"Übersetzungstexte!A$216","v":"wöchentliche"},{"$f":"Übersetzungstexte!A$219","v":"Periode inkl."},{"$f":"Übersetzungstexte!A$222","v":""},{"$f":"Übersetzungstexte!A$225","v":"Unbezahlte"},{"$f":"Übersetzungstexte!A$228","v":""},null,null,"barer Std.-","wöchentl.","stunden","stunden","Mitarbeiter","Mitarbeiter","stunden","Mitarbeiter","Mitarbeiter","stunden","Max. der"]
[{"$f":"Übersetzungstexte!A$195","v":"Name,Vorname"},{"$f":"Übersetzungstexte!A$198","v":"Arbeitszeit"},{"$f":"Übersetzungstexte!A$201","v":"Vorholzeit"},{"$f":"Übersetzungstexte!A$204","v":""},{"$f":"Übersetzungstexte!A$207","v":"Absenzen"},{"$f":"Übersetzungstexte!A$210","v":""},null,{"$f":"Übersetzungstexte!A$214","v":"Name,Vorname"},{"$f":"Übersetzungstexte!A$217","v":"Arbeitszeit"},{"$f":"Übersetzungstexte!A$220","v":"Vorholzeit"},{"$f":"Übersetzungstexte!A$223","v":""},{"$f":"Übersetzungstexte!A$226","v":"Absenzen"},{"$f":"Übersetzungstexte!A$229","v":""},null,"Name,Vorname","Verdienst","Arbeitszeit",{"$f":"P$3","v":"3799-01-01"},{"$f":"P$4","v":"3798-01-01"},"Vorjahr","Vorjahr","Vorjahr","Vorvorjahr","Vorvorjahr","Vorvorjahr","Spalte"]
[{"$f":"O249","v":""},null,null,null,null,{"$f":"R249","v":""},null,{"$f":"O249","v":""},null,null,null,null,{"$f":"S249","v":""},null,{"$f":"'Stammdaten Mitarbeitende'!AA249","v":""},{"$f":"IF($A249=\"\",\"\",'Stammdaten Mitarbeitende'!L249)","v":""},{"$f":"IF(OR($A249=\"\",'Stammdaten Mitarbeitende'!J249=\"\"),\"\",'Stammdaten Mitarbeitende'!J249)","v":""},{"$f":"IF(OR($A249=\"\",C249=\"\",D249=\"\",E249=\"\"),\"\",MAX(C249-D249-E249,0))","v":""},{"$f":"IF(OR($H249=\"\",J249=\"\",K249=\"\",L249=\"\"),\"\",MAX(J249-K249-L249,0))","v":""},{"$f":"IF(OR(F249=\"\"),0,C249)","v":0},{"$f":"IF(OR(F249=\"\"),0,E249)","v":0},{"$f":"IF(OR(F249<=0,F249=\"\"),0,R249)","v":0},{"$f":"IF(OR(M249=\"\"),0,J249)","v":0},{"$f":"IF(OR(M249=\"\"),0,L249)","v":0},{"$f":"IF(OR(M249<=0,M249=\"\"),0,S249)","v":0},{"$f":"MAX(P249:Y249)","v":0}]
["",null,null,null,null,"",null,"",null,null,null,null,"",null,{"$f":"'Stammdaten Mitarbeitende'!AA250","v":""},{"$f":"IF($A250=\"\",\"\",'Stammdaten Mitarbeitende'!L250)","v":""},{"$f":"IF(OR($A250=\"\",'Stammdaten Mitarbeitende'!J250=\"\"),\"\",'Stammdaten Mitarbeitende'!J250)","v":""},"",{"$f":"IF(OR($H250=\"\",J250=\"\",K250=\"\",L250=\"\"),\"\",MAX(J250-K250-L250,0))","v":""},0,0,0,0,0,0,{"$f":"MAX(P250:Y250)","v":0}]
["",null,null,null,null,"",null,"",null,null,null,null,"",null,{"$f":"'Stammdaten Mitarbeitende'!AA251","v":""},{"$f":"IF($A251=\"\",\"\",'Stammdaten Mitarbeitende'!L251)","v":""},{"$f":"IF(OR($A251=\"\",'Stammdaten Mitarbeitende'!J251=\"\"),\"\",'Stammdaten Mitarbeitende'!J251)","v":""},"","",0,0,0,0,0,0,0]
["",null,null,null,null,"",null,"",null,null,null,null,"",null,{"$f":"'Stammdaten Mitarbeitende'!AA252","v":""},{"$f":"IF($A252=\"\",\"\",'Stammdaten Mitarbeitende'!L252)","v":""},{"$f":"IF(OR($A252=\"\",'Stammdaten Mitarbeitende'!J252=\"\"),\"\",'Stammdaten Mitarbeitende'!J252)","v":""},"","",0,0,0,0,0,0,0]
["",null,null,null,null,"",null,"",null,null,null,null,"",null,{"$f":"'Stammdaten Mitarbeitende'!AA253","v":""},{"$f":"IF($A253=\"\",\"\",'Stammdaten Mitarbeitende'!L253)","v":""},{"$f":"IF(OR($A253=\"\",'Stammdaten Mitarbeitende'!J253=\"\"),\"\",'Stammdaten Mitarbeitende'!J253)","v":""},"","",0,0,0,0,0,0,0]
["",null,null,null,null,"",null,"",null,null,null,null,"",null,{"$f":"'Stammdaten Mitarbeitende'!AA254","v":""},{"$f":"IF($A254=\"\",\"\",'Stammdaten Mitarbeitende'!L254)","v":""},{"$f":"IF(OR($A254=\"\",'Stammdaten Mitarbeitende'!J254=\"\"),\"\",'Stammdaten Mitarbeitende'!J254)","v":""},"","",0,0,0,0,0,0,0]
["",null,null,null,null,"",null,"",null,null,null,null,"",null,{"$f":"'Stammdaten Mitarbeitende'!AA255","v":""},{"$f":"IF($A255=\"\",\"\",'Stammdaten Mitarbeitende'!L255)","v":""},{"$f":"IF(OR($A255=\"\",'Stammdaten Mitarbeitende'!J255=\"\"),\"\",'Stammdaten Mitarbeitende'!J255)","v":""},"","",0,0,0,0,0,0,0]
["",null,null,null,null,"",null,"",null,null,null,null,"",null,{"$f":"'Stammdaten Mitarbeitende'!AA256","v":""},{"$f":"IF($A256=\"\",\"\",'Stammdaten Mitarbeitende'!L256)","v":""},{"$f":"IF(OR($A256=\"\",'Stammdaten Mitarbeitende'!J256=\"\"),\"\",'Stammdaten Mitarbeitende'!J256)","v":""},"","",0,0,0,0,0,0,0]
["",null,null,null,null,"",null,"",null,null,null,null,"",null,{"$f":"'Stammdaten Mitarbeitende'!AA257","v":""},{"$f":"IF($A257=\"\",\"\",'Stammdaten Mitarbeitende'!L257)","v":""},{"$f":"IF(OR($A257=\"\",'Stammdaten Mitarbeitende'!J257=\"\"),\"\",'Stammdaten Mitarbeitende'!J257)","v":""},"","",0,0,0,0,0,0,0]
["",null,null,null,null,"",null,"",null,null,null,null,"",null,{"$f":"'Stammdaten Mitarbeitende'!AA258","v":""},{"$f":"IF($A258=\"\",\"\",'Stammdaten Mitarbeitende'!L258)","v":""},{"$f":"IF(OR($A258=\"\",'Stammdaten Mitarbeitende'!J258=\"\"),\"\",'Stammdaten Mitarbeitende'!J258)","v":""},"","",0,0,0,0,0,0,0]
["",null,null,null,null,"",null,"",null,null,null,null,"",null,{"$f":"'Stammdaten Mitarbeitende'!AA259","v":""},{"$f":"IF($A259=\"\",\"\",'Stammdaten Mitarbeitende'!L259)","v":""},{"$f":"IF(OR($A259=\"\",'Stammdaten Mitarbeitende'!J259=\"\"),\"\",'Stammdaten Mitarbeitende'!J259)","v":""},"","",0,0,0,0,0,0,0]
["",null,null,null,null,"",null,"",null,null,null,null,"",null,{"$f":"'Stammdaten Mitarbeitende'!AA260","v":""},{"$f":"IF($A260=\"\",\"\",'Stammdaten Mitarbeitende'!L260)","v":""},{"$f":"IF(OR($A260=\"\",'Stammdaten Mitarbeitende'!J260=\"\"),\"\",'Stammdaten Mitarbeitende'!J260)","v":""},"","",0,0,0,0,0,0,0]
["",null,null,null,null,"",null,"",null,null,null,null,"",null,{"$f":"'Stammdaten Mitarbeitende'!AA261","v":""},{"$f":"IF($A261=\"\",\"\",'Stammdaten Mitarbeitende'!L261)","v":""},{"$f":"IF(OR($A261=\"\",'Stammdaten Mitarbeitende'!J261=\"\"),\"\",'Stammdaten Mitarbeitende'!J261)","v":""},"","",0,0,0,0,0,0,0]
["",null,null,null,null,"",null,"",null,null,null,null,"",null,{"$f":"'Stammdaten Mitarbeitende'!AA262","v":""},{"$f":"IF($A262=\"\",\"\",'Stammdaten Mitarbeitende'!L262)","v":""},{"$f":"IF(OR($A262=\"\",'Stammdaten Mitarbeitende'!J262=\"\"),\"\",'Stammdaten Mitarbeitende'!J262)","v":""},"","",0,0,0,0,0,0,0]
["",null,null,null,null,"",null,"",null,null,null,null,"",null,{"$f":"'Stammdaten Mitarbeitende'!AA263","v":""},{"$f":"IF($A263=\"\",\"\",'Stammdaten Mitarbeitende'!L263)","v":""},{"$f":"IF(OR($A263=\"\",'Stammdaten Mitarbeitende'!J263=\"\"),\"\",'Stammdaten Mitarbeitende'!J263)","v":""},"","",0,0,0,0,0,0,0]
["",null,null,null,null,"",null,"",null,null,null,null,"",null,{"$f":"'Stammdaten Mitarbeitende'!AA264","v":""},{"$f":"IF($A264=\"\",\"\",'Stammdaten Mitarbeitende'!L264)","v":""},{"$f":"IF(OR($A264=\"\",'Stammdaten Mitarbeitende'!J264=\"\"),\"\",'Stammdaten Mitarbeitende'!J264)","v":""},"","",0,0,0,0,0,0,0]
["",null,null,null,null,"",null,"",null,null,null,null,"",null,{"$f":"'Stammdaten Mitarbeitende'!AA265","v":""},{"$f":"IF($A265=\"\",\"\",'Stammdaten Mitarbeitende'!L265)","v":""},{"$f":"IF(OR($A265=\"\",'Stammdaten Mitarbeitende'!J265=\"\"),\"\",'Stammdaten Mitarbeitende'!J265)","v":""},"","",0,0,0,0,0,0,0]
["",null,null,null,null,"",null,"",null,null,null,null,"",null,{"$f":"'Stammdaten Mitarbeitende'!AA266","v":""},{"$f":"IF($A266=\"\",\"\",'Stammdaten Mitarbeitende'!L266)","v":""},{"$f":"IF(OR($A266=\"\",'Stammdaten Mitarbeitende'!J266=\"\"),\"\",'Stammdaten Mitarbeitende'!J266)","v":""},"","",0,0,0,0,0,0,0]
["",null,null,null,null,"",null,"",null,null,null,null,"",null,{"$f":"'Stammdaten Mitarbeitende'!AA267","v":""},{"$f":"IF($A267=\"\",\"\",'Stammdaten Mitarbeitende'!L267)","v":""},{"$f":"IF(OR($A267=\"\",'Stammdaten Mitarbeitende'!J267=\"\"),\"\",'Stammdaten Mitarbeitende'!J267)","v":""},"","",0,0,0,0,0,0,0]
["",null,null,null,null,"",null,"",null,null,null,null,"",null,{"$f":"'Stammdaten Mitarbeitende'!AA268","v":""},{"$f":"IF($A268=\"\",\"\",'Stammdaten Mitarbeitende'!L268)","v":""},{"$f":"IF(OR($A268=\"\",'Stammdaten Mitarbeitende'!J268=\"\"),\"\",'Stammdaten Mitarbeitende'!J268)","v":""},"","",0,0,0,0,0,0,0]
["",null,null,null,null,"",null,"",null,null,null,null,"",null,{"$f":"'Stammdaten Mitarbeitende'!AA269","v":""},{"$f":"IF($A269=\"\",\"\",'Stammdaten Mitarbeitende'!L269)","v":""},{"$f":"IF(OR($A269=\"\",'Stammdaten Mitarbeitende'!J269=\"\"),\"\",'Stammdaten Mitarbeitende'!J269)","v":""},"","",0,0,0,0,0,0,0]
[{"$f":"Übersetzungstexte!A$230","v":"Seitentotal"},null,{"$f":"SUM(C249:C269)","v":0},null,{"$f":"SUM(E249:E269)","v":0},{"$f":"SUM(F249:F269)","v":0},null,{"$f":"Übersetzungstexte!A$230","v":"Seitentotal"},null,{"$f":"SUM(J249:J269)","v":0},null,{"$f":"SUM(L249:L269)","v":0},{"$f":"SUM(M249:M269)","v":0}]
[{"$f":"'Stammdaten Betrieb & Abteilung'!D$1","v":"  "},null,null,null,null,null,null,{"$f":"Übersetzungstexte!A$190","v":"Betrieb / Betriebsabteilung"},{"$f":"'Stammdaten Betrieb & Abteilung'!D$13","v":" "}]
[{"$f":"'Stammdaten Betrieb & Abteilung'!D$3","v":" "},null,null,null,null,null,null,{"$f":"Übersetzungstexte!A$191","v":"PLZ/Ort"},{"$f":"'Stammdaten Betrieb & Abteilung'!D$4","v":" "}]
[]
[null,null,null,null,null,{"$f":"CONCATENATE(Übersetzungstexte!A$192,\" \",TEXT(MONTH(P$3),\"00\"),\".\",YEAR(P$3))","v":"Zeitgleiche Periode des Vorjahres: 01.3799"},null,null,null,null,null,null,{"$f":"CONCATENATE(Übersetzungstexte!A$211,\" \",TEXT(MONTH(P$4),\"00\"),\".\",YEAR(P$4))","v":"Zeitgleiche Periode des vorletzten Jahres: 01.3798"}]
[1,2,3,4,5,6,null,1,2,3,4,5,6,null,null,null,null,"Regel 4","Regel 5","Sollstd.","Absenzen",null,"Sollstd.","Absenzen"]
[{"$f":"Übersetzungstexte!A$193","v":""},{"$f":"Übersetzungstexte!A$196","v":"vertragliche"},{"$f":"Übersetzungstexte!A$199","v":"Sollstd. zeitgl."},{"$f":"Übersetzungstexte!A$202","v":"Istzeit"},{"$f":"Übersetzungstexte!A$205","v":"Bezahlte/"},{"$f":"Übersetzungstexte!A$208","v":"Ausfallstunden"},null,{"$f":"Übersetzungstexte!A$212","v":""},{"$f":"Übersetzungstexte!A$215","v":"vertragliche"},{"$f":"Übersetzungstexte!A$218","v":"Sollstd. zeitgl."},{"$f":"Übersetzungstexte!A$221","v":"Istzeit"},{"$f":"Übersetzungstexte!A$224","v":"Bezahlte/"},{"$f":"Übersetzungstexte!A$227","v":"Ausfallstunden"},null,null,"anrechen-","vertragl.","Ausfall-","Ausfall-","betroffene","betroffene","Ausfall-","betroffene","betroffene","Ausfall-"]
[{"$f":"Übersetzungstexte!A$194","v":""},{"$f":"Übersetzungstexte!A$197","v":"wöchentliche"},{"$f":"Übersetzungstexte!A$200","v":"Periode inkl."},{"$f":"Übersetzungstexte!A$203","v":""},{"$f":"Übersetzungstexte!A$206","v":"Unbezahlte"},{"$f":"Übersetzungstexte!A$209","v":""},null,{"$f":"Übersetzungstexte!A$213","v":""},{"$f":"Übersetzungstexte!A$216","v":"wöchentliche"},{"$f":"Übersetzungstexte!A$219","v":"Periode inkl."},{"$f":"Übersetzungstexte!A$222","v":""},{"$f":"Übersetzungstexte!A$225","v":"Unbezahlte"},{"$f":"Übersetzungstexte!A$228","v":""},null,null,"barer Std.-","wöchentl.","stunden","stunden","Mitarbeiter","Mitarbeiter","stunden","Mitarbeiter","Mitarbeiter","stunden","Max. der"]
[{"$f":"Übersetzungstexte!A$195","v":"Name,Vorname"},{"$f":"Übersetzungstexte!A$198","v":"Arbeitszeit"},{"$f":"Übersetzungstexte!A$201","v":"Vorholzeit"},{"$f":"Übersetzungstexte!A$204","v":""},{"$f":"Übersetzungstexte!A$207","v":"Absenzen"},{"$f":"Übersetzungstexte!A$210","v":""},null,{"$f":"Übersetzungstexte!A$214","v":"Name,Vorname"},{"$f":"Übersetzungstexte!A$217","v":"Arbeitszeit"},{"$f":"Übersetzungstexte!A$220","v":"Vorholzeit"},{"$f":"Übersetzungstexte!A$223","v":""},{"$f":"Übersetzungstexte!A$226","v":"Absenzen"},{"$f":"Übersetzungstexte!A$229","v":""},null,"Name,Vorname","Verdienst","Arbeitszeit",{"$f":"P$3","v":"3799-01-01"},{"$f":"P$4","v":"3798-01-01"},"Vorjahr","Vorjahr","Vorjahr","Vorvorjahr","Vorvorjahr","Vorvorjahr","Spalte"]
[{"$f":"O279","v":""},null,null,null,null,{"$f":"R279","v":""},null,{"$f":"O279","v":""},null,null,null,null,{"$f":"S279","v":""},null,{"$f":"'Stammdaten Mitarbeitende'!AA279","v":""},{"$f":"IF($A279=\"\",\"\",'Stammdaten Mitarbeitende'!L279)","v":""},{"$f":"IF(OR($A279=\"\",'Stammdaten Mitarbeitende'!J279=\"\"),\"\",'Stammdaten Mitarbeitende'!J279)","v":""},{"$f":"IF(OR($A279=\"\",C279=\"\",D279=\"\",E279=\"\"),\"\",MAX(C279-D279-E279,0))","v":""},{"$f":"IF(OR($H279=\"\",J279=\"\",K279=\"\",L279=\"\"),\"\",MAX(J279-K279-L279,0))","v":""},{"$f":"IF(OR(F279=\"\"),0,C279)","v":0},{"$f":"IF(OR(F279=\"\"),0,E279)","v":0},{"$f":"IF(OR(F279<=0,F279=\"\"),0,R279)","v":0},{"$f":"IF(OR(M279=\"\"),0,J279)","v":0},{"$f":"IF(OR(M279=\"\"),0,L279)","v":0},{"$f":"IF(OR(M279<=0,M279=\"\"),0,S279)","v":0},{"$f":"MAX(P279:Y279)","v":0}]
["",null,null,null,null,"",null,"",null,null,null,null,"",null,{"$f":"'Stammdaten Mitarbeitende'!AA280","v":""},{"$f":"IF($A280=\"\",\"\",'Stammdaten Mitarbeitende'!L280)","v":""},{"$f":"IF(OR($A280=\"\",'Stammdaten Mitarbeitende'!J280=\"\"),\"\",'Stammdaten Mitarbeitende'!J280)","v":""},"",{"$f":"IF(OR($H280=\"\",J280=\"\",K280=\"\",L280=\"\"),\"\",MAX(J280-K280-L280,0))","v":""},0,0,0,0,0,0,{"$f":"MAX(P280:Y280)","v":0}]
["",null,null,null,null,"",null,"",null,null,null,null,"",null,{"$f":"'Stammdaten Mitarbeitende'!AA281","v":""},{"$f":"IF($A281=\"\",\"\",'Stammdaten Mitarbeitende'!L281)","v":""},{"$f":"IF(OR($A281=\"\",'Stammdaten Mitarbeitende'!J281=\"\"),\"\",'Stammdaten Mitarbeitende'!J281)","v":""},"","",0,0,0,0,0,0,0]
["",null,null,null,null,"",null,"",null,null,null,null,"",null,{"$f":"'Stammdaten Mitarbeitende'!AA282","v":""},{"$f":"IF($A282=\"\",\"\",'Stammdaten Mitarbeitende'!L282)","v":""},{"$f":"IF(OR($A282=\"\",'Stammdaten Mitarbeitende'!J282=\"\"),\"\",'Stammdaten Mitarbeitende'!J282)","v":""},"","",0,0,0,0,0,0,0]
["",null,null,null,null,"",null,"",null,null,null,null,"",null,{"$f":"'Stammdaten Mitarbeitende'!AA283","v":""},{"$f":"IF($A283=\"\",\"\",'Stammdaten Mitarbeitende'!L283)","v":""},{"$f":"IF(OR($A283=\"\",'Stammdaten Mitarbeitende'!J283=\"\"),\"\",'Stammdaten Mitarbeitende'!J283)","v":""},"","",0,0,0,0,0,0,0]
["",null,null,null,null,"",null,"",null,null,null,null,"",null,{"$f":"'Stammdaten Mitarbeitende'!AA284","v":""},{"$f":"IF($A284=\"\",\"\",'Stammdaten Mitarbeitende'!L284)","v":""},{"$f":"IF(OR($A284=\"\",'Stammdaten Mitarbeitende'!J284=\"\"),\"\",'Stammdaten Mitarbeitende'!J284)","v":""},"","",0,0,0,0,0,0,0]
["",null,null,null,null,"",null,"",null,null,null,null,"",null,{"$f":"'Stammdaten Mitarbeitende'!AA285","v":""},{"$f":"IF($A285=\"\",\"\",'Stammdaten Mitarbeitende'!L285)","v":""},{"$f":"IF(OR($A285=\"\",'Stammdaten Mitarbeitende'!J285=\"\"),\"\",'Stammdaten Mitarbeitende'!J285)","v":""},"","",0,0,0,0,0,0,0]
["",null,null,null,null,"",null,"",null,null,null,null,"",null,{"$f":"'Stammdaten Mitarbeitende'!AA286","v":""},{"$f":"IF($A286=\"\",\"\",'Stammdaten Mitarbeitende'!L286)","v":""},{"$f":"IF(OR($A286=\"\",'Stammdaten Mitarbeitende'!J286=\"\"),\"\",'Stammdaten Mitarbeitende'!J286)","v":""},"","",0,0,0,0,0,0,0]
["",null,null,null,null,"",null,"",null,null,null,null,"",null,{"$f":"'Stammdaten Mitarbeitende'!AA287","v":""},{"$f":"IF($A287=\"\",\"\",'Stammdaten Mitarbeitende'!L287)","v":""},{"$f":"IF(OR($A287=\"\",'Stammdaten Mitarbeitende'!J287=\"\"),\"\",'Stammdaten Mitarbeitende'!J287)","v":""},"","",0,0,0,0,0,0,0]
["",null,null,null,null,"",null,"",null,null,null,null,"",null,{"$f":"'Stammdaten Mitarbeitende'!AA288","v":""},{"$f":"IF($A288=\"\",\"\",'Stammdaten Mitarbeitende'!L288)","v":""},{"$f":"IF(OR($A288=\"\",'Stammdaten Mitarbeitende'!J288=\"\"),\"\",'Stammdaten Mitarbeitende'!J288)","v":""},"","",0,0,0,0,0,0,0]
["",null,null,null,null,"",null,"",null,null,null,null,"",null,{"$f":"'Stammdaten Mitarbeitende'!AA289","v":""},{"$f":"IF($A289=\"\",\"\",'Stammdaten Mitarbeitende'!L289)","v":""},{"$f":"IF(OR($A289=\"\",'Stammdaten Mitarbeitende'!J289=\"\"),\"\",'Stammdaten Mitarbeitende'!J289)","v":""},"","",0,0,0,0,0,0,0]
["",null,null,null,null,"",null,"",null,null,null,null,"",null,{"$f":"'Stammdaten Mitarbeitende'!AA290","v":""},{"$f":"IF($A290=\"\",\"\",'Stammdaten Mitarbeitende'!L290)","v":""},{"$f":"IF(OR($A290=\"\",'Stammdaten Mitarbeitende'!J290=\"\"),\"\",'Stammdaten Mitarbeitende'!J290)","v":""},"","",0,0,0,0,0,0,0]
["",null,null,null,null,"",null,"",null,null,null,null,"",null,{"$f":"'Stammdaten Mitarbeitende'!AA291","v":""},{"$f":"IF($A291=\"\",\"\",'Stammdaten Mitarbeitende'!L291)","v":""},{"$f":"IF(OR($A291=\"\",'Stammdaten Mitarbeitende'!J291=\"\"),\"\",'Stammdaten Mitarbeitende'!J291)","v":""},"","",0,0,0,0,0,0,0]
["",null,null,null,null,"",null,"",null,null,null,null,"",null,{"$f":"'Stammdaten Mitarbeitende'!AA292","v":""},{"$f":"IF($A292=\"\",\"\",'Stammdaten Mitarbeitende'!L292)","v":""},{"$f":"IF(OR($A292=\"\",'Stammdaten Mitarbeitende'!J292=\"\"),\"\",'Stammdaten Mitarbeitende'!J292)","v":""},"","",0,0,0,0,0,0,0]
["",null,null,null,null,"",null,"",null,null,null,null,"",null,{"$f":"'Stammdaten Mitarbeitende'!AA293","v":""},{"$f":"IF($A293=\"\",\"\",'Stammdaten Mitarbeitende'!L293)","v":""},{"$f":"IF(OR($A293=\"\",'Stammdaten Mitarbeitende'!J293=\"\"),\"\",'Stammdaten Mitarbeitende'!J293)","v":""},"","",0,0,0,0,0,0,0]
["",null,null,null,null,"",null,"",null,null,null,null,"",null,{"$f":"'Stammdaten Mitarbeitende'!AA294","v":""},{"$f":"IF($A294=\"\",\"\",'Stammdaten Mitarbeitende'!L294)","v":""},{"$f":"IF(OR($A294=\"\",'Stammdaten Mitarbeitende'!J294=\"\"),\"\",'Stammdaten Mitarbeitende'!J294)","v":""},"","",0,0,0,0,0,0,0]
["",null,null,null,null,"",null,"",null,null,null,null,"",null,{"$f":"'Stammdaten Mitarbeitende'!AA295","v":""},{"$f":"IF($A295=\"\",\"\",'Stammdaten Mitarbeitende'!L295)","v":""},{"$f":"IF(OR($A295=\"\",'Stammdaten Mitarbeitende'!J295=\"\"),\"\",'Stammdaten Mitarbeitende'!J295)","v":""},"","",0,0,0,0,0,0,0]
["",null,null,null,null,"",null,"",null,null,null,null,"",null,{"$f":"'Stammdaten Mitarbeitende'!AA296","v":""},{"$f":"IF($A296=\"\",\"\",'Stammdaten Mitarbeitende'!L296)","v":""},{"$f":"IF(OR($A296=\"\",'Stammdaten Mitarbeitende'!J296=\"\"),\"\",'Stammdaten Mitarbeitende'!J296)","v":""},"","",0,0,0,0,0,0,0]
["",null,null,null,null,"",null,"",null,null,null,null,"",null,{"$f":"'Stammdaten Mitarbeitende'!AA297","v":""},{"$f":"IF($A297=\"\",\"\",'Stammdaten Mitarbeitende'!L297)","v":""},{"$f":"IF(OR($A297=\"\",'Stammdaten Mitarbeitende'!J297=\"\"),\"\",'Stammdaten Mitarbeitende'!J297)","v":""},"","",0,0,0,0,0,0,0]
["",null,null,null,null,"",null,"",null,null,null,null,"",null,{"$f":"'Stammdaten Mitarbeitende'!AA298","v":""},{"$f":"IF($A298=\"\",\"\",'Stammdaten Mitarbeitende'!L298)","v":""},{"$f":"IF(OR($A298=\"\",'Stammdaten Mitarbeitende'!J298=\"\"),\"\",'Stammdaten Mitarbeitende'!J298)","v":""},"","",0,0,0,0,0,0,0]
["",null,null,null,null,"",null,"",null,null,null,null,"",null,{"$f":"'Stammdaten Mitarbeitende'!AA299","v":""},{"$f":"IF($A299=\"\",\"\",'Stammdaten Mitarbeitende'!L299)","v":""},{"$f":"IF(OR($A299=\"\",'Stammdaten Mitarbeitende'!J299=\"\"),\"\",'Stammdaten Mitarbeitende'!J299)","v":""},"","",0,0,0,0,0,0,0]
[{"$f":"Übersetzungstexte!A$230","v":"Seitentotal"},null,{"$f":"SUM(C279:C299)","v":0},null,{"$f":"SUM(E279:E299)","v":0},{"$f":"SUM(F279:F299)","v":0},null,{"$f":"Übersetzungstexte!A$230","v":"Seitentotal"},null,{"$f":"SUM(J279:J299)","v":0},null,{"$f":"SUM(L279:L299)","v":0},{"$f":"SUM(M279:M299)","v":0}]
[{"$f":"'Stammdaten Betrieb & Abteilung'!D$1","v":"  "},null,null,null,null,null,null,{"$f":"Übersetzungstexte!A$190","v":"Betrieb / Betriebsabteilung"},{"$f":"'Stammdaten Betrieb & Abteilung'!D$13","v":" "}]
[{"$f":"'Stammdaten Betrieb & Abteilung'!D$3","v":" "},null,null,null,null,null,null,{"$f":"Übersetzungstexte!A$191","v":"PLZ/Ort"},{"$f":"'Stammdaten Betrieb & Abteilung'!D$4","v":" "}]
[]
[null,null,null,null,null,{"$f":"CONCATENATE(Übersetzungstexte!A$192,\" \",TEXT(MONTH(P$3),\"00\"),\".\",YEAR(P$3))","v":"Zeitgleiche Periode des Vorjahres: 01.3799"},null,null,null,null,null,null,{"$f":"CONCATENATE(Übersetzungstexte!A$211,\" \",TEXT(MONTH(P$4),\"00\"),\".\",YEAR(P$4))","v":"Zeitgleiche Periode des vorletzten Jahres: 01.3798"}]
[1,2,3,4,5,6,null,1,2,3,4,5,6,null,null,null,null,"Regel 4","Regel 5","Sollstd.","Absenzen",null,"Sollstd.","Absenzen"]
[{"$f":"Übersetzungstexte!A$193","v":""},{"$f":"Übersetzungstexte!A$196","v":"vertragliche"},{"$f":"Übersetzungstexte!A$199","v":"Sollstd. zeitgl."},{"$f":"Übersetzungstexte!A$202","v":"Istzeit"},{"$f":"Übersetzungstexte!A$205","v":"Bezahlte/"},{"$f":"Übersetzungstexte!A$208","v":"Ausfallstunden"},null,{"$f":"Übersetzungstexte!A$212","v":""},{"$f":"Übersetzungstexte!A$215","v":"vertragliche"},{"$f":"Übersetzungstexte!A$218","v":"Sollstd. zeitgl."},{"$f":"Übersetzungstexte!A$221","v":"Istzeit"},{"$f":"Übersetzungstexte!A$224","v":"Bezahlte/"},{"$f":"Übersetzungstexte!A$227","v":"Ausfallstunden"},null,null,"anrechen-","vertragl.","Ausfall-","Ausfall-","betroffene","betroffene","Ausfall-","betroffene","betroffene","Ausfall-"]
[{"$f":"Übersetzungstexte!A$194","v":""},{"$f":"Übersetzungstexte!A$197","v":"wöchentliche"},{"$f":"Übersetzungstexte!A$200","v":"Periode inkl."},{"$f":"Übersetzungstexte!A$203","v":""},{"$f":"Übersetzungstexte!A$206","v":"Unbezahlte"},{"$f":"Übersetzungstexte!A$209","v":""},null,{"$f":"Übersetzungstexte!A$213","v":""},{"$f":"Übersetzungstexte!A$216","v":"wöchentliche"},{"$f":"Übersetzungstexte!A$219","v":"Periode inkl."},{"$f":"Übersetzungstexte!A$222","v":""},{"$f":"Übersetzungstexte!A$225","v":"Unbezahlte"},{"$f":"Übersetzungstexte!A$228","v":""},null,null,"barer Std.-","wöchentl.","stunden","stunden","Mitarbeiter","Mitarbeiter","stunden","Mitarbeiter","Mitarbeiter","stunden","Max. der"]
[{"$f":"Übersetzungstexte!A$195","v":"Name,Vorname"},{"$f":"Übersetzungstexte!A$198","v":"Arbeitszeit"},{"$f":"Übersetzungstexte!A$201","v":"Vorholzeit"},{"$f":"Übersetzungstexte!A$204","v":""},{"$f":"Übersetzungstexte!A$207","v":"Absenzen"},{"$f":"Übersetzungstexte!A$210","v":""},null,{"$f":"Übersetzungstexte!A$214","v":"Name,Vorname"},{"$f":"Übersetzungstexte!A$217","v":"Arbeitszeit"},{"$f":"Übersetzungstexte!A$220","v":"Vorholzeit"},{"$f":"Übersetzungstexte!A$223","v":""},{"$f":"Übersetzungstexte!A$226","v":"Absenzen"},{"$f":"Übersetzungstexte!A$229","v":""},null,"Name,Vorname","Verdienst","Arbeitszeit",{"$f":"P$3","v":"3799-01-01"},{"$f":"P$4","v":"3798-01-01"},"Vorjahr","Vorjahr","Vorjahr","Vorvorjahr","Vorvorjahr","Vorvorjahr","Spalte"]
[{"$f":"O309","v":""},null,null,null,null,{"$f":"R309","v":""},null,{"$f":"O309","v":""},null,null,null,null,{"$f":"S309","v":""},null,{"$f":"'Stammdaten Mitarbeitende'!AA309","v":""},{"$f":"IF($A309=\"\",\"\",'Stammdaten Mitarbeitende'!L309)","v":""},{"$f":"IF(OR($A309=\"\",'Stammdaten Mitarbeitende'!J309=\"\"),\"\",'Stammdaten Mitarbeitende'!J309)","v":""},{"$f":"IF(OR($A309=\"\",C309=\"\",D309=\"\",E309=\"\"),\"\",MAX(C309-D309-E309,0))","v":""},{"$f":"IF(OR($H309=\"\",J309=\"\",K309=\"\",L309=\"\"),\"\",MAX(J309-K309-L309,0))","v":""},{"$f":"IF(OR(F309=\"\"),0,C309)","v":0},{"$f":"IF(OR(F309=\"\"),0,E309)","v":0},{"$f":"IF(OR(F309<=0,F309=\"\"),0,R309)","v":0},{"$f":"IF(OR(M309=\"\"),0,J309)","v":0},{"$f":"IF(OR(M309=\"\"),0,L309)","v":0},{"$f":"IF(OR(M309<=0,M309=\"\"),0,S309)","v":0},{"$f":"MAX(P309:Y309)","v":0}]
["",null,null,null,null,"",null,"",null,null,null,null,"",null,{"$f":"'Stammdaten Mitarbeitende'!AA310","v":""},{"$f":"IF($A310=\"\",\"\",'Stammdaten Mitarbeitende'!L310)","v":""},{"$f":"IF(OR($A310=\"\",'Stammdaten Mitarbeitende'!J310=\"\"),\"\",'Stammdaten Mitarbeitende'!J310)","v":""},"",{"$f":"IF(OR($H310=\"\",J310=\"\",K310=\"\",L310=\"\"),\"\",MAX(J310-K310-L310,0))","v":""},0,0,0,0,0,0,{"$f":"MAX(P310:Y310)","v":0}]
["",null,null,null,null,"",null,"",null,null,null,null,"",null,{"$f":"'Stammdaten Mitarbeitende'!AA311","v":""},{"$f":"IF($A311=\"\",\"\",'Stammdaten Mitarbeitende'!L311)","v":""},{"$f":"IF(OR($A311=\"\",'Stammdaten Mitarbeitende'!J311=\"\"),\"\",'Stammdaten Mitarbeitende'!J311)","v":""},"","",0,0,0,0,0,0,0]
["",null,null,null,null,"",null,"",null,null,null,null,"",null,{"$f":"'Stammdaten Mitarbeitende'!AA312","v":""},{"$f":"IF($A312=\"\",\"\",'Stammdaten Mitarbeitende'!L312)","v":""},{"$f":"IF(OR($A312=\"\",'Stammdaten Mitarbeitende'!J312=\"\"),\"\",'Stammdaten Mitarbeitende'!J312)","v":""},"","",0,0,0,0,0,0,0]
["",null,null,null,null,"",null,"",null,null,null,null,"",null,{"$f":"'Stammdaten Mitarbeitende'!AA313","v":""},{"$f":"IF($A313=\"\",\"\",'Stammdaten Mitarbeitende'!L313)","v":""},{"$f":"IF(OR($A313=\"\",'Stammdaten Mitarbeitende'!J313=\"\"),\"\",'Stammdaten Mitarbeitende'!J313)","v":""},"","",0,0,0,0,0,0,0]
["",null,null,null,null,"",null,"",null,null,null,null,"",null,{"$f":"'Stammdaten Mitarbeitende'!AA314","v":""},{"$f":"IF($A314=\"\",\"\",'Stammdaten Mitarbeitende'!L314)","v":""},{"$f":"IF(OR($A314=\"\",'Stammdaten Mitarbeitende'!J314=\"\"),\"\",'Stammdaten Mitarbeitende'!J314)","v":""},"","",0,0,0,0,0,0,0]
["",null,null,null,null,"",null,"",null,null,null,null,"",null,{"$f":"'Stammdaten Mitarbeitende'!AA315","v":""},{"$f":"IF($A315=\"\",\"\",'Stammdaten Mitarbeitende'!L315)","v":""},{"$f":"IF(OR($A315=\"\",'Stammdaten Mitarbeitende'!J315=\"\"),\"\",'Stammdaten Mitarbeitende'!J315)","v":""},"","",0,0,0,0,0,0,0]
["",null,null,null,null,"",null,"",null,null,null,null,"",null,{"$f":"'Stammdaten Mitarbeitende'!AA316","v":""},{"$f":"IF($A316=\"\",\"\",'Stammdaten Mitarbeitende'!L316)","v":""},{"$f":"IF(OR($A316=\"\",'Stammdaten Mitarbeitende'!J316=\"\"),\"\",'Stammdaten Mitarbeitende'!J316)","v":""},"","",0,0,0,0,0,0,0]
["",null,null,null,null,"",null,"",null,null,null,null,"",null,{"$f":"'Stammdaten Mitarbeitende'!AA317","v":""},{"$f":"IF($A317=\"\",\"\",'Stammdaten Mitarbeitende'!L317)","v":""},{"$f":"IF(OR($A317=\"\",'Stammdaten Mitarbeitende'!J317=\"\"),\"\",'Stammdaten Mitarbeitende'!J317)","v":""},"","",0,0,0,0,0,0,0]
["",null,null,null,null,"",null,"",null,null,null,null,"",null,{"$f":"'Stammdaten Mitarbeitende'!AA318","v":""},{"$f":"IF($A318=\"\",\"\",'Stammdaten Mitarbeitende'!L318)","v":""},{"$f":"IF(OR($A318=\"\",'Stammdaten Mitarbeitende'!J318=\"\"),\"\",'Stammdaten Mitarbeitende'!J318)","v":""},"","",0,0,0,0,0,0,0]
["",null,null,null,null,"",null,"",null,null,null,null,"",null,{"$f":"'Stammdaten Mitarbeitende'!AA319","v":""},{"$f":"IF($A319=\"\",\"\",'Stammdaten Mitarbeitende'!L319)","v":""},{"$f":"IF(OR($A319=\"\",'Stammdaten Mitarbeitende'!J319=\"\"),\"\",'Stammdaten Mitarbeitende'!J319)","v":""},"","",0,0,0,0,0,0,0]
["",null,null,null,null,"",null,"",null,null,null,null,"",null,{"$f":"'Stammdaten Mitarbeitende'!AA320","v":""},{"$f":"IF($A320=\"\",\"\",'Stammdaten Mitarbeitende'!L320)","v":""},{"$f":"IF(OR($A320=\"\",'Stammdaten Mitarbeitende'!J320=\"\"),\"\",'Stammdaten Mitarbeitende'!J320)","v":""},"","",0,0,0,0,0,0,0]
["",null,null,null,null,"",null,"",null,null,null,null,"",null,{"$f":"'Stammdaten Mitarbeitende'!AA321","v":""},{"$f":"IF($A321=\"\",\"\",'Stammdaten Mitarbeitende'!L321)","v":""},{"$f":"IF(OR($A321=\"\",'Stammdaten Mitarbeitende'!J321=\"\"),\"\",'Stammdaten Mitarbeitende'!J321)","v":""},"","",0,0,0,0,0,0,0]
["",null,null,null,null,"",null,"",null,null,null,null,"",null,{"$f":"'Stammdaten Mitarbeitende'!AA322","v":""},{"$f":"IF($A322=\"\",\"\",'Stammdaten Mitarbeitende'!L322)","v":""},{"$f":"IF(OR($A322=\"\",'Stammdaten Mitarbeitende'!J322=\"\"),\"\",'Stammdaten Mitarbeitende'!J322)","v":""},"","",0,0,0,0,0,0,0]
["",null,null,null,null,"",null,"",null,null,null,null,"",null,{"$f":"'Stammdaten Mitarbeitende'!AA323","v":""},{"$f":"IF($A323=\"\",\"\",'Stammdaten Mitarbeitende'!L323)","v":""},{"$f":"IF(OR($A323=\"\",'Stammdaten Mitarbeitende'!J323=\"\"),\"\",'Stammdaten Mitarbeitende'!J323)","v":""},"","",0,0,0,0,0,0,0]
["",null,null,null,null,"",null,"",null,null,null,null,"",null,{"$f":"'Stammdaten Mitarbeitende'!AA324","v":""},{"$f":"IF($A324=\"\",\"\",'Stammdaten Mitarbeitende'!L324)","v":""},{"$f":"IF(OR($A324=\"\",'Stammdaten Mitarbeitende'!J324=\"\"),\"\",'Stammdaten Mitarbeitende'!J324)","v":""},"","",0,0,0,0,0,0,0]
["",null,null,null,null,"",null,"",null,null,null,null,"",null,{"$f":"'Stammdaten Mitarbeitende'!AA325","v":""},{"$f":"IF($A325=\"\",\"\",'Stammdaten Mitarbeitende'!L325)","v":""},{"$f":"IF(OR($A325=\"\",'Stammdaten Mitarbeitende'!J325=\"\"),\"\",'Stammdaten Mitarbeitende'!J325)","v":""},"","",0,0,0,0,0,0,0]
["",null,null,null,null,"",null,"",null,null,null,null,"",null,{"$f":"'Stammdaten Mitarbeitende'!AA326","v":""},{"$f":"IF($A326=\"\",\"\",'Stammdaten Mitarbeitende'!L326)","v":""},{"$f":"IF(OR($A326=\"\",'Stammdaten Mitarbeitende'!J326=\"\"),\"\",'Stammdaten Mitarbeitende'!J326)","v":""},"","",0,0,0,0,0,0,0]
["",null,null,null,null,"",null,"",null,null,null,null,"",null,{"$f":"'Stammdaten Mitarbeitende'!AA327","v":""},{"$f":"IF($A327=\"\",\"\",'Stammdaten Mitarbeitende'!L327)","v":""},{"$f":"IF(OR($A327=\"\",'Stammdaten Mitarbeitende'!J327=\"\"),\"\",'Stammdaten Mitarbeitende'!J327)","v":""},"","",0,0,0,0,0,0,0]
["",null,null,null,null,"",null,"",null,null,null,null,"",null,{"$f":"'Stammdaten Mitarbeitende'!AA328","v":""},{"$f":"IF($A328=\"\",\"\",'Stammdaten Mitarbeitende'!L328)","v":""},{"$f":"IF(OR($A328=\"\",'Stammdaten Mitarbeitende'!J328=\"\"),\"\",'Stammdaten Mitarbeitende'!J328)","v":""},"","",0,0,0,0,0,0,0]
["",null,null,null,null,"",null,"",null,null,null,null,"",null,{"$f":"'Stammdaten Mitarbeitende'!AA329","v":""},{"$f":"IF($A329=\"\",\"\",'Stammdaten Mitarbeitende'!L329)","v":""},{"$f":"IF(OR($A329=\"\",'Stammdaten Mitarbeitende'!J329=\"\"),\"\",'Stammdaten Mitarbeitende'!J329)","v":""},"","",0,0,0,0,0,0,0]
[{"$f":"Übersetzungstexte!A$230","v":"Seitentotal"},null,{"$f":"SUM(C309:C329)","v":0},null,{"$f":"SUM(E309:E329)","v":0},{"$f":"SUM(F309:F329)","v":0},null,{"$f":"Übersetzungstexte!A$230","v":"Seitentotal"},null,{"$f":"SUM(J309:J329)","v":0},null,{"$f":"SUM(L309:L329)","v":0},{"$f":"SUM(M309:M329)","v":0}]
[{"$f":"'Stammdaten Betrieb & Abteilung'!D$1","v":"  "},null,null,null,null,null,null,{"$f":"Übersetzungstexte!A$190","v":"Betrieb / Betriebsabteilung"},{"$f":"'Stammdaten Betrieb & Abteilung'!D$13","v":" "}]
[{"$f":"'Stammdaten Betrieb & Abteilung'!D$3","v":" "},null,null,null,null,null,null,{"$f":"Übersetzungstexte!A$191","v":"PLZ/Ort"},{"$f":"'Stammdaten Betrieb & Abteilung'!D$4","v":" "}]
[]
[null,null,null,null,null,{"$f":"CONCATENATE(Übersetzungstexte!A$192,\" \",TEXT(MONTH(P$3),\"00\"),\".\",YEAR(P$3))","v":"Zeitgleiche Periode des Vorjahres: 01.3799"},null,null,null,null,null,null,{"$f":"CONCATENATE(Übersetzungstexte!A$211,\" \",TEXT(MONTH(P$4),\"00\"),\".\",YEAR(P$4))","v":"Zeitgleiche Periode des vorletzten Jahres: 01.3798"}]
[1,2,3,4,5,6,null,1,2,3,4,5,6,null,null,null,null,"Regel 4","Regel 5","Sollstd.","Absenzen",null,"Sollstd.","Absenzen"]
[{"$f":"Übersetzungstexte!A$193","v":""},{"$f":"Übersetzungstexte!A$196","v":"vertragliche"},{"$f":"Übersetzungstexte!A$199","v":"Sollstd. zeitgl."},{"$f":"Übersetzungstexte!A$202","v":"Istzeit"},{"$f":"Übersetzungstexte!A$205","v":"Bezahlte/"},{"$f":"Übersetzungstexte!A$208","v":"Ausfallstunden"},null,{"$f":"Übersetzungstexte!A$212","v":""},{"$f":"Übersetzungstexte!A$215","v":"vertragliche"},{"$f":"Übersetzungstexte!A$218","v":"Sollstd. zeitgl."},{"$f":"Übersetzungstexte!A$221","v":"Istzeit"},{"$f":"Übersetzungstexte!A$224","v":"Bezahlte/"},{"$f":"Übersetzungstexte!A$227","v":"Ausfallstunden"},null,null,"anrechen-","vertragl.","Ausfall-","Ausfall-","betroffene","betroffene","Ausfall-","betroffene","betroffene","Ausfall-"]
[{"$f":"Übersetzungstexte!A$194","v":""},{"$f":"Übersetzungstexte!A$197","v":"wöchentliche"},{"$f":"Übersetzungstexte!A$200","v":"Periode inkl."},{"$f":"Übersetzungstexte!A$203","v":""},{"$f":"Übersetzungstexte!A$206","v":"Unbezahlte"},{"$f":"Übersetzungstexte!A$209","v":""},null,{"$f":"Übersetzungstexte!A$213","v":""},{"$f":"Übersetzungstexte!A$216","v":"wöchentliche"},{"$f":"Übersetzungstexte!A$219","v":"Periode inkl."},{"$f":"Übersetzungstexte!A$222","v":""},{"$f":"Übersetzungstexte!A$225","v":"Unbezahlte"},{"$f":"Übersetzungstexte!A$228","v":""},null,null,"barer Std.-","wöchentl.","stunden","stunden","Mitarbeiter","Mitarbeiter","stunden","Mitarbeiter","Mitarbeiter","stunden","Max. der"]
[{"$f":"Übersetzungstexte!A$195","v":"Name,Vorname"},{"$f":"Übersetzungstexte!A$198","v":"Arbeitszeit"},{"$f":"Übersetzungstexte!A$201","v":"Vorholzeit"},{"$f":"Übersetzungstexte!A$204","v":""},{"$f":"Übersetzungstexte!A$207","v":"Absenzen"},{"$f":"Übersetzungstexte!A$210","v":""},null,{"$f":"Übersetzungstexte!A$214","v":"Name,Vorname"},{"$f":"Übersetzungstexte!A$217","v":"Arbeitszeit"},{"$f":"Übersetzungstexte!A$220","v":"Vorholzeit"},{"$f":"Übersetzungstexte!A$223","v":""},{"$f":"Übersetzungstexte!A$226","v":"Absenzen"},{"$f":"Übersetzungstexte!A$229","v":""},null,"Name,Vorname","Verdienst","Arbeitszeit",{"$f":"P$3","v":"3799-01-01"},{"$f":"P$4","v":"3798-01-01"},"Vorjahr","Vorjahr","Vorjahr","Vorvorjahr","Vorvorjahr","Vorvorjahr","Spalte"]
[{"$f":"O339","v":""},null,null,null,null,{"$f":"R339","v":""},null,{"$f":"O339","v":""},null,null,null,null,{"$f":"S339","v":""},null,{"$f":"'Stammdaten Mitarbeitende'!AA339","v":""},{"$f":"IF($A339=\"\",\"\",'Stammdaten Mitarbeitende'!L339)","v":""},{"$f":"IF(OR($A339=\"\",'Stammdaten Mitarbeitende'!J339=\"\"),\"\",'Stammdaten Mitarbeitende'!J339)","v":""},{"$f":"IF(OR($A339=\"\",C339=\"\",D339=\"\",E339=\"\"),\"\",MAX(C339-D339-E339,0))","v":""},{"$f":"IF(OR($H339=\"\",J339=\"\",K339=\"\",L339=\"\"),\"\",MAX(J339-K339-L339,0))","v":""},{"$f":"IF(OR(F339=\"\"),0,C339)","v":0},{"$f":"IF(OR(F339=\"\"),0,E339)","v":0},{"$f":"IF(OR(F339<=0,F339=\"\"),0,R339)","v":0},{"$f":"IF(OR(M339=\"\"),0,J339)","v":0},{"$f":"IF(OR(M339=\"\"),0,L339)","v":0},{"$f":"IF(OR(M339<=0,M339=\"\"),0,S339)","v":0},{"$f":"MAX(P339:Y339)","v":0}]
["",null,null,null,null,"",null,"",null,null,null,null,"",null,{"$f":"'Stammdaten Mitarbeitende'!AA340","v":""},{"$f":"IF($A340=\"\",\"\",'Stammdaten Mitarbeitende'!L340)","v":""},{"$f":"IF(OR($A340=\"\",'Stammdaten Mitarbeitende'!J340=\"\"),\"\",'Stammdaten Mitarbeitende'!J340)","v":""},"",{"$f":"IF(OR($H340=\"\",J340=\"\",K340=\"\",L340=\"\"),\"\",MAX(J340-K340-L340,0))","v":""},0,0,0,0,0,0,{"$f":"MAX(P340:Y340)","v":0}]
["",null,null,null,null,"",null,"",null,null,null,null,"",null,{"$f":"'Stammdaten Mitarbeitende'!AA341","v":""},{"$f":"IF($A341=\"\",\"\",'Stammdaten Mitarbeitende'!L341)","v":""},{"$f":"IF(OR($A341=\"\",'Stammdaten Mitarbeitende'!J341=\"\"),\"\",'Stammdaten Mitarbeitende'!J341)","v":""},"","",0,0,0,0,0,0,0]
["",null,null,null,null,"",null,"",null,null,null,null,"",null,{"$f":"'Stammdaten Mitarbeitende'!AA342","v":""},{"$f":"IF($A342=\"\",\"\",'Stammdaten Mitarbeitende'!L342)","v":""},{"$f":"IF(OR($A342=\"\",'Stammdaten Mitarbeitende'!J342=\"\"),\"\",'Stammdaten Mitarbeitende'!J342)","v":""},"","",0,0,0,0,0,0,0]
["",null,null,null,null,"",null,"",null,null,null,null,"",null,{"$f":"'Stammdaten Mitarbeitende'!AA343","v":""},{"$f":"IF($A343=\"\",\"\",'Stammdaten Mitarbeitende'!L343)","v":""},{"$f":"IF(OR($A343=\"\",'Stammdaten Mitarbeitende'!J343=\"\"),\"\",'Stammdaten Mitarbeitende'!J343)","v":""},"","",0,0,0,0,0,0,0]
["",null,null,null,null,"",null,"",null,null,null,null,"",null,{"$f":"'Stammdaten Mitarbeitende'!AA344","v":""},{"$f":"IF($A344=\"\",\"\",'Stammdaten Mitarbeitende'!L344)","v":""},{"$f":"IF(OR($A344=\"\",'Stammdaten Mitarbeitende'!J344=\"\"),\"\",'Stammdaten Mitarbeitende'!J344)","v":""},"","",0,0,0,0,0,0,0]
["",null,null,null,null,"",null,"",null,null,null,null,"",null,{"$f":"'Stammdaten Mitarbeitende'!AA345","v":""},{"$f":"IF($A345=\"\",\"\",'Stammdaten Mitarbeitende'!L345)","v":""},{"$f":"IF(OR($A345=\"\",'Stammdaten Mitarbeitende'!J345=\"\"),\"\",'Stammdaten Mitarbeitende'!J345)","v":""},"","",0,0,0,0,0,0,0]
["",null,null,null,null,"",null,"",null,null,null,null,"",null,{"$f":"'Stammdaten Mitarbeitende'!AA346","v":""},{"$f":"IF($A346=\"\",\"\",'Stammdaten Mitarbeitende'!L346)","v":""},{"$f":"IF(OR($A346=\"\",'Stammdaten Mitarbeitende'!J346=\"\"),\"\",'Stammdaten Mitarbeitende'!J346)","v":""},"","",0,0,0,0,0,0,0]
["",null,null,null,null,"",null,"",null,null,null,null,"",null,{"$f":"'Stammdaten Mitarbeitende'!AA347","v":""},{"$f":"IF($A347=\"\",\"\",'Stammdaten Mitarbeitende'!L347)","v":""},{"$f":"IF(OR($A347=\"\",'Stammdaten Mitarbeitende'!J347=\"\"),\"\",'Stammdaten Mitarbeitende'!J347)","v":""},"","",0,0,0,0,0,0,0]
["",null,null,null,null,"",null,"",null,null,null,null,"",null,{"$f":"'Stammdaten Mitarbeitende'!AA348","v":""},{"$f":"IF($A348=\"\",\"\",'Stammdaten Mitarbeitende'!L348)","v":""},{"$f":"IF(OR($A348=\"\",'Stammdaten Mitarbeitende'!J348=\"\"),\"\",'Stammdaten Mitarbeitende'!J348)","v":""},"","",0,0,0,0,0,0,0]
["",null,null,null,null,"",null,"",null,null,null,null,"",null,{"$f":"'Stammdaten Mitarbeitende'!AA349","v":""},{"$f":"IF($A349=\"\",\"\",'Stammdaten Mitarbeitende'!L349)","v":""},{"$f":"IF(OR($A349=\"\",'Stammdaten Mitarbeitende'!J349=\"\"),\"\",'Stammdaten Mitarbeitende'!J349)","v":""},"","",0,0,0,0,0,0,0]
["",null,null,null,null,"",null,"",null,null,null,null,"",null,{"$f":"'Stammdaten Mitarbeitende'!AA350","v":""},{"$f":"IF($A350=\"\",\"\",'Stammdaten Mitarbeitende'!L350)","v":""},{"$f":"IF(OR($A350=\"\",'Stammdaten Mitarbeitende'!J350=\"\"),\"\",'Stammdaten Mitarbeitende'!J350)","v":""},"","",0,0,0,0,0,0,0]
["",null,null,null,null,"",null,"",null,null,null,null,"",null,{"$f":"'Stammdaten Mitarbeitende'!AA351","v":""},{"$f":"IF($A351=\"\",\"\",'Stammdaten Mitarbeitende'!L351)","v":""},{"$f":"IF(OR($A351=\"\",'Stammdaten Mitarbeitende'!J351=\"\"),\"\",'Stammdaten Mitarbeitende'!J351)","v":""},"","",0,0,0,0,0,0,0]
["",null,null,null,null,"",null,"",null,null,null,null,"",null,{"$f":"'Stammdaten Mitarbeitende'!AA352","v":""},{"$f":"IF($A352=\"\",\"\",'Stammdaten Mitarbeitende'!L352)","v":""},{"$f":"IF(OR($A352=\"\",'Stammdaten Mitarbeitende'!J352=\"\"),\"\",'Stammdaten Mitarbeitende'!J352)","v":""},"","",0,0,0,0,0,0,0]
["",null,null,null,null,"",null,"",null,null,null,null,"",null,{"$f":"'Stammdaten Mitarbeitende'!AA353","v":""},{"$f":"IF($A353=\"\",\"\",'Stammdaten Mitarbeitende'!L353)","v":""},{"$f":"IF(OR($A353=\"\",'Stammdaten Mitarbeitende'!J353=\"\"),\"\",'Stammdaten Mitarbeitende'!J353)","v":""},"","",0,0,0,0,0,0,0]
["",null,null,null,null,"",null,"",null,null,null,null,"",null,{"$f":"'Stammdaten Mitarbeitende'!AA354","v":""},{"$f":"IF($A354=\"\",\"\",'Stammdaten Mitarbeitende'!L354)","v":""},{"$f":"IF(OR($A354=\"\",'Stammdaten Mitarbeitende'!J354=\"\"),\"\",'Stammdaten Mitarbeitende'!J354)","v":""},"","",0,0,0,0,0,0,0]
["",null,null,null,null,"",null,"",null,null,null,null,"",null,{"$f":"'Stammdaten Mitarbeitende'!AA355","v":""},{"$f":"IF($A355=\"\",\"\",'Stammdaten Mitarbeitende'!L355)","v":""},{"$f":"IF(OR($A355=\"\",'Stammdaten Mitarbeitende'!J355=\"\"),\"\",'Stammdaten Mitarbeitende'!J355)","v":""},"","",0,0,0,0,0,0,0]
["",null,null,null,null,"",null,"",null,null,null,null,"",null,{"$f":"'Stammdaten Mitarbeitende'!AA356","v":""},{"$f":"IF($A356=\"\",\"\",'Stammdaten Mitarbeitende'!L356)","v":""},{"$f":"IF(OR($A356=\"\",'Stammdaten Mitarbeitende'!J356=\"\"),\"\",'Stammdaten Mitarbeitende'!J356)","v":""},"","",0,0,0,0,0,0,0]
["",null,null,null,null,"",null,"",null,null,null,null,"",null,{"$f":"'Stammdaten Mitarbeitende'!AA357","v":""},{"$f":"IF($A357=\"\",\"\",'Stammdaten Mitarbeitende'!L357)","v":""},{"$f":"IF(OR($A357=\"\",'Stammdaten Mitarbeitende'!J357=\"\"),\"\",'Stammdaten Mitarbeitende'!J357)","v":""},"","",0,0,0,0,0,0,0]
["",null,null,null,null,"",null,"",null,null,null,null,"",null,{"$f":"'Stammdaten Mitarbeitende'!AA358","v":""},{"$f":"IF($A358=\"\",\"\",'Stammdaten Mitarbeitende'!L358)","v":""},{"$f":"IF(OR($A358=\"\",'Stammdaten Mitarbeitende'!J358=\"\"),\"\",'Stammdaten Mitarbeitende'!J358)","v":""},"","",0,0,0,0,0,0,0]
["",null,null,null,null,"",null,"",null,null,null,null,"",null,{"$f":"'Stammdaten Mitarbeitende'!AA359","v":""},{"$f":"IF($A359=\"\",\"\",'Stammdaten Mitarbeitende'!L359)","v":""},{"$f":"IF(OR($A359=\"\",'Stammdaten Mitarbeitende'!J359=\"\"),\"\",'Stammdaten Mitarbeitende'!J359)","v":""},"","",0,0,0,0,0,0,0]
[{"$f":"Übersetzungstexte!A$230","v":"Seitentotal"},null,{"$f":"SUM(C339:C359)","v":0},null,{"$f":"SUM(E339:E359)","v":0},{"$f":"SUM(F339:F359)","v":0},null,{"$f":"Übersetzungstexte!A$230","v":"Seitentotal"},null,{"$f":"SUM(J339:J359)","v":0},null,{"$f":"SUM(L339:L359)","v":0},{"$f":"SUM(M339:M359)","v":0}]
[{"$f":"'Stammdaten Betrieb & Abteilung'!D$1","v":"  "},null,null,null,null,null,null,{"$f":"Übersetzungstexte!A$190","v":"Betrieb / Betriebsabteilung"},{"$f":"'Stammdaten Betrieb & Abteilung'!D$13","v":" "}]
[{"$f":"'Stammdaten Betrieb & Abteilung'!D$3","v":" "},null,null,null,null,null,null,{"$f":"Übersetzungstexte!A$191","v":"PLZ/Ort"},{"$f":"'Stammdaten Betrieb & Abteilung'!D$4","v":" "}]
[]
[null,null,null,null,null,{"$f":"CONCATENATE(Übersetzungstexte!A$192,\" \",TEXT(MONTH(P$3),\"00\"),\".\",YEAR(P$3))","v":"Zeitgleiche Periode des Vorjahres: 01.3799"},null,null,null,null,null,null,{"$f":"CONCATENATE(Übersetzungstexte!A$211,\" \",TEXT(MONTH(P$4),\"00\"),\".\",YEAR(P$4))","v":"Zeitgleiche Periode des vorletzten Jahres: 01.3798"}]
[1,2,3,4,5,6,null,1,2,3,4,5,6,null,null,null,null,"Regel 4","Regel 5","Sollstd.","Absenzen",null,"Sollstd.","Absenzen"]
[{"$f":"Übersetzungstexte!A$193","v":""},{"$f":"Übersetzungstexte!A$196","v":"vertragliche"},{"$f":"Übersetzungstexte!A$199","v":"Sollstd. zeitgl."},{"$f":"Übersetzungstexte!A$202","v":"Istzeit"},{"$f":"Übersetzungstexte!A$205","v":"Bezahlte/"},{"$f":"Übersetzungstexte!A$208","v":"Ausfallstunden"},null,{"$f":"Übersetzungstexte!A$212","v":""},{"$f":"Übersetzungstexte!A$215","v":"vertragliche"},{"$f":"Übersetzungstexte!A$218","v":"Sollstd. zeitgl."},{"$f":"Übersetzungstexte!A$221","v":"Istzeit"},{"$f":"Übersetzungstexte!A$224","v":"Bezahlte/"},{"$f":"Übersetzungstexte!A$227","v":"Ausfallstunden"},null,null,"anrechen-","vertragl.","Ausfall-","Ausfall-","betroffene","betroffene","Ausfall-","betroffene","betroffene","Ausfall-"]
[{"$f":"Übersetzungstexte!A$194","v":""},{"$f":"Übersetzungstexte!A$197","v":"wöchentliche"},{"$f":"Übersetzungstexte!A$200","v":"Periode inkl."},{"$f":"Übersetzungstexte!A$203","v":""},{"$f":"Übersetzungstexte!A$206","v":"Unbezahlte"},{"$f":"Übersetzungstexte!A$209","v":""},null,{"$f":"Übersetzungstexte!A$213","v":""},{"$f":"Übersetzungstexte!A$216","v":"wöchentliche"},{"$f":"Übersetzungstexte!A$219","v":"Periode inkl."},{"$f":"Übersetzungstexte!A$222","v":""},{"$f":"Übersetzungstexte!A$225","v":"Unbezahlte"},{"$f":"Übersetzungstexte!A$228","v":""},null,null,"barer Std.-","wöchentl.","stunden","stunden","Mitarbeiter","Mitarbeiter","stunden","Mitarbeiter","Mitarbeiter","stunden","Max. der"]
[{"$f":"Übersetzungstexte!A$195","v":"Name,Vorname"},{"$f":"Übersetzungstexte!A$198","v":"Arbeitszeit"},{"$f":"Übersetzungstexte!A$201","v":"Vorholzeit"},{"$f":"Übersetzungstexte!A$204","v":""},{"$f":"Übersetzungstexte!A$207","v":"Absenzen"},{"$f":"Übersetzungstexte!A$210","v":""},null,{"$f":"Übersetzungstexte!A$214","v":"Name,Vorname"},{"$f":"Übersetzungstexte!A$217","v":"Arbeitszeit"},{"$f":"Übersetzungstexte!A$220","v":"Vorholzeit"},{"$f":"Übersetzungstexte!A$223","v":""},{"$f":"Übersetzungstexte!A$226","v":"Absenzen"},{"$f":"Übersetzungstexte!A$229","v":""},null,"Name,Vorname","Verdienst","Arbeitszeit",{"$f":"P$3","v":"3799-01-01"},{"$f":"P$4","v":"3798-01-01"},"Vorjahr","Vorjahr","Vorjahr","Vorvorjahr","Vorvorjahr","Vorvorjahr","Spalte"]
[{"$f":"O369","v":""},null,null,null,null,{"$f":"R369","v":""},null,{"$f":"O369","v":""},null,null,null,null,{"$f":"S369","v":""},null,{"$f":"'Stammdaten Mitarbeitende'!AA369","v":""},{"$f":"IF($A369=\"\",\"\",'Stammdaten Mitarbeitende'!L369)","v":""},{"$f":"IF(OR($A369=\"\",'Stammdaten Mitarbeitende'!J369=\"\"),\"\",'Stammdaten Mitarbeitende'!J369)","v":""},{"$f":"IF(OR($A369=\"\",C369=\"\",D369=\"\",E369=\"\"),\"\",MAX(C369-D369-E369,0))","v":""},{"$f":"IF(OR($H369=\"\",J369=\"\",K369=\"\",L369=\"\"),\"\",MAX(J369-K369-L369,0))","v":""},{"$f":"IF(OR(F369=\"\"),0,C369)","v":0},{"$f":"IF(OR(F369=\"\"),0,E369)","v":0},{"$f":"IF(OR(F369<=0,F369=\"\"),0,R369)","v":0},{"$f":"IF(OR(M369=\"\"),0,J369)","v":0},{"$f":"IF(OR(M369=\"\"),0,L369)","v":0},{"$f":"IF(OR(M369<=0,M369=\"\"),0,S369)","v":0},{"$f":"MAX(P369:Y369)","v":0}]
["",null,null,null,null,"",null,"",null,null,null,null,"",null,{"$f":"'Stammdaten Mitarbeitende'!AA370","v":""},{"$f":"IF($A370=\"\",\"\",'Stammdaten Mitarbeitende'!L370)","v":""},{"$f":"IF(OR($A370=\"\",'Stammdaten Mitarbeitende'!J370=\"\"),\"\",'Stammdaten Mitarbeitende'!J370)","v":""},"",{"$f":"IF(OR($H370=\"\",J370=\"\",K370=\"\",L370=\"\"),\"\",MAX(J370-K370-L370,0))","v":""},0,0,0,0,0,0,{"$f":"MAX(P370:Y370)","v":0}]
["",null,null,null,null,"",null,"",null,null,null,null,"",null,{"$f":"'Stammdaten Mitarbeitende'!AA371","v":""},{"$f":"IF($A371=\"\",\"\",'Stammdaten Mitarbeitende'!L371)","v":""},{"$f":"IF(OR($A371=\"\",'Stammdaten Mitarbeitende'!J371=\"\"),\"\",'Stammdaten Mitarbeitende'!J371)","v":""},"","",0,0,0,0,0,0,0]
["",null,null,null,null,"",null,"",null,null,null,null,"",null,{"$f":"'Stammdaten Mitarbeitende'!AA372","v":""},{"$f":"IF($A372=\"\",\"\",'Stammdaten Mitarbeitende'!L372)","v":""},{"$f":"IF(OR($A372=\"\",'Stammdaten Mitarbeitende'!J372=\"\"),\"\",'Stammdaten Mitarbeitende'!J372)","v":""},"","",0,0,0,0,0,0,0]
["",null,null,null,null,"",null,"",null,null,null,null,"",null,{"$f":"'Stammdaten Mitarbeitende'!AA373","v":""},{"$f":"IF($A373=\"\",\"\",'Stammdaten Mitarbeitende'!L373)","v":""},{"$f":"IF(OR($A373=\"\",'Stammdaten Mitarbeitende'!J373=\"\"),\"\",'Stammdaten Mitarbeitende'!J373)","v":""},"","",0,0,0,0,0,0,0]
["",null,null,null,null,"",null,"",null,null,null,null,"",null,{"$f":"'Stammdaten Mitarbeitende'!AA374","v":""},{"$f":"IF($A374=\"\",\"\",'Stammdaten Mitarbeitende'!L374)","v":""},{"$f":"IF(OR($A374=\"\",'Stammdaten Mitarbeitende'!J374=\"\"),\"\",'Stammdaten Mitarbeitende'!J374)","v":""},"","",0,0,0,0,0,0,0]
["",null,null,null,null,"",null,"",null,null,null,null,"",null,{"$f":"'Stammdaten Mitarbeitende'!AA375","v":""},{"$f":"IF($A375=\"\",\"\",'Stammdaten Mitarbeitende'!L375)","v":""},{"$f":"IF(OR($A375=\"\",'Stammdaten Mitarbeitende'!J375=\"\"),\"\",'Stammdaten Mitarbeitende'!J375)","v":""},"","",0,0,0,0,0,0,0]
["",null,null,null,null,"",null,"",null,null,null,null,"",null,{"$f":"'Stammdaten Mitarbeitende'!AA376","v":""},{"$f":"IF($A376=\"\",\"\",'Stammdaten Mitarbeitende'!L376)","v":""},{"$f":"IF(OR($A376=\"\",'Stammdaten Mitarbeitende'!J376=\"\"),\"\",'Stammdaten Mitarbeitende'!J376)","v":""},"","",0,0,0,0,0,0,0]
["",null,null,null,null,"",null,"",null,null,null,null,"",null,{"$f":"'Stammdaten Mitarbeitende'!AA377","v":""},{"$f":"IF($A377=\"\",\"\",'Stammdaten Mitarbeitende'!L377)","v":""},{"$f":"IF(OR($A377=\"\",'Stammdaten Mitarbeitende'!J377=\"\"),\"\",'Stammdaten Mitarbeitende'!J377)","v":""},"","",0,0,0,0,0,0,0]
["",null,null,null,null,"",null,"",null,null,null,null,"",null,{"$f":"'Stammdaten Mitarbeitende'!AA378","v":""},{"$f":"IF($A378=\"\",\"\",'Stammdaten Mitarbeitende'!L378)","v":""},{"$f":"IF(OR($A378=\"\",'Stammdaten Mitarbeitende'!J378=\"\"),\"\",'Stammdaten Mitarbeitende'!J378)","v":""},"","",0,0,0,0,0,0,0]
["",null,null,null,null,"",null,"",null,null,null,null,"",null,{"$f":"'Stammdaten Mitarbeitende'!AA379","v":""},{"$f":"IF($A379=\"\",\"\",'Stammdaten Mitarbeitende'!L379)","v":""},{"$f":"IF(OR($A379=\"\",'Stammdaten Mitarbeitende'!J379=\"\"),\"\",'Stammdaten Mitarbeitende'!J379)","v":""},"","",0,0,0,0,0,0,0]
["",null,null,null,null,"",null,"",null,null,null,null,"",null,{"$f":"'Stammdaten Mitarbeitende'!AA380","v":""},{"$f":"IF($A380=\"\",\"\",'Stammdaten Mitarbeitende'!L380)","v":""},{"$f":"IF(OR($A380=\"\",'Stammdaten Mitarbeitende'!J380=\"\"),\"\",'Stammdaten Mitarbeitende'!J380)","v":""},"","",0,0,0,0,0,0,0]
["",null,null,null,null,"",null,"",null,null,null,null,"",null,{"$f":"'Stammdaten Mitarbeitende'!AA381","v":""},{"$f":"IF($A381=\"\",\"\",'Stammdaten Mitarbeitende'!L381)","v":""},{"$f":"IF(OR($A381=\"\",'Stammdaten Mitarbeitende'!J381=\"\"),\"\",'Stammdaten Mitarbeitende'!J381)","v":""},"","",0,0,0,0,0,0,0]
["",null,null,null,null,"",null,"",null,null,null,null,"",null,{"$f":"'Stammdaten Mitarbeitende'!AA382","v":""},{"$f":"IF($A382=\"\",\"\",'Stammdaten Mitarbeitende'!L382)","v":""},{"$f":"IF(OR($A382=\"\",'Stammdaten Mitarbeitende'!J382=\"\"),\"\",'Stammdaten Mitarbeitende'!J382)","v":""},"","",0,0,0,0,0,0,0]
["",null,null,null,null,"",null,"",null,null,null,null,"",null,{"$f":"'Stammdaten Mitarbeitende'!AA383","v":""},{"$f":"IF($A383=\"\",\"\",'Stammdaten Mitarbeitende'!L383)","v":""},{"$f":"IF(OR($A383=\"\",'Stammdaten Mitarbeitende'!J383=\"\"),\"\",'Stammdaten Mitarbeitende'!J383)","v":""},"","",0,0,0,0,0,0,0]
["",null,null,null,null,"",null,"",null,null,null,null,"",null,{"$f":"'Stammdaten Mitarbeitende'!AA384","v":""},{"$f":"IF($A384=\"\",\"\",'Stammdaten Mitarbeitende'!L384)","v":""},{"$f":"IF(OR($A384=\"\",'Stammdaten Mitarbeitende'!J384=\"\"),\"\",'Stammdaten Mitarbeitende'!J384)","v":""},"","",0,0,0,0,0,0,0]
["",null,null,null,null,"",null,"",null,null,null,null,"",null,{"$f":"'Stammdaten Mitarbeitende'!AA385","v":""},{"$f":"IF($A385=\"\",\"\",'Stammdaten Mitarbeitende'!L385)","v":""},{"$f":"IF(OR($A385=\"\",'Stammdaten Mitarbeitende'!J385=\"\"),\"\",'Stammdaten Mitarbeitende'!J385)","v":""},"","",0,0,0,0,0,0,0]
["",null,null,null,null,"",null,"",null,null,null,null,"",null,{"$f":"'Stammdaten Mitarbeitende'!AA386","v":""},{"$f":"IF($A386=\"\",\"\",'Stammdaten Mitarbeitende'!L386)","v":""},{"$f":"IF(OR($A386=\"\",'Stammdaten Mitarbeitende'!J386=\"\"),\"\",'Stammdaten Mitarbeitende'!J386)","v":""},"","",0,0,0,0,0,0,0]
["",null,null,null,null,"",null,"",null,null,null,null,"",null,{"$f":"'Stammdaten Mitarbeitende'!AA387","v":""},{"$f":"IF($A387=\"\",\"\",'Stammdaten Mitarbeitende'!L387)","v":""},{"$f":"IF(OR($A387=\"\",'Stammdaten Mitarbeitende'!J387=\"\"),\"\",'Stammdaten Mitarbeitende'!J387)","v":""},"","",0,0,0,0,0,0,0]
["",null,null,null,null,"",null,"",null,null,null,null,"",null,{"$f":"'Stammdaten Mitarbeitende'!AA388","v":""},{"$f":"IF($A388=\"\",\"\",'Stammdaten Mitarbeitende'!L388)","v":""},{"$f":"IF(OR($A388=\"\",'Stammdaten Mitarbeitende'!J388=\"\"),\"\",'Stammdaten Mitarbeitende'!J388)","v":""},"","",0,0,0,0,0,0,0]
["",null,null,null,null,"",null,"",null,null,null,null,"",null,{"$f":"'Stammdaten Mitarbeitende'!AA389","v":""},{"$f":"IF($A389=\"\",\"\",'Stammdaten Mitarbeitende'!L389)","v":""},{"$f":"IF(OR($A389=\"\",'Stammdaten Mitarbeitende'!J389=\"\"),\"\",'Stammdaten Mitarbeitende'!J389)","v":""},"","",0,0,0,0,0,0,0]
[{"$f":"Übersetzungstexte!A$230","v":"Seitentotal"},null,{"$f":"SUM(C369:C389)","v":0},null,{"$f":"SUM(E369:E389)","v":0},{"$f":"SUM(F369:F389)","v":0},null,{"$f":"Übersetzungstexte!A$230","v":"Seitentotal"},null,{"$f":"SUM(J369:J389)","v":0},null,{"$f":"SUM(L369:L389)","v":0},{"$f":"SUM(M369:M389)","v":0}]
[{"$f":"'Stammdaten Betrieb & Abteilung'!D$1","v":"  "},null,null,null,null,null,null,{"$f":"Übersetzungstexte!A$190","v":"Betrieb / Betriebsabteilung"},{"$f":"'Stammdaten Betrieb & Abteilung'!D$13","v":" "}]
[{"$f":"'Stammdaten Betrieb & Abteilung'!D$3","v":" "},null,null,null,null,null,null,{"$f":"Übersetzungstexte!A$191","v":"PLZ/Ort"},{"$f":"'Stammdaten Betrieb & Abteilung'!D$4","v":" "}]
[]
[null,null,null,null,null,{"$f":"CONCATENATE(Übersetzungstexte!A$192,\" \",TEXT(MONTH(P$3),\"00\"),\".\",YEAR(P$3))","v":"Zeitgleiche Periode des Vorjahres: 01.3799"},null,null,null,null,null,null,{"$f":"CONCATENATE(Übersetzungstexte!A$211,\" \",TEXT(MONTH(P$4),\"00\"),\".\",YEAR(P$4))","v":"Zeitgleiche Periode des vorletzten Jahres: 01.3798"}]
[1,2,3,4,5,6,null,1,2,3,4,5,6,null,null,null,null,"Regel 4","Regel 5","Sollstd.","Absenzen",null,"Sollstd.","Absenzen"]
[{"$f":"Übersetzungstexte!A$193","v":""},{"$f":"Übersetzungstexte!A$196","v":"vertragliche"},{"$f":"Übersetzungstexte!A$199","v":"Sollstd. zeitgl."},{"$f":"Übersetzungstexte!A$202","v":"Istzeit"},{"$f":"Übersetzungstexte!A$205","v":"Bezahlte/"},{"$f":"Übersetzungstexte!A$208","v":"Ausfallstunden"},null,{"$f":"Übersetzungstexte!A$212","v":""},{"$f":"Übersetzungstexte!A$215","v":"vertragliche"},{"$f":"Übersetzungstexte!A$218","v":"Sollstd. zeitgl."},{"$f":"Übersetzungstexte!A$221","v":"Istzeit"},{"$f":"Übersetzungstexte!A$224","v":"Bezahlte/"},{"$f":"Übersetzungstexte!A$227","v":"Ausfallstunden"},null,null,"anrechen-","vertragl.","Ausfall-","Ausfall-","betroffene","betroffene","Ausfall-","betroffene","betroffene","Ausfall-"]
[{"$f":"Übersetzungstexte!A$194","v":""},{"$f":"Übersetzungstexte!A$197","v":"wöchentliche"},{"$f":"Übersetzungstexte!A$200","v":"Periode inkl."},{"$f":"Übersetzungstexte!A$203","v":""},{"$f":"Übersetzungstexte!A$206","v":"Unbezahlte"},{"$f":"Übersetzungstexte!A$209","v":""},null,{"$f":"Übersetzungstexte!A$213","v":""},{"$f":"Übersetzungstexte!A$216","v":"wöchentliche"},{"$f":"Übersetzungstexte!A$219","v":"Periode inkl."},{"$f":"Übersetzungstexte!A$222","v":""},{"$f":"Übersetzungstexte!A$225","v":"Unbezahlte"},{"$f":"Übersetzungstexte!A$228","v":""},null,null,"barer Std.-","wöchentl.","stunden","stunden","Mitarbeiter","Mitarbeiter","stunden","Mitarbeiter","Mitarbeiter","stunden","Max. der"]
[{"$f":"Übersetzungstexte!A$195","v":"Name,Vorname"},{"$f":"Übersetzungstexte!A$198","v":"Arbeitszeit"},{"$f":"Übersetzungstexte!A$201","v":"Vorholzeit"},{"$f":"Übersetzungstexte!A$204","v":""},{"$f":"Übersetzungstexte!A$207","v":"Absenzen"},{"$f":"Übersetzungstexte!A$210","v":""},null,{"$f":"Übersetzungstexte!A$214","v":"Name,Vorname"},{"$f":"Übersetzungstexte!A$217","v":"Arbeitszeit"},{"$f":"Übersetzungstexte!A$220","v":"Vorholzeit"},{"$f":"Übersetzungstexte!A$223","v":""},{"$f":"Übersetzungstexte!A$226","v":"Absenzen"},{"$f":"Übersetzungstexte!A$229","v":""},null,"Name,Vorname","Verdienst","Arbeitszeit",{"$f":"P$3","v":"3799-01-01"},{"$f":"P$4","v":"3798-01-01"},"Vorjahr","Vorjahr","Vorjahr","Vorvorjahr","Vorvorjahr","Vorvorjahr","Spalte"]
[{"$f":"O399","v":""},null,null,null,null,{"$f":"R399","v":""},null,{"$f":"O399","v":""},null,null,null,null,{"$f":"S399","v":""},null,{"$f":"'Stammdaten Mitarbeitende'!AA399","v":""},{"$f":"IF($A399=\"\",\"\",'Stammdaten Mitarbeitende'!L399)","v":""},{"$f":"IF(OR($A399=\"\",'Stammdaten Mitarbeitende'!J399=\"\"),\"\",'Stammdaten Mitarbeitende'!J399)","v":""},{"$f":"IF(OR($A399=\"\",C399=\"\",D399=\"\",E399=\"\"),\"\",MAX(C399-D399-E399,0))","v":""},{"$f":"IF(OR($H399=\"\",J399=\"\",K399=\"\",L399=\"\"),\"\",MAX(J399-K399-L399,0))","v":""},{"$f":"IF(OR(F399=\"\"),0,C399)","v":0},{"$f":"IF(OR(F399=\"\"),0,E399)","v":0},{"$f":"IF(OR(F399<=0,F399=\"\"),0,R399)","v":0},{"$f":"IF(OR(M399=\"\"),0,J399)","v":0},{"$f":"IF(OR(M399=\"\"),0,L399)","v":0},{"$f":"IF(OR(M399<=0,M399=\"\"),0,S399)","v":0},{"$f":"MAX(P399:Y399)","v":0}]
["",null,null,null,null,"",null,"",null,null,null,null,"",null,{"$f":"'Stammdaten Mitarbeitende'!AA400","v":""},{"$f":"IF($A400=\"\",\"\",'Stammdaten Mitarbeitende'!L400)","v":""},{"$f":"IF(OR($A400=\"\",'Stammdaten Mitarbeitende'!J400=\"\"),\"\",'Stammdaten Mitarbeitende'!J400)","v":""},"",{"$f":"IF(OR($H400=\"\",J400=\"\",K400=\"\",L400=\"\"),\"\",MAX(J400-K400-L400,0))","v":""},0,0,0,0,0,0,{"$f":"MAX(P400:Y400)","v":0}]
["",null,null,null,null,"",null,"",null,null,null,null,"",null,{"$f":"'Stammdaten Mitarbeitende'!AA401","v":""},{"$f":"IF($A401=\"\",\"\",'Stammdaten Mitarbeitende'!L401)","v":""},{"$f":"IF(OR($A401=\"\",'Stammdaten Mitarbeitende'!J401=\"\"),\"\",'Stammdaten Mitarbeitende'!J401)","v":""},"","",0,0,0,0,0,0,0]
["",null,null,null,null,"",null,"",null,null,null,null,"",null,{"$f":"'Stammdaten Mitarbeitende'!AA402","v":""},{"$f":"IF($A402=\"\",\"\",'Stammdaten Mitarbeitende'!L402)","v":""},{"$f":"IF(OR($A402=\"\",'Stammdaten Mitarbeitende'!J402=\"\"),\"\",'Stammdaten Mitarbeitende'!J402)","v":""},"","",0,0,0,0,0,0,0]
["",null,null,null,null,"",null,"",null,null,null,null,"",null,{"$f":"'Stammdaten Mitarbeitende'!AA403","v":""},{"$f":"IF($A403=\"\",\"\",'Stammdaten Mitarbeitende'!L403)","v":""},{"$f":"IF(OR($A403=\"\",'Stammdaten Mitarbeitende'!J403=\"\"),\"\",'Stammdaten Mitarbeitende'!J403)","v":""},"","",0,0,0,0,0,0,0]
["",null,null,null,null,"",null,"",null,null,null,null,"",null,{"$f":"'Stammdaten Mitarbeitende'!AA404","v":""},{"$f":"IF($A404=\"\",\"\",'Stammdaten Mitarbeitende'!L404)","v":""},{"$f":"IF(OR($A404=\"\",'Stammdaten Mitarbeitende'!J404=\"\"),\"\",'Stammdaten Mitarbeitende'!J404)","v":""},"","",0,0,0,0,0,0,0]
["",null,null,null,null,"",null,"",null,null,null,null,"",null,{"$f":"'Stammdaten Mitarbeitende'!AA405","v":""},{"$f":"IF($A405=\"\",\"\",'Stammdaten Mitarbeitende'!L405)","v":""},{"$f":"IF(OR($A405=\"\",'Stammdaten Mitarbeitende'!J405=\"\"),\"\",'Stammdaten Mitarbeitende'!J405)","v":""},"","",0,0,0,0,0,0,0]
["",null,null,null,null,"",null,"",null,null,null,null,"",null,{"$f":"'Stammdaten Mitarbeitende'!AA406","v":""},{"$f":"IF($A406=\"\",\"\",'Stammdaten Mitarbeitende'!L406)","v":""},{"$f":"IF(OR($A406=\"\",'Stammdaten Mitarbeitende'!J406=\"\"),\"\",'Stammdaten Mitarbeitende'!J406)","v":""},"","",0,0,0,0,0,0,0]
["",null,null,null,null,"",null,"",null,null,null,null,"",null,{"$f":"'Stammdaten Mitarbeitende'!AA407","v":""},{"$f":"IF($A407=\"\",\"\",'Stammdaten Mitarbeitende'!L407)","v":""},{"$f":"IF(OR($A407=\"\",'Stammdaten Mitarbeitende'!J407=\"\"),\"\",'Stammdaten Mitarbeitende'!J407)","v":""},"","",0,0,0,0,0,0,0]
["",null,null,null,null,"",null,"",null,null,null,null,"",null,{"$f":"'Stammdaten Mitarbeitende'!AA408","v":""},{"$f":"IF($A408=\"\",\"\",'Stammdaten Mitarbeitende'!L408)","v":""},{"$f":"IF(OR($A408=\"\",'Stammdaten Mitarbeitende'!J408=\"\"),\"\",'Stammdaten Mitarbeitende'!J408)","v":""},"","",0,0,0,0,0,0,0]
["",null,null,null,null,"",null,"",null,null,null,null,"",null,{"$f":"'Stammdaten Mitarbeitende'!AA409","v":""},{"$f":"IF($A409=\"\",\"\",'Stammdaten Mitarbeitende'!L409)","v":""},{"$f":"IF(OR($A409=\"\",'Stammdaten Mitarbeitende'!J409=\"\"),\"\",'Stammdaten Mitarbeitende'!J409)","v":""},"","",0,0,0,0,0,0,0]
["",null,null,null,null,"",null,"",null,null,null,null,"",null,{"$f":"'Stammdaten Mitarbeitende'!AA410","v":""},{"$f":"IF($A410=\"\",\"\",'Stammdaten Mitarbeitende'!L410)","v":""},{"$f":"IF(OR($A410=\"\",'Stammdaten Mitarbeitende'!J410=\"\"),\"\",'Stammdaten Mitarbeitende'!J410)","v":""},"","",0,0,0,0,0,0,0]
["",null,null,null,null,"",null,"",null,null,null,null,"",null,{"$f":"'Stammdaten Mitarbeitende'!AA411","v":""},{"$f":"IF($A411=\"\",\"\",'Stammdaten Mitarbeitende'!L411)","v":""},{"$f":"IF(OR($A411=\"\",'Stammdaten Mitarbeitende'!J411=\"\"),\"\",'Stammdaten Mitarbeitende'!J411)","v":""},"","",0,0,0,0,0,0,0]
["",null,null,null,null,"",null,"",null,null,null,null,"",null,{"$f":"'Stammdaten Mitarbeitende'!AA412","v":""},{"$f":"IF($A412=\"\",\"\",'Stammdaten Mitarbeitende'!L412)","v":""},{"$f":"IF(OR($A412=\"\",'Stammdaten Mitarbeitende'!J412=\"\"),\"\",'Stammdaten Mitarbeitende'!J412)","v":""},"","",0,0,0,0,0,0,0]
["",null,null,null,null,"",null,"",null,null,null,null,"",null,{"$f":"'Stammdaten Mitarbeitende'!AA413","v":""},{"$f":"IF($A413=\"\",\"\",'Stammdaten Mitarbeitende'!L413)","v":""},{"$f":"IF(OR($A413=\"\",'Stammdaten Mitarbeitende'!J413=\"\"),\"\",'Stammdaten Mitarbeitende'!J413)","v":""},"","",0,0,0,0,0,0,0]
["",null,null,null,null,"",null,"",null,null,null,null,"",null,{"$f":"'Stammdaten Mitarbeitende'!AA414","v":""},{"$f":"IF($A414=\"\",\"\",'Stammdaten Mitarbeitende'!L414)","v":""},{"$f":"IF(OR($A414=\"\",'Stammdaten Mitarbeitende'!J414=\"\"),\"\",'Stammdaten Mitarbeitende'!J414)","v":""},"","",0,0,0,0,0,0,0]
["",null,null,null,null,"",null,"",null,null,null,null,"",null,{"$f":"'Stammdaten Mitarbeitende'!AA415","v":""},{"$f":"IF($A415=\"\",\"\",'Stammdaten Mitarbeitende'!L415)","v":""},{"$f":"IF(OR($A415=\"\",'Stammdaten Mitarbeitende'!J415=\"\"),\"\",'Stammdaten Mitarbeitende'!J415)","v":""},"","",0,0,0,0,0,0,0]
["",null,null,null,null,"",null,"",null,null,null,null,"",null,{"$f":"'Stammdaten Mitarbeitende'!AA416","v":""},{"$f":"IF($A416=\"\",\"\",'Stammdaten Mitarbeitende'!L416)","v":""},{"$f":"IF(OR($A416=\"\",'Stammdaten Mitarbeitende'!J416=\"\"),\"\",'Stammdaten Mitarbeitende'!J416)","v":""},"","",0,0,0,0,0,0,0]
["",null,null,null,null,"",null,"",null,null,null,null,"",null,{"$f":"'Stammdaten Mitarbeitende'!AA417","v":""},{"$f":"IF($A417=\"\",\"\",'Stammdaten Mitarbeitende'!L417)","v":""},{"$f":"IF(OR($A417=\"\",'Stammdaten Mitarbeitende'!J417=\"\"),\"\",'Stammdaten Mitarbeitende'!J417)","v":""},"","",0,0,0,0,0,0,0]
["",null,null,null,null,"",null,"",null,null,null,null,"",null,{"$f":"'Stammdaten Mitarbeitende'!AA418","v":""},{"$f":"IF($A418=\"\",\"\",'Stammdaten Mitarbeitende'!L418)","v":""},{"$f":"IF(OR($A418=\"\",'Stammdaten Mitarbeitende'!J418=\"\"),\"\",'Stammdaten Mitarbeitende'!J418)","v":""},"","",0,0,0,0,0,0,0]
["",null,null,null,null,"",null,"",null,null,null,null,"",null,{"$f":"'Stammdaten Mitarbeitende'!AA419","v":""},{"$f":"IF($A419=\"\",\"\",'Stammdaten Mitarbeitende'!L419)","v":""},{"$f":"IF(OR($A419=\"\",'Stammdaten Mitarbeitende'!J419=\"\"),\"\",'Stammdaten Mitarbeitende'!J419)","v":""},"","",0,0,0,0,0,0,0]
[{"$f":"Übersetzungstexte!A$230","v":"Seitentotal"},null,{"$f":"SUM(C399:C419)","v":0},null,{"$f":"SUM(E399:E419)","v":0},{"$f":"SUM(F399:F419)","v":0},null,{"$f":"Übersetzungstexte!A$230","v":"Seitentotal"},null,{"$f":"SUM(J399:J419)","v":0},null,{"$f":"SUM(L399:L419)","v":0},{"$f":"SUM(M399:M419)","v":0}]
[{"$f":"'Stammdaten Betrieb & Abteilung'!D$1","v":"  "},null,null,null,null,null,null,{"$f":"Übersetzungstexte!A$190","v":"Betrieb / Betriebsabteilung"},{"$f":"'Stammdaten Betrieb & Abteilung'!D$13","v":" "}]
[{"$f":"'Stammdaten Betrieb & Abteilung'!D$3","v":" "},null,null,null,null,null,null,{"$f":"Übersetzungstexte!A$191","v":"PLZ/Ort"},{"$f":"'Stammdaten Betrieb & Abteilung'!D$4","v":" "}]
[]
[null,null,null,null,null,{"$f":"CONCATENATE(Übersetzungstexte!A$192,\" \",TEXT(MONTH(P$3),\"00\"),\".\",YEAR(P$3))","v":"Zeitgleiche Periode des Vorjahres: 01.3799"},null,null,null,null,null,null,{"$f":"CONCATENATE(Übersetzungstexte!A$211,\" \",TEXT(MONTH(P$4),\"00\"),\".\",YEAR(P$4))","v":"Zeitgleiche Periode des vorletzten Jahres: 01.3798"}]
[1,2,3,4,5,6,null,1,2,3,4,5,6,null,null,null,null,"Regel 4","Regel 5","Sollstd.","Absenzen",null,"Sollstd.","Absenzen"]
[{"$f":"Übersetzungstexte!A$193","v":""},{"$f":"Übersetzungstexte!A$196","v":"vertragliche"},{"$f":"Übersetzungstexte!A$199","v":"Sollstd. zeitgl."},{"$f":"Übersetzungstexte!A$202","v":"Istzeit"},{"$f":"Übersetzungstexte!A$205","v":"Bezahlte/"},{"$f":"Übersetzungstexte!A$208","v":"Ausfallstunden"},null,{"$f":"Übersetzungstexte!A$212","v":""},{"$f":"Übersetzungstexte!A$215","v":"vertragliche"},{"$f":"Übersetzungstexte!A$218","v":"Sollstd. zeitgl."},{"$f":"Übersetzungstexte!A$221","v":"Istzeit"},{"$f":"Übersetzungstexte!A$224","v":"Bezahlte/"},{"$f":"Übersetzungstexte!A$227","v":"Ausfallstunden"},null,null,"anrechen-","vertragl.","Ausfall-","Ausfall-","betroffene","betroffene","Ausfall-","betroffene","betroffene","Ausfall-"]
[{"$f":"Übersetzungstexte!A$194","v":""},{"$f":"Übersetzungstexte!A$197","v":"wöchentliche"},{"$f":"Übersetzungstexte!A$200","v":"Periode inkl."},{"$f":"Übersetzungstexte!A$203","v":""},{"$f":"Übersetzungstexte!A$206","v":"Unbezahlte"},{"$f":"Übersetzungstexte!A$209","v":""},null,{"$f":"Übersetzungstexte!A$213","v":""},{"$f":"Übersetzungstexte!A$216","v":"wöchentliche"},{"$f":"Übersetzungstexte!A$219","v":"Periode inkl."},{"$f":"Übersetzungstexte!A$222","v":""},{"$f":"Übersetzungstexte!A$225","v":"Unbezahlte"},{"$f":"Übersetzungstexte!A$228","v":""},null,null,"barer Std.-","wöchentl.","stunden","stunden","Mitarbeiter","Mitarbeiter","stunden","Mitarbeiter","Mitarbeiter","stunden","Max. der"]
[{"$f":"Übersetzungstexte!A$195","v":"Name,Vorname"},{"$f":"Übersetzungstexte!A$198","v":"Arbeitszeit"},{"$f":"Übersetzungstexte!A$201","v":"Vorholzeit"},{"$f":"Übersetzungstexte!A$204","v":""},{"$f":"Übersetzungstexte!A$207","v":"Absenzen"},{"$f":"Übersetzungstexte!A$210","v":""},null,{"$f":"Übersetzungstexte!A$214","v":"Name,Vorname"},{"$f":"Übersetzungstexte!A$217","v":"Arbeitszeit"},{"$f":"Übersetzungstexte!A$220","v":"Vorholzeit"},{"$f":"Übersetzungstexte!A$223","v":""},{"$f":"Übersetzungstexte!A$226","v":"Absenzen"},{"$f":"Übersetzungstexte!A$229","v":""},null,"Name,Vorname","Verdienst","Arbeitszeit",{"$f":"P$3","v":"3799-01-01"},{"$f":"P$4","v":"3798-01-01"},"Vorjahr","Vorjahr","Vorjahr","Vorvorjahr","Vorvorjahr","Vorvorjahr","Spalte"]
[{"$f":"O429","v":""},null,null,null,null,{"$f":"R429","v":""},null,{"$f":"O429","v":""},null,null,null,null,{"$f":"S429","v":""},null,{"$f":"'Stammdaten Mitarbeitende'!AA429","v":""},{"$f":"IF($A429=\"\",\"\",'Stammdaten Mitarbeitende'!L429)","v":""},{"$f":"IF(OR($A429=\"\",'Stammdaten Mitarbeitende'!J429=\"\"),\"\",'Stammdaten Mitarbeitende'!J429)","v":""},{"$f":"IF(OR($A429=\"\",C429=\"\",D429=\"\",E429=\"\"),\"\",MAX(C429-D429-E429,0))","v":""},{"$f":"IF(OR($H429=\"\",J429=\"\",K429=\"\",L429=\"\"),\"\",MAX(J429-K429-L429,0))","v":""},{"$f":"IF(OR(F429=\"\"),0,C429)","v":0},{"$f":"IF(OR(F429=\"\"),0,E429)","v":0},{"$f":"IF(OR(F429<=0,F429=\"\"),0,R429)","v":0},{"$f":"IF(OR(M429=\"\"),0,J429)","v":0},{"$f":"IF(OR(M429=\"\"),0,L429)","v":0},{"$f":"IF(OR(M429<=0,M429=\"\"),0,S429)","v":0},{"$f":"MAX(P429:Y429)","v":0}]
["",null,null,null,null,"",null,"",null,null,null,null,"",null,{"$f":"'Stammdaten Mitarbeitende'!AA430","v":""},{"$f":"IF($A430=\"\",\"\",'Stammdaten Mitarbeitende'!L430)","v":""},{"$f":"IF(OR($A430=\"\",'Stammdaten Mitarbeitende'!J430=\"\"),\"\",'Stammdaten Mitarbeitende'!J430)","v":""},"",{"$f":"IF(OR($H430=\"\",J430=\"\",K430=\"\",L430=\"\"),\"\",MAX(J430-K430-L430,0))","v":""},0,0,0,0,0,0,{"$f":"MAX(P430:Y430)","v":0}]
["",null,null,null,null,"",null,"",null,null,null,null,"",null,{"$f":"'Stammdaten Mitarbeitende'!AA431","v":""},{"$f":"IF($A431=\"\",\"\",'Stammdaten Mitarbeitende'!L431)","v":""},{"$f":"IF(OR($A431=\"\",'Stammdaten Mitarbeitende'!J431=\"\"),\"\",'Stammdaten Mitarbeitende'!J431)","v":""},"","",0,0,0,0,0,0,0]
["",null,null,null,null,"",null,"",null,null,null,null,"",null,{"$f":"'Stammdaten Mitarbeitende'!AA432","v":""},{"$f":"IF($A432=\"\",\"\",'Stammdaten Mitarbeitende'!L432)","v":""},{"$f":"IF(OR($A432=\"\",'Stammdaten Mitarbeitende'!J432=\"\"),\"\",'Stammdaten Mitarbeitende'!J432)","v":""},"","",0,0,0,0,0,0,0]
["",null,null,null,null,"",null,"",null,null,null,null,"",null,{"$f":"'Stammdaten Mitarbeitende'!AA433","v":""},{"$f":"IF($A433=\"\",\"\",'Stammdaten Mitarbeitende'!L433)","v":""},{"$f":"IF(OR($A433=\"\",'Stammdaten Mitarbeitende'!J433=\"\"),\"\",'Stammdaten Mitarbeitende'!J433)","v":""},"","",0,0,0,0,0,0,0]
["",null,null,null,null,"",null,"",null,null,null,null,"",null,{"$f":"'Stammdaten Mitarbeitende'!AA434","v":""},{"$f":"IF($A434=\"\",\"\",'Stammdaten Mitarbeitende'!L434)","v":""},{"$f":"IF(OR($A434=\"\",'Stammdaten Mitarbeitende'!J434=\"\"),\"\",'Stammdaten Mitarbeitende'!J434)","v":""},"","",0,0,0,0,0,0,0]
["",null,null,null,null,"",null,"",null,null,null,null,"",null,{"$f":"'Stammdaten Mitarbeitende'!AA435","v":""},{"$f":"IF($A435=\"\",\"\",'Stammdaten Mitarbeitende'!L435)","v":""},{"$f":"IF(OR($A435=\"\",'Stammdaten Mitarbeitende'!J435=\"\"),\"\",'Stammdaten Mitarbeitende'!J435)","v":""},"","",0,0,0,0,0,0,0]
["",null,null,null,null,"",null,"",null,null,null,null,"",null,{"$f":"'Stammdaten Mitarbeitende'!AA436","v":""},{"$f":"IF($A436=\"\",\"\",'Stammdaten Mitarbeitende'!L436)","v":""},{"$f":"IF(OR($A436=\"\",'Stammdaten Mitarbeitende'!J436=\"\"),\"\",'Stammdaten Mitarbeitende'!J436)","v":""},"","",0,0,0,0,0,0,0]
["",null,null,null,null,"",null,"",null,null,null,null,"",null,{"$f":"'Stammdaten Mitarbeitende'!AA437","v":""},{"$f":"IF($A437=\"\",\"\",'Stammdaten Mitarbeitende'!L437)","v":""},{"$f":"IF(OR($A437=\"\",'Stammdaten Mitarbeitende'!J437=\"\"),\"\",'Stammdaten Mitarbeitende'!J437)","v":""},"","",0,0,0,0,0,0,0]
["",null,null,null,null,"",null,"",null,null,null,null,"",null,{"$f":"'Stammdaten Mitarbeitende'!AA438","v":""},{"$f":"IF($A438=\"\",\"\",'Stammdaten Mitarbeitende'!L438)","v":""},{"$f":"IF(OR($A438=\"\",'Stammdaten Mitarbeitende'!J438=\"\"),\"\",'Stammdaten Mitarbeitende'!J438)","v":""},"","",0,0,0,0,0,0,0]
["",null,null,null,null,"",null,"",null,null,null,null,"",null,{"$f":"'Stammdaten Mitarbeitende'!AA439","v":""},{"$f":"IF($A439=\"\",\"\",'Stammdaten Mitarbeitende'!L439)","v":""},{"$f":"IF(OR($A439=\"\",'Stammdaten Mitarbeitende'!J439=\"\"),\"\",'Stammdaten Mitarbeitende'!J439)","v":""},"","",0,0,0,0,0,0,0]
["",null,null,null,null,"",null,"",null,null,null,null,"",null,{"$f":"'Stammdaten Mitarbeitende'!AA440","v":""},{"$f":"IF($A440=\"\",\"\",'Stammdaten Mitarbeitende'!L440)","v":""},{"$f":"IF(OR($A440=\"\",'Stammdaten Mitarbeitende'!J440=\"\"),\"\",'Stammdaten Mitarbeitende'!J440)","v":""},"","",0,0,0,0,0,0,0]
["",null,null,null,null,"",null,"",null,null,null,null,"",null,{"$f":"'Stammdaten Mitarbeitende'!AA441","v":""},{"$f":"IF($A441=\"\",\"\",'Stammdaten Mitarbeitende'!L441)","v":""},{"$f":"IF(OR($A441=\"\",'Stammdaten Mitarbeitende'!J441=\"\"),\"\",'Stammdaten Mitarbeitende'!J441)","v":""},"","",0,0,0,0,0,0,0]
["",null,null,null,null,"",null,"",null,null,null,null,"",null,{"$f":"'Stammdaten Mitarbeitende'!AA442","v":""},{"$f":"IF($A442=\"\",\"\",'Stammdaten Mitarbeitende'!L442)","v":""},{"$f":"IF(OR($A442=\"\",'Stammdaten Mitarbeitende'!J442=\"\"),\"\",'Stammdaten Mitarbeitende'!J442)","v":""},"","",0,0,0,0,0,0,0]
["",null,null,null,null,"",null,"",null,null,null,null,"",null,{"$f":"'Stammdaten Mitarbeitende'!AA443","v":""},{"$f":"IF($A443=\"\",\"\",'Stammdaten Mitarbeitende'!L443)","v":""},{"$f":"IF(OR($A443=\"\",'Stammdaten Mitarbeitende'!J443=\"\"),\"\",'Stammdaten Mitarbeitende'!J443)","v":""},"","",0,0,0,0,0,0,0]
["",null,null,null,null,"",null,"",null,null,null,null,"",null,{"$f":"'Stammdaten Mitarbeitende'!AA444","v":""},{"$f":"IF($A444=\"\",\"\",'Stammdaten Mitarbeitende'!L444)","v":""},{"$f":"IF(OR($A444=\"\",'Stammdaten Mitarbeitende'!J444=\"\"),\"\",'Stammdaten Mitarbeitende'!J444)","v":""},"","",0,0,0,0,0,0,0]
["",null,null,null,null,"",null,"",null,null,null,null,"",null,{"$f":"'Stammdaten Mitarbeitende'!AA445","v":""},{"$f":"IF($A445=\"\",\"\",'Stammdaten Mitarbeitende'!L445)","v":""},{"$f":"IF(OR($A445=\"\",'Stammdaten Mitarbeitende'!J445=\"\"),\"\",'Stammdaten Mitarbeitende'!J445)","v":""},"","",0,0,0,0,0,0,0]
["",null,null,null,null,"",null,"",null,null,null,null,"",null,{"$f":"'Stammdaten Mitarbeitende'!AA446","v":""},{"$f":"IF($A446=\"\",\"\",'Stammdaten Mitarbeitende'!L446)","v":""},{"$f":"IF(OR($A446=\"\",'Stammdaten Mitarbeitende'!J446=\"\"),\"\",'Stammdaten Mitarbeitende'!J446)","v":""},"","",0,0,0,0,0,0,0]
["",null,null,null,null,"",null,"",null,null,null,null,"",null,{"$f":"'Stammdaten Mitarbeitende'!AA447","v":""},{"$f":"IF($A447=\"\",\"\",'Stammdaten Mitarbeitende'!L447)","v":""},{"$f":"IF(OR($A447=\"\",'Stammdaten Mitarbeitende'!J447=\"\"),\"\",'Stammdaten Mitarbeitende'!J447)","v":""},"","",0,0,0,0,0,0,0]
["",null,null,null,null,"",null,"",null,null,null,null,"",null,{"$f":"'Stammdaten Mitarbeitende'!AA448","v":""},{"$f":"IF($A448=\"\",\"\",'Stammdaten Mitarbeitende'!L448)","v":""},{"$f":"IF(OR($A448=\"\",'Stammdaten Mitarbeitende'!J448=\"\"),\"\",'Stammdaten Mitarbeitende'!J448)","v":""},"","",0,0,0,0,0,0,0]
["",null,null,null,null,"",null,"",null,null,null,null,"",null,{"$f":"'Stammdaten Mitarbeitende'!AA449","v":""},{"$f":"IF($A449=\"\",\"\",'Stammdaten Mitarbeitende'!L449)","v":""},{"$f":"IF(OR($A449=\"\",'Stammdaten Mitarbeitende'!J449=\"\"),\"\",'Stammdaten Mitarbeitende'!J449)","v":""},"","",0,0,0,0,0,0,0]
[{"$f":"Übersetzungstexte!A$230","v":"Seitentotal"},null,{"$f":"SUM(C429:C449)","v":0},null,{"$f":"SUM(E429:E449)","v":0},{"$f":"SUM(F429:F449)","v":0},null,{"$f":"Übersetzungstexte!A$230","v":"Seitentotal"},null,{"$f":"SUM(J429:J449)","v":0},null,{"$f":"SUM(L429:L449)","v":0},{"$f":"SUM(M429:M449)","v":0}]
[{"$f":"'Stammdaten Betrieb & Abteilung'!D$1","v":"  "},null,null,null,null,null,null,{"$f":"Übersetzungstexte!A$190","v":"Betrieb / Betriebsabteilung"},{"$f":"'Stammdaten Betrieb & Abteilung'!D$13","v":" "}]
[{"$f":"'Stammdaten Betrieb & Abteilung'!D$3","v":" "},null,null,null,null,null,null,{"$f":"Übersetzungstexte!A$191","v":"PLZ/Ort"},{"$f":"'Stammdaten Betrieb & Abteilung'!D$4","v":" "}]
[]
[null,null,null,null,null,{"$f":"CONCATENATE(Übersetzungstexte!A$192,\" \",TEXT(MONTH(P$3),\"00\"),\".\",YEAR(P$3))","v":"Zeitgleiche Periode des Vorjahres: 01.3799"},null,null,null,null,null,null,{"$f":"CONCATENATE(Übersetzungstexte!A$211,\" \",TEXT(MONTH(P$4),\"00\"),\".\",YEAR(P$4))","v":"Zeitgleiche Periode des vorletzten Jahres: 01.3798"}]
[1,2,3,4,5,6,null,1,2,3,4,5,6,null,null,null,null,"Regel 4","Regel 5","Sollstd.","Absenzen",null,"Sollstd.","Absenzen"]
[{"$f":"Übersetzungstexte!A$193","v":""},{"$f":"Übersetzungstexte!A$196","v":"vertragliche"},{"$f":"Übersetzungstexte!A$199","v":"Sollstd. zeitgl."},{"$f":"Übersetzungstexte!A$202","v":"Istzeit"},{"$f":"Übersetzungstexte!A$205","v":"Bezahlte/"},{"$f":"Übersetzungstexte!A$208","v":"Ausfallstunden"},null,{"$f":"Übersetzungstexte!A$212","v":""},{"$f":"Übersetzungstexte!A$215","v":"vertragliche"},{"$f":"Übersetzungstexte!A$218","v":"Sollstd. zeitgl."},{"$f":"Übersetzungstexte!A$221","v":"Istzeit"},{"$f":"Übersetzungstexte!A$224","v":"Bezahlte/"},{"$f":"Übersetzungstexte!A$227","v":"Ausfallstunden"},null,null,"anrechen-","vertragl.","Ausfall-","Ausfall-","betroffene","betroffene","Ausfall-","betroffene","betroffene","Ausfall-"]
[{"$f":"Übersetzungstexte!A$194","v":""},{"$f":"Übersetzungstexte!A$197","v":"wöchentliche"},{"$f":"Übersetzungstexte!A$200","v":"Periode inkl."},{"$f":"Übersetzungstexte!A$203","v":""},{"$f":"Übersetzungstexte!A$206","v":"Unbezahlte"},{"$f":"Übersetzungstexte!A$209","v":""},null,{"$f":"Übersetzungstexte!A$213","v":""},{"$f":"Übersetzungstexte!A$216","v":"wöchentliche"},{"$f":"Übersetzungstexte!A$219","v":"Periode inkl."},{"$f":"Übersetzungstexte!A$222","v":""},{"$f":"Übersetzungstexte!A$225","v":"Unbezahlte"},{"$f":"Übersetzungstexte!A$228","v":""},null,null,"barer Std.-","wöchentl.","stunden","stunden","Mitarbeiter","Mitarbeiter","stunden","Mitarbeiter","Mitarbeiter","stunden","Max. der"]
[{"$f":"Übersetzungstexte!A$195","v":"Name,Vorname"},{"$f":"Übersetzungstexte!A$198","v":"Arbeitszeit"},{"$f":"Übersetzungstexte!A$201","v":"Vorholzeit"},{"$f":"Übersetzungstexte!A$204","v":""},{"$f":"Übersetzungstexte!A$207","v":"Absenzen"},{"$f":"Übersetzungstexte!A$210","v":""},null,{"$f":"Übersetzungstexte!A$214","v":"Name,Vorname"},{"$f":"Übersetzungstexte!A$217","v":"Arbeitszeit"},{"$f":"Übersetzungstexte!A$220","v":"Vorholzeit"},{"$f":"Übersetzungstexte!A$223","v":""},{"$f":"Übersetzungstexte!A$226","v":"Absenzen"},{"$f":"Übersetzungstexte!A$229","v":""},null,"Name,Vorname","Verdienst","Arbeitszeit",{"$f":"P$3","v":"3799-01-01"},{"$f":"P$4","v":"3798-01-01"},"Vorjahr","Vorjahr","Vorjahr","Vorvorjahr","Vorvorjahr","Vorvorjahr","Spalte"]
[{"$f":"O459","v":""},null,null,null,null,{"$f":"R459","v":""},null,{"$f":"O459","v":""},null,null,null,null,{"$f":"S459","v":""},null,{"$f":"'Stammdaten Mitarbeitende'!AA459","v":""},{"$f":"IF($A459=\"\",\"\",'Stammdaten Mitarbeitende'!L459)","v":""},{"$f":"IF(OR($A459=\"\",'Stammdaten Mitarbeitende'!J459=\"\"),\"\",'Stammdaten Mitarbeitende'!J459)","v":""},{"$f":"IF(OR($A459=\"\",C459=\"\",D459=\"\",E459=\"\"),\"\",MAX(C459-D459-E459,0))","v":""},{"$f":"IF(OR($H459=\"\",J459=\"\",K459=\"\",L459=\"\"),\"\",MAX(J459-K459-L459,0))","v":""},{"$f":"IF(OR(F459=\"\"),0,C459)","v":0},{"$f":"IF(OR(F459=\"\"),0,E459)","v":0},{"$f":"IF(OR(F459<=0,F459=\"\"),0,R459)","v":0},{"$f":"IF(OR(M459=\"\"),0,J459)","v":0},{"$f":"IF(OR(M459=\"\"),0,L459)","v":0},{"$f":"IF(OR(M459<=0,M459=\"\"),0,S459)","v":0},{"$f":"MAX(P459:Y459)","v":0}]
["",null,null,null,null,"",null,"",null,null,null,null,"",null,{"$f":"'Stammdaten Mitarbeitende'!AA460","v":""},{"$f":"IF($A460=\"\",\"\",'Stammdaten Mitarbeitende'!L460)","v":""},{"$f":"IF(OR($A460=\"\",'Stammdaten Mitarbeitende'!J460=\"\"),\"\",'Stammdaten Mitarbeitende'!J460)","v":""},"",{"$f":"IF(OR($H460=\"\",J460=\"\",K460=\"\",L460=\"\"),\"\",MAX(J460-K460-L460,0))","v":""},0,0,0,0,0,0,{"$f":"MAX(P460:Y460)","v":0}]
["",null,null,null,null,"",null,"",null,null,null,null,"",null,{"$f":"'Stammdaten Mitarbeitende'!AA461","v":""},{"$f":"IF($A461=\"\",\"\",'Stammdaten Mitarbeitende'!L461)","v":""},{"$f":"IF(OR($A461=\"\",'Stammdaten Mitarbeitende'!J461=\"\"),\"\",'Stammdaten Mitarbeitende'!J461)","v":""},"","",0,0,0,0,0,0,0]
["",null,null,null,null,"",null,"",null,null,null,null,"",null,{"$f":"'Stammdaten Mitarbeitende'!AA462","v":""},{"$f":"IF($A462=\"\",\"\",'Stammdaten Mitarbeitende'!L462)","v":""},{"$f":"IF(OR($A462=\"\",'Stammdaten Mitarbeitende'!J462=\"\"),\"\",'Stammdaten Mitarbeitende'!J462)","v":""},"","",0,0,0,0,0,0,0]
["",null,null,null,null,"",null,"",null,null,null,null,"",null,{"$f":"'Stammdaten Mitarbeitende'!AA463","v":""},{"$f":"IF($A463=\"\",\"\",'Stammdaten Mitarbeitende'!L463)","v":""},{"$f":"IF(OR($A463=\"\",'Stammdaten Mitarbeitende'!J463=\"\"),\"\",'Stammdaten Mitarbeitende'!J463)","v":""},"","",0,0,0,0,0,0,0]
["",null,null,null,null,"",null,"",null,null,null,null,"",null,{"$f":"'Stammdaten Mitarbeitende'!AA464","v":""},{"$f":"IF($A464=\"\",\"\",'Stammdaten Mitarbeitende'!L464)","v":""},{"$f":"IF(OR($A464=\"\",'Stammdaten Mitarbeitende'!J464=\"\"),\"\",'Stammdaten Mitarbeitende'!J464)","v":""},"","",0,0,0,0,0,0,0]
["",null,null,null,null,"",null,"",null,null,null,null,"",null,{"$f":"'Stammdaten Mitarbeitende'!AA465","v":""},{"$f":"IF($A465=\"\",\"\",'Stammdaten Mitarbeitende'!L465)","v":""},{"$f":"IF(OR($A465=\"\",'Stammdaten Mitarbeitende'!J465=\"\"),\"\",'Stammdaten Mitarbeitende'!J465)","v":""},"","",0,0,0,0,0,0,0]
["",null,null,null,null,"",null,"",null,null,null,null,"",null,{"$f":"'Stammdaten Mitarbeitende'!AA466","v":""},{"$f":"IF($A466=\"\",\"\",'Stammdaten Mitarbeitende'!L466)","v":""},{"$f":"IF(OR($A466=\"\",'Stammdaten Mitarbeitende'!J466=\"\"),\"\",'Stammdaten Mitarbeitende'!J466)","v":""},"","",0,0,0,0,0,0,0]
["",null,null,null,null,"",null,"",null,null,null,null,"",null,{"$f":"'Stammdaten Mitarbeitende'!AA467","v":""},{"$f":"IF($A467=\"\",\"\",'Stammdaten Mitarbeitende'!L467)","v":""},{"$f":"IF(OR($A467=\"\",'Stammdaten Mitarbeitende'!J467=\"\"),\"\",'Stammdaten Mitarbeitende'!J467)","v":""},"","",0,0,0,0,0,0,0]
["",null,null,null,null,"",null,"",null,null,null,null,"",null,{"$f":"'Stammdaten Mitarbeitende'!AA468","v":""},{"$f":"IF($A468=\"\",\"\",'Stammdaten Mitarbeitende'!L468)","v":""},{"$f":"IF(OR($A468=\"\",'Stammdaten Mitarbeitende'!J468=\"\"),\"\",'Stammdaten Mitarbeitende'!J468)","v":""},"","",0,0,0,0,0,0,0]
["",null,null,null,null,"",null,"",null,null,null,null,"",null,{"$f":"'Stammdaten Mitarbeitende'!AA469","v":""},{"$f":"IF($A469=\"\",\"\",'Stammdaten Mitarbeitende'!L469)","v":""},{"$f":"IF(OR($A469=\"\",'Stammdaten Mitarbeitende'!J469=\"\"),\"\",'Stammdaten Mitarbeitende'!J469)","v":""},"","",0,0,0,0,0,0,0]
["",null,null,null,null,"",null,"",null,null,null,null,"",null,{"$f":"'Stammdaten Mitarbeitende'!AA470","v":""},{"$f":"IF($A470=\"\",\"\",'Stammdaten Mitarbeitende'!L470)","v":""},{"$f":"IF(OR($A470=\"\",'Stammdaten Mitarbeitende'!J470=\"\"),\"\",'Stammdaten Mitarbeitende'!J470)","v":""},"","",0,0,0,0,0,0,0]
["",null,null,null,null,"",null,"",null,null,null,null,"",null,{"$f":"'Stammdaten Mitarbeitende'!AA471","v":""},{"$f":"IF($A471=\"\",\"\",'Stammdaten Mitarbeitende'!L471)","v":""},{"$f":"IF(OR($A471=\"\",'Stammdaten Mitarbeitende'!J471=\"\"),\"\",'Stammdaten Mitarbeitende'!J471)","v":""},"","",0,0,0,0,0,0,0]
["",null,null,null,null,"",null,"",null,null,null,null,"",null,{"$f":"'Stammdaten Mitarbeitende'!AA472","v":""},{"$f":"IF($A472=\"\",\"\",'Stammdaten Mitarbeitende'!L472)","v":""},{"$f":"IF(OR($A472=\"\",'Stammdaten Mitarbeitende'!J472=\"\"),\"\",'Stammdaten Mitarbeitende'!J472)","v":""},"","",0,0,0,0,0,0,0]
["",null,null,null,null,"",null,"",null,null,null,null,"",null,{"$f":"'Stammdaten Mitarbeitende'!AA473","v":""},{"$f":"IF($A473=\"\",\"\",'Stammdaten Mitarbeitende'!L473)","v":""},{"$f":"IF(OR($A473=\"\",'Stammdaten Mitarbeitende'!J473=\"\"),\"\",'Stammdaten Mitarbeitende'!J473)","v":""},"","",0,0,0,0,0,0,0]
["",null,null,null,null,"",null,"",null,null,null,null,"",null,{"$f":"'Stammdaten Mitarbeitende'!AA474","v":""},{"$f":"IF($A474=\"\",\"\",'Stammdaten Mitarbeitende'!L474)","v":""},{"$f":"IF(OR($A474=\"\",'Stammdaten Mitarbeitende'!J474=\"\"),\"\",'Stammdaten Mitarbeitende'!J474)","v":""},"","",0,0,0,0,0,0,0]
["",null,null,null,null,"",null,"",null,null,null,null,"",null,{"$f":"'Stammdaten Mitarbeitende'!AA475","v":""},{"$f":"IF($A475=\"\",\"\",'Stammdaten Mitarbeitende'!L475)","v":""},{"$f":"IF(OR($A475=\"\",'Stammdaten Mitarbeitende'!J475=\"\"),\"\",'Stammdaten Mitarbeitende'!J475)","v":""},"","",0,0,0,0,0,0,0]
["",null,null,null,null,"",null,"",null,null,null,null,"",null,{"$f":"'Stammdaten Mitarbeitende'!AA476","v":""},{"$f":"IF($A476=\"\",\"\",'Stammdaten Mitarbeitende'!L476)","v":""},{"$f":"IF(OR($A476=\"\",'Stammdaten Mitarbeitende'!J476=\"\"),\"\",'Stammdaten Mitarbeitende'!J476)","v":""},"","",0,0,0,0,0,0,0]
["",null,null,null,null,"",null,"",null,null,null,null,"",null,{"$f":"'Stammdaten Mitarbeitende'!AA477","v":""},{"$f":"IF($A477=\"\",\"\",'Stammdaten Mitarbeitende'!L477)","v":""},{"$f":"IF(OR($A477=\"\",'Stammdaten Mitarbeitende'!J477=\"\"),\"\",'Stammdaten Mitarbeitende'!J477)","v":""},"","",0,0,0,0,0,0,0]
["",null,null,null,null,"",null,"",null,null,null,null,"",null,{"$f":"'Stammdaten Mitarbeitende'!AA478","v":""},{"$f":"IF($A478=\"\",\"\",'Stammdaten Mitarbeitende'!L478)","v":""},{"$f":"IF(OR($A478=\"\",'Stammdaten Mitarbeitende'!J478=\"\"),\"\",'Stammdaten Mitarbeitende'!J478)","v":""},"","",0,0,0,0,0,0,0]
["",null,null,null,null,"",null,"",null,null,null,null,"",null,{"$f":"'Stammdaten Mitarbeitende'!AA479","v":""},{"$f":"IF($A479=\"\",\"\",'Stammdaten Mitarbeitende'!L479)","v":""},{"$f":"IF(OR($A479=\"\",'Stammdaten Mitarbeitende'!J479=\"\"),\"\",'Stammdaten Mitarbeitende'!J479)","v":""},"","",0,0,0,0,0,0,0]
[{"$f":"Übersetzungstexte!A$230","v":"Seitentotal"},null,{"$f":"SUM(C459:C479)","v":0},null,{"$f":"SUM(E459:E479)","v":0},{"$f":"SUM(F459:F479)","v":0},null,{"$f":"Übersetzungstexte!A$230","v":"Seitentotal"},null,{"$f":"SUM(J459:J479)","v":0},null,{"$f":"SUM(L459:L479)","v":0},{"$f":"SUM(M459:M479)","v":0}]
[{"$f":"'Stammdaten Betrieb & Abteilung'!D$1","v":"  "},null,null,null,null,null,null,{"$f":"Übersetzungstexte!A$190","v":"Betrieb / Betriebsabteilung"},{"$f":"'Stammdaten Betrieb & Abteilung'!D$13","v":" "}]
[{"$f":"'Stammdaten Betrieb & Abteilung'!D$3","v":" "},null,null,null,null,null,null,{"$f":"Übersetzungstexte!A$191","v":"PLZ/Ort"},{"$f":"'Stammdaten Betrieb & Abteilung'!D$4","v":" "}]
[]
[null,null,null,null,null,{"$f":"CONCATENATE(Übersetzungstexte!A$192,\" \",TEXT(MONTH(P$3),\"00\"),\".\",YEAR(P$3))","v":"Zeitgleiche Periode des Vorjahres: 01.3799"},null,null,null,null,null,null,{"$f":"CONCATENATE(Übersetzungstexte!A$211,\" \",TEXT(MONTH(P$4),\"00\"),\".\",YEAR(P$4))","v":"Zeitgleiche Periode des vorletzten Jahres: 01.3798"}]
[1,2,3,4,5,6,null,1,2,3,4,5,6,null,null,null,null,"Regel 4","Regel 5","Sollstd.","Absenzen",null,"Sollstd.","Absenzen"]
[{"$f":"Übersetzungstexte!A$193","v":""},{"$f":"Übersetzungstexte!A$196","v":"vertragliche"},{"$f":"Übersetzungstexte!A$199","v":"Sollstd. zeitgl."},{"$f":"Übersetzungstexte!A$202","v":"Istzeit"},{"$f":"Übersetzungstexte!A$205","v":"Bezahlte/"},{"$f":"Übersetzungstexte!A$208","v":"Ausfallstunden"},null,{"$f":"Übersetzungstexte!A$212","v":""},{"$f":"Übersetzungstexte!A$215","v":"vertragliche"},{"$f":"Übersetzungstexte!A$218","v":"Sollstd. zeitgl."},{"$f":"Übersetzungstexte!A$221","v":"Istzeit"},{"$f":"Übersetzungstexte!A$224","v":"Bezahlte/"},{"$f":"Übersetzungstexte!A$227","v":"Ausfallstunden"},null,null,"anrechen-","vertragl.","Ausfall-","Ausfall-","betroffene","betroffene","Ausfall-","betroffene","betroffene","Ausfall-"]
[{"$f":"Übersetzungstexte!A$194","v":""},{"$f":"Übersetzungstexte!A$197","v":"wöchentliche"},{"$f":"Übersetzungstexte!A$200","v":"Periode inkl."},{"$f":"Übersetzungstexte!A$203","v":""},{"$f":"Übersetzungstexte!A$206","v":"Unbezahlte"},{"$f":"Übersetzungstexte!A$209","v":""},null,{"$f":"Übersetzungstexte!A$213","v":""},{"$f":"Übersetzungstexte!A$216","v":"wöchentliche"},{"$f":"Übersetzungstexte!A$219","v":"Periode inkl."},{"$f":"Übersetzungstexte!A$222","v":""},{"$f":"Übersetzungstexte!A$225","v":"Unbezahlte"},{"$f":"Übersetzungstexte!A$228","v":""},null,null,"barer Std.-","wöchentl.","stunden","stunden","Mitarbeiter","Mitarbeiter","stunden","Mitarbeiter","Mitarbeiter","stunden","Max. der"]
[{"$f":"Übersetzungstexte!A$195","v":"Name,Vorname"},{"$f":"Übersetzungstexte!A$198","v":"Arbeitszeit"},{"$f":"Übersetzungstexte!A$201","v":"Vorholzeit"},{"$f":"Übersetzungstexte!A$204","v":""},{"$f":"Übersetzungstexte!A$207","v":"Absenzen"},{"$f":"Übersetzungstexte!A$210","v":""},null,{"$f":"Übersetzungstexte!A$214","v":"Name,Vorname"},{"$f":"Übersetzungstexte!A$217","v":"Arbeitszeit"},{"$f":"Übersetzungstexte!A$220","v":"Vorholzeit"},{"$f":"Übersetzungstexte!A$223","v":""},{"$f":"Übersetzungstexte!A$226","v":"Absenzen"},{"$f":"Übersetzungstexte!A$229","v":""},null,"Name,Vorname","Verdienst","Arbeitszeit",{"$f":"P$3","v":"3799-01-01"},{"$f":"P$4","v":"3798-01-01"},"Vorjahr","Vorjahr","Vorjahr","Vorvorjahr","Vorvorjahr","Vorvorjahr","Spalte"]
[{"$f":"O489","v":""},null,null,null,null,{"$f":"R489","v":""},null,{"$f":"O489","v":""},null,null,null,null,{"$f":"S489","v":""},null,{"$f":"'Stammdaten Mitarbeitende'!AA489","v":""},{"$f":"IF($A489=\"\",\"\",'Stammdaten Mitarbeitende'!L489)","v":""},{"$f":"IF(OR($A489=\"\",'Stammdaten Mitarbeitende'!J489=\"\"),\"\",'Stammdaten Mitarbeitende'!J489)","v":""},{"$f":"IF(OR($A489=\"\",C489=\"\",D489=\"\",E489=\"\"),\"\",MAX(C489-D489-E489,0))","v":""},{"$f":"IF(OR($H489=\"\",J489=\"\",K489=\"\",L489=\"\"),\"\",MAX(J489-K489-L489,0))","v":""},{"$f":"IF(OR(F489=\"\"),0,C489)","v":0},{"$f":"IF(OR(F489=\"\"),0,E489)","v":0},{"$f":"IF(OR(F489<=0,F489=\"\"),0,R489)","v":0},{"$f":"IF(OR(M489=\"\"),0,J489)","v":0},{"$f":"IF(OR(M489=\"\"),0,L489)","v":0},{"$f":"IF(OR(M489<=0,M489=\"\"),0,S489)","v":0},{"$f":"MAX(P489:Y489)","v":0}]
["",null,null,null,null,"",null,"",null,null,null,null,"",null,{"$f":"'Stammdaten Mitarbeitende'!AA490","v":""},{"$f":"IF($A490=\"\",\"\",'Stammdaten Mitarbeitende'!L490)","v":""},{"$f":"IF(OR($A490=\"\",'Stammdaten Mitarbeitende'!J490=\"\"),\"\",'Stammdaten Mitarbeitende'!J490)","v":""},"",{"$f":"IF(OR($H490=\"\",J490=\"\",K490=\"\",L490=\"\"),\"\",MAX(J490-K490-L490,0))","v":""},0,0,0,0,0,0,{"$f":"MAX(P490:Y490)","v":0}]
["",null,null,null,null,"",null,"",null,null,null,null,"",null,{"$f":"'Stammdaten Mitarbeitende'!AA491","v":""},{"$f":"IF($A491=\"\",\"\",'Stammdaten Mitarbeitende'!L491)","v":""},{"$f":"IF(OR($A491=\"\",'Stammdaten Mitarbeitende'!J491=\"\"),\"\",'Stammdaten Mitarbeitende'!J491)","v":""},"","",0,0,0,0,0,0,0]
["",null,null,null,null,"",null,"",null,null,null,null,"",null,{"$f":"'Stammdaten Mitarbeitende'!AA492","v":""},{"$f":"IF($A492=\"\",\"\",'Stammdaten Mitarbeitende'!L492)","v":""},{"$f":"IF(OR($A492=\"\",'Stammdaten Mitarbeitende'!J492=\"\"),\"\",'Stammdaten Mitarbeitende'!J492)","v":""},"","",0,0,0,0,0,0,0]
["",null,null,null,null,"",null,"",null,null,null,null,"",null,{"$f":"'Stammdaten Mitarbeitende'!AA493","v":""},{"$f":"IF($A493=\"\",\"\",'Stammdaten Mitarbeitende'!L493)","v":""},{"$f":"IF(OR($A493=\"\",'Stammdaten Mitarbeitende'!J493=\"\"),\"\",'Stammdaten Mitarbeitende'!J493)","v":""},"","",0,0,0,0,0,0,0]
["",null,null,null,null,"",null,"",null,null,null,null,"",null,{"$f":"'Stammdaten Mitarbeitende'!AA494","v":""},{"$f":"IF($A494=\"\",\"\",'Stammdaten Mitarbeitende'!L494)","v":""},{"$f":"IF(OR($A494=\"\",'Stammdaten Mitarbeitende'!J494=\"\"),\"\",'Stammdaten Mitarbeitende'!J494)","v":""},"","",0,0,0,0,0,0,0]
["",null,null,null,null,"",null,"",null,null,null,null,"",null,{"$f":"'Stammdaten Mitarbeitende'!AA495","v":""},{"$f":"IF($A495=\"\",\"\",'Stammdaten Mitarbeitende'!L495)","v":""},{"$f":"IF(OR($A495=\"\",'Stammdaten Mitarbeitende'!J495=\"\"),\"\",'Stammdaten Mitarbeitende'!J495)","v":""},"","",0,0,0,0,0,0,0]
["",null,null,null,null,"",null,"",null,null,null,null,"",null,{"$f":"'Stammdaten Mitarbeitende'!AA496","v":""},{"$f":"IF($A496=\"\",\"\",'Stammdaten Mitarbeitende'!L496)","v":""},{"$f":"IF(OR($A496=\"\",'Stammdaten Mitarbeitende'!J496=\"\"),\"\",'Stammdaten Mitarbeitende'!J496)","v":""},"","",0,0,0,0,0,0,0]
["",null,null,null,null,"",null,"",null,null,null,null,"",null,{"$f":"'Stammdaten Mitarbeitende'!AA497","v":""},{"$f":"IF($A497=\"\",\"\",'Stammdaten Mitarbeitende'!L497)","v":""},{"$f":"IF(OR($A497=\"\",'Stammdaten Mitarbeitende'!J497=\"\"),\"\",'Stammdaten Mitarbeitende'!J497)","v":""},"","",0,0,0,0,0,0,0]
["",null,null,null,null,"",null,"",null,null,null,null,"",null,{"$f":"'Stammdaten Mitarbeitende'!AA498","v":""},{"$f":"IF($A498=\"\",\"\",'Stammdaten Mitarbeitende'!L498)","v":""},{"$f":"IF(OR($A498=\"\",'Stammdaten Mitarbeitende'!J498=\"\"),\"\",'Stammdaten Mitarbeitende'!J498)","v":""},"","",0,0,0,0,0,0,0]
["",null,null,null,null,"",null,"",null,null,null,null,"",null,{"$f":"'Stammdaten Mitarbeitende'!AA499","v":""},{"$f":"IF($A499=\"\",\"\",'Stammdaten Mitarbeitende'!L499)","v":""},{"$f":"IF(OR($A499=\"\",'Stammdaten Mitarbeitende'!J499=\"\"),\"\",'Stammdaten Mitarbeitende'!J499)","v":""},"","",0,0,0,0,0,0,0]
["",null,null,null,null,"",null,"",null,null,null,null,"",null,{"$f":"'Stammdaten Mitarbeitende'!AA500","v":""},{"$f":"IF($A500=\"\",\"\",'Stammdaten Mitarbeitende'!L500)","v":""},{"$f":"IF(OR($A500=\"\",'Stammdaten Mitarbeitende'!J500=\"\"),\"\",'Stammdaten Mitarbeitende'!J500)","v":""},"","",0,0,0,0,0,0,0]
["",null,null,null,null,"",null,"",null,null,null,null,"",null,{"$f":"'Stammdaten Mitarbeitende'!AA501","v":""},{"$f":"IF($A501=\"\",\"\",'Stammdaten Mitarbeitende'!L501)","v":""},{"$f":"IF(OR($A501=\"\",'Stammdaten Mitarbeitende'!J501=\"\"),\"\",'Stammdaten Mitarbeitende'!J501)","v":""},"","",0,0,0,0,0,0,0]
["",null,null,null,null,"",null,"",null,null,null,null,"",null,{"$f":"'Stammdaten Mitarbeitende'!AA502","v":""},{"$f":"IF($A502=\"\",\"\",'Stammdaten Mitarbeitende'!L502)","v":""},{"$f":"IF(OR($A502=\"\",'Stammdaten Mitarbeitende'!J502=\"\"),\"\",'Stammdaten Mitarbeitende'!J502)","v":""},"","",0,0,0,0,0,0,0]
["",null,null,null,null,"",null,"",null,null,null,null,"",null,{"$f":"'Stammdaten Mitarbeitende'!AA503","v":""},{"$f":"IF($A503=\"\",\"\",'Stammdaten Mitarbeitende'!L503)","v":""},{"$f":"IF(OR($A503=\"\",'Stammdaten Mitarbeitende'!J503=\"\"),\"\",'Stammdaten Mitarbeitende'!J503)","v":""},"","",0,0,0,0,0,0,0]
["",null,null,null,null,"",null,"",null,null,null,null,"",null,{"$f":"'Stammdaten Mitarbeitende'!AA504","v":""},{"$f":"IF($A504=\"\",\"\",'Stammdaten Mitarbeitende'!L504)","v":""},{"$f":"IF(OR($A504=\"\",'Stammdaten Mitarbeitende'!J504=\"\"),\"\",'Stammdaten Mitarbeitende'!J504)","v":""},"","",0,0,0,0,0,0,0]
["",null,null,null,null,"",null,"",null,null,null,null,"",null,{"$f":"'Stammdaten Mitarbeitende'!AA505","v":""},{"$f":"IF($A505=\"\",\"\",'Stammdaten Mitarbeitende'!L505)","v":""},{"$f":"IF(OR($A505=\"\",'Stammdaten Mitarbeitende'!J505=\"\"),\"\",'Stammdaten Mitarbeitende'!J505)","v":""},"","",0,0,0,0,0,0,0]
["",null,null,null,null,"",null,"",null,null,null,null,"",null,{"$f":"'Stammdaten Mitarbeitende'!AA506","v":""},{"$f":"IF($A506=\"\",\"\",'Stammdaten Mitarbeitende'!L506)","v":""},{"$f":"IF(OR($A506=\"\",'Stammdaten Mitarbeitende'!J506=\"\"),\"\",'Stammdaten Mitarbeitende'!J506)","v":""},"","",0,0,0,0,0,0,0]
["",null,null,null,null,"",null,"",null,null,null,null,"",null,{"$f":"'Stammdaten Mitarbeitende'!AA507","v":""},{"$f":"IF($A507=\"\",\"\",'Stammdaten Mitarbeitende'!L507)","v":""},{"$f":"IF(OR($A507=\"\",'Stammdaten Mitarbeitende'!J507=\"\"),\"\",'Stammdaten Mitarbeitende'!J507)","v":""},"","",0,0,0,0,0,0,0]
["",null,null,null,null,"",null,"",null,null,null,null,"",null,{"$f":"'Stammdaten Mitarbeitende'!AA508","v":""},{"$f":"IF($A508=\"\",\"\",'Stammdaten Mitarbeitende'!L508)","v":""},{"$f":"IF(OR($A508=\"\",'Stammdaten Mitarbeitende'!J508=\"\"),\"\",'Stammdaten Mitarbeitende'!J508)","v":""},"","",0,0,0,0,0,0,0]
["",null,null,null,null,"",null,"",null,null,null,null,"",null,{"$f":"'Stammdaten Mitarbeitende'!AA509","v":""},{"$f":"IF($A509=\"\",\"\",'Stammdaten Mitarbeitende'!L509)","v":""},{"$f":"IF(OR($A509=\"\",'Stammdaten Mitarbeitende'!J509=\"\"),\"\",'Stammdaten Mitarbeitende'!J509)","v":""},"","",0,0,0,0,0,0,0]
[{"$f":"Übersetzungstexte!A$230","v":"Seitentotal"},null,{"$f":"SUM(C489:C509)","v":0},null,{"$f":"SUM(E489:E509)","v":0},{"$f":"SUM(F489:F509)","v":0},null,{"$f":"Übersetzungstexte!A$230","v":"Seitentotal"},null,{"$f":"SUM(J489:J509)","v":0},null,{"$f":"SUM(L489:L509)","v":0},{"$f":"SUM(M489:M509)","v":0}]
[{"$f":"'Stammdaten Betrieb & Abteilung'!D$1","v":"  "},null,null,null,null,null,null,{"$f":"Übersetzungstexte!A$190","v":"Betrieb / Betriebsabteilung"},{"$f":"'Stammdaten Betrieb & Abteilung'!D$13","v":" "}]
[{"$f":"'Stammdaten Betrieb & Abteilung'!D$3","v":" "},null,null,null,null,null,null,{"$f":"Übersetzungstexte!A$191","v":"PLZ/Ort"},{"$f":"'Stammdaten Betrieb & Abteilung'!D$4","v":" "}]
[]
[null,null,null,null,null,{"$f":"CONCATENATE(Übersetzungstexte!A$192,\" \",TEXT(MONTH(P$3),\"00\"),\".\",YEAR(P$3))","v":"Zeitgleiche Periode des Vorjahres: 01.3799"},null,null,null,null,null,null,{"$f":"CONCATENATE(Übersetzungstexte!A$211,\" \",TEXT(MONTH(P$4),\"00\"),\".\",YEAR(P$4))","v":"Zeitgleiche Periode des vorletzten Jahres: 01.3798"}]
[1,2,3,4,5,6,null,1,2,3,4,5,6,null,null,null,null,"Regel 4","Regel 5","Sollstd.","Absenzen",null,"Sollstd.","Absenzen"]
[{"$f":"Übersetzungstexte!A$193","v":""},{"$f":"Übersetzungstexte!A$196","v":"vertragliche"},{"$f":"Übersetzungstexte!A$199","v":"Sollstd. zeitgl."},{"$f":"Übersetzungstexte!A$202","v":"Istzeit"},{"$f":"Übersetzungstexte!A$205","v":"Bezahlte/"},{"$f":"Übersetzungstexte!A$208","v":"Ausfallstunden"},null,{"$f":"Übersetzungstexte!A$212","v":""},{"$f":"Übersetzungstexte!A$215","v":"vertragliche"},{"$f":"Übersetzungstexte!A$218","v":"Sollstd. zeitgl."},{"$f":"Übersetzungstexte!A$221","v":"Istzeit"},{"$f":"Übersetzungstexte!A$224","v":"Bezahlte/"},{"$f":"Übersetzungstexte!A$227","v":"Ausfallstunden"},null,null,"anrechen-","vertragl.","Ausfall-","Ausfall-","betroffene","betroffene","Ausfall-","betroffene","betroffene","Ausfall-"]
[{"$f":"Übersetzungstexte!A$194","v":""},{"$f":"Übersetzungstexte!A$197","v":"wöchentliche"},{"$f":"Übersetzungstexte!A$200","v":"Periode inkl."},{"$f":"Übersetzungstexte!A$203","v":""},{"$f":"Übersetzungstexte!A$206","v":"Unbezahlte"},{"$f":"Übersetzungstexte!A$209","v":""},null,{"$f":"Übersetzungstexte!A$213","v":""},{"$f":"Übersetzungstexte!A$216","v":"wöchentliche"},{"$f":"Übersetzungstexte!A$219","v":"Periode inkl."},{"$f":"Übersetzungstexte!A$222","v":""},{"$f":"Übersetzungstexte!A$225","v":"Unbezahlte"},{"$f":"Übersetzungstexte!A$228","v":""},null,null,"barer Std.-","wöchentl.","stunden","stunden","Mitarbeiter","Mitarbeiter","stunden","Mitarbeiter","Mitarbeiter","stunden","Max. der"]
[{"$f":"Übersetzungstexte!A$195","v":"Name,Vorname"},{"$f":"Übersetzungstexte!A$198","v":"Arbeitszeit"},{"$f":"Übersetzungstexte!A$201","v":"Vorholzeit"},{"$f":"Übersetzungstexte!A$204","v":""},{"$f":"Übersetzungstexte!A$207","v":"Absenzen"},{"$f":"Übersetzungstexte!A$210","v":""},null,{"$f":"Übersetzungstexte!A$214","v":"Name,Vorname"},{"$f":"Übersetzungstexte!A$217","v":"Arbeitszeit"},{"$f":"Übersetzungstexte!A$220","v":"Vorholzeit"},{"$f":"Übersetzungstexte!A$223","v":""},{"$f":"Übersetzungstexte!A$226","v":"Absenzen"},{"$f":"Übersetzungstexte!A$229","v":""},null,"Name,Vorname","Verdienst","Arbeitszeit",{"$f":"P$3","v":"3799-01-01"},{"$f":"P$4","v":"3798-01-01"},"Vorjahr","Vorjahr","Vorjahr","Vorvorjahr","Vorvorjahr","Vorvorjahr","Spalte"]
[{"$f":"O519","v":""},null,null,null,null,{"$f":"R519","v":""},null,{"$f":"O519","v":""},null,null,null,null,{"$f":"S519","v":""},null,{"$f":"'Stammdaten Mitarbeitende'!AA519","v":""},{"$f":"IF($A519=\"\",\"\",'Stammdaten Mitarbeitende'!L519)","v":""},{"$f":"IF(OR($A519=\"\",'Stammdaten Mitarbeitende'!J519=\"\"),\"\",'Stammdaten Mitarbeitende'!J519)","v":""},{"$f":"IF(OR($A519=\"\",C519=\"\",D519=\"\",E519=\"\"),\"\",MAX(C519-D519-E519,0))","v":""},{"$f":"IF(OR($H519=\"\",J519=\"\",K519=\"\",L519=\"\"),\"\",MAX(J519-K519-L519,0))","v":""},{"$f":"IF(OR(F519=\"\"),0,C519)","v":0},{"$f":"IF(OR(F519=\"\"),0,E519)","v":0},{"$f":"IF(OR(F519<=0,F519=\"\"),0,R519)","v":0},{"$f":"IF(OR(M519=\"\"),0,J519)","v":0},{"$f":"IF(OR(M519=\"\"),0,L519)","v":0},{"$f":"IF(OR(M519<=0,M519=\"\"),0,S519)","v":0},{"$f":"MAX(P519:Y519)","v":0}]
["",null,null,null,null,"",null,"",null,null,null,null,"",null,{"$f":"'Stammdaten Mitarbeitende'!AA520","v":""},{"$f":"IF($A520=\"\",\"\",'Stammdaten Mitarbeitende'!L520)","v":""},{"$f":"IF(OR($A520=\"\",'Stammdaten Mitarbeitende'!J520=\"\"),\"\",'Stammdaten Mitarbeitende'!J520)","v":""},"",{"$f":"IF(OR($H520=\"\",J520=\"\",K520=\"\",L520=\"\"),\"\",MAX(J520-K520-L520,0))","v":""},0,0,0,0,0,0,{"$f":"MAX(P520:Y520)","v":0}]
["",null,null,null,null,"",null,"",null,null,null,null,"",null,{"$f":"'Stammdaten Mitarbeitende'!AA521","v":""},{"$f":"IF($A521=\"\",\"\",'Stammdaten Mitarbeitende'!L521)","v":""},{"$f":"IF(OR($A521=\"\",'Stammdaten Mitarbeitende'!J521=\"\"),\"\",'Stammdaten Mitarbeitende'!J521)","v":""},"","",0,0,0,0,0,0,0]
["",null,null,null,null,"",null,"",null,null,null,null,"",null,{"$f":"'Stammdaten Mitarbeitende'!AA522","v":""},{"$f":"IF($A522=\"\",\"\",'Stammdaten Mitarbeitende'!L522)","v":""},{"$f":"IF(OR($A522=\"\",'Stammdaten Mitarbeitende'!J522=\"\"),\"\",'Stammdaten Mitarbeitende'!J522)","v":""},"","",0,0,0,0,0,0,0]
["",null,null,null,null,"",null,"",null,null,null,null,"",null,{"$f":"'Stammdaten Mitarbeitende'!AA523","v":""},{"$f":"IF($A523=\"\",\"\",'Stammdaten Mitarbeitende'!L523)","v":""},{"$f":"IF(OR($A523=\"\",'Stammdaten Mitarbeitende'!J523=\"\"),\"\",'Stammdaten Mitarbeitende'!J523)","v":""},"","",0,0,0,0,0,0,0]
["",null,null,null,null,"",null,"",null,null,null,null,"",null,{"$f":"'Stammdaten Mitarbeitende'!AA524","v":""},{"$f":"IF($A524=\"\",\"\",'Stammdaten Mitarbeitende'!L524)","v":""},{"$f":"IF(OR($A524=\"\",'Stammdaten Mitarbeitende'!J524=\"\"),\"\",'Stammdaten Mitarbeitende'!J524)","v":""},"","",0,0,0,0,0,0,0]
["",null,null,null,null,"",null,"",null,null,null,null,"",null,{"$f":"'Stammdaten Mitarbeitende'!AA525","v":""},{"$f":"IF($A525=\"\",\"\",'Stammdaten Mitarbeitende'!L525)","v":""},{"$f":"IF(OR($A525=\"\",'Stammdaten Mitarbeitende'!J525=\"\"),\"\",'Stammdaten Mitarbeitende'!J525)","v":""},"","",0,0,0,0,0,0,0]
["",null,null,null,null,"",null,"",null,null,null,null,"",null,{"$f":"'Stammdaten Mitarbeitende'!AA526","v":""},{"$f":"IF($A526=\"\",\"\",'Stammdaten Mitarbeitende'!L526)","v":""},{"$f":"IF(OR($A526=\"\",'Stammdaten Mitarbeitende'!J526=\"\"),\"\",'Stammdaten Mitarbeitende'!J526)","v":""},"","",0,0,0,0,0,0,0]
["",null,null,null,null,"",null,"",null,null,null,null,"",null,{"$f":"'Stammdaten Mitarbeitende'!AA527","v":""},{"$f":"IF($A527=\"\",\"\",'Stammdaten Mitarbeitende'!L527)","v":""},{"$f":"IF(OR($A527=\"\",'Stammdaten Mitarbeitende'!J527=\"\"),\"\",'Stammdaten Mitarbeitende'!J527)","v":""},"","",0,0,0,0,0,0,0]
["",null,null,null,null,"",null,"",null,null,null,null,"",null,{"$f":"'Stammdaten Mitarbeitende'!AA528","v":""},{"$f":"IF($A528=\"\",\"\",'Stammdaten Mitarbeitende'!L528)","v":""},{"$f":"IF(OR($A528=\"\",'Stammdaten Mitarbeitende'!J528=\"\"),\"\",'Stammdaten Mitarbeitende'!J528)","v":""},"","",0,0,0,0,0,0,0]
["",null,null,null,null,"",null,"",null,null,null,null,"",null,{"$f":"'Stammdaten Mitarbeitende'!AA529","v":""},{"$f":"IF($A529=\"\",\"\",'Stammdaten Mitarbeitende'!L529)","v":""},{"$f":"IF(OR($A529=\"\",'Stammdaten Mitarbeitende'!J529=\"\"),\"\",'Stammdaten Mitarbeitende'!J529)","v":""},"","",0,0,0,0,0,0,0]
["",null,null,null,null,"",null,"",null,null,null,null,"",null,{"$f":"'Stammdaten Mitarbeitende'!AA530","v":""},{"$f":"IF($A530=\"\",\"\",'Stammdaten Mitarbeitende'!L530)","v":""},{"$f":"IF(OR($A530=\"\",'Stammdaten Mitarbeitende'!J530=\"\"),\"\",'Stammdaten Mitarbeitende'!J530)","v":""},"","",0,0,0,0,0,0,0]
["",null,null,null,null,"",null,"",null,null,null,null,"",null,{"$f":"'Stammdaten Mitarbeitende'!AA531","v":""},{"$f":"IF($A531=\"\",\"\",'Stammdaten Mitarbeitende'!L531)","v":""},{"$f":"IF(OR($A531=\"\",'Stammdaten Mitarbeitende'!J531=\"\"),\"\",'Stammdaten Mitarbeitende'!J531)","v":""},"","",0,0,0,0,0,0,0]
["",null,null,null,null,"",null,"",null,null,null,null,"",null,{"$f":"'Stammdaten Mitarbeitende'!AA532","v":""},{"$f":"IF($A532=\"\",\"\",'Stammdaten Mitarbeitende'!L532)","v":""},{"$f":"IF(OR($A532=\"\",'Stammdaten Mitarbeitende'!J532=\"\"),\"\",'Stammdaten Mitarbeitende'!J532)","v":""},"","",0,0,0,0,0,0,0]
["",null,null,null,null,"",null,"",null,null,null,null,"",null,{"$f":"'Stammdaten Mitarbeitende'!AA533","v":""},{"$f":"IF($A533=\"\",\"\",'Stammdaten Mitarbeitende'!L533)","v":""},{"$f":"IF(OR($A533=\"\",'Stammdaten Mitarbeitende'!J533=\"\"),\"\",'Stammdaten Mitarbeitende'!J533)","v":""},"","",0,0,0,0,0,0,0]
["",null,null,null,null,"",null,"",null,null,null,null,"",null,{"$f":"'Stammdaten Mitarbeitende'!AA534","v":""},{"$f":"IF($A534=\"\",\"\",'Stammdaten Mitarbeitende'!L534)","v":""},{"$f":"IF(OR($A534=\"\",'Stammdaten Mitarbeitende'!J534=\"\"),\"\",'Stammdaten Mitarbeitende'!J534)","v":""},"","",0,0,0,0,0,0,0]
["",null,null,null,null,"",null,"",null,null,null,null,"",null,{"$f":"'Stammdaten Mitarbeitende'!AA535","v":""},{"$f":"IF($A535=\"\",\"\",'Stammdaten Mitarbeitende'!L535)","v":""},{"$f":"IF(OR($A535=\"\",'Stammdaten Mitarbeitende'!J535=\"\"),\"\",'Stammdaten Mitarbeitende'!J535)","v":""},"","",0,0,0,0,0,0,0]
["",null,null,null,null,"",null,"",null,null,null,null,"",null,{"$f":"'Stammdaten Mitarbeitende'!AA536","v":""},{"$f":"IF($A536=\"\",\"\",'Stammdaten Mitarbeitende'!L536)","v":""},{"$f":"IF(OR($A536=\"\",'Stammdaten Mitarbeitende'!J536=\"\"),\"\",'Stammdaten Mitarbeitende'!J536)","v":""},"","",0,0,0,0,0,0,0]
["",null,null,null,null,"",null,"",null,null,null,null,"",null,{"$f":"'Stammdaten Mitarbeitende'!AA537","v":""},{"$f":"IF($A537=\"\",\"\",'Stammdaten Mitarbeitende'!L537)","v":""},{"$f":"IF(OR($A537=\"\",'Stammdaten Mitarbeitende'!J537=\"\"),\"\",'Stammdaten Mitarbeitende'!J537)","v":""},"","",0,0,0,0,0,0,0]
["",null,null,null,null,"",null,"",null,null,null,null,"",null,{"$f":"'Stammdaten Mitarbeitende'!AA538","v":""},{"$f":"IF($A538=\"\",\"\",'Stammdaten Mitarbeitende'!L538)","v":""},{"$f":"IF(OR($A538=\"\",'Stammdaten Mitarbeitende'!J538=\"\"),\"\",'Stammdaten Mitarbeitende'!J538)","v":""},"","",0,0,0,0,0,0,0]
["",null,null,null,null,"",null,"",null,null,null,null,"",null,{"$f":"'Stammdaten Mitarbeitende'!AA539","v":""},{"$f":"IF($A539=\"\",\"\",'Stammdaten Mitarbeitende'!L539)","v":""},{"$f":"IF(OR($A539=\"\",'Stammdaten Mitarbeitende'!J539=\"\"),\"\",'Stammdaten Mitarbeitende'!J539)","v":""},"","",0,0,0,0,0,0,0]
[{"$f":"Übersetzungstexte!A$230","v":"Seitentotal"},null,{"$f":"SUM(C519:C539)","v":0},null,{"$f":"SUM(E519:E539)","v":0},{"$f":"SUM(F519:F539)","v":0},null,{"$f":"Übersetzungstexte!A$230","v":"Seitentotal"},null,{"$f":"SUM(J519:J539)","v":0},null,{"$f":"SUM(L519:L539)","v":0},{"$f":"SUM(M519:M539)","v":0}]
[{"$f":"'Stammdaten Betrieb & Abteilung'!D$1","v":"  "},null,null,null,null,null,null,{"$f":"Übersetzungstexte!A$190","v":"Betrieb / Betriebsabteilung"},{"$f":"'Stammdaten Betrieb & Abteilung'!D$13","v":" "}]
[{"$f":"'Stammdaten Betrieb & Abteilung'!D$3","v":" "},null,null,null,null,null,null,{"$f":"Übersetzungstexte!A$191","v":"PLZ/Ort"},{"$f":"'Stammdaten Betrieb & Abteilung'!D$4","v":" "}]
[]
[null,null,null,null,null,{"$f":"CONCATENATE(Übersetzungstexte!A$192,\" \",TEXT(MONTH(P$3),\"00\"),\".\",YEAR(P$3))","v":"Zeitgleiche Periode des Vorjahres: 01.3799"},null,null,null,null,null,null,{"$f":"CONCATENATE(Übersetzungstexte!A$211,\" \",TEXT(MONTH(P$4),\"00\"),\".\",YEAR(P$4))","v":"Zeitgleiche Periode des vorletzten Jahres: 01.3798"}]
[1,2,3,4,5,6,null,1,2,3,4,5,6,null,null,null,null,"Regel 4","Regel 5","Sollstd.","Absenzen",null,"Sollstd.","Absenzen"]
[{"$f":"Übersetzungstexte!A$193","v":""},{"$f":"Übersetzungstexte!A$196","v":"vertragliche"},{"$f":"Übersetzungstexte!A$199","v":"Sollstd. zeitgl."},{"$f":"Übersetzungstexte!A$202","v":"Istzeit"},{"$f":"Übersetzungstexte!A$205","v":"Bezahlte/"},{"$f":"Übersetzungstexte!A$208","v":"Ausfallstunden"},null,{"$f":"Übersetzungstexte!A$212","v":""},{"$f":"Übersetzungstexte!A$215","v":"vertragliche"},{"$f":"Übersetzungstexte!A$218","v":"Sollstd. zeitgl."},{"$f":"Übersetzungstexte!A$221","v":"Istzeit"},{"$f":"Übersetzungstexte!A$224","v":"Bezahlte/"},{"$f":"Übersetzungstexte!A$227","v":"Ausfallstunden"},null,null,"anrechen-","vertragl.","Ausfall-","Ausfall-","betroffene","betroffene","Ausfall-","betroffene","betroffene","Ausfall-"]
[{"$f":"Übersetzungstexte!A$194","v":""},{"$f":"Übersetzungstexte!A$197","v":"wöchentliche"},{"$f":"Übersetzungstexte!A$200","v":"Periode inkl."},{"$f":"Übersetzungstexte!A$203","v":""},{"$f":"Übersetzungstexte!A$206","v":"Unbezahlte"},{"$f":"Übersetzungstexte!A$209","v":""},null,{"$f":"Übersetzungstexte!A$213","v":""},{"$f":"Übersetzungstexte!A$216","v":"wöchentliche"},{"$f":"Übersetzungstexte!A$219","v":"Periode inkl."},{"$f":"Übersetzungstexte!A$222","v":""},{"$f":"Übersetzungstexte!A$225","v":"Unbezahlte"},{"$f":"Übersetzungstexte!A$228","v":""},null,null,"barer Std.-","wöchentl.","stunden","stunden","Mitarbeiter","Mitarbeiter","stunden","Mitarbeiter","Mitarbeiter","stunden","Max. der"]
[{"$f":"Übersetzungstexte!A$195","v":"Name,Vorname"},{"$f":"Übersetzungstexte!A$198","v":"Arbeitszeit"},{"$f":"Übersetzungstexte!A$201","v":"Vorholzeit"},{"$f":"Übersetzungstexte!A$204","v":""},{"$f":"Übersetzungstexte!A$207","v":"Absenzen"},{"$f":"Übersetzungstexte!A$210","v":""},null,{"$f":"Übersetzungstexte!A$214","v":"Name,Vorname"},{"$f":"Übersetzungstexte!A$217","v":"Arbeitszeit"},{"$f":"Übersetzungstexte!A$220","v":"Vorholzeit"},{"$f":"Übersetzungstexte!A$223","v":""},{"$f":"Übersetzungstexte!A$226","v":"Absenzen"},{"$f":"Übersetzungstexte!A$229","v":""},null,"Name,Vorname","Verdienst","Arbeitszeit",{"$f":"P$3","v":"3799-01-01"},{"$f":"P$4","v":"3798-01-01"},"Vorjahr","Vorjahr","Vorjahr","Vorvorjahr","Vorvorjahr","Vorvorjahr","Spalte"]
[{"$f":"O549","v":""},null,null,null,null,{"$f":"R549","v":""},null,{"$f":"O549","v":""},null,null,null,null,{"$f":"S549","v":""},null,{"$f":"'Stammdaten Mitarbeitende'!AA549","v":""},{"$f":"IF($A549=\"\",\"\",'Stammdaten Mitarbeitende'!L549)","v":""},{"$f":"IF(OR($A549=\"\",'Stammdaten Mitarbeitende'!J549=\"\"),\"\",'Stammdaten Mitarbeitende'!J549)","v":""},{"$f":"IF(OR($A549=\"\",C549=\"\",D549=\"\",E549=\"\"),\"\",MAX(C549-D549-E549,0))","v":""},{"$f":"IF(OR($H549=\"\",J549=\"\",K549=\"\",L549=\"\"),\"\",MAX(J549-K549-L549,0))","v":""},{"$f":"IF(OR(F549=\"\"),0,C549)","v":0},{"$f":"IF(OR(F549=\"\"),0,E549)","v":0},{"$f":"IF(OR(F549<=0,F549=\"\"),0,R549)","v":0},{"$f":"IF(OR(M549=\"\"),0,J549)","v":0},{"$f":"IF(OR(M549=\"\"),0,L549)","v":0},{"$f":"IF(OR(M549<=0,M549=\"\"),0,S549)","v":0},{"$f":"MAX(P549:Y549)","v":0}]
["",null,null,null,null,"",null,"",null,null,null,null,"",null,{"$f":"'Stammdaten Mitarbeitende'!AA550","v":""},{"$f":"IF($A550=\"\",\"\",'Stammdaten Mitarbeitende'!L550)","v":""},{"$f":"IF(OR($A550=\"\",'Stammdaten Mitarbeitende'!J550=\"\"),\"\",'Stammdaten Mitarbeitende'!J550)","v":""},"",{"$f":"IF(OR($H550=\"\",J550=\"\",K550=\"\",L550=\"\"),\"\",MAX(J550-K550-L550,0))","v":""},0,0,0,0,0,0,{"$f":"MAX(P550:Y550)","v":0}]
["",null,null,null,null,"",null,"",null,null,null,null,"",null,{"$f":"'Stammdaten Mitarbeitende'!AA551","v":""},{"$f":"IF($A551=\"\",\"\",'Stammdaten Mitarbeitende'!L551)","v":""},{"$f":"IF(OR($A551=\"\",'Stammdaten Mitarbeitende'!J551=\"\"),\"\",'Stammdaten Mitarbeitende'!J551)","v":""},"","",0,0,0,0,0,0,0]
["",null,null,null,null,"",null,"",null,null,null,null,"",null,{"$f":"'Stammdaten Mitarbeitende'!AA552","v":""},{"$f":"IF($A552=\"\",\"\",'Stammdaten Mitarbeitende'!L552)","v":""},{"$f":"IF(OR($A552=\"\",'Stammdaten Mitarbeitende'!J552=\"\"),\"\",'Stammdaten Mitarbeitende'!J552)","v":""},"","",0,0,0,0,0,0,0]
["",null,null,null,null,"",null,"",null,null,null,null,"",null,{"$f":"'Stammdaten Mitarbeitende'!AA553","v":""},{"$f":"IF($A553=\"\",\"\",'Stammdaten Mitarbeitende'!L553)","v":""},{"$f":"IF(OR($A553=\"\",'Stammdaten Mitarbeitende'!J553=\"\"),\"\",'Stammdaten Mitarbeitende'!J553)","v":""},"","",0,0,0,0,0,0,0]
["",null,null,null,null,"",null,"",null,null,null,null,"",null,{"$f":"'Stammdaten Mitarbeitende'!AA554","v":""},{"$f":"IF($A554=\"\",\"\",'Stammdaten Mitarbeitende'!L554)","v":""},{"$f":"IF(OR($A554=\"\",'Stammdaten Mitarbeitende'!J554=\"\"),\"\",'Stammdaten Mitarbeitende'!J554)","v":""},"","",0,0,0,0,0,0,0]
["",null,null,null,null,"",null,"",null,null,null,null,"",null,{"$f":"'Stammdaten Mitarbeitende'!AA555","v":""},{"$f":"IF($A555=\"\",\"\",'Stammdaten Mitarbeitende'!L555)","v":""},{"$f":"IF(OR($A555=\"\",'Stammdaten Mitarbeitende'!J555=\"\"),\"\",'Stammdaten Mitarbeitende'!J555)","v":""},"","",0,0,0,0,0,0,0]
["",null,null,null,null,"",null,"",null,null,null,null,"",null,{"$f":"'Stammdaten Mitarbeitende'!AA556","v":""},{"$f":"IF($A556=\"\",\"\",'Stammdaten Mitarbeitende'!L556)","v":""},{"$f":"IF(OR($A556=\"\",'Stammdaten Mitarbeitende'!J556=\"\"),\"\",'Stammdaten Mitarbeitende'!J556)","v":""},"","",0,0,0,0,0,0,0]
["",null,null,null,null,"",null,"",null,null,null,null,"",null,{"$f":"'Stammdaten Mitarbeitende'!AA557","v":""},{"$f":"IF($A557=\"\",\"\",'Stammdaten Mitarbeitende'!L557)","v":""},{"$f":"IF(OR($A557=\"\",'Stammdaten Mitarbeitende'!J557=\"\"),\"\",'Stammdaten Mitarbeitende'!J557)","v":""},"","",0,0,0,0,0,0,0]
["",null,null,null,null,"",null,"",null,null,null,null,"",null,{"$f":"'Stammdaten Mitarbeitende'!AA558","v":""},{"$f":"IF($A558=\"\",\"\",'Stammdaten Mitarbeitende'!L558)","v":""},{"$f":"IF(OR($A558=\"\",'Stammdaten Mitarbeitende'!J558=\"\"),\"\",'Stammdaten Mitarbeitende'!J558)","v":""},"","",0,0,0,0,0,0,0]
["",null,null,null,null,"",null,"",null,null,null,null,"",null,{"$f":"'Stammdaten Mitarbeitende'!AA559","v":""},{"$f":"IF($A559=\"\",\"\",'Stammdaten Mitarbeitende'!L559)","v":""},{"$f":"IF(OR($A559=\"\",'Stammdaten Mitarbeitende'!J559=\"\"),\"\",'Stammdaten Mitarbeitende'!J559)","v":""},"","",0,0,0,0,0,0,0]
["",null,null,null,null,"",null,"",null,null,null,null,"",null,{"$f":"'Stammdaten Mitarbeitende'!AA560","v":""},{"$f":"IF($A560=\"\",\"\",'Stammdaten Mitarbeitende'!L560)","v":""},{"$f":"IF(OR($A560=\"\",'Stammdaten Mitarbeitende'!J560=\"\"),\"\",'Stammdaten Mitarbeitende'!J560)","v":""},"","",0,0,0,0,0,0,0]
["",null,null,null,null,"",null,"",null,null,null,null,"",null,{"$f":"'Stammdaten Mitarbeitende'!AA561","v":""},{"$f":"IF($A561=\"\",\"\",'Stammdaten Mitarbeitende'!L561)","v":""},{"$f":"IF(OR($A561=\"\",'Stammdaten Mitarbeitende'!J561=\"\"),\"\",'Stammdaten Mitarbeitende'!J561)","v":""},"","",0,0,0,0,0,0,0]
["",null,null,null,null,"",null,"",null,null,null,null,"",null,{"$f":"'Stammdaten Mitarbeitende'!AA562","v":""},{"$f":"IF($A562=\"\",\"\",'Stammdaten Mitarbeitende'!L562)","v":""},{"$f":"IF(OR($A562=\"\",'Stammdaten Mitarbeitende'!J562=\"\"),\"\",'Stammdaten Mitarbeitende'!J562)","v":""},"","",0,0,0,0,0,0,0]
["",null,null,null,null,"",null,"",null,null,null,null,"",null,{"$f":"'Stammdaten Mitarbeitende'!AA563","v":""},{"$f":"IF($A563=\"\",\"\",'Stammdaten Mitarbeitende'!L563)","v":""},{"$f":"IF(OR($A563=\"\",'Stammdaten Mitarbeitende'!J563=\"\"),\"\",'Stammdaten Mitarbeitende'!J563)","v":""},"","",0,0,0,0,0,0,0]
["",null,null,null,null,"",null,"",null,null,null,null,"",null,{"$f":"'Stammdaten Mitarbeitende'!AA564","v":""},{"$f":"IF($A564=\"\",\"\",'Stammdaten Mitarbeitende'!L564)","v":""},{"$f":"IF(OR($A564=\"\",'Stammdaten Mitarbeitende'!J564=\"\"),\"\",'Stammdaten Mitarbeitende'!J564)","v":""},"","",0,0,0,0,0,0,0]
["",null,null,null,null,"",null,"",null,null,null,null,"",null,{"$f":"'Stammdaten Mitarbeitende'!AA565","v":""},{"$f":"IF($A565=\"\",\"\",'Stammdaten Mitarbeitende'!L565)","v":""},{"$f":"IF(OR($A565=\"\",'Stammdaten Mitarbeitende'!J565=\"\"),\"\",'Stammdaten Mitarbeitende'!J565)","v":""},"","",0,0,0,0,0,0,0]
["",null,null,null,null,"",null,"",null,null,null,null,"",null,{"$f":"'Stammdaten Mitarbeitende'!AA566","v":""},{"$f":"IF($A566=\"\",\"\",'Stammdaten Mitarbeitende'!L566)","v":""},{"$f":"IF(OR($A566=\"\",'Stammdaten Mitarbeitende'!J566=\"\"),\"\",'Stammdaten Mitarbeitende'!J566)","v":""},"","",0,0,0,0,0,0,0]
["",null,null,null,null,"",null,"",null,null,null,null,"",null,{"$f":"'Stammdaten Mitarbeitende'!AA567","v":""},{"$f":"IF($A567=\"\",\"\",'Stammdaten Mitarbeitende'!L567)","v":""},{"$f":"IF(OR($A567=\"\",'Stammdaten Mitarbeitende'!J567=\"\"),\"\",'Stammdaten Mitarbeitende'!J567)","v":""},"","",0,0,0,0,0,0,0]
["",null,null,null,null,"",null,"",null,null,null,null,"",null,{"$f":"'Stammdaten Mitarbeitende'!AA568","v":""},{"$f":"IF($A568=\"\",\"\",'Stammdaten Mitarbeitende'!L568)","v":""},{"$f":"IF(OR($A568=\"\",'Stammdaten Mitarbeitende'!J568=\"\"),\"\",'Stammdaten Mitarbeitende'!J568)","v":""},"","",0,0,0,0,0,0,0]
["",null,null,null,null,"",null,"",null,null,null,null,"",null,{"$f":"'Stammdaten Mitarbeitende'!AA569","v":""},{"$f":"IF($A569=\"\",\"\",'Stammdaten Mitarbeitende'!L569)","v":""},{"$f":"IF(OR($A569=\"\",'Stammdaten Mitarbeitende'!J569=\"\"),\"\",'Stammdaten Mitarbeitende'!J569)","v":""},"","",0,0,0,0,0,0,0]
[{"$f":"Übersetzungstexte!A$230","v":"Seitentotal"},null,{"$f":"SUM(C549:C569)","v":0},null,{"$f":"SUM(E549:E569)","v":0},{"$f":"SUM(F549:F569)","v":0},null,{"$f":"Übersetzungstexte!A$230","v":"Seitentotal"},null,{"$f":"SUM(J549:J569)","v":0},null,{"$f":"SUM(L549:L569)","v":0},{"$f":"SUM(M549:M569)","v":0}]
[{"$f":"'Stammdaten Betrieb & Abteilung'!D$1","v":"  "},null,null,null,null,null,null,{"$f":"Übersetzungstexte!A$190","v":"Betrieb / Betriebsabteilung"},{"$f":"'Stammdaten Betrieb & Abteilung'!D$13","v":" "}]
[{"$f":"'Stammdaten Betrieb & Abteilung'!D$3","v":" "},null,null,null,null,null,null,{"$f":"Übersetzungstexte!A$191","v":"PLZ/Ort"},{"$f":"'Stammdaten Betrieb & Abteilung'!D$4","v":" "}]
[]
[null,null,null,null,null,{"$f":"CONCATENATE(Übersetzungstexte!A$192,\" \",TEXT(MONTH(P$3),\"00\"),\".\",YEAR(P$3))","v":"Zeitgleiche Periode des Vorjahres: 01.3799"},null,null,null,null,null,null,{"$f":"CONCATENATE(Übersetzungstexte!A$211,\" \",TEXT(MONTH(P$4),\"00\"),\".\",YEAR(P$4))","v":"Zeitgleiche Periode des vorletzten Jahres: 01.3798"}]
[1,2,3,4,5,6,null,1,2,3,4,5,6,null,null,null,null,"Regel 4","Regel 5","Sollstd.","Absenzen",null,"Sollstd.","Absenzen"]
[{"$f":"Übersetzungstexte!A$193","v":""},{"$f":"Übersetzungstexte!A$196","v":"vertragliche"},{"$f":"Übersetzungstexte!A$199","v":"Sollstd. zeitgl."},{"$f":"Übersetzungstexte!A$202","v":"Istzeit"},{"$f":"Übersetzungstexte!A$205","v":"Bezahlte/"},{"$f":"Übersetzungstexte!A$208","v":"Ausfallstunden"},null,{"$f":"Übersetzungstexte!A$212","v":""},{"$f":"Übersetzungstexte!A$215","v":"vertragliche"},{"$f":"Übersetzungstexte!A$218","v":"Sollstd. zeitgl."},{"$f":"Übersetzungstexte!A$221","v":"Istzeit"},{"$f":"Übersetzungstexte!A$224","v":"Bezahlte/"},{"$f":"Übersetzungstexte!A$227","v":"Ausfallstunden"},null,null,"anrechen-","vertragl.","Ausfall-","Ausfall-","betroffene","betroffene","Ausfall-","betroffene","betroffene","Ausfall-"]
[{"$f":"Übersetzungstexte!A$194","v":""},{"$f":"Übersetzungstexte!A$197","v":"wöchentliche"},{"$f":"Übersetzungstexte!A$200","v":"Periode inkl."},{"$f":"Übersetzungstexte!A$203","v":""},{"$f":"Übersetzungstexte!A$206","v":"Unbezahlte"},{"$f":"Übersetzungstexte!A$209","v":""},null,{"$f":"Übersetzungstexte!A$213","v":""},{"$f":"Übersetzungstexte!A$216","v":"wöchentliche"},{"$f":"Übersetzungstexte!A$219","v":"Periode inkl."},{"$f":"Übersetzungstexte!A$222","v":""},{"$f":"Übersetzungstexte!A$225","v":"Unbezahlte"},{"$f":"Übersetzungstexte!A$228","v":""},null,null,"barer Std.-","wöchentl.","stunden","stunden","Mitarbeiter","Mitarbeiter","stunden","Mitarbeiter","Mitarbeiter","stunden","Max. der"]
[{"$f":"Übersetzungstexte!A$195","v":"Name,Vorname"},{"$f":"Übersetzungstexte!A$198","v":"Arbeitszeit"},{"$f":"Übersetzungstexte!A$201","v":"Vorholzeit"},{"$f":"Übersetzungstexte!A$204","v":""},{"$f":"Übersetzungstexte!A$207","v":"Absenzen"},{"$f":"Übersetzungstexte!A$210","v":""},null,{"$f":"Übersetzungstexte!A$214","v":"Name,Vorname"},{"$f":"Übersetzungstexte!A$217","v":"Arbeitszeit"},{"$f":"Übersetzungstexte!A$220","v":"Vorholzeit"},{"$f":"Übersetzungstexte!A$223","v":""},{"$f":"Übersetzungstexte!A$226","v":"Absenzen"},{"$f":"Übersetzungstexte!A$229","v":""},null,"Name,Vorname","Verdienst","Arbeitszeit",{"$f":"P$3","v":"3799-01-01"},{"$f":"P$4","v":"3798-01-01"},"Vorjahr","Vorjahr","Vorjahr","Vorvorjahr","Vorvorjahr","Vorvorjahr","Spalte"]
[{"$f":"O579","v":""},null,null,null,null,{"$f":"R579","v":""},null,{"$f":"O579","v":""},null,null,null,null,{"$f":"S579","v":""},null,{"$f":"'Stammdaten Mitarbeitende'!AA579","v":""},{"$f":"IF($A579=\"\",\"\",'Stammdaten Mitarbeitende'!L579)","v":""},{"$f":"IF(OR($A579=\"\",'Stammdaten Mitarbeitende'!J579=\"\"),\"\",'Stammdaten Mitarbeitende'!J579)","v":""},{"$f":"IF(OR($A579=\"\",C579=\"\",D579=\"\",E579=\"\"),\"\",MAX(C579-D579-E579,0))","v":""},{"$f":"IF(OR($H579=\"\",J579=\"\",K579=\"\",L579=\"\"),\"\",MAX(J579-K579-L579,0))","v":""},{"$f":"IF(OR(F579=\"\"),0,C579)","v":0},{"$f":"IF(OR(F579=\"\"),0,E579)","v":0},{"$f":"IF(OR(F579<=0,F579=\"\"),0,R579)","v":0},{"$f":"IF(OR(M579=\"\"),0,J579)","v":0},{"$f":"IF(OR(M579=\"\"),0,L579)","v":0},{"$f":"IF(OR(M579<=0,M579=\"\"),0,S579)","v":0},{"$f":"MAX(P579:Y579)","v":0}]
["",null,null,null,null,"",null,"",null,null,null,null,"",null,{"$f":"'Stammdaten Mitarbeitende'!AA580","v":""},{"$f":"IF($A580=\"\",\"\",'Stammdaten Mitarbeitende'!L580)","v":""},{"$f":"IF(OR($A580=\"\",'Stammdaten Mitarbeitende'!J580=\"\"),\"\",'Stammdaten Mitarbeitende'!J580)","v":""},"",{"$f":"IF(OR($H580=\"\",J580=\"\",K580=\"\",L580=\"\"),\"\",MAX(J580-K580-L580,0))","v":""},0,0,0,0,0,0,{"$f":"MAX(P580:Y580)","v":0}]
["",null,null,null,null,"",null,"",null,null,null,null,"",null,{"$f":"'Stammdaten Mitarbeitende'!AA581","v":""},{"$f":"IF($A581=\"\",\"\",'Stammdaten Mitarbeitende'!L581)","v":""},{"$f":"IF(OR($A581=\"\",'Stammdaten Mitarbeitende'!J581=\"\"),\"\",'Stammdaten Mitarbeitende'!J581)","v":""},"","",0,0,0,0,0,0,0]
["",null,null,null,null,"",null,"",null,null,null,null,"",null,{"$f":"'Stammdaten Mitarbeitende'!AA582","v":""},{"$f":"IF($A582=\"\",\"\",'Stammdaten Mitarbeitende'!L582)","v":""},{"$f":"IF(OR($A582=\"\",'Stammdaten Mitarbeitende'!J582=\"\"),\"\",'Stammdaten Mitarbeitende'!J582)","v":""},"","",0,0,0,0,0,0,0]
["",null,null,null,null,"",null,"",null,null,null,null,"",null,{"$f":"'Stammdaten Mitarbeitende'!AA583","v":""},{"$f":"IF($A583=\"\",\"\",'Stammdaten Mitarbeitende'!L583)","v":""},{"$f":"IF(OR($A583=\"\",'Stammdaten Mitarbeitende'!J583=\"\"),\"\",'Stammdaten Mitarbeitende'!J583)","v":""},"","",0,0,0,0,0,0,0]
["",null,null,null,null,"",null,"",null,null,null,null,"",null,{"$f":"'Stammdaten Mitarbeitende'!AA584","v":""},{"$f":"IF($A584=\"\",\"\",'Stammdaten Mitarbeitende'!L584)","v":""},{"$f":"IF(OR($A584=\"\",'Stammdaten Mitarbeitende'!J584=\"\"),\"\",'Stammdaten Mitarbeitende'!J584)","v":""},"","",0,0,0,0,0,0,0]
["",null,null,null,null,"",null,"",null,null,null,null,"",null,{"$f":"'Stammdaten Mitarbeitende'!AA585","v":""},{"$f":"IF($A585=\"\",\"\",'Stammdaten Mitarbeitende'!L585)","v":""},{"$f":"IF(OR($A585=\"\",'Stammdaten Mitarbeitende'!J585=\"\"),\"\",'Stammdaten Mitarbeitende'!J585)","v":""},"","",0,0,0,0,0,0,0]
["",null,null,null,null,"",null,"",null,null,null,null,"",null,{"$f":"'Stammdaten Mitarbeitende'!AA586","v":""},{"$f":"IF($A586=\"\",\"\",'Stammdaten Mitarbeitende'!L586)","v":""},{"$f":"IF(OR($A586=\"\",'Stammdaten Mitarbeitende'!J586=\"\"),\"\",'Stammdaten Mitarbeitende'!J586)","v":""},"","",0,0,0,0,0,0,0]
["",null,null,null,null,"",null,"",null,null,null,null,"",null,{"$f":"'Stammdaten Mitarbeitende'!AA587","v":""},{"$f":"IF($A587=\"\",\"\",'Stammdaten Mitarbeitende'!L587)","v":""},{"$f":"IF(OR($A587=\"\",'Stammdaten Mitarbeitende'!J587=\"\"),\"\",'Stammdaten Mitarbeitende'!J587)","v":""},"","",0,0,0,0,0,0,0]
["",null,null,null,null,"",null,"",null,null,null,null,"",null,{"$f":"'Stammdaten Mitarbeitende'!AA588","v":""},{"$f":"IF($A588=\"\",\"\",'Stammdaten Mitarbeitende'!L588)","v":""},{"$f":"IF(OR($A588=\"\",'Stammdaten Mitarbeitende'!J588=\"\"),\"\",'Stammdaten Mitarbeitende'!J588)","v":""},"","",0,0,0,0,0,0,0]
["",null,null,null,null,"",null,"",null,null,null,null,"",null,{"$f":"'Stammdaten Mitarbeitende'!AA589","v":""},{"$f":"IF($A589=\"\",\"\",'Stammdaten Mitarbeitende'!L589)","v":""},{"$f":"IF(OR($A589=\"\",'Stammdaten Mitarbeitende'!J589=\"\"),\"\",'Stammdaten Mitarbeitende'!J589)","v":""},"","",0,0,0,0,0,0,0]
["",null,null,null,null,"",null,"",null,null,null,null,"",null,{"$f":"'Stammdaten Mitarbeitende'!AA590","v":""},{"$f":"IF($A590=\"\",\"\",'Stammdaten Mitarbeitende'!L590)","v":""},{"$f":"IF(OR($A590=\"\",'Stammdaten Mitarbeitende'!J590=\"\"),\"\",'Stammdaten Mitarbeitende'!J590)","v":""},"","",0,0,0,0,0,0,0]
["",null,null,null,null,"",null,"",null,null,null,null,"",null,{"$f":"'Stammdaten Mitarbeitende'!AA591","v":""},{"$f":"IF($A591=\"\",\"\",'Stammdaten Mitarbeitende'!L591)","v":""},{"$f":"IF(OR($A591=\"\",'Stammdaten Mitarbeitende'!J591=\"\"),\"\",'Stammdaten Mitarbeitende'!J591)","v":""},"","",0,0,0,0,0,0,0]
["",null,null,null,null,"",null,"",null,null,null,null,"",null,{"$f":"'Stammdaten Mitarbeitende'!AA592","v":""},{"$f":"IF($A592=\"\",\"\",'Stammdaten Mitarbeitende'!L592)","v":""},{"$f":"IF(OR($A592=\"\",'Stammdaten Mitarbeitende'!J592=\"\"),\"\",'Stammdaten Mitarbeitende'!J592)","v":""},"","",0,0,0,0,0,0,0]
["",null,null,null,null,"",null,"",null,null,null,null,"",null,{"$f":"'Stammdaten Mitarbeitende'!AA593","v":""},{"$f":"IF($A593=\"\",\"\",'Stammdaten Mitarbeitende'!L593)","v":""},{"$f":"IF(OR($A593=\"\",'Stammdaten Mitarbeitende'!J593=\"\"),\"\",'Stammdaten Mitarbeitende'!J593)","v":""},"","",0,0,0,0,0,0,0]
["",null,null,null,null,"",null,"",null,null,null,null,"",null,{"$f":"'Stammdaten Mitarbeitende'!AA594","v":""},{"$f":"IF($A594=\"\",\"\",'Stammdaten Mitarbeitende'!L594)","v":""},{"$f":"IF(OR($A594=\"\",'Stammdaten Mitarbeitende'!J594=\"\"),\"\",'Stammdaten Mitarbeitende'!J594)","v":""},"","",0,0,0,0,0,0,0]
["",null,null,null,null,"",null,"",null,null,null,null,"",null,{"$f":"'Stammdaten Mitarbeitende'!AA595","v":""},{"$f":"IF($A595=\"\",\"\",'Stammdaten Mitarbeitende'!L595)","v":""},{"$f":"IF(OR($A595=\"\",'Stammdaten Mitarbeitende'!J595=\"\"),\"\",'Stammdaten Mitarbeitende'!J595)","v":""},"","",0,0,0,0,0,0,0]
["",null,null,null,null,"",null,"",null,null,null,null,"",null,{"$f":"'Stammdaten Mitarbeitende'!AA596","v":""},{"$f":"IF($A596=\"\",\"\",'Stammdaten Mitarbeitende'!L596)","v":""},{"$f":"IF(OR($A596=\"\",'Stammdaten Mitarbeitende'!J596=\"\"),\"\",'Stammdaten Mitarbeitende'!J596)","v":""},"","",0,0,0,0,0,0,0]
["",null,null,null,null,"",null,"",null,null,null,null,"",null,{"$f":"'Stammdaten Mitarbeitende'!AA597","v":""},{"$f":"IF($A597=\"\",\"\",'Stammdaten Mitarbeitende'!L597)","v":""},{"$f":"IF(OR($A597=\"\",'Stammdaten Mitarbeitende'!J597=\"\"),\"\",'Stammdaten Mitarbeitende'!J597)","v":""},"","",0,0,0,0,0,0,0]
["",null,null,null,null,"",null,"",null,null,null,null,"",null,{"$f":"'Stammdaten Mitarbeitende'!AA598","v":""},{"$f":"IF($A598=\"\",\"\",'Stammdaten Mitarbeitende'!L598)","v":""},{"$f":"IF(OR($A598=\"\",'Stammdaten Mitarbeitende'!J598=\"\"),\"\",'Stammdaten Mitarbeitende'!J598)","v":""},"","",0,0,0,0,0,0,0]
["",null,null,null,null,"",null,"",null,null,null,null,"",null,{"$f":"'Stammdaten Mitarbeitende'!AA599","v":""},{"$f":"IF($A599=\"\",\"\",'Stammdaten Mitarbeitende'!L599)","v":""},{"$f":"IF(OR($A599=\"\",'Stammdaten Mitarbeitende'!J599=\"\"),\"\",'Stammdaten Mitarbeitende'!J599)","v":""},"","",0,0,0,0,0,0,0]
[{"$f":"Übersetzungstexte!A$230","v":"Seitentotal"},null,{"$f":"SUM(C579:C599)","v":0},null,{"$f":"SUM(E579:E599)","v":0},{"$f":"SUM(F579:F599)","v":0},null,{"$f":"Übersetzungstexte!A$230","v":"Seitentotal"},null,{"$f":"SUM(J579:J599)","v":0},null,{"$f":"SUM(L579:L599)","v":0},{"$f":"SUM(M579:M599)","v":0}]
[{"$f":"'Stammdaten Betrieb & Abteilung'!D$1","v":"  "},null,null,null,null,null,null,{"$f":"Übersetzungstexte!A$190","v":"Betrieb / Betriebsabteilung"},{"$f":"'Stammdaten Betrieb & Abteilung'!D$13","v":" "}]
[{"$f":"'Stammdaten Betrieb & Abteilung'!D$3","v":" "},null,null,null,null,null,null,{"$f":"Übersetzungstexte!A$191","v":"PLZ/Ort"},{"$f":"'Stammdaten Betrieb & Abteilung'!D$4","v":" "}]
[]
[null,null,null,null,null,{"$f":"CONCATENATE(Übersetzungstexte!A$192,\" \",TEXT(MONTH(P$3),\"00\"),\".\",YEAR(P$3))","v":"Zeitgleiche Periode des Vorjahres: 01.3799"},null,null,null,null,null,null,{"$f":"CONCATENATE(Übersetzungstexte!A$211,\" \",TEXT(MONTH(P$4),\"00\"),\".\",YEAR(P$4))","v":"Zeitgleiche Periode des vorletzten Jahres: 01.3798"}]
[1,2,3,4,5,6,null,1,2,3,4,5,6,null,null,null,null,"Regel 4","Regel 5","Sollstd.","Absenzen",null,"Sollstd.","Absenzen"]
[{"$f":"Übersetzungstexte!A$193","v":""},{"$f":"Übersetzungstexte!A$196","v":"vertragliche"},{"$f":"Übersetzungstexte!A$199","v":"Sollstd. zeitgl."},{"$f":"Übersetzungstexte!A$202","v":"Istzeit"},{"$f":"Übersetzungstexte!A$205","v":"Bezahlte/"},{"$f":"Übersetzungstexte!A$208","v":"Ausfallstunden"},null,{"$f":"Übersetzungstexte!A$212","v":""},{"$f":"Übersetzungstexte!A$215","v":"vertragliche"},{"$f":"Übersetzungstexte!A$218","v":"Sollstd. zeitgl."},{"$f":"Übersetzungstexte!A$221","v":"Istzeit"},{"$f":"Übersetzungstexte!A$224","v":"Bezahlte/"},{"$f":"Übersetzungstexte!A$227","v":"Ausfallstunden"},null,null,"anrechen-","vertragl.","Ausfall-","Ausfall-","betroffene","betroffene","Ausfall-","betroffene","betroffene","Ausfall-"]
[{"$f":"Übersetzungstexte!A$194","v":""},{"$f":"Übersetzungstexte!A$197","v":"wöchentliche"},{"$f":"Übersetzungstexte!A$200","v":"Periode inkl."},{"$f":"Übersetzungstexte!A$203","v":""},{"$f":"Übersetzungstexte!A$206","v":"Unbezahlte"},{"$f":"Übersetzungstexte!A$209","v":""},null,{"$f":"Übersetzungstexte!A$213","v":""},{"$f":"Übersetzungstexte!A$216","v":"wöchentliche"},{"$f":"Übersetzungstexte!A$219","v":"Periode inkl."},{"$f":"Übersetzungstexte!A$222","v":""},{"$f":"Übersetzungstexte!A$225","v":"Unbezahlte"},{"$f":"Übersetzungstexte!A$228","v":""},null,null,"barer Std.-","wöchentl.","stunden","stunden","Mitarbeiter","Mitarbeiter","stunden","Mitarbeiter","Mitarbeiter","stunden","Max. der"]
[{"$f":"Übersetzungstexte!A$195","v":"Name,Vorname"},{"$f":"Übersetzungstexte!A$198","v":"Arbeitszeit"},{"$f":"Übersetzungstexte!A$201","v":"Vorholzeit"},{"$f":"Übersetzungstexte!A$204","v":""},{"$f":"Übersetzungstexte!A$207","v":"Absenzen"},{"$f":"Übersetzungstexte!A$210","v":""},null,{"$f":"Übersetzungstexte!A$214","v":"Name,Vorname"},{"$f":"Übersetzungstexte!A$217","v":"Arbeitszeit"},{"$f":"Übersetzungstexte!A$220","v":"Vorholzeit"},{"$f":"Übersetzungstexte!A$223","v":""},{"$f":"Übersetzungstexte!A$226","v":"Absenzen"},{"$f":"Übersetzungstexte!A$229","v":""},null,"Name,Vorname","Verdienst","Arbeitszeit",{"$f":"P$3","v":"3799-01-01"},{"$f":"P$4","v":"3798-01-01"},"Vorjahr","Vorjahr","Vorjahr","Vorvorjahr","Vorvorjahr","Vorvorjahr","Spalte"]
[{"$f":"O609","v":""},null,null,null,null,{"$f":"R609","v":""},null,{"$f":"O609","v":""},null,null,null,null,{"$f":"S609","v":""},null,{"$f":"'Stammdaten Mitarbeitende'!AA609","v":""},{"$f":"IF($A609=\"\",\"\",'Stammdaten Mitarbeitende'!L609)","v":""},{"$f":"IF(OR($A609=\"\",'Stammdaten Mitarbeitende'!J609=\"\"),\"\",'Stammdaten Mitarbeitende'!J609)","v":""},{"$f":"IF(OR($A609=\"\",C609=\"\",D609=\"\",E609=\"\"),\"\",MAX(C609-D609-E609,0))","v":""},{"$f":"IF(OR($H609=\"\",J609=\"\",K609=\"\",L609=\"\"),\"\",MAX(J609-K609-L609,0))","v":""},{"$f":"IF(OR(F609=\"\"),0,C609)","v":0},{"$f":"IF(OR(F609=\"\"),0,E609)","v":0},{"$f":"IF(OR(F609<=0,F609=\"\"),0,R609)","v":0},{"$f":"IF(OR(M609=\"\"),0,J609)","v":0},{"$f":"IF(OR(M609=\"\"),0,L609)","v":0},{"$f":"IF(OR(M609<=0,M609=\"\"),0,S609)","v":0},{"$f":"MAX(P609:Y609)","v":0}]
["",null,null,null,null,"",null,"",null,null,null,null,"",null,{"$f":"'Stammdaten Mitarbeitende'!AA610","v":""},{"$f":"IF($A610=\"\",\"\",'Stammdaten Mitarbeitende'!L610)","v":""},{"$f":"IF(OR($A610=\"\",'Stammdaten Mitarbeitende'!J610=\"\"),\"\",'Stammdaten Mitarbeitende'!J610)","v":""},"",{"$f":"IF(OR($H610=\"\",J610=\"\",K610=\"\",L610=\"\"),\"\",MAX(J610-K610-L610,0))","v":""},0,0,0,0,0,0,{"$f":"MAX(P610:Y610)","v":0}]
["",null,null,null,null,"",null,"",null,null,null,null,"",null,{"$f":"'Stammdaten Mitarbeitende'!AA611","v":""},{"$f":"IF($A611=\"\",\"\",'Stammdaten Mitarbeitende'!L611)","v":""},{"$f":"IF(OR($A611=\"\",'Stammdaten Mitarbeitende'!J611=\"\"),\"\",'Stammdaten Mitarbeitende'!J611)","v":""},"","",0,0,0,0,0,0,0]
["",null,null,null,null,"",null,"",null,null,null,null,"",null,{"$f":"'Stammdaten Mitarbeitende'!AA612","v":""},{"$f":"IF($A612=\"\",\"\",'Stammdaten Mitarbeitende'!L612)","v":""},{"$f":"IF(OR($A612=\"\",'Stammdaten Mitarbeitende'!J612=\"\"),\"\",'Stammdaten Mitarbeitende'!J612)","v":""},"","",0,0,0,0,0,0,0]
["",null,null,null,null,"",null,"",null,null,null,null,"",null,{"$f":"'Stammdaten Mitarbeitende'!AA613","v":""},{"$f":"IF($A613=\"\",\"\",'Stammdaten Mitarbeitende'!L613)","v":""},{"$f":"IF(OR($A613=\"\",'Stammdaten Mitarbeitende'!J613=\"\"),\"\",'Stammdaten Mitarbeitende'!J613)","v":""},"","",0,0,0,0,0,0,0]
["",null,null,null,null,"",null,"",null,null,null,null,"",null,{"$f":"'Stammdaten Mitarbeitende'!AA614","v":""},{"$f":"IF($A614=\"\",\"\",'Stammdaten Mitarbeitende'!L614)","v":""},{"$f":"IF(OR($A614=\"\",'Stammdaten Mitarbeitende'!J614=\"\"),\"\",'Stammdaten Mitarbeitende'!J614)","v":""},"","",0,0,0,0,0,0,0]
["",null,null,null,null,"",null,"",null,null,null,null,"",null,{"$f":"'Stammdaten Mitarbeitende'!AA615","v":""},{"$f":"IF($A615=\"\",\"\",'Stammdaten Mitarbeitende'!L615)","v":""},{"$f":"IF(OR($A615=\"\",'Stammdaten Mitarbeitende'!J615=\"\"),\"\",'Stammdaten Mitarbeitende'!J615)","v":""},"","",0,0,0,0,0,0,0]
["",null,null,null,null,"",null,"",null,null,null,null,"",null,{"$f":"'Stammdaten Mitarbeitende'!AA616","v":""},{"$f":"IF($A616=\"\",\"\",'Stammdaten Mitarbeitende'!L616)","v":""},{"$f":"IF(OR($A616=\"\",'Stammdaten Mitarbeitende'!J616=\"\"),\"\",'Stammdaten Mitarbeitende'!J616)","v":""},"","",0,0,0,0,0,0,0]
["",null,null,null,null,"",null,"",null,null,null,null,"",null,{"$f":"'Stammdaten Mitarbeitende'!AA617","v":""},{"$f":"IF($A617=\"\",\"\",'Stammdaten Mitarbeitende'!L617)","v":""},{"$f":"IF(OR($A617=\"\",'Stammdaten Mitarbeitende'!J617=\"\"),\"\",'Stammdaten Mitarbeitende'!J617)","v":""},"","",0,0,0,0,0,0,0]
["",null,null,null,null,"",null,"",null,null,null,null,"",null,{"$f":"'Stammdaten Mitarbeitende'!AA618","v":""},{"$f":"IF($A618=\"\",\"\",'Stammdaten Mitarbeitende'!L618)","v":""},{"$f":"IF(OR($A618=\"\",'Stammdaten Mitarbeitende'!J618=\"\"),\"\",'Stammdaten Mitarbeitende'!J618)","v":""},"","",0,0,0,0,0,0,0]
["",null,null,null,null,"",null,"",null,null,null,null,"",null,{"$f":"'Stammdaten Mitarbeitende'!AA619","v":""},{"$f":"IF($A619=\"\",\"\",'Stammdaten Mitarbeitende'!L619)","v":""},{"$f":"IF(OR($A619=\"\",'Stammdaten Mitarbeitende'!J619=\"\"),\"\",'Stammdaten Mitarbeitende'!J619)","v":""},"","",0,0,0,0,0,0,0]
["",null,null,null,null,"",null,"",null,null,null,null,"",null,{"$f":"'Stammdaten Mitarbeitende'!AA620","v":""},{"$f":"IF($A620=\"\",\"\",'Stammdaten Mitarbeitende'!L620)","v":""},{"$f":"IF(OR($A620=\"\",'Stammdaten Mitarbeitende'!J620=\"\"),\"\",'Stammdaten Mitarbeitende'!J620)","v":""},"","",0,0,0,0,0,0,0]
["",null,null,null,null,"",null,"",null,null,null,null,"",null,{"$f":"'Stammdaten Mitarbeitende'!AA621","v":""},{"$f":"IF($A621=\"\",\"\",'Stammdaten Mitarbeitende'!L621)","v":""},{"$f":"IF(OR($A621=\"\",'Stammdaten Mitarbeitende'!J621=\"\"),\"\",'Stammdaten Mitarbeitende'!J621)","v":""},"","",0,0,0,0,0,0,0]
["",null,null,null,null,"",null,"",null,null,null,null,"",null,{"$f":"'Stammdaten Mitarbeitende'!AA622","v":""},{"$f":"IF($A622=\"\",\"\",'Stammdaten Mitarbeitende'!L622)","v":""},{"$f":"IF(OR($A622=\"\",'Stammdaten Mitarbeitende'!J622=\"\"),\"\",'Stammdaten Mitarbeitende'!J622)","v":""},"","",0,0,0,0,0,0,0]
["",null,null,null,null,"",null,"",null,null,null,null,"",null,{"$f":"'Stammdaten Mitarbeitende'!AA623","v":""},{"$f":"IF($A623=\"\",\"\",'Stammdaten Mitarbeitende'!L623)","v":""},{"$f":"IF(OR($A623=\"\",'Stammdaten Mitarbeitende'!J623=\"\"),\"\",'Stammdaten Mitarbeitende'!J623)","v":""},"","",0,0,0,0,0,0,0]
["",null,null,null,null,"",null,"",null,null,null,null,"",null,{"$f":"'Stammdaten Mitarbeitende'!AA624","v":""},{"$f":"IF($A624=\"\",\"\",'Stammdaten Mitarbeitende'!L624)","v":""},{"$f":"IF(OR($A624=\"\",'Stammdaten Mitarbeitende'!J624=\"\"),\"\",'Stammdaten Mitarbeitende'!J624)","v":""},"","",0,0,0,0,0,0,0]
["",null,null,null,null,"",null,"",null,null,null,null,"",null,{"$f":"'Stammdaten Mitarbeitende'!AA625","v":""},{"$f":"IF($A625=\"\",\"\",'Stammdaten Mitarbeitende'!L625)","v":""},{"$f":"IF(OR($A625=\"\",'Stammdaten Mitarbeitende'!J625=\"\"),\"\",'Stammdaten Mitarbeitende'!J625)","v":""},"","",0,0,0,0,0,0,0]
["",null,null,null,null,"",null,"",null,null,null,null,"",null,{"$f":"'Stammdaten Mitarbeitende'!AA626","v":""},{"$f":"IF($A626=\"\",\"\",'Stammdaten Mitarbeitende'!L626)","v":""},{"$f":"IF(OR($A626=\"\",'Stammdaten Mitarbeitende'!J626=\"\"),\"\",'Stammdaten Mitarbeitende'!J626)","v":""},"","",0,0,0,0,0,0,0]
["",null,null,null,null,"",null,"",null,null,null,null,"",null,{"$f":"'Stammdaten Mitarbeitende'!AA627","v":""},{"$f":"IF($A627=\"\",\"\",'Stammdaten Mitarbeitende'!L627)","v":""},{"$f":"IF(OR($A627=\"\",'Stammdaten Mitarbeitende'!J627=\"\"),\"\",'Stammdaten Mitarbeitende'!J627)","v":""},"","",0,0,0,0,0,0,0]
["",null,null,null,null,"",null,"",null,null,null,null,"",null,{"$f":"'Stammdaten Mitarbeitende'!AA628","v":""},{"$f":"IF($A628=\"\",\"\",'Stammdaten Mitarbeitende'!L628)","v":""},{"$f":"IF(OR($A628=\"\",'Stammdaten Mitarbeitende'!J628=\"\"),\"\",'Stammdaten Mitarbeitende'!J628)","v":""},"","",0,0,0,0,0,0,0]
["",null,null,null,null,"",null,"",null,null,null,null,"",null,{"$f":"'Stammdaten Mitarbeitende'!AA629","v":""},{"$f":"IF($A629=\"\",\"\",'Stammdaten Mitarbeitende'!L629)","v":""},{"$f":"IF(OR($A629=\"\",'Stammdaten Mitarbeitende'!J629=\"\"),\"\",'Stammdaten Mitarbeitende'!J629)","v":""},"","",0,0,0,0,0,0,0]
[{"$f":"Übersetzungstexte!A$230","v":"Seitentotal"},null,{"$f":"SUM(C609:C629)","v":0},null,{"$f":"SUM(E609:E629)","v":0},{"$f":"SUM(F609:F629)","v":0},null,{"$f":"Übersetzungstexte!A$230","v":"Seitentotal"},null,{"$f":"SUM(J609:J629)","v":0},null,{"$f":"SUM(L609:L629)","v":0},{"$f":"SUM(M609:M629)","v":0}]
[{"$f":"'Stammdaten Betrieb & Abteilung'!D$1","v":"  "},null,null,null,null,null,null,{"$f":"Übersetzungstexte!A$190","v":"Betrieb / Betriebsabteilung"},{"$f":"'Stammdaten Betrieb & Abteilung'!D$13","v":" "}]
[{"$f":"'Stammdaten Betrieb & Abteilung'!D$3","v":" "},null,null,null,null,null,null,{"$f":"Übersetzungstexte!A$191","v":"PLZ/Ort"},{"$f":"'Stammdaten Betrieb & Abteilung'!D$4","v":" "}]
[]
[null,null,null,null,null,{"$f":"CONCATENATE(Übersetzungstexte!A$192,\" \",TEXT(MONTH(P$3),\"00\"),\".\",YEAR(P$3))","v":"Zeitgleiche Periode des Vorjahres: 01.3799"},null,null,null,null,null,null,{"$f":"CONCATENATE(Übersetzungstexte!A$211,\" \",TEXT(MONTH(P$4),\"00\"),\".\",YEAR(P$4))","v":"Zeitgleiche Periode des vorletzten Jahres: 01.3798"}]
[1,2,3,4,5,6,null,1,2,3,4,5,6,null,null,null,null,"Regel 4","Regel 5","Sollstd.","Absenzen",null,"Sollstd.","Absenzen"]
[{"$f":"Übersetzungstexte!A$193","v":""},{"$f":"Übersetzungstexte!A$196","v":"vertragliche"},{"$f":"Übersetzungstexte!A$199","v":"Sollstd. zeitgl."},{"$f":"Übersetzungstexte!A$202","v":"Istzeit"},{"$f":"Übersetzungstexte!A$205","v":"Bezahlte/"},{"$f":"Übersetzungstexte!A$208","v":"Ausfallstunden"},null,{"$f":"Übersetzungstexte!A$212","v":""},{"$f":"Übersetzungstexte!A$215","v":"vertragliche"},{"$f":"Übersetzungstexte!A$218","v":"Sollstd. zeitgl."},{"$f":"Übersetzungstexte!A$221","v":"Istzeit"},{"$f":"Übersetzungstexte!A$224","v":"Bezahlte/"},{"$f":"Übersetzungstexte!A$227","v":"Ausfallstunden"},null,null,"anrechen-","vertragl.","Ausfall-","Ausfall-","betroffene","betroffene","Ausfall-","betroffene","betroffene","Ausfall-"]
[{"$f":"Übersetzungstexte!A$194","v":""},{"$f":"Übersetzungstexte!A$197","v":"wöchentliche"},{"$f":"Übersetzungstexte!A$200","v":"Periode inkl."},{"$f":"Übersetzungstexte!A$203","v":""},{"$f":"Übersetzungstexte!A$206","v":"Unbezahlte"},{"$f":"Übersetzungstexte!A$209","v":""},null,{"$f":"Übersetzungstexte!A$213","v":""},{"$f":"Übersetzungstexte!A$216","v":"wöchentliche"},{"$f":"Übersetzungstexte!A$219","v":"Periode inkl."},{"$f":"Übersetzungstexte!A$222","v":""},{"$f":"Übersetzungstexte!A$225","v":"Unbezahlte"},{"$f":"Übersetzungstexte!A$228","v":""},null,null,"barer Std.-","wöchentl.","stunden","stunden","Mitarbeiter","Mitarbeiter","stunden","Mitarbeiter","Mitarbeiter","stunden","Max. der"]
[{"$f":"Übersetzungstexte!A$195","v":"Name,Vorname"},{"$f":"Übersetzungstexte!A$198","v":"Arbeitszeit"},{"$f":"Übersetzungstexte!A$201","v":"Vorholzeit"},{"$f":"Übersetzungstexte!A$204","v":""},{"$f":"Übersetzungstexte!A$207","v":"Absenzen"},{"$f":"Übersetzungstexte!A$210","v":""},null,{"$f":"Übersetzungstexte!A$214","v":"Name,Vorname"},{"$f":"Übersetzungstexte!A$217","v":"Arbeitszeit"},{"$f":"Übersetzungstexte!A$220","v":"Vorholzeit"},{"$f":"Übersetzungstexte!A$223","v":""},{"$f":"Übersetzungstexte!A$226","v":"Absenzen"},{"$f":"Übersetzungstexte!A$229","v":""},null,"Name,Vorname","Verdienst","Arbeitszeit",{"$f":"P$3","v":"3799-01-01"},{"$f":"P$4","v":"3798-01-01"},"Vorjahr","Vorjahr","Vorjahr","Vorvorjahr","Vorvorjahr","Vorvorjahr","Spalte"]
[{"$f":"O639","v":""},null,null,null,null,{"$f":"R639","v":""},null,{"$f":"O639","v":""},null,null,null,null,{"$f":"S639","v":""},null,{"$f":"'Stammdaten Mitarbeitende'!AA639","v":""},{"$f":"IF($A639=\"\",\"\",'Stammdaten Mitarbeitende'!L639)","v":""},{"$f":"IF(OR($A639=\"\",'Stammdaten Mitarbeitende'!J639=\"\"),\"\",'Stammdaten Mitarbeitende'!J639)","v":""},{"$f":"IF(OR($A639=\"\",C639=\"\",D639=\"\",E639=\"\"),\"\",MAX(C639-D639-E639,0))","v":""},{"$f":"IF(OR($H639=\"\",J639=\"\",K639=\"\",L639=\"\"),\"\",MAX(J639-K639-L639,0))","v":""},{"$f":"IF(OR(F639=\"\"),0,C639)","v":0},{"$f":"IF(OR(F639=\"\"),0,E639)","v":0},{"$f":"IF(OR(F639<=0,F639=\"\"),0,R639)","v":0},{"$f":"IF(OR(M639=\"\"),0,J639)","v":0},{"$f":"IF(OR(M639=\"\"),0,L639)","v":0},{"$f":"IF(OR(M639<=0,M639=\"\"),0,S639)","v":0},{"$f":"MAX(P639:Y639)","v":0}]
["",null,null,null,null,"",null,"",null,null,null,null,"",null,{"$f":"'Stammdaten Mitarbeitende'!AA640","v":""},{"$f":"IF($A640=\"\",\"\",'Stammdaten Mitarbeitende'!L640)","v":""},{"$f":"IF(OR($A640=\"\",'Stammdaten Mitarbeitende'!J640=\"\"),\"\",'Stammdaten Mitarbeitende'!J640)","v":""},"",{"$f":"IF(OR($H640=\"\",J640=\"\",K640=\"\",L640=\"\"),\"\",MAX(J640-K640-L640,0))","v":""},0,0,0,0,0,0,{"$f":"MAX(P640:Y640)","v":0}]
["",null,null,null,null,"",null,"",null,null,null,null,"",null,{"$f":"'Stammdaten Mitarbeitende'!AA641","v":""},{"$f":"IF($A641=\"\",\"\",'Stammdaten Mitarbeitende'!L641)","v":""},{"$f":"IF(OR($A641=\"\",'Stammdaten Mitarbeitende'!J641=\"\"),\"\",'Stammdaten Mitarbeitende'!J641)","v":""},"","",0,0,0,0,0,0,0]
["",null,null,null,null,"",null,"",null,null,null,null,"",null,{"$f":"'Stammdaten Mitarbeitende'!AA642","v":""},{"$f":"IF($A642=\"\",\"\",'Stammdaten Mitarbeitende'!L642)","v":""},{"$f":"IF(OR($A642=\"\",'Stammdaten Mitarbeitende'!J642=\"\"),\"\",'Stammdaten Mitarbeitende'!J642)","v":""},"","",0,0,0,0,0,0,0]
["",null,null,null,null,"",null,"",null,null,null,null,"",null,{"$f":"'Stammdaten Mitarbeitende'!AA643","v":""},{"$f":"IF($A643=\"\",\"\",'Stammdaten Mitarbeitende'!L643)","v":""},{"$f":"IF(OR($A643=\"\",'Stammdaten Mitarbeitende'!J643=\"\"),\"\",'Stammdaten Mitarbeitende'!J643)","v":""},"","",0,0,0,0,0,0,0]
["",null,null,null,null,"",null,"",null,null,null,null,"",null,{"$f":"'Stammdaten Mitarbeitende'!AA644","v":""},{"$f":"IF($A644=\"\",\"\",'Stammdaten Mitarbeitende'!L644)","v":""},{"$f":"IF(OR($A644=\"\",'Stammdaten Mitarbeitende'!J644=\"\"),\"\",'Stammdaten Mitarbeitende'!J644)","v":""},"","",0,0,0,0,0,0,0]
["",null,null,null,null,"",null,"",null,null,null,null,"",null,{"$f":"'Stammdaten Mitarbeitende'!AA645","v":""},{"$f":"IF($A645=\"\",\"\",'Stammdaten Mitarbeitende'!L645)","v":""},{"$f":"IF(OR($A645=\"\",'Stammdaten Mitarbeitende'!J645=\"\"),\"\",'Stammdaten Mitarbeitende'!J645)","v":""},"","",0,0,0,0,0,0,0]
["",null,null,null,null,"",null,"",null,null,null,null,"",null,{"$f":"'Stammdaten Mitarbeitende'!AA646","v":""},{"$f":"IF($A646=\"\",\"\",'Stammdaten Mitarbeitende'!L646)","v":""},{"$f":"IF(OR($A646=\"\",'Stammdaten Mitarbeitende'!J646=\"\"),\"\",'Stammdaten Mitarbeitende'!J646)","v":""},"","",0,0,0,0,0,0,0]
["",null,null,null,null,"",null,"",null,null,null,null,"",null,{"$f":"'Stammdaten Mitarbeitende'!AA647","v":""},{"$f":"IF($A647=\"\",\"\",'Stammdaten Mitarbeitende'!L647)","v":""},{"$f":"IF(OR($A647=\"\",'Stammdaten Mitarbeitende'!J647=\"\"),\"\",'Stammdaten Mitarbeitende'!J647)","v":""},"","",0,0,0,0,0,0,0]
["",null,null,null,null,"",null,"",null,null,null,null,"",null,{"$f":"'Stammdaten Mitarbeitende'!AA648","v":""},{"$f":"IF($A648=\"\",\"\",'Stammdaten Mitarbeitende'!L648)","v":""},{"$f":"IF(OR($A648=\"\",'Stammdaten Mitarbeitende'!J648=\"\"),\"\",'Stammdaten Mitarbeitende'!J648)","v":""},"","",0,0,0,0,0,0,0]
["",null,null,null,null,"",null,"",null,null,null,null,"",null,{"$f":"'Stammdaten Mitarbeitende'!AA649","v":""},{"$f":"IF($A649=\"\",\"\",'Stammdaten Mitarbeitende'!L649)","v":""},{"$f":"IF(OR($A649=\"\",'Stammdaten Mitarbeitende'!J649=\"\"),\"\",'Stammdaten Mitarbeitende'!J649)","v":""},"","",0,0,0,0,0,0,0]
["",null,null,null,null,"",null,"",null,null,null,null,"",null,{"$f":"'Stammdaten Mitarbeitende'!AA650","v":""},{"$f":"IF($A650=\"\",\"\",'Stammdaten Mitarbeitende'!L650)","v":""},{"$f":"IF(OR($A650=\"\",'Stammdaten Mitarbeitende'!J650=\"\"),\"\",'Stammdaten Mitarbeitende'!J650)","v":""},"","",0,0,0,0,0,0,0]
["",null,null,null,null,"",null,"",null,null,null,null,"",null,{"$f":"'Stammdaten Mitarbeitende'!AA651","v":""},{"$f":"IF($A651=\"\",\"\",'Stammdaten Mitarbeitende'!L651)","v":""},{"$f":"IF(OR($A651=\"\",'Stammdaten Mitarbeitende'!J651=\"\"),\"\",'Stammdaten Mitarbeitende'!J651)","v":""},"","",0,0,0,0,0,0,0]
["",null,null,null,null,"",null,"",null,null,null,null,"",null,{"$f":"'Stammdaten Mitarbeitende'!AA652","v":""},{"$f":"IF($A652=\"\",\"\",'Stammdaten Mitarbeitende'!L652)","v":""},{"$f":"IF(OR($A652=\"\",'Stammdaten Mitarbeitende'!J652=\"\"),\"\",'Stammdaten Mitarbeitende'!J652)","v":""},"","",0,0,0,0,0,0,0]
["",null,null,null,null,"",null,"",null,null,null,null,"",null,{"$f":"'Stammdaten Mitarbeitende'!AA653","v":""},{"$f":"IF($A653=\"\",\"\",'Stammdaten Mitarbeitende'!L653)","v":""},{"$f":"IF(OR($A653=\"\",'Stammdaten Mitarbeitende'!J653=\"\"),\"\",'Stammdaten Mitarbeitende'!J653)","v":""},"","",0,0,0,0,0,0,0]
["",null,null,null,null,"",null,"",null,null,null,null,"",null,{"$f":"'Stammdaten Mitarbeitende'!AA654","v":""},{"$f":"IF($A654=\"\",\"\",'Stammdaten Mitarbeitende'!L654)","v":""},{"$f":"IF(OR($A654=\"\",'Stammdaten Mitarbeitende'!J654=\"\"),\"\",'Stammdaten Mitarbeitende'!J654)","v":""},"","",0,0,0,0,0,0,0]
["",null,null,null,null,"",null,"",null,null,null,null,"",null,{"$f":"'Stammdaten Mitarbeitende'!AA655","v":""},{"$f":"IF($A655=\"\",\"\",'Stammdaten Mitarbeitende'!L655)","v":""},{"$f":"IF(OR($A655=\"\",'Stammdaten Mitarbeitende'!J655=\"\"),\"\",'Stammdaten Mitarbeitende'!J655)","v":""},"","",0,0,0,0,0,0,0]
["",null,null,null,null,"",null,"",null,null,null,null,"",null,{"$f":"'Stammdaten Mitarbeitende'!AA656","v":""},{"$f":"IF($A656=\"\",\"\",'Stammdaten Mitarbeitende'!L656)","v":""},{"$f":"IF(OR($A656=\"\",'Stammdaten Mitarbeitende'!J656=\"\"),\"\",'Stammdaten Mitarbeitende'!J656)","v":""},"","",0,0,0,0,0,0,0]
["",null,null,null,null,"",null,"",null,null,null,null,"",null,{"$f":"'Stammdaten Mitarbeitende'!AA657","v":""},{"$f":"IF($A657=\"\",\"\",'Stammdaten Mitarbeitende'!L657)","v":""},{"$f":"IF(OR($A657=\"\",'Stammdaten Mitarbeitende'!J657=\"\"),\"\",'Stammdaten Mitarbeitende'!J657)","v":""},"","",0,0,0,0,0,0,0]
["",null,null,null,null,"",null,"",null,null,null,null,"",null,{"$f":"'Stammdaten Mitarbeitende'!AA658","v":""},{"$f":"IF($A658=\"\",\"\",'Stammdaten Mitarbeitende'!L658)","v":""},{"$f":"IF(OR($A658=\"\",'Stammdaten Mitarbeitende'!J658=\"\"),\"\",'Stammdaten Mitarbeitende'!J658)","v":""},"","",0,0,0,0,0,0,0]
["",null,null,null,null,"",null,"",null,null,null,null,"",null,{"$f":"'Stammdaten Mitarbeitende'!AA659","v":""},{"$f":"IF($A659=\"\",\"\",'Stammdaten Mitarbeitende'!L659)","v":""},{"$f":"IF(OR($A659=\"\",'Stammdaten Mitarbeitende'!J659=\"\"),\"\",'Stammdaten Mitarbeitende'!J659)","v":""},"","",0,0,0,0,0,0,0]
[{"$f":"Übersetzungstexte!A$230","v":"Seitentotal"},null,{"$f":"SUM(C639:C659)","v":0},null,{"$f":"SUM(E639:E659)","v":0},{"$f":"SUM(F639:F659)","v":0},null,{"$f":"Übersetzungstexte!A$230","v":"Seitentotal"},null,{"$f":"SUM(J639:J659)","v":0},null,{"$f":"SUM(L639:L659)","v":0},{"$f":"SUM(M639:M659)","v":0}]
[{"$f":"'Stammdaten Betrieb & Abteilung'!D$1","v":"  "},null,null,null,null,null,null,{"$f":"Übersetzungstexte!A$190","v":"Betrieb / Betriebsabteilung"},{"$f":"'Stammdaten Betrieb & Abteilung'!D$13","v":" "}]
[{"$f":"'Stammdaten Betrieb & Abteilung'!D$3","v":" "},null,null,null,null,null,null,{"$f":"Übersetzungstexte!A$191","v":"PLZ/Ort"},{"$f":"'Stammdaten Betrieb & Abteilung'!D$4","v":" "}]
[]
[null,null,null,null,null,{"$f":"CONCATENATE(Übersetzungstexte!A$192,\" \",TEXT(MONTH(P$3),\"00\"),\".\",YEAR(P$3))","v":"Zeitgleiche Periode des Vorjahres: 01.3799"},null,null,null,null,null,null,{"$f":"CONCATENATE(Übersetzungstexte!A$211,\" \",TEXT(MONTH(P$4),\"00\"),\".\",YEAR(P$4))","v":"Zeitgleiche Periode des vorletzten Jahres: 01.3798"}]
[1,2,3,4,5,6,null,1,2,3,4,5,6,null,null,null,null,"Regel 4","Regel 5","Sollstd.","Absenzen",null,"Sollstd.","Absenzen"]
[{"$f":"Übersetzungstexte!A$193","v":""},{"$f":"Übersetzungstexte!A$196","v":"vertragliche"},{"$f":"Übersetzungstexte!A$199","v":"Sollstd. zeitgl."},{"$f":"Übersetzungstexte!A$202","v":"Istzeit"},{"$f":"Übersetzungstexte!A$205","v":"Bezahlte/"},{"$f":"Übersetzungstexte!A$208","v":"Ausfallstunden"},null,{"$f":"Übersetzungstexte!A$212","v":""},{"$f":"Übersetzungstexte!A$215","v":"vertragliche"},{"$f":"Übersetzungstexte!A$218","v":"Sollstd. zeitgl."},{"$f":"Übersetzungstexte!A$221","v":"Istzeit"},{"$f":"Übersetzungstexte!A$224","v":"Bezahlte/"},{"$f":"Übersetzungstexte!A$227","v":"Ausfallstunden"},null,null,"anrechen-","vertragl.","Ausfall-","Ausfall-","betroffene","betroffene","Ausfall-","betroffene","betroffene","Ausfall-"]
[{"$f":"Übersetzungstexte!A$194","v":""},{"$f":"Übersetzungstexte!A$197","v":"wöchentliche"},{"$f":"Übersetzungstexte!A$200","v":"Periode inkl."},{"$f":"Übersetzungstexte!A$203","v":""},{"$f":"Übersetzungstexte!A$206","v":"Unbezahlte"},{"$f":"Übersetzungstexte!A$209","v":""},null,{"$f":"Übersetzungstexte!A$213","v":""},{"$f":"Übersetzungstexte!A$216","v":"wöchentliche"},{"$f":"Übersetzungstexte!A$219","v":"Periode inkl."},{"$f":"Übersetzungstexte!A$222","v":""},{"$f":"Übersetzungstexte!A$225","v":"Unbezahlte"},{"$f":"Übersetzungstexte!A$228","v":""},null,null,"barer Std.-","wöchentl.","stunden","stunden","Mitarbeiter","Mitarbeiter","stunden","Mitarbeiter","Mitarbeiter","stunden","Max. der"]
[{"$f":"Übersetzungstexte!A$195","v":"Name,Vorname"},{"$f":"Übersetzungstexte!A$198","v":"Arbeitszeit"},{"$f":"Übersetzungstexte!A$201","v":"Vorholzeit"},{"$f":"Übersetzungstexte!A$204","v":""},{"$f":"Übersetzungstexte!A$207","v":"Absenzen"},{"$f":"Übersetzungstexte!A$210","v":""},null,{"$f":"Übersetzungstexte!A$214","v":"Name,Vorname"},{"$f":"Übersetzungstexte!A$217","v":"Arbeitszeit"},{"$f":"Übersetzungstexte!A$220","v":"Vorholzeit"},{"$f":"Übersetzungstexte!A$223","v":""},{"$f":"Übersetzungstexte!A$226","v":"Absenzen"},{"$f":"Übersetzungstexte!A$229","v":""},null,"Name,Vorname","Verdienst","Arbeitszeit",{"$f":"P$3","v":"3799-01-01"},{"$f":"P$4","v":"3798-01-01"},"Vorjahr","Vorjahr","Vorjahr","Vorvorjahr","Vorvorjahr","Vorvorjahr","Spalte"]
[{"$f":"O669","v":""},null,null,null,null,{"$f":"R669","v":""},null,{"$f":"O669","v":""},null,null,null,null,{"$f":"S669","v":""},null,{"$f":"'Stammdaten Mitarbeitende'!AA669","v":""},{"$f":"IF($A669=\"\",\"\",'Stammdaten Mitarbeitende'!L669)","v":""},{"$f":"IF(OR($A669=\"\",'Stammdaten Mitarbeitende'!J669=\"\"),\"\",'Stammdaten Mitarbeitende'!J669)","v":""},{"$f":"IF(OR($A669=\"\",C669=\"\",D669=\"\",E669=\"\"),\"\",MAX(C669-D669-E669,0))","v":""},{"$f":"IF(OR($H669=\"\",J669=\"\",K669=\"\",L669=\"\"),\"\",MAX(J669-K669-L669,0))","v":""},{"$f":"IF(OR(F669=\"\"),0,C669)","v":0},{"$f":"IF(OR(F669=\"\"),0,E669)","v":0},{"$f":"IF(OR(F669<=0,F669=\"\"),0,R669)","v":0},{"$f":"IF(OR(M669=\"\"),0,J669)","v":0},{"$f":"IF(OR(M669=\"\"),0,L669)","v":0},{"$f":"IF(OR(M669<=0,M669=\"\"),0,S669)","v":0},{"$f":"MAX(P669:Y669)","v":0}]
["",null,null,null,null,"",null,"",null,null,null,null,"",null,{"$f":"'Stammdaten Mitarbeitende'!AA670","v":""},{"$f":"IF($A670=\"\",\"\",'Stammdaten Mitarbeitende'!L670)","v":""},{"$f":"IF(OR($A670=\"\",'Stammdaten Mitarbeitende'!J670=\"\"),\"\",'Stammdaten Mitarbeitende'!J670)","v":""},"",{"$f":"IF(OR($H670=\"\",J670=\"\",K670=\"\",L670=\"\"),\"\",MAX(J670-K670-L670,0))","v":""},0,0,0,0,0,0,{"$f":"MAX(P670:Y670)","v":0}]
["",null,null,null,null,"",null,"",null,null,null,null,"",null,{"$f":"'Stammdaten Mitarbeitende'!AA671","v":""},{"$f":"IF($A671=\"\",\"\",'Stammdaten Mitarbeitende'!L671)","v":""},{"$f":"IF(OR($A671=\"\",'Stammdaten Mitarbeitende'!J671=\"\"),\"\",'Stammdaten Mitarbeitende'!J671)","v":""},"","",0,0,0,0,0,0,0]
["",null,null,null,null,"",null,"",null,null,null,null,"",null,{"$f":"'Stammdaten Mitarbeitende'!AA672","v":""},{"$f":"IF($A672=\"\",\"\",'Stammdaten Mitarbeitende'!L672)","v":""},{"$f":"IF(OR($A672=\"\",'Stammdaten Mitarbeitende'!J672=\"\"),\"\",'Stammdaten Mitarbeitende'!J672)","v":""},"","",0,0,0,0,0,0,0]
["",null,null,null,null,"",null,"",null,null,null,null,"",null,{"$f":"'Stammdaten Mitarbeitende'!AA673","v":""},{"$f":"IF($A673=\"\",\"\",'Stammdaten Mitarbeitende'!L673)","v":""},{"$f":"IF(OR($A673=\"\",'Stammdaten Mitarbeitende'!J673=\"\"),\"\",'Stammdaten Mitarbeitende'!J673)","v":""},"","",0,0,0,0,0,0,0]
["",null,null,null,null,"",null,"",null,null,null,null,"",null,{"$f":"'Stammdaten Mitarbeitende'!AA674","v":""},{"$f":"IF($A674=\"\",\"\",'Stammdaten Mitarbeitende'!L674)","v":""},{"$f":"IF(OR($A674=\"\",'Stammdaten Mitarbeitende'!J674=\"\"),\"\",'Stammdaten Mitarbeitende'!J674)","v":""},"","",0,0,0,0,0,0,0]
["",null,null,null,null,"",null,"",null,null,null,null,"",null,{"$f":"'Stammdaten Mitarbeitende'!AA675","v":""},{"$f":"IF($A675=\"\",\"\",'Stammdaten Mitarbeitende'!L675)","v":""},{"$f":"IF(OR($A675=\"\",'Stammdaten Mitarbeitende'!J675=\"\"),\"\",'Stammdaten Mitarbeitende'!J675)","v":""},"","",0,0,0,0,0,0,0]
["",null,null,null,null,"",null,"",null,null,null,null,"",null,{"$f":"'Stammdaten Mitarbeitende'!AA676","v":""},{"$f":"IF($A676=\"\",\"\",'Stammdaten Mitarbeitende'!L676)","v":""},{"$f":"IF(OR($A676=\"\",'Stammdaten Mitarbeitende'!J676=\"\"),\"\",'Stammdaten Mitarbeitende'!J676)","v":""},"","",0,0,0,0,0,0,0]
["",null,null,null,null,"",null,"",null,null,null,null,"",null,{"$f":"'Stammdaten Mitarbeitende'!AA677","v":""},{"$f":"IF($A677=\"\",\"\",'Stammdaten Mitarbeitende'!L677)","v":""},{"$f":"IF(OR($A677=\"\",'Stammdaten Mitarbeitende'!J677=\"\"),\"\",'Stammdaten Mitarbeitende'!J677)","v":""},"","",0,0,0,0,0,0,0]
["",null,null,null,null,"",null,"",null,null,null,null,"",null,{"$f":"'Stammdaten Mitarbeitende'!AA678","v":""},{"$f":"IF($A678=\"\",\"\",'Stammdaten Mitarbeitende'!L678)","v":""},{"$f":"IF(OR($A678=\"\",'Stammdaten Mitarbeitende'!J678=\"\"),\"\",'Stammdaten Mitarbeitende'!J678)","v":""},"","",0,0,0,0,0,0,0]
["",null,null,null,null,"",null,"",null,null,null,null,"",null,{"$f":"'Stammdaten Mitarbeitende'!AA679","v":""},{"$f":"IF($A679=\"\",\"\",'Stammdaten Mitarbeitende'!L679)","v":""},{"$f":"IF(OR($A679=\"\",'Stammdaten Mitarbeitende'!J679=\"\"),\"\",'Stammdaten Mitarbeitende'!J679)","v":""},"","",0,0,0,0,0,0,0]
["",null,null,null,null,"",null,"",null,null,null,null,"",null,{"$f":"'Stammdaten Mitarbeitende'!AA680","v":""},{"$f":"IF($A680=\"\",\"\",'Stammdaten Mitarbeitende'!L680)","v":""},{"$f":"IF(OR($A680=\"\",'Stammdaten Mitarbeitende'!J680=\"\"),\"\",'Stammdaten Mitarbeitende'!J680)","v":""},"","",0,0,0,0,0,0,0]
["",null,null,null,null,"",null,"",null,null,null,null,"",null,{"$f":"'Stammdaten Mitarbeitende'!AA681","v":""},{"$f":"IF($A681=\"\",\"\",'Stammdaten Mitarbeitende'!L681)","v":""},{"$f":"IF(OR($A681=\"\",'Stammdaten Mitarbeitende'!J681=\"\"),\"\",'Stammdaten Mitarbeitende'!J681)","v":""},"","",0,0,0,0,0,0,0]
["",null,null,null,null,"",null,"",null,null,null,null,"",null,{"$f":"'Stammdaten Mitarbeitende'!AA682","v":""},{"$f":"IF($A682=\"\",\"\",'Stammdaten Mitarbeitende'!L682)","v":""},{"$f":"IF(OR($A682=\"\",'Stammdaten Mitarbeitende'!J682=\"\"),\"\",'Stammdaten Mitarbeitende'!J682)","v":""},"","",0,0,0,0,0,0,0]
["",null,null,null,null,"",null,"",null,null,null,null,"",null,{"$f":"'Stammdaten Mitarbeitende'!AA683","v":""},{"$f":"IF($A683=\"\",\"\",'Stammdaten Mitarbeitende'!L683)","v":""},{"$f":"IF(OR($A683=\"\",'Stammdaten Mitarbeitende'!J683=\"\"),\"\",'Stammdaten Mitarbeitende'!J683)","v":""},"","",0,0,0,0,0,0,0]
["",null,null,null,null,"",null,"",null,null,null,null,"",null,{"$f":"'Stammdaten Mitarbeitende'!AA684","v":""},{"$f":"IF($A684=\"\",\"\",'Stammdaten Mitarbeitende'!L684)","v":""},{"$f":"IF(OR($A684=\"\",'Stammdaten Mitarbeitende'!J684=\"\"),\"\",'Stammdaten Mitarbeitende'!J684)","v":""},"","",0,0,0,0,0,0,0]
["",null,null,null,null,"",null,"",null,null,null,null,"",null,{"$f":"'Stammdaten Mitarbeitende'!AA685","v":""},{"$f":"IF($A685=\"\",\"\",'Stammdaten Mitarbeitende'!L685)","v":""},{"$f":"IF(OR($A685=\"\",'Stammdaten Mitarbeitende'!J685=\"\"),\"\",'Stammdaten Mitarbeitende'!J685)","v":""},"","",0,0,0,0,0,0,0]
["",null,null,null,null,"",null,"",null,null,null,null,"",null,{"$f":"'Stammdaten Mitarbeitende'!AA686","v":""},{"$f":"IF($A686=\"\",\"\",'Stammdaten Mitarbeitende'!L686)","v":""},{"$f":"IF(OR($A686=\"\",'Stammdaten Mitarbeitende'!J686=\"\"),\"\",'Stammdaten Mitarbeitende'!J686)","v":""},"","",0,0,0,0,0,0,0]
["",null,null,null,null,"",null,"",null,null,null,null,"",null,{"$f":"'Stammdaten Mitarbeitende'!AA687","v":""},{"$f":"IF($A687=\"\",\"\",'Stammdaten Mitarbeitende'!L687)","v":""},{"$f":"IF(OR($A687=\"\",'Stammdaten Mitarbeitende'!J687=\"\"),\"\",'Stammdaten Mitarbeitende'!J687)","v":""},"","",0,0,0,0,0,0,0]
["",null,null,null,null,"",null,"",null,null,null,null,"",null,{"$f":"'Stammdaten Mitarbeitende'!AA688","v":""},{"$f":"IF($A688=\"\",\"\",'Stammdaten Mitarbeitende'!L688)","v":""},{"$f":"IF(OR($A688=\"\",'Stammdaten Mitarbeitende'!J688=\"\"),\"\",'Stammdaten Mitarbeitende'!J688)","v":""},"","",0,0,0,0,0,0,0]
["",null,null,null,null,"",null,"",null,null,null,null,"",null,{"$f":"'Stammdaten Mitarbeitende'!AA689","v":""},{"$f":"IF($A689=\"\",\"\",'Stammdaten Mitarbeitende'!L689)","v":""},{"$f":"IF(OR($A689=\"\",'Stammdaten Mitarbeitende'!J689=\"\"),\"\",'Stammdaten Mitarbeitende'!J689)","v":""},"","",0,0,0,0,0,0,0]
[{"$f":"Übersetzungstexte!A$230","v":"Seitentotal"},null,{"$f":"SUM(C669:C689)","v":0},null,{"$f":"SUM(E669:E689)","v":0},{"$f":"SUM(F669:F689)","v":0},null,{"$f":"Übersetzungstexte!A$230","v":"Seitentotal"},null,{"$f":"SUM(J669:J689)","v":0},null,{"$f":"SUM(L669:L689)","v":0},{"$f":"SUM(M669:M689)","v":0}]
[{"$f":"'Stammdaten Betrieb & Abteilung'!D$1","v":"  "},null,null,null,null,null,null,{"$f":"Übersetzungstexte!A$190","v":"Betrieb / Betriebsabteilung"},{"$f":"'Stammdaten Betrieb & Abteilung'!D$13","v":" "}]
[{"$f":"'Stammdaten Betrieb & Abteilung'!D$3","v":" "},null,null,null,null,null,null,{"$f":"Übersetzungstexte!A$191","v":"PLZ/Ort"},{"$f":"'Stammdaten Betrieb & Abteilung'!D$4","v":" "}]
[]
[null,null,null,null,null,{"$f":"CONCATENATE(Übersetzungstexte!A$192,\" \",TEXT(MONTH(P$3),\"00\"),\".\",YEAR(P$3))","v":"Zeitgleiche Periode des Vorjahres: 01.3799"},null,null,null,null,null,null,{"$f":"CONCATENATE(Übersetzungstexte!A$211,\" \",TEXT(MONTH(P$4),\"00\"),\".\",YEAR(P$4))","v":"Zeitgleiche Periode des vorletzten Jahres: 01.3798"}]
[1,2,3,4,5,6,null,1,2,3,4,5,6,null,null,null,null,"Regel 4","Regel 5","Sollstd.","Absenzen",null,"Sollstd.","Absenzen"]
[{"$f":"Übersetzungstexte!A$193","v":""},{"$f":"Übersetzungstexte!A$196","v":"vertragliche"},{"$f":"Übersetzungstexte!A$199","v":"Sollstd. zeitgl."},{"$f":"Übersetzungstexte!A$202","v":"Istzeit"},{"$f":"Übersetzungstexte!A$205","v":"Bezahlte/"},{"$f":"Übersetzungstexte!A$208","v":"Ausfallstunden"},null,{"$f":"Übersetzungstexte!A$212","v":""},{"$f":"Übersetzungstexte!A$215","v":"vertragliche"},{"$f":"Übersetzungstexte!A$218","v":"Sollstd. zeitgl."},{"$f":"Übersetzungstexte!A$221","v":"Istzeit"},{"$f":"Übersetzungstexte!A$224","v":"Bezahlte/"},{"$f":"Übersetzungstexte!A$227","v":"Ausfallstunden"},null,null,"anrechen-","vertragl.","Ausfall-","Ausfall-","betroffene","betroffene","Ausfall-","betroffene","betroffene","Ausfall-"]
[{"$f":"Übersetzungstexte!A$194","v":""},{"$f":"Übersetzungstexte!A$197","v":"wöchentliche"},{"$f":"Übersetzungstexte!A$200","v":"Periode inkl."},{"$f":"Übersetzungstexte!A$203","v":""},{"$f":"Übersetzungstexte!A$206","v":"Unbezahlte"},{"$f":"Übersetzungstexte!A$209","v":""},null,{"$f":"Übersetzungstexte!A$213","v":""},{"$f":"Übersetzungstexte!A$216","v":"wöchentliche"},{"$f":"Übersetzungstexte!A$219","v":"Periode inkl."},{"$f":"Übersetzungstexte!A$222","v":""},{"$f":"Übersetzungstexte!A$225","v":"Unbezahlte"},{"$f":"Übersetzungstexte!A$228","v":""},null,null,"barer Std.-","wöchentl.","stunden","stunden","Mitarbeiter","Mitarbeiter","stunden","Mitarbeiter","Mitarbeiter","stunden","Max. der"]
[{"$f":"Übersetzungstexte!A$195","v":"Name,Vorname"},{"$f":"Übersetzungstexte!A$198","v":"Arbeitszeit"},{"$f":"Übersetzungstexte!A$201","v":"Vorholzeit"},{"$f":"Übersetzungstexte!A$204","v":""},{"$f":"Übersetzungstexte!A$207","v":"Absenzen"},{"$f":"Übersetzungstexte!A$210","v":""},null,{"$f":"Übersetzungstexte!A$214","v":"Name,Vorname"},{"$f":"Übersetzungstexte!A$217","v":"Arbeitszeit"},{"$f":"Übersetzungstexte!A$220","v":"Vorholzeit"},{"$f":"Übersetzungstexte!A$223","v":""},{"$f":"Übersetzungstexte!A$226","v":"Absenzen"},{"$f":"Übersetzungstexte!A$229","v":""},null,"Name,Vorname","Verdienst","Arbeitszeit",{"$f":"P$3","v":"3799-01-01"},{"$f":"P$4","v":"3798-01-01"},"Vorjahr","Vorjahr","Vorjahr","Vorvorjahr","Vorvorjahr","Vorvorjahr","Spalte"]
[{"$f":"O699","v":""},null,null,null,null,{"$f":"R699","v":""},null,{"$f":"O699","v":""},null,null,null,null,{"$f":"S699","v":""},null,{"$f":"'Stammdaten Mitarbeitende'!AA699","v":""},{"$f":"IF($A699=\"\",\"\",'Stammdaten Mitarbeitende'!L699)","v":""},{"$f":"IF(OR($A699=\"\",'Stammdaten Mitarbeitende'!J699=\"\"),\"\",'Stammdaten Mitarbeitende'!J699)","v":""},{"$f":"IF(OR($A699=\"\",C699=\"\",D699=\"\",E699=\"\"),\"\",MAX(C699-D699-E699,0))","v":""},{"$f":"IF(OR($H699=\"\",J699=\"\",K699=\"\",L699=\"\"),\"\",MAX(J699-K699-L699,0))","v":""},{"$f":"IF(OR(F699=\"\"),0,C699)","v":0},{"$f":"IF(OR(F699=\"\"),0,E699)","v":0},{"$f":"IF(OR(F699<=0,F699=\"\"),0,R699)","v":0},{"$f":"IF(OR(M699=\"\"),0,J699)","v":0},{"$f":"IF(OR(M699=\"\"),0,L699)","v":0},{"$f":"IF(OR(M699<=0,M699=\"\"),0,S699)","v":0},{"$f":"MAX(P699:Y699)","v":0}]
["",null,null,null,null,"",null,"",null,null,null,null,"",null,{"$f":"'Stammdaten Mitarbeitende'!AA700","v":""},{"$f":"IF($A700=\"\",\"\",'Stammdaten Mitarbeitende'!L700)","v":""},{"$f":"IF(OR($A700=\"\",'Stammdaten Mitarbeitende'!J700=\"\"),\"\",'Stammdaten Mitarbeitende'!J700)","v":""},"",{"$f":"IF(OR($H700=\"\",J700=\"\",K700=\"\",L700=\"\"),\"\",MAX(J700-K700-L700,0))","v":""},0,0,0,0,0,0,{"$f":"MAX(P700:Y700)","v":0}]
["",null,null,null,null,"",null,"",null,null,null,null,"",null,{"$f":"'Stammdaten Mitarbeitende'!AA701","v":""},{"$f":"IF($A701=\"\",\"\",'Stammdaten Mitarbeitende'!L701)","v":""},{"$f":"IF(OR($A701=\"\",'Stammdaten Mitarbeitende'!J701=\"\"),\"\",'Stammdaten Mitarbeitende'!J701)","v":""},"","",0,0,0,0,0,0,0]
["",null,null,null,null,"",null,"",null,null,null,null,"",null,{"$f":"'Stammdaten Mitarbeitende'!AA702","v":""},{"$f":"IF($A702=\"\",\"\",'Stammdaten Mitarbeitende'!L702)","v":""},{"$f":"IF(OR($A702=\"\",'Stammdaten Mitarbeitende'!J702=\"\"),\"\",'Stammdaten Mitarbeitende'!J702)","v":""},"","",0,0,0,0,0,0,0]
["",null,null,null,null,"",null,"",null,null,null,null,"",null,{"$f":"'Stammdaten Mitarbeitende'!AA703","v":""},{"$f":"IF($A703=\"\",\"\",'Stammdaten Mitarbeitende'!L703)","v":""},{"$f":"IF(OR($A703=\"\",'Stammdaten Mitarbeitende'!J703=\"\"),\"\",'Stammdaten Mitarbeitende'!J703)","v":""},"","",0,0,0,0,0,0,0]
["",null,null,null,null,"",null,"",null,null,null,null,"",null,{"$f":"'Stammdaten Mitarbeitende'!AA704","v":""},{"$f":"IF($A704=\"\",\"\",'Stammdaten Mitarbeitende'!L704)","v":""},{"$f":"IF(OR($A704=\"\",'Stammdaten Mitarbeitende'!J704=\"\"),\"\",'Stammdaten Mitarbeitende'!J704)","v":""},"","",0,0,0,0,0,0,0]
["",null,null,null,null,"",null,"",null,null,null,null,"",null,{"$f":"'Stammdaten Mitarbeitende'!AA705","v":""},{"$f":"IF($A705=\"\",\"\",'Stammdaten Mitarbeitende'!L705)","v":""},{"$f":"IF(OR($A705=\"\",'Stammdaten Mitarbeitende'!J705=\"\"),\"\",'Stammdaten Mitarbeitende'!J705)","v":""},"","",0,0,0,0,0,0,0]
["",null,null,null,null,"",null,"",null,null,null,null,"",null,{"$f":"'Stammdaten Mitarbeitende'!AA706","v":""},{"$f":"IF($A706=\"\",\"\",'Stammdaten Mitarbeitende'!L706)","v":""},{"$f":"IF(OR($A706=\"\",'Stammdaten Mitarbeitende'!J706=\"\"),\"\",'Stammdaten Mitarbeitende'!J706)","v":""},"","",0,0,0,0,0,0,0]
["",null,null,null,null,"",null,"",null,null,null,null,"",null,{"$f":"'Stammdaten Mitarbeitende'!AA707","v":""},{"$f":"IF($A707=\"\",\"\",'Stammdaten Mitarbeitende'!L707)","v":""},{"$f":"IF(OR($A707=\"\",'Stammdaten Mitarbeitende'!J707=\"\"),\"\",'Stammdaten Mitarbeitende'!J707)","v":""},"","",0,0,0,0,0,0,0]
["",null,null,null,null,"",null,"",null,null,null,null,"",null,{"$f":"'Stammdaten Mitarbeitende'!AA708","v":""},{"$f":"IF($A708=\"\",\"\",'Stammdaten Mitarbeitende'!L708)","v":""},{"$f":"IF(OR($A708=\"\",'Stammdaten Mitarbeitende'!J708=\"\"),\"\",'Stammdaten Mitarbeitende'!J708)","v":""},"","",0,0,0,0,0,0,0]
["",null,null,null,null,"",null,"",null,null,null,null,"",null,{"$f":"'Stammdaten Mitarbeitende'!AA709","v":""},{"$f":"IF($A709=\"\",\"\",'Stammdaten Mitarbeitende'!L709)","v":""},{"$f":"IF(OR($A709=\"\",'Stammdaten Mitarbeitende'!J709=\"\"),\"\",'Stammdaten Mitarbeitende'!J709)","v":""},"","",0,0,0,0,0,0,0]
["",null,null,null,null,"",null,"",null,null,null,null,"",null,{"$f":"'Stammdaten Mitarbeitende'!AA710","v":""},{"$f":"IF($A710=\"\",\"\",'Stammdaten Mitarbeitende'!L710)","v":""},{"$f":"IF(OR($A710=\"\",'Stammdaten Mitarbeitende'!J710=\"\"),\"\",'Stammdaten Mitarbeitende'!J710)","v":""},"","",0,0,0,0,0,0,0]
["",null,null,null,null,"",null,"",null,null,null,null,"",null,{"$f":"'Stammdaten Mitarbeitende'!AA711","v":""},{"$f":"IF($A711=\"\",\"\",'Stammdaten Mitarbeitende'!L711)","v":""},{"$f":"IF(OR($A711=\"\",'Stammdaten Mitarbeitende'!J711=\"\"),\"\",'Stammdaten Mitarbeitende'!J711)","v":""},"","",0,0,0,0,0,0,0]
["",null,null,null,null,"",null,"",null,null,null,null,"",null,{"$f":"'Stammdaten Mitarbeitende'!AA712","v":""},{"$f":"IF($A712=\"\",\"\",'Stammdaten Mitarbeitende'!L712)","v":""},{"$f":"IF(OR($A712=\"\",'Stammdaten Mitarbeitende'!J712=\"\"),\"\",'Stammdaten Mitarbeitende'!J712)","v":""},"","",0,0,0,0,0,0,0]
["",null,null,null,null,"",null,"",null,null,null,null,"",null,{"$f":"'Stammdaten Mitarbeitende'!AA713","v":""},{"$f":"IF($A713=\"\",\"\",'Stammdaten Mitarbeitende'!L713)","v":""},{"$f":"IF(OR($A713=\"\",'Stammdaten Mitarbeitende'!J713=\"\"),\"\",'Stammdaten Mitarbeitende'!J713)","v":""},"","",0,0,0,0,0,0,0]
["",null,null,null,null,"",null,"",null,null,null,null,"",null,{"$f":"'Stammdaten Mitarbeitende'!AA714","v":""},{"$f":"IF($A714=\"\",\"\",'Stammdaten Mitarbeitende'!L714)","v":""},{"$f":"IF(OR($A714=\"\",'Stammdaten Mitarbeitende'!J714=\"\"),\"\",'Stammdaten Mitarbeitende'!J714)","v":""},"","",0,0,0,0,0,0,0]
["",null,null,null,null,"",null,"",null,null,null,null,"",null,{"$f":"'Stammdaten Mitarbeitende'!AA715","v":""},{"$f":"IF($A715=\"\",\"\",'Stammdaten Mitarbeitende'!L715)","v":""},{"$f":"IF(OR($A715=\"\",'Stammdaten Mitarbeitende'!J715=\"\"),\"\",'Stammdaten Mitarbeitende'!J715)","v":""},"","",0,0,0,0,0,0,0]
["",null,null,null,null,"",null,"",null,null,null,null,"",null,{"$f":"'Stammdaten Mitarbeitende'!AA716","v":""},{"$f":"IF($A716=\"\",\"\",'Stammdaten Mitarbeitende'!L716)","v":""},{"$f":"IF(OR($A716=\"\",'Stammdaten Mitarbeitende'!J716=\"\"),\"\",'Stammdaten Mitarbeitende'!J716)","v":""},"","",0,0,0,0,0,0,0]
["",null,null,null,null,"",null,"",null,null,null,null,"",null,{"$f":"'Stammdaten Mitarbeitende'!AA717","v":""},{"$f":"IF($A717=\"\",\"\",'Stammdaten Mitarbeitende'!L717)","v":""},{"$f":"IF(OR($A717=\"\",'Stammdaten Mitarbeitende'!J717=\"\"),\"\",'Stammdaten Mitarbeitende'!J717)","v":""},"","",0,0,0,0,0,0,0]
["",null,null,null,null,"",null,"",null,null,null,null,"",null,{"$f":"'Stammdaten Mitarbeitende'!AA718","v":""},{"$f":"IF($A718=\"\",\"\",'Stammdaten Mitarbeitende'!L718)","v":""},{"$f":"IF(OR($A718=\"\",'Stammdaten Mitarbeitende'!J718=\"\"),\"\",'Stammdaten Mitarbeitende'!J718)","v":""},"","",0,0,0,0,0,0,0]
["",null,null,null,null,"",null,"",null,null,null,null,"",null,{"$f":"'Stammdaten Mitarbeitende'!AA719","v":""},{"$f":"IF($A719=\"\",\"\",'Stammdaten Mitarbeitende'!L719)","v":""},{"$f":"IF(OR($A719=\"\",'Stammdaten Mitarbeitende'!J719=\"\"),\"\",'Stammdaten Mitarbeitende'!J719)","v":""},"","",0,0,0,0,0,0,0]
[{"$f":"Übersetzungstexte!A$230","v":"Seitentotal"},null,{"$f":"SUM(C699:C719)","v":0},null,{"$f":"SUM(E699:E719)","v":0},{"$f":"SUM(F699:F719)","v":0},null,{"$f":"Übersetzungstexte!A$230","v":"Seitentotal"},null,{"$f":"SUM(J699:J719)","v":0},null,{"$f":"SUM(L699:L719)","v":0},{"$f":"SUM(M699:M719)","v":0}]
[{"$f":"'Stammdaten Betrieb & Abteilung'!D$1","v":"  "},null,null,null,null,null,null,{"$f":"Übersetzungstexte!A$190","v":"Betrieb / Betriebsabteilung"},{"$f":"'Stammdaten Betrieb & Abteilung'!D$13","v":" "}]
[{"$f":"'Stammdaten Betrieb & Abteilung'!D$3","v":" "},null,null,null,null,null,null,{"$f":"Übersetzungstexte!A$191","v":"PLZ/Ort"},{"$f":"'Stammdaten Betrieb & Abteilung'!D$4","v":" "}]
[]
[null,null,null,null,null,{"$f":"CONCATENATE(Übersetzungstexte!A$192,\" \",TEXT(MONTH(P$3),\"00\"),\".\",YEAR(P$3))","v":"Zeitgleiche Periode des Vorjahres: 01.3799"},null,null,null,null,null,null,{"$f":"CONCATENATE(Übersetzungstexte!A$211,\" \",TEXT(MONTH(P$4),\"00\"),\".\",YEAR(P$4))","v":"Zeitgleiche Periode des vorletzten Jahres: 01.3798"}]
[1,2,3,4,5,6,null,1,2,3,4,5,6,null,null,null,null,"Regel 4","Regel 5","Sollstd.","Absenzen",null,"Sollstd.","Absenzen"]
[{"$f":"Übersetzungstexte!A$193","v":""},{"$f":"Übersetzungstexte!A$196","v":"vertragliche"},{"$f":"Übersetzungstexte!A$199","v":"Sollstd. zeitgl."},{"$f":"Übersetzungstexte!A$202","v":"Istzeit"},{"$f":"Übersetzungstexte!A$205","v":"Bezahlte/"},{"$f":"Übersetzungstexte!A$208","v":"Ausfallstunden"},null,{"$f":"Übersetzungstexte!A$212","v":""},{"$f":"Übersetzungstexte!A$215","v":"vertragliche"},{"$f":"Übersetzungstexte!A$218","v":"Sollstd. zeitgl."},{"$f":"Übersetzungstexte!A$221","v":"Istzeit"},{"$f":"Übersetzungstexte!A$224","v":"Bezahlte/"},{"$f":"Übersetzungstexte!A$227","v":"Ausfallstunden"},null,null,"anrechen-","vertragl.","Ausfall-","Ausfall-","betroffene","betroffene","Ausfall-","betroffene","betroffene","Ausfall-"]
[{"$f":"Übersetzungstexte!A$194","v":""},{"$f":"Übersetzungstexte!A$197","v":"wöchentliche"},{"$f":"Übersetzungstexte!A$200","v":"Periode inkl."},{"$f":"Übersetzungstexte!A$203","v":""},{"$f":"Übersetzungstexte!A$206","v":"Unbezahlte"},{"$f":"Übersetzungstexte!A$209","v":""},null,{"$f":"Übersetzungstexte!A$213","v":""},{"$f":"Übersetzungstexte!A$216","v":"wöchentliche"},{"$f":"Übersetzungstexte!A$219","v":"Periode inkl."},{"$f":"Übersetzungstexte!A$222","v":""},{"$f":"Übersetzungstexte!A$225","v":"Unbezahlte"},{"$f":"Übersetzungstexte!A$228","v":""},null,null,"barer Std.-","wöchentl.","stunden","stunden","Mitarbeiter","Mitarbeiter","stunden","Mitarbeiter","Mitarbeiter","stunden","Max. der"]
[{"$f":"Übersetzungstexte!A$195","v":"Name,Vorname"},{"$f":"Übersetzungstexte!A$198","v":"Arbeitszeit"},{"$f":"Übersetzungstexte!A$201","v":"Vorholzeit"},{"$f":"Übersetzungstexte!A$204","v":""},{"$f":"Übersetzungstexte!A$207","v":"Absenzen"},{"$f":"Übersetzungstexte!A$210","v":""},null,{"$f":"Übersetzungstexte!A$214","v":"Name,Vorname"},{"$f":"Übersetzungstexte!A$217","v":"Arbeitszeit"},{"$f":"Übersetzungstexte!A$220","v":"Vorholzeit"},{"$f":"Übersetzungstexte!A$223","v":""},{"$f":"Übersetzungstexte!A$226","v":"Absenzen"},{"$f":"Übersetzungstexte!A$229","v":""},null,"Name,Vorname","Verdienst","Arbeitszeit",{"$f":"P$3","v":"3799-01-01"},{"$f":"P$4","v":"3798-01-01"},"Vorjahr","Vorjahr","Vorjahr","Vorvorjahr","Vorvorjahr","Vorvorjahr","Spalte"]
[{"$f":"O729","v":""},null,null,null,null,{"$f":"R729","v":""},null,{"$f":"O729","v":""},null,null,null,null,{"$f":"S729","v":""},null,{"$f":"'Stammdaten Mitarbeitende'!AA729","v":""},{"$f":"IF($A729=\"\",\"\",'Stammdaten Mitarbeitende'!L729)","v":""},{"$f":"IF(OR($A729=\"\",'Stammdaten Mitarbeitende'!J729=\"\"),\"\",'Stammdaten Mitarbeitende'!J729)","v":""},{"$f":"IF(OR($A729=\"\",C729=\"\",D729=\"\",E729=\"\"),\"\",MAX(C729-D729-E729,0))","v":""},{"$f":"IF(OR($H729=\"\",J729=\"\",K729=\"\",L729=\"\"),\"\",MAX(J729-K729-L729,0))","v":""},{"$f":"IF(OR(F729=\"\"),0,C729)","v":0},{"$f":"IF(OR(F729=\"\"),0,E729)","v":0},{"$f":"IF(OR(F729<=0,F729=\"\"),0,R729)","v":0},{"$f":"IF(OR(M729=\"\"),0,J729)","v":0},{"$f":"IF(OR(M729=\"\"),0,L729)","v":0},{"$f":"IF(OR(M729<=0,M729=\"\"),0,S729)","v":0},{"$f":"MAX(P729:Y729)","v":0}]
["",null,null,null,null,"",null,"",null,null,null,null,"",null,{"$f":"'Stammdaten Mitarbeitende'!AA730","v":""},{"$f":"IF($A730=\"\",\"\",'Stammdaten Mitarbeitende'!L730)","v":""},{"$f":"IF(OR($A730=\"\",'Stammdaten Mitarbeitende'!J730=\"\"),\"\",'Stammdaten Mitarbeitende'!J730)","v":""},"",{"$f":"IF(OR($H730=\"\",J730=\"\",K730=\"\",L730=\"\"),\"\",MAX(J730-K730-L730,0))","v":""},0,0,0,0,0,0,{"$f":"MAX(P730:Y730)","v":0}]
["",null,null,null,null,"",null,"",null,null,null,null,"",null,{"$f":"'Stammdaten Mitarbeitende'!AA731","v":""},{"$f":"IF($A731=\"\",\"\",'Stammdaten Mitarbeitende'!L731)","v":""},{"$f":"IF(OR($A731=\"\",'Stammdaten Mitarbeitende'!J731=\"\"),\"\",'Stammdaten Mitarbeitende'!J731)","v":""},"","",0,0,0,0,0,0,0]
["",null,null,null,null,"",null,"",null,null,null,null,"",null,{"$f":"'Stammdaten Mitarbeitende'!AA732","v":""},{"$f":"IF($A732=\"\",\"\",'Stammdaten Mitarbeitende'!L732)","v":""},{"$f":"IF(OR($A732=\"\",'Stammdaten Mitarbeitende'!J732=\"\"),\"\",'Stammdaten Mitarbeitende'!J732)","v":""},"","",0,0,0,0,0,0,0]
["",null,null,null,null,"",null,"",null,null,null,null,"",null,{"$f":"'Stammdaten Mitarbeitende'!AA733","v":""},{"$f":"IF($A733=\"\",\"\",'Stammdaten Mitarbeitende'!L733)","v":""},{"$f":"IF(OR($A733=\"\",'Stammdaten Mitarbeitende'!J733=\"\"),\"\",'Stammdaten Mitarbeitende'!J733)","v":""},"","",0,0,0,0,0,0,0]
["",null,null,null,null,"",null,"",null,null,null,null,"",null,{"$f":"'Stammdaten Mitarbeitende'!AA734","v":""},{"$f":"IF($A734=\"\",\"\",'Stammdaten Mitarbeitende'!L734)","v":""},{"$f":"IF(OR($A734=\"\",'Stammdaten Mitarbeitende'!J734=\"\"),\"\",'Stammdaten Mitarbeitende'!J734)","v":""},"","",0,0,0,0,0,0,0]
["",null,null,null,null,"",null,"",null,null,null,null,"",null,{"$f":"'Stammdaten Mitarbeitende'!AA735","v":""},{"$f":"IF($A735=\"\",\"\",'Stammdaten Mitarbeitende'!L735)","v":""},{"$f":"IF(OR($A735=\"\",'Stammdaten Mitarbeitende'!J735=\"\"),\"\",'Stammdaten Mitarbeitende'!J735)","v":""},"","",0,0,0,0,0,0,0]
["",null,null,null,null,"",null,"",null,null,null,null,"",null,{"$f":"'Stammdaten Mitarbeitende'!AA736","v":""},{"$f":"IF($A736=\"\",\"\",'Stammdaten Mitarbeitende'!L736)","v":""},{"$f":"IF(OR($A736=\"\",'Stammdaten Mitarbeitende'!J736=\"\"),\"\",'Stammdaten Mitarbeitende'!J736)","v":""},"","",0,0,0,0,0,0,0]
["",null,null,null,null,"",null,"",null,null,null,null,"",null,{"$f":"'Stammdaten Mitarbeitende'!AA737","v":""},{"$f":"IF($A737=\"\",\"\",'Stammdaten Mitarbeitende'!L737)","v":""},{"$f":"IF(OR($A737=\"\",'Stammdaten Mitarbeitende'!J737=\"\"),\"\",'Stammdaten Mitarbeitende'!J737)","v":""},"","",0,0,0,0,0,0,0]
["",null,null,null,null,"",null,"",null,null,null,null,"",null,{"$f":"'Stammdaten Mitarbeitende'!AA738","v":""},{"$f":"IF($A738=\"\",\"\",'Stammdaten Mitarbeitende'!L738)","v":""},{"$f":"IF(OR($A738=\"\",'Stammdaten Mitarbeitende'!J738=\"\"),\"\",'Stammdaten Mitarbeitende'!J738)","v":""},"","",0,0,0,0,0,0,0]
["",null,null,null,null,"",null,"",null,null,null,null,"",null,{"$f":"'Stammdaten Mitarbeitende'!AA739","v":""},{"$f":"IF($A739=\"\",\"\",'Stammdaten Mitarbeitende'!L739)","v":""},{"$f":"IF(OR($A739=\"\",'Stammdaten Mitarbeitende'!J739=\"\"),\"\",'Stammdaten Mitarbeitende'!J739)","v":""},"","",0,0,0,0,0,0,0]
["",null,null,null,null,"",null,"",null,null,null,null,"",null,{"$f":"'Stammdaten Mitarbeitende'!AA740","v":""},{"$f":"IF($A740=\"\",\"\",'Stammdaten Mitarbeitende'!L740)","v":""},{"$f":"IF(OR($A740=\"\",'Stammdaten Mitarbeitende'!J740=\"\"),\"\",'Stammdaten Mitarbeitende'!J740)","v":""},"","",0,0,0,0,0,0,0]
["",null,null,null,null,"",null,"",null,null,null,null,"",null,{"$f":"'Stammdaten Mitarbeitende'!AA741","v":""},{"$f":"IF($A741=\"\",\"\",'Stammdaten Mitarbeitende'!L741)","v":""},{"$f":"IF(OR($A741=\"\",'Stammdaten Mitarbeitende'!J741=\"\"),\"\",'Stammdaten Mitarbeitende'!J741)","v":""},"","",0,0,0,0,0,0,0]
["",null,null,null,null,"",null,"",null,null,null,null,"",null,{"$f":"'Stammdaten Mitarbeitende'!AA742","v":""},{"$f":"IF($A742=\"\",\"\",'Stammdaten Mitarbeitende'!L742)","v":""},{"$f":"IF(OR($A742=\"\",'Stammdaten Mitarbeitende'!J742=\"\"),\"\",'Stammdaten Mitarbeitende'!J742)","v":""},"","",0,0,0,0,0,0,0]
["",null,null,null,null,"",null,"",null,null,null,null,"",null,{"$f":"'Stammdaten Mitarbeitende'!AA743","v":""},{"$f":"IF($A743=\"\",\"\",'Stammdaten Mitarbeitende'!L743)","v":""},{"$f":"IF(OR($A743=\"\",'Stammdaten Mitarbeitende'!J743=\"\"),\"\",'Stammdaten Mitarbeitende'!J743)","v":""},"","",0,0,0,0,0,0,0]
["",null,null,null,null,"",null,"",null,null,null,null,"",null,{"$f":"'Stammdaten Mitarbeitende'!AA744","v":""},{"$f":"IF($A744=\"\",\"\",'Stammdaten Mitarbeitende'!L744)","v":""},{"$f":"IF(OR($A744=\"\",'Stammdaten Mitarbeitende'!J744=\"\"),\"\",'Stammdaten Mitarbeitende'!J744)","v":""},"","",0,0,0,0,0,0,0]
["",null,null,null,null,"",null,"",null,null,null,null,"",null,{"$f":"'Stammdaten Mitarbeitende'!AA745","v":""},{"$f":"IF($A745=\"\",\"\",'Stammdaten Mitarbeitende'!L745)","v":""},{"$f":"IF(OR($A745=\"\",'Stammdaten Mitarbeitende'!J745=\"\"),\"\",'Stammdaten Mitarbeitende'!J745)","v":""},"","",0,0,0,0,0,0,0]
["",null,null,null,null,"",null,"",null,null,null,null,"",null,{"$f":"'Stammdaten Mitarbeitende'!AA746","v":""},{"$f":"IF($A746=\"\",\"\",'Stammdaten Mitarbeitende'!L746)","v":""},{"$f":"IF(OR($A746=\"\",'Stammdaten Mitarbeitende'!J746=\"\"),\"\",'Stammdaten Mitarbeitende'!J746)","v":""},"","",0,0,0,0,0,0,0]
["",null,null,null,null,"",null,"",null,null,null,null,"",null,{"$f":"'Stammdaten Mitarbeitende'!AA747","v":""},{"$f":"IF($A747=\"\",\"\",'Stammdaten Mitarbeitende'!L747)","v":""},{"$f":"IF(OR($A747=\"\",'Stammdaten Mitarbeitende'!J747=\"\"),\"\",'Stammdaten Mitarbeitende'!J747)","v":""},"","",0,0,0,0,0,0,0]
["",null,null,null,null,"",null,"",null,null,null,null,"",null,{"$f":"'Stammdaten Mitarbeitende'!AA748","v":""},{"$f":"IF($A748=\"\",\"\",'Stammdaten Mitarbeitende'!L748)","v":""},{"$f":"IF(OR($A748=\"\",'Stammdaten Mitarbeitende'!J748=\"\"),\"\",'Stammdaten Mitarbeitende'!J748)","v":""},"","",0,0,0,0,0,0,0]
["",null,null,null,null,"",null,"",null,null,null,null,"",null,{"$f":"'Stammdaten Mitarbeitende'!AA749","v":""},{"$f":"IF($A749=\"\",\"\",'Stammdaten Mitarbeitende'!L749)","v":""},{"$f":"IF(OR($A749=\"\",'Stammdaten Mitarbeitende'!J749=\"\"),\"\",'Stammdaten Mitarbeitende'!J749)","v":""},"","",0,0,0,0,0,0,0]
[{"$f":"Übersetzungstexte!A$230","v":"Seitentotal"},null,{"$f":"SUM(C729:C749)","v":0},null,{"$f":"SUM(E729:E749)","v":0},{"$f":"SUM(F729:F749)","v":0},null,{"$f":"Übersetzungstexte!A$230","v":"Seitentotal"},null,{"$f":"SUM(J729:J749)","v":0},null,{"$f":"SUM(L729:L749)","v":0},{"$f":"SUM(M729:M749)","v":0}]
[{"$f":"'Stammdaten Betrieb & Abteilung'!D$1","v":"  "},null,null,null,null,null,null,{"$f":"Übersetzungstexte!A$190","v":"Betrieb / Betriebsabteilung"},{"$f":"'Stammdaten Betrieb & Abteilung'!D$13","v":" "}]
[{"$f":"'Stammdaten Betrieb & Abteilung'!D$3","v":" "},null,null,null,null,null,null,{"$f":"Übersetzungstexte!A$191","v":"PLZ/Ort"},{"$f":"'Stammdaten Betrieb & Abteilung'!D$4","v":" "}]
[]
[null,null,null,null,null,{"$f":"CONCATENATE(Übersetzungstexte!A$192,\" \",TEXT(MONTH(P$3),\"00\"),\".\",YEAR(P$3))","v":"Zeitgleiche Periode des Vorjahres: 01.3799"},null,null,null,null,null,null,{"$f":"CONCATENATE(Übersetzungstexte!A$211,\" \",TEXT(MONTH(P$4),\"00\"),\".\",YEAR(P$4))","v":"Zeitgleiche Periode des vorletzten Jahres: 01.3798"}]
[1,2,3,4,5,6,null,1,2,3,4,5,6,null,null,null,null,"Regel 4","Regel 5","Sollstd.","Absenzen",null,"Sollstd.","Absenzen"]
[{"$f":"Übersetzungstexte!A$193","v":""},{"$f":"Übersetzungstexte!A$196","v":"vertragliche"},{"$f":"Übersetzungstexte!A$199","v":"Sollstd. zeitgl."},{"$f":"Übersetzungstexte!A$202","v":"Istzeit"},{"$f":"Übersetzungstexte!A$205","v":"Bezahlte/"},{"$f":"Übersetzungstexte!A$208","v":"Ausfallstunden"},null,{"$f":"Übersetzungstexte!A$212","v":""},{"$f":"Übersetzungstexte!A$215","v":"vertragliche"},{"$f":"Übersetzungstexte!A$218","v":"Sollstd. zeitgl."},{"$f":"Übersetzungstexte!A$221","v":"Istzeit"},{"$f":"Übersetzungstexte!A$224","v":"Bezahlte/"},{"$f":"Übersetzungstexte!A$227","v":"Ausfallstunden"},null,null,"anrechen-","vertragl.","Ausfall-","Ausfall-","betroffene","betroffene","Ausfall-","betroffene","betroffene","Ausfall-"]
[{"$f":"Übersetzungstexte!A$194","v":""},{"$f":"Übersetzungstexte!A$197","v":"wöchentliche"},{"$f":"Übersetzungstexte!A$200","v":"Periode inkl."},{"$f":"Übersetzungstexte!A$203","v":""},{"$f":"Übersetzungstexte!A$206","v":"Unbezahlte"},{"$f":"Übersetzungstexte!A$209","v":""},null,{"$f":"Übersetzungstexte!A$213","v":""},{"$f":"Übersetzungstexte!A$216","v":"wöchentliche"},{"$f":"Übersetzungstexte!A$219","v":"Periode inkl."},{"$f":"Übersetzungstexte!A$222","v":""},{"$f":"Übersetzungstexte!A$225","v":"Unbezahlte"},{"$f":"Übersetzungstexte!A$228","v":""},null,null,"barer Std.-","wöchentl.","stunden","stunden","Mitarbeiter","Mitarbeiter","stunden","Mitarbeiter","Mitarbeiter","stunden","Max. der"]
[{"$f":"Übersetzungstexte!A$195","v":"Name,Vorname"},{"$f":"Übersetzungstexte!A$198","v":"Arbeitszeit"},{"$f":"Übersetzungstexte!A$201","v":"Vorholzeit"},{"$f":"Übersetzungstexte!A$204","v":""},{"$f":"Übersetzungstexte!A$207","v":"Absenzen"},{"$f":"Übersetzungstexte!A$210","v":""},null,{"$f":"Übersetzungstexte!A$214","v":"Name,Vorname"},{"$f":"Übersetzungstexte!A$217","v":"Arbeitszeit"},{"$f":"Übersetzungstexte!A$220","v":"Vorholzeit"},{"$f":"Übersetzungstexte!A$223","v":""},{"$f":"Übersetzungstexte!A$226","v":"Absenzen"},{"$f":"Übersetzungstexte!A$229","v":""},null,"Name,Vorname","Verdienst","Arbeitszeit",{"$f":"P$3","v":"3799-01-01"},{"$f":"P$4","v":"3798-01-01"},"Vorjahr","Vorjahr","Vorjahr","Vorvorjahr","Vorvorjahr","Vorvorjahr","Spalte"]
[{"$f":"O759","v":""},null,null,null,null,{"$f":"R759","v":""},null,{"$f":"O759","v":""},null,null,null,null,{"$f":"S759","v":""},null,{"$f":"'Stammdaten Mitarbeitende'!AA759","v":""},{"$f":"IF($A759=\"\",\"\",'Stammdaten Mitarbeitende'!L759)","v":""},{"$f":"IF(OR($A759=\"\",'Stammdaten Mitarbeitende'!J759=\"\"),\"\",'Stammdaten Mitarbeitende'!J759)","v":""},{"$f":"IF(OR($A759=\"\",C759=\"\",D759=\"\",E759=\"\"),\"\",MAX(C759-D759-E759,0))","v":""},{"$f":"IF(OR($H759=\"\",J759=\"\",K759=\"\",L759=\"\"),\"\",MAX(J759-K759-L759,0))","v":""},{"$f":"IF(OR(F759=\"\"),0,C759)","v":0},{"$f":"IF(OR(F759=\"\"),0,E759)","v":0},{"$f":"IF(OR(F759<=0,F759=\"\"),0,R759)","v":0},{"$f":"IF(OR(M759=\"\"),0,J759)","v":0},{"$f":"IF(OR(M759=\"\"),0,L759)","v":0},{"$f":"IF(OR(M759<=0,M759=\"\"),0,S759)","v":0},{"$f":"MAX(P759:Y759)","v":0}]
["",null,null,null,null,"",null,"",null,null,null,null,"",null,{"$f":"'Stammdaten Mitarbeitende'!AA760","v":""},{"$f":"IF($A760=\"\",\"\",'Stammdaten Mitarbeitende'!L760)","v":""},{"$f":"IF(OR($A760=\"\",'Stammdaten Mitarbeitende'!J760=\"\"),\"\",'Stammdaten Mitarbeitende'!J760)","v":""},"",{"$f":"IF(OR($H760=\"\",J760=\"\",K760=\"\",L760=\"\"),\"\",MAX(J760-K760-L760,0))","v":""},0,0,0,0,0,0,{"$f":"MAX(P760:Y760)","v":0}]
["",null,null,null,null,"",null,"",null,null,null,null,"",null,{"$f":"'Stammdaten Mitarbeitende'!AA761","v":""},{"$f":"IF($A761=\"\",\"\",'Stammdaten Mitarbeitende'!L761)","v":""},{"$f":"IF(OR($A761=\"\",'Stammdaten Mitarbeitende'!J761=\"\"),\"\",'Stammdaten Mitarbeitende'!J761)","v":""},"","",0,0,0,0,0,0,0]
["",null,null,null,null,"",null,"",null,null,null,null,"",null,{"$f":"'Stammdaten Mitarbeitende'!AA762","v":""},{"$f":"IF($A762=\"\",\"\",'Stammdaten Mitarbeitende'!L762)","v":""},{"$f":"IF(OR($A762=\"\",'Stammdaten Mitarbeitende'!J762=\"\"),\"\",'Stammdaten Mitarbeitende'!J762)","v":""},"","",0,0,0,0,0,0,0]
["",null,null,null,null,"",null,"",null,null,null,null,"",null,{"$f":"'Stammdaten Mitarbeitende'!AA763","v":""},{"$f":"IF($A763=\"\",\"\",'Stammdaten Mitarbeitende'!L763)","v":""},{"$f":"IF(OR($A763=\"\",'Stammdaten Mitarbeitende'!J763=\"\"),\"\",'Stammdaten Mitarbeitende'!J763)","v":""},"","",0,0,0,0,0,0,0]
["",null,null,null,null,"",null,"",null,null,null,null,"",null,{"$f":"'Stammdaten Mitarbeitende'!AA764","v":""},{"$f":"IF($A764=\"\",\"\",'Stammdaten Mitarbeitende'!L764)","v":""},{"$f":"IF(OR($A764=\"\",'Stammdaten Mitarbeitende'!J764=\"\"),\"\",'Stammdaten Mitarbeitende'!J764)","v":""},"","",0,0,0,0,0,0,0]
["",null,null,null,null,"",null,"",null,null,null,null,"",null,{"$f":"'Stammdaten Mitarbeitende'!AA765","v":""},{"$f":"IF($A765=\"\",\"\",'Stammdaten Mitarbeitende'!L765)","v":""},{"$f":"IF(OR($A765=\"\",'Stammdaten Mitarbeitende'!J765=\"\"),\"\",'Stammdaten Mitarbeitende'!J765)","v":""},"","",0,0,0,0,0,0,0]
["",null,null,null,null,"",null,"",null,null,null,null,"",null,{"$f":"'Stammdaten Mitarbeitende'!AA766","v":""},{"$f":"IF($A766=\"\",\"\",'Stammdaten Mitarbeitende'!L766)","v":""},{"$f":"IF(OR($A766=\"\",'Stammdaten Mitarbeitende'!J766=\"\"),\"\",'Stammdaten Mitarbeitende'!J766)","v":""},"","",0,0,0,0,0,0,0]
["",null,null,null,null,"",null,"",null,null,null,null,"",null,{"$f":"'Stammdaten Mitarbeitende'!AA767","v":""},{"$f":"IF($A767=\"\",\"\",'Stammdaten Mitarbeitende'!L767)","v":""},{"$f":"IF(OR($A767=\"\",'Stammdaten Mitarbeitende'!J767=\"\"),\"\",'Stammdaten Mitarbeitende'!J767)","v":""},"","",0,0,0,0,0,0,0]
["",null,null,null,null,"",null,"",null,null,null,null,"",null,{"$f":"'Stammdaten Mitarbeitende'!AA768","v":""},{"$f":"IF($A768=\"\",\"\",'Stammdaten Mitarbeitende'!L768)","v":""},{"$f":"IF(OR($A768=\"\",'Stammdaten Mitarbeitende'!J768=\"\"),\"\",'Stammdaten Mitarbeitende'!J768)","v":""},"","",0,0,0,0,0,0,0]
["",null,null,null,null,"",null,"",null,null,null,null,"",null,{"$f":"'Stammdaten Mitarbeitende'!AA769","v":""},{"$f":"IF($A769=\"\",\"\",'Stammdaten Mitarbeitende'!L769)","v":""},{"$f":"IF(OR($A769=\"\",'Stammdaten Mitarbeitende'!J769=\"\"),\"\",'Stammdaten Mitarbeitende'!J769)","v":""},"","",0,0,0,0,0,0,0]
["",null,null,null,null,"",null,"",null,null,null,null,"",null,{"$f":"'Stammdaten Mitarbeitende'!AA770","v":""},{"$f":"IF($A770=\"\",\"\",'Stammdaten Mitarbeitende'!L770)","v":""},{"$f":"IF(OR($A770=\"\",'Stammdaten Mitarbeitende'!J770=\"\"),\"\",'Stammdaten Mitarbeitende'!J770)","v":""},"","",0,0,0,0,0,0,0]
["",null,null,null,null,"",null,"",null,null,null,null,"",null,{"$f":"'Stammdaten Mitarbeitende'!AA771","v":""},{"$f":"IF($A771=\"\",\"\",'Stammdaten Mitarbeitende'!L771)","v":""},{"$f":"IF(OR($A771=\"\",'Stammdaten Mitarbeitende'!J771=\"\"),\"\",'Stammdaten Mitarbeitende'!J771)","v":""},"","",0,0,0,0,0,0,0]
["",null,null,null,null,"",null,"",null,null,null,null,"",null,{"$f":"'Stammdaten Mitarbeitende'!AA772","v":""},{"$f":"IF($A772=\"\",\"\",'Stammdaten Mitarbeitende'!L772)","v":""},{"$f":"IF(OR($A772=\"\",'Stammdaten Mitarbeitende'!J772=\"\"),\"\",'Stammdaten Mitarbeitende'!J772)","v":""},"","",0,0,0,0,0,0,0]
["",null,null,null,null,"",null,"",null,null,null,null,"",null,{"$f":"'Stammdaten Mitarbeitende'!AA773","v":""},{"$f":"IF($A773=\"\",\"\",'Stammdaten Mitarbeitende'!L773)","v":""},{"$f":"IF(OR($A773=\"\",'Stammdaten Mitarbeitende'!J773=\"\"),\"\",'Stammdaten Mitarbeitende'!J773)","v":""},"","",0,0,0,0,0,0,0]
["",null,null,null,null,"",null,"",null,null,null,null,"",null,{"$f":"'Stammdaten Mitarbeitende'!AA774","v":""},{"$f":"IF($A774=\"\",\"\",'Stammdaten Mitarbeitende'!L774)","v":""},{"$f":"IF(OR($A774=\"\",'Stammdaten Mitarbeitende'!J774=\"\"),\"\",'Stammdaten Mitarbeitende'!J774)","v":""},"","",0,0,0,0,0,0,0]
["",null,null,null,null,"",null,"",null,null,null,null,"",null,{"$f":"'Stammdaten Mitarbeitende'!AA775","v":""},{"$f":"IF($A775=\"\",\"\",'Stammdaten Mitarbeitende'!L775)","v":""},{"$f":"IF(OR($A775=\"\",'Stammdaten Mitarbeitende'!J775=\"\"),\"\",'Stammdaten Mitarbeitende'!J775)","v":""},"","",0,0,0,0,0,0,0]
["",null,null,null,null,"",null,"",null,null,null,null,"",null,{"$f":"'Stammdaten Mitarbeitende'!AA776","v":""},{"$f":"IF($A776=\"\",\"\",'Stammdaten Mitarbeitende'!L776)","v":""},{"$f":"IF(OR($A776=\"\",'Stammdaten Mitarbeitende'!J776=\"\"),\"\",'Stammdaten Mitarbeitende'!J776)","v":""},"","",0,0,0,0,0,0,0]
["",null,null,null,null,"",null,"",null,null,null,null,"",null,{"$f":"'Stammdaten Mitarbeitende'!AA777","v":""},{"$f":"IF($A777=\"\",\"\",'Stammdaten Mitarbeitende'!L777)","v":""},{"$f":"IF(OR($A777=\"\",'Stammdaten Mitarbeitende'!J777=\"\"),\"\",'Stammdaten Mitarbeitende'!J777)","v":""},"","",0,0,0,0,0,0,0]
["",null,null,null,null,"",null,"",null,null,null,null,"",null,{"$f":"'Stammdaten Mitarbeitende'!AA778","v":""},{"$f":"IF($A778=\"\",\"\",'Stammdaten Mitarbeitende'!L778)","v":""},{"$f":"IF(OR($A778=\"\",'Stammdaten Mitarbeitende'!J778=\"\"),\"\",'Stammdaten Mitarbeitende'!J778)","v":""},"","",0,0,0,0,0,0,0]
["",null,null,null,null,"",null,"",null,null,null,null,"",null,{"$f":"'Stammdaten Mitarbeitende'!AA779","v":""},{"$f":"IF($A779=\"\",\"\",'Stammdaten Mitarbeitende'!L779)","v":""},{"$f":"IF(OR($A779=\"\",'Stammdaten Mitarbeitende'!J779=\"\"),\"\",'Stammdaten Mitarbeitende'!J779)","v":""},"","",0,0,0,0,0,0,0]
[{"$f":"Übersetzungstexte!A$230","v":"Seitentotal"},null,{"$f":"SUM(C759:C779)","v":0},null,{"$f":"SUM(E759:E779)","v":0},{"$f":"SUM(F759:F779)","v":0},null,{"$f":"Übersetzungstexte!A$230","v":"Seitentotal"},null,{"$f":"SUM(J759:J779)","v":0},null,{"$f":"SUM(L759:L779)","v":0},{"$f":"SUM(M759:M779)","v":0}]
[{"$f":"'Stammdaten Betrieb & Abteilung'!D$1","v":"  "},null,null,null,null,null,null,{"$f":"Übersetzungstexte!A$190","v":"Betrieb / Betriebsabteilung"},{"$f":"'Stammdaten Betrieb & Abteilung'!D$13","v":" "}]
[{"$f":"'Stammdaten Betrieb & Abteilung'!D$3","v":" "},null,null,null,null,null,null,{"$f":"Übersetzungstexte!A$191","v":"PLZ/Ort"},{"$f":"'Stammdaten Betrieb & Abteilung'!D$4","v":" "}]
[]
[null,null,null,null,null,{"$f":"CONCATENATE(Übersetzungstexte!A$192,\" \",TEXT(MONTH(P$3),\"00\"),\".\",YEAR(P$3))","v":"Zeitgleiche Periode des Vorjahres: 01.3799"},null,null,null,null,null,null,{"$f":"CONCATENATE(Übersetzungstexte!A$211,\" \",TEXT(MONTH(P$4),\"00\"),\".\",YEAR(P$4))","v":"Zeitgleiche Periode des vorletzten Jahres: 01.3798"}]
[1,2,3,4,5,6,null,1,2,3,4,5,6,null,null,null,null,"Regel 4","Regel 5","Sollstd.","Absenzen",null,"Sollstd.","Absenzen"]
[{"$f":"Übersetzungstexte!A$193","v":""},{"$f":"Übersetzungstexte!A$196","v":"vertragliche"},{"$f":"Übersetzungstexte!A$199","v":"Sollstd. zeitgl."},{"$f":"Übersetzungstexte!A$202","v":"Istzeit"},{"$f":"Übersetzungstexte!A$205","v":"Bezahlte/"},{"$f":"Übersetzungstexte!A$208","v":"Ausfallstunden"},null,{"$f":"Übersetzungstexte!A$212","v":""},{"$f":"Übersetzungstexte!A$215","v":"vertragliche"},{"$f":"Übersetzungstexte!A$218","v":"Sollstd. zeitgl."},{"$f":"Übersetzungstexte!A$221","v":"Istzeit"},{"$f":"Übersetzungstexte!A$224","v":"Bezahlte/"},{"$f":"Übersetzungstexte!A$227","v":"Ausfallstunden"},null,null,"anrechen-","vertragl.","Ausfall-","Ausfall-","betroffene","betroffene","Ausfall-","betroffene","betroffene","Ausfall-"]
[{"$f":"Übersetzungstexte!A$194","v":""},{"$f":"Übersetzungstexte!A$197","v":"wöchentliche"},{"$f":"Übersetzungstexte!A$200","v":"Periode inkl."},{"$f":"Übersetzungstexte!A$203","v":""},{"$f":"Übersetzungstexte!A$206","v":"Unbezahlte"},{"$f":"Übersetzungstexte!A$209","v":""},null,{"$f":"Übersetzungstexte!A$213","v":""},{"$f":"Übersetzungstexte!A$216","v":"wöchentliche"},{"$f":"Übersetzungstexte!A$219","v":"Periode inkl."},{"$f":"Übersetzungstexte!A$222","v":""},{"$f":"Übersetzungstexte!A$225","v":"Unbezahlte"},{"$f":"Übersetzungstexte!A$228","v":""},null,null,"barer Std.-","wöchentl.","stunden","stunden","Mitarbeiter","Mitarbeiter","stunden","Mitarbeiter","Mitarbeiter","stunden","Max. der"]
[{"$f":"Übersetzungstexte!A$195","v":"Name,Vorname"},{"$f":"Übersetzungstexte!A$198","v":"Arbeitszeit"},{"$f":"Übersetzungstexte!A$201","v":"Vorholzeit"},{"$f":"Übersetzungstexte!A$204","v":""},{"$f":"Übersetzungstexte!A$207","v":"Absenzen"},{"$f":"Übersetzungstexte!A$210","v":""},null,{"$f":"Übersetzungstexte!A$214","v":"Name,Vorname"},{"$f":"Übersetzungstexte!A$217","v":"Arbeitszeit"},{"$f":"Übersetzungstexte!A$220","v":"Vorholzeit"},{"$f":"Übersetzungstexte!A$223","v":""},{"$f":"Übersetzungstexte!A$226","v":"Absenzen"},{"$f":"Übersetzungstexte!A$229","v":""},null,"Name,Vorname","Verdienst","Arbeitszeit",{"$f":"P$3","v":"3799-01-01"},{"$f":"P$4","v":"3798-01-01"},"Vorjahr","Vorjahr","Vorjahr","Vorvorjahr","Vorvorjahr","Vorvorjahr","Spalte"]
[{"$f":"O789","v":""},null,null,null,null,{"$f":"R789","v":""},null,{"$f":"O789","v":""},null,null,null,null,{"$f":"S789","v":""},null,{"$f":"'Stammdaten Mitarbeitende'!AA789","v":""},{"$f":"IF($A789=\"\",\"\",'Stammdaten Mitarbeitende'!L789)","v":""},{"$f":"IF(OR($A789=\"\",'Stammdaten Mitarbeitende'!J789=\"\"),\"\",'Stammdaten Mitarbeitende'!J789)","v":""},{"$f":"IF(OR($A789=\"\",C789=\"\",D789=\"\",E789=\"\"),\"\",MAX(C789-D789-E789,0))","v":""},{"$f":"IF(OR($H789=\"\",J789=\"\",K789=\"\",L789=\"\"),\"\",MAX(J789-K789-L789,0))","v":""},{"$f":"IF(OR(F789=\"\"),0,C789)","v":0},{"$f":"IF(OR(F789=\"\"),0,E789)","v":0},{"$f":"IF(OR(F789<=0,F789=\"\"),0,R789)","v":0},{"$f":"IF(OR(M789=\"\"),0,J789)","v":0},{"$f":"IF(OR(M789=\"\"),0,L789)","v":0},{"$f":"IF(OR(M789<=0,M789=\"\"),0,S789)","v":0},{"$f":"MAX(P789:Y789)","v":0}]
["",null,null,null,null,"",null,"",null,null,null,null,"",null,{"$f":"'Stammdaten Mitarbeitende'!AA790","v":""},{"$f":"IF($A790=\"\",\"\",'Stammdaten Mitarbeitende'!L790)","v":""},{"$f":"IF(OR($A790=\"\",'Stammdaten Mitarbeitende'!J790=\"\"),\"\",'Stammdaten Mitarbeitende'!J790)","v":""},"",{"$f":"IF(OR($H790=\"\",J790=\"\",K790=\"\",L790=\"\"),\"\",MAX(J790-K790-L790,0))","v":""},0,0,0,0,0,0,{"$f":"MAX(P790:Y790)","v":0}]
["",null,null,null,null,"",null,"",null,null,null,null,"",null,{"$f":"'Stammdaten Mitarbeitende'!AA791","v":""},{"$f":"IF($A791=\"\",\"\",'Stammdaten Mitarbeitende'!L791)","v":""},{"$f":"IF(OR($A791=\"\",'Stammdaten Mitarbeitende'!J791=\"\"),\"\",'Stammdaten Mitarbeitende'!J791)","v":""},"","",0,0,0,0,0,0,0]
["",null,null,null,null,"",null,"",null,null,null,null,"",null,{"$f":"'Stammdaten Mitarbeitende'!AA792","v":""},{"$f":"IF($A792=\"\",\"\",'Stammdaten Mitarbeitende'!L792)","v":""},{"$f":"IF(OR($A792=\"\",'Stammdaten Mitarbeitende'!J792=\"\"),\"\",'Stammdaten Mitarbeitende'!J792)","v":""},"","",0,0,0,0,0,0,0]
["",null,null,null,null,"",null,"",null,null,null,null,"",null,{"$f":"'Stammdaten Mitarbeitende'!AA793","v":""},{"$f":"IF($A793=\"\",\"\",'Stammdaten Mitarbeitende'!L793)","v":""},{"$f":"IF(OR($A793=\"\",'Stammdaten Mitarbeitende'!J793=\"\"),\"\",'Stammdaten Mitarbeitende'!J793)","v":""},"","",0,0,0,0,0,0,0]
["",null,null,null,null,"",null,"",null,null,null,null,"",null,{"$f":"'Stammdaten Mitarbeitende'!AA794","v":""},{"$f":"IF($A794=\"\",\"\",'Stammdaten Mitarbeitende'!L794)","v":""},{"$f":"IF(OR($A794=\"\",'Stammdaten Mitarbeitende'!J794=\"\"),\"\",'Stammdaten Mitarbeitende'!J794)","v":""},"","",0,0,0,0,0,0,0]
["",null,null,null,null,"",null,"",null,null,null,null,"",null,{"$f":"'Stammdaten Mitarbeitende'!AA795","v":""},{"$f":"IF($A795=\"\",\"\",'Stammdaten Mitarbeitende'!L795)","v":""},{"$f":"IF(OR($A795=\"\",'Stammdaten Mitarbeitende'!J795=\"\"),\"\",'Stammdaten Mitarbeitende'!J795)","v":""},"","",0,0,0,0,0,0,0]
["",null,null,null,null,"",null,"",null,null,null,null,"",null,{"$f":"'Stammdaten Mitarbeitende'!AA796","v":""},{"$f":"IF($A796=\"\",\"\",'Stammdaten Mitarbeitende'!L796)","v":""},{"$f":"IF(OR($A796=\"\",'Stammdaten Mitarbeitende'!J796=\"\"),\"\",'Stammdaten Mitarbeitende'!J796)","v":""},"","",0,0,0,0,0,0,0]
["",null,null,null,null,"",null,"",null,null,null,null,"",null,{"$f":"'Stammdaten Mitarbeitende'!AA797","v":""},{"$f":"IF($A797=\"\",\"\",'Stammdaten Mitarbeitende'!L797)","v":""},{"$f":"IF(OR($A797=\"\",'Stammdaten Mitarbeitende'!J797=\"\"),\"\",'Stammdaten Mitarbeitende'!J797)","v":""},"","",0,0,0,0,0,0,0]
["",null,null,null,null,"",null,"",null,null,null,null,"",null,{"$f":"'Stammdaten Mitarbeitende'!AA798","v":""},{"$f":"IF($A798=\"\",\"\",'Stammdaten Mitarbeitende'!L798)","v":""},{"$f":"IF(OR($A798=\"\",'Stammdaten Mitarbeitende'!J798=\"\"),\"\",'Stammdaten Mitarbeitende'!J798)","v":""},"","",0,0,0,0,0,0,0]
["",null,null,null,null,"",null,"",null,null,null,null,"",null,{"$f":"'Stammdaten Mitarbeitende'!AA799","v":""},{"$f":"IF($A799=\"\",\"\",'Stammdaten Mitarbeitende'!L799)","v":""},{"$f":"IF(OR($A799=\"\",'Stammdaten Mitarbeitende'!J799=\"\"),\"\",'Stammdaten Mitarbeitende'!J799)","v":""},"","",0,0,0,0,0,0,0]
["",null,null,null,null,"",null,"",null,null,null,null,"",null,{"$f":"'Stammdaten Mitarbeitende'!AA800","v":""},{"$f":"IF($A800=\"\",\"\",'Stammdaten Mitarbeitende'!L800)","v":""},{"$f":"IF(OR($A800=\"\",'Stammdaten Mitarbeitende'!J800=\"\"),\"\",'Stammdaten Mitarbeitende'!J800)","v":""},"","",0,0,0,0,0,0,0]
["",null,null,null,null,"",null,"",null,null,null,null,"",null,{"$f":"'Stammdaten Mitarbeitende'!AA801","v":""},{"$f":"IF($A801=\"\",\"\",'Stammdaten Mitarbeitende'!L801)","v":""},{"$f":"IF(OR($A801=\"\",'Stammdaten Mitarbeitende'!J801=\"\"),\"\",'Stammdaten Mitarbeitende'!J801)","v":""},"","",0,0,0,0,0,0,0]
["",null,null,null,null,"",null,"",null,null,null,null,"",null,{"$f":"'Stammdaten Mitarbeitende'!AA802","v":""},{"$f":"IF($A802=\"\",\"\",'Stammdaten Mitarbeitende'!L802)","v":""},{"$f":"IF(OR($A802=\"\",'Stammdaten Mitarbeitende'!J802=\"\"),\"\",'Stammdaten Mitarbeitende'!J802)","v":""},"","",0,0,0,0,0,0,0]
["",null,null,null,null,"",null,"",null,null,null,null,"",null,{"$f":"'Stammdaten Mitarbeitende'!AA803","v":""},{"$f":"IF($A803=\"\",\"\",'Stammdaten Mitarbeitende'!L803)","v":""},{"$f":"IF(OR($A803=\"\",'Stammdaten Mitarbeitende'!J803=\"\"),\"\",'Stammdaten Mitarbeitende'!J803)","v":""},"","",0,0,0,0,0,0,0]
["",null,null,null,null,"",null,"",null,null,null,null,"",null,{"$f":"'Stammdaten Mitarbeitende'!AA804","v":""},{"$f":"IF($A804=\"\",\"\",'Stammdaten Mitarbeitende'!L804)","v":""},{"$f":"IF(OR($A804=\"\",'Stammdaten Mitarbeitende'!J804=\"\"),\"\",'Stammdaten Mitarbeitende'!J804)","v":""},"","",0,0,0,0,0,0,0]
["",null,null,null,null,"",null,"",null,null,null,null,"",null,{"$f":"'Stammdaten Mitarbeitende'!AA805","v":""},{"$f":"IF($A805=\"\",\"\",'Stammdaten Mitarbeitende'!L805)","v":""},{"$f":"IF(OR($A805=\"\",'Stammdaten Mitarbeitende'!J805=\"\"),\"\",'Stammdaten Mitarbeitende'!J805)","v":""},"","",0,0,0,0,0,0,0]
["",null,null,null,null,"",null,"",null,null,null,null,"",null,{"$f":"'Stammdaten Mitarbeitende'!AA806","v":""},{"$f":"IF($A806=\"\",\"\",'Stammdaten Mitarbeitende'!L806)","v":""},{"$f":"IF(OR($A806=\"\",'Stammdaten Mitarbeitende'!J806=\"\"),\"\",'Stammdaten Mitarbeitende'!J806)","v":""},"","",0,0,0,0,0,0,0]
["",null,null,null,null,"",null,"",null,null,null,null,"",null,{"$f":"'Stammdaten Mitarbeitende'!AA807","v":""},{"$f":"IF($A807=\"\",\"\",'Stammdaten Mitarbeitende'!L807)","v":""},{"$f":"IF(OR($A807=\"\",'Stammdaten Mitarbeitende'!J807=\"\"),\"\",'Stammdaten Mitarbeitende'!J807)","v":""},"","",0,0,0,0,0,0,0]
["",null,null,null,null,"",null,"",null,null,null,null,"",null,{"$f":"'Stammdaten Mitarbeitende'!AA808","v":""},{"$f":"IF($A808=\"\",\"\",'Stammdaten Mitarbeitende'!L808)","v":""},{"$f":"IF(OR($A808=\"\",'Stammdaten Mitarbeitende'!J808=\"\"),\"\",'Stammdaten Mitarbeitende'!J808)","v":""},"","",0,0,0,0,0,0,0]
["",null,null,null,null,"",null,"",null,null,null,null,"",null,{"$f":"'Stammdaten Mitarbeitende'!AA809","v":""},{"$f":"IF($A809=\"\",\"\",'Stammdaten Mitarbeitende'!L809)","v":""},{"$f":"IF(OR($A809=\"\",'Stammdaten Mitarbeitende'!J809=\"\"),\"\",'Stammdaten Mitarbeitende'!J809)","v":""},"","",0,0,0,0,0,0,0]
[{"$f":"Übersetzungstexte!A$230","v":"Seitentotal"},null,{"$f":"SUM(C789:C809)","v":0},null,{"$f":"SUM(E789:E809)","v":0},{"$f":"SUM(F789:F809)","v":0},null,{"$f":"Übersetzungstexte!A$230","v":"Seitentotal"},null,{"$f":"SUM(J789:J809)","v":0},null,{"$f":"SUM(L789:L809)","v":0},{"$f":"SUM(M789:M809)","v":0}]
[{"$f":"'Stammdaten Betrieb & Abteilung'!D$1","v":"  "},null,null,null,null,null,null,{"$f":"Übersetzungstexte!A$190","v":"Betrieb / Betriebsabteilung"},{"$f":"'Stammdaten Betrieb & Abteilung'!D$13","v":" "}]
[{"$f":"'Stammdaten Betrieb & Abteilung'!D$3","v":" "},null,null,null,null,null,null,{"$f":"Übersetzungstexte!A$191","v":"PLZ/Ort"},{"$f":"'Stammdaten Betrieb & Abteilung'!D$4","v":" "}]
[]
[null,null,null,null,null,{"$f":"CONCATENATE(Übersetzungstexte!A$192,\" \",TEXT(MONTH(P$3),\"00\"),\".\",YEAR(P$3))","v":"Zeitgleiche Periode des Vorjahres: 01.3799"},null,null,null,null,null,null,{"$f":"CONCATENATE(Übersetzungstexte!A$211,\" \",TEXT(MONTH(P$4),\"00\"),\".\",YEAR(P$4))","v":"Zeitgleiche Periode des vorletzten Jahres: 01.3798"}]
[1,2,3,4,5,6,null,1,2,3,4,5,6,null,null,null,null,"Regel 4","Regel 5","Sollstd.","Absenzen",null,"Sollstd.","Absenzen"]
[{"$f":"Übersetzungstexte!A$193","v":""},{"$f":"Übersetzungstexte!A$196","v":"vertragliche"},{"$f":"Übersetzungstexte!A$199","v":"Sollstd. zeitgl."},{"$f":"Übersetzungstexte!A$202","v":"Istzeit"},{"$f":"Übersetzungstexte!A$205","v":"Bezahlte/"},{"$f":"Übersetzungstexte!A$208","v":"Ausfallstunden"},null,{"$f":"Übersetzungstexte!A$212","v":""},{"$f":"Übersetzungstexte!A$215","v":"vertragliche"},{"$f":"Übersetzungstexte!A$218","v":"Sollstd. zeitgl."},{"$f":"Übersetzungstexte!A$221","v":"Istzeit"},{"$f":"Übersetzungstexte!A$224","v":"Bezahlte/"},{"$f":"Übersetzungstexte!A$227","v":"Ausfallstunden"},null,null,"anrechen-","vertragl.","Ausfall-","Ausfall-","betroffene","betroffene","Ausfall-","betroffene","betroffene","Ausfall-"]
[{"$f":"Übersetzungstexte!A$194","v":""},{"$f":"Übersetzungstexte!A$197","v":"wöchentliche"},{"$f":"Übersetzungstexte!A$200","v":"Periode inkl."},{"$f":"Übersetzungstexte!A$203","v":""},{"$f":"Übersetzungstexte!A$206","v":"Unbezahlte"},{"$f":"Übersetzungstexte!A$209","v":""},null,{"$f":"Übersetzungstexte!A$213","v":""},{"$f":"Übersetzungstexte!A$216","v":"wöchentliche"},{"$f":"Übersetzungstexte!A$219","v":"Periode inkl."},{"$f":"Übersetzungstexte!A$222","v":""},{"$f":"Übersetzungstexte!A$225","v":"Unbezahlte"},{"$f":"Übersetzungstexte!A$228","v":""},null,null,"barer Std.-","wöchentl.","stunden","stunden","Mitarbeiter","Mitarbeiter","stunden","Mitarbeiter","Mitarbeiter","stunden","Max. der"]
[{"$f":"Übersetzungstexte!A$195","v":"Name,Vorname"},{"$f":"Übersetzungstexte!A$198","v":"Arbeitszeit"},{"$f":"Übersetzungstexte!A$201","v":"Vorholzeit"},{"$f":"Übersetzungstexte!A$204","v":""},{"$f":"Übersetzungstexte!A$207","v":"Absenzen"},{"$f":"Übersetzungstexte!A$210","v":""},null,{"$f":"Übersetzungstexte!A$214","v":"Name,Vorname"},{"$f":"Übersetzungstexte!A$217","v":"Arbeitszeit"},{"$f":"Übersetzungstexte!A$220","v":"Vorholzeit"},{"$f":"Übersetzungstexte!A$223","v":""},{"$f":"Übersetzungstexte!A$226","v":"Absenzen"},{"$f":"Übersetzungstexte!A$229","v":""},null,"Name,Vorname","Verdienst","Arbeitszeit",{"$f":"P$3","v":"3799-01-01"},{"$f":"P$4","v":"3798-01-01"},"Vorjahr","Vorjahr","Vorjahr","Vorvorjahr","Vorvorjahr","Vorvorjahr","Spalte"]
[{"$f":"O819","v":""},null,null,null,null,{"$f":"R819","v":""},null,{"$f":"O819","v":""},null,null,null,null,{"$f":"S819","v":""},null,{"$f":"'Stammdaten Mitarbeitende'!AA819","v":""},{"$f":"IF($A819=\"\",\"\",'Stammdaten Mitarbeitende'!L819)","v":""},{"$f":"IF(OR($A819=\"\",'Stammdaten Mitarbeitende'!J819=\"\"),\"\",'Stammdaten Mitarbeitende'!J819)","v":""},{"$f":"IF(OR($A819=\"\",C819=\"\",D819=\"\",E819=\"\"),\"\",MAX(C819-D819-E819,0))","v":""},{"$f":"IF(OR($H819=\"\",J819=\"\",K819=\"\",L819=\"\"),\"\",MAX(J819-K819-L819,0))","v":""},{"$f":"IF(OR(F819=\"\"),0,C819)","v":0},{"$f":"IF(OR(F819=\"\"),0,E819)","v":0},{"$f":"IF(OR(F819<=0,F819=\"\"),0,R819)","v":0},{"$f":"IF(OR(M819=\"\"),0,J819)","v":0},{"$f":"IF(OR(M819=\"\"),0,L819)","v":0},{"$f":"IF(OR(M819<=0,M819=\"\"),0,S819)","v":0},{"$f":"MAX(P819:Y819)","v":0}]
["",null,null,null,null,"",null,"",null,null,null,null,"",null,{"$f":"'Stammdaten Mitarbeitende'!AA820","v":""},{"$f":"IF($A820=\"\",\"\",'Stammdaten Mitarbeitende'!L820)","v":""},{"$f":"IF(OR($A820=\"\",'Stammdaten Mitarbeitende'!J820=\"\"),\"\",'Stammdaten Mitarbeitende'!J820)","v":""},"",{"$f":"IF(OR($H820=\"\",J820=\"\",K820=\"\",L820=\"\"),\"\",MAX(J820-K820-L820,0))","v":""},0,0,0,0,0,0,{"$f":"MAX(P820:Y820)","v":0}]
["",null,null,null,null,"",null,"",null,null,null,null,"",null,{"$f":"'Stammdaten Mitarbeitende'!AA821","v":""},{"$f":"IF($A821=\"\",\"\",'Stammdaten Mitarbeitende'!L821)","v":""},{"$f":"IF(OR($A821=\"\",'Stammdaten Mitarbeitende'!J821=\"\"),\"\",'Stammdaten Mitarbeitende'!J821)","v":""},"","",0,0,0,0,0,0,0]
["",null,null,null,null,"",null,"",null,null,null,null,"",null,{"$f":"'Stammdaten Mitarbeitende'!AA822","v":""},{"$f":"IF($A822=\"\",\"\",'Stammdaten Mitarbeitende'!L822)","v":""},{"$f":"IF(OR($A822=\"\",'Stammdaten Mitarbeitende'!J822=\"\"),\"\",'Stammdaten Mitarbeitende'!J822)","v":""},"","",0,0,0,0,0,0,0]
["",null,null,null,null,"",null,"",null,null,null,null,"",null,{"$f":"'Stammdaten Mitarbeitende'!AA823","v":""},{"$f":"IF($A823=\"\",\"\",'Stammdaten Mitarbeitende'!L823)","v":""},{"$f":"IF(OR($A823=\"\",'Stammdaten Mitarbeitende'!J823=\"\"),\"\",'Stammdaten Mitarbeitende'!J823)","v":""},"","",0,0,0,0,0,0,0]
["",null,null,null,null,"",null,"",null,null,null,null,"",null,{"$f":"'Stammdaten Mitarbeitende'!AA824","v":""},{"$f":"IF($A824=\"\",\"\",'Stammdaten Mitarbeitende'!L824)","v":""},{"$f":"IF(OR($A824=\"\",'Stammdaten Mitarbeitende'!J824=\"\"),\"\",'Stammdaten Mitarbeitende'!J824)","v":""},"","",0,0,0,0,0,0,0]
["",null,null,null,null,"",null,"",null,null,null,null,"",null,{"$f":"'Stammdaten Mitarbeitende'!AA825","v":""},{"$f":"IF($A825=\"\",\"\",'Stammdaten Mitarbeitende'!L825)","v":""},{"$f":"IF(OR($A825=\"\",'Stammdaten Mitarbeitende'!J825=\"\"),\"\",'Stammdaten Mitarbeitende'!J825)","v":""},"","",0,0,0,0,0,0,0]
["",null,null,null,null,"",null,"",null,null,null,null,"",null,{"$f":"'Stammdaten Mitarbeitende'!AA826","v":""},{"$f":"IF($A826=\"\",\"\",'Stammdaten Mitarbeitende'!L826)","v":""},{"$f":"IF(OR($A826=\"\",'Stammdaten Mitarbeitende'!J826=\"\"),\"\",'Stammdaten Mitarbeitende'!J826)","v":""},"","",0,0,0,0,0,0,0]
["",null,null,null,null,"",null,"",null,null,null,null,"",null,{"$f":"'Stammdaten Mitarbeitende'!AA827","v":""},{"$f":"IF($A827=\"\",\"\",'Stammdaten Mitarbeitende'!L827)","v":""},{"$f":"IF(OR($A827=\"\",'Stammdaten Mitarbeitende'!J827=\"\"),\"\",'Stammdaten Mitarbeitende'!J827)","v":""},"","",0,0,0,0,0,0,0]
["",null,null,null,null,"",null,"",null,null,null,null,"",null,{"$f":"'Stammdaten Mitarbeitende'!AA828","v":""},{"$f":"IF($A828=\"\",\"\",'Stammdaten Mitarbeitende'!L828)","v":""},{"$f":"IF(OR($A828=\"\",'Stammdaten Mitarbeitende'!J828=\"\"),\"\",'Stammdaten Mitarbeitende'!J828)","v":""},"","",0,0,0,0,0,0,0]
["",null,null,null,null,"",null,"",null,null,null,null,"",null,{"$f":"'Stammdaten Mitarbeitende'!AA829","v":""},{"$f":"IF($A829=\"\",\"\",'Stammdaten Mitarbeitende'!L829)","v":""},{"$f":"IF(OR($A829=\"\",'Stammdaten Mitarbeitende'!J829=\"\"),\"\",'Stammdaten Mitarbeitende'!J829)","v":""},"","",0,0,0,0,0,0,0]
["",null,null,null,null,"",null,"",null,null,null,null,"",null,{"$f":"'Stammdaten Mitarbeitende'!AA830","v":""},{"$f":"IF($A830=\"\",\"\",'Stammdaten Mitarbeitende'!L830)","v":""},{"$f":"IF(OR($A830=\"\",'Stammdaten Mitarbeitende'!J830=\"\"),\"\",'Stammdaten Mitarbeitende'!J830)","v":""},"","",0,0,0,0,0,0,0]
["",null,null,null,null,"",null,"",null,null,null,null,"",null,{"$f":"'Stammdaten Mitarbeitende'!AA831","v":""},{"$f":"IF($A831=\"\",\"\",'Stammdaten Mitarbeitende'!L831)","v":""},{"$f":"IF(OR($A831=\"\",'Stammdaten Mitarbeitende'!J831=\"\"),\"\",'Stammdaten Mitarbeitende'!J831)","v":""},"","",0,0,0,0,0,0,0]
["",null,null,null,null,"",null,"",null,null,null,null,"",null,{"$f":"'Stammdaten Mitarbeitende'!AA832","v":""},{"$f":"IF($A832=\"\",\"\",'Stammdaten Mitarbeitende'!L832)","v":""},{"$f":"IF(OR($A832=\"\",'Stammdaten Mitarbeitende'!J832=\"\"),\"\",'Stammdaten Mitarbeitende'!J832)","v":""},"","",0,0,0,0,0,0,0]
["",null,null,null,null,"",null,"",null,null,null,null,"",null,{"$f":"'Stammdaten Mitarbeitende'!AA833","v":""},{"$f":"IF($A833=\"\",\"\",'Stammdaten Mitarbeitende'!L833)","v":""},{"$f":"IF(OR($A833=\"\",'Stammdaten Mitarbeitende'!J833=\"\"),\"\",'Stammdaten Mitarbeitende'!J833)","v":""},"","",0,0,0,0,0,0,0]
["",null,null,null,null,"",null,"",null,null,null,null,"",null,{"$f":"'Stammdaten Mitarbeitende'!AA834","v":""},{"$f":"IF($A834=\"\",\"\",'Stammdaten Mitarbeitende'!L834)","v":""},{"$f":"IF(OR($A834=\"\",'Stammdaten Mitarbeitende'!J834=\"\"),\"\",'Stammdaten Mitarbeitende'!J834)","v":""},"","",0,0,0,0,0,0,0]
["",null,null,null,null,"",null,"",null,null,null,null,"",null,{"$f":"'Stammdaten Mitarbeitende'!AA835","v":""},{"$f":"IF($A835=\"\",\"\",'Stammdaten Mitarbeitende'!L835)","v":""},{"$f":"IF(OR($A835=\"\",'Stammdaten Mitarbeitende'!J835=\"\"),\"\",'Stammdaten Mitarbeitende'!J835)","v":""},"","",0,0,0,0,0,0,0]
["",null,null,null,null,"",null,"",null,null,null,null,"",null,{"$f":"'Stammdaten Mitarbeitende'!AA836","v":""},{"$f":"IF($A836=\"\",\"\",'Stammdaten Mitarbeitende'!L836)","v":""},{"$f":"IF(OR($A836=\"\",'Stammdaten Mitarbeitende'!J836=\"\"),\"\",'Stammdaten Mitarbeitende'!J836)","v":""},"","",0,0,0,0,0,0,0]
["",null,null,null,null,"",null,"",null,null,null,null,"",null,{"$f":"'Stammdaten Mitarbeitende'!AA837","v":""},{"$f":"IF($A837=\"\",\"\",'Stammdaten Mitarbeitende'!L837)","v":""},{"$f":"IF(OR($A837=\"\",'Stammdaten Mitarbeitende'!J837=\"\"),\"\",'Stammdaten Mitarbeitende'!J837)","v":""},"","",0,0,0,0,0,0,0]
["",null,null,null,null,"",null,"",null,null,null,null,"",null,{"$f":"'Stammdaten Mitarbeitende'!AA838","v":""},{"$f":"IF($A838=\"\",\"\",'Stammdaten Mitarbeitende'!L838)","v":""},{"$f":"IF(OR($A838=\"\",'Stammdaten Mitarbeitende'!J838=\"\"),\"\",'Stammdaten Mitarbeitende'!J838)","v":""},"","",0,0,0,0,0,0,0]
["",null,null,null,null,"",null,"",null,null,null,null,"",null,{"$f":"'Stammdaten Mitarbeitende'!AA839","v":""},{"$f":"IF($A839=\"\",\"\",'Stammdaten Mitarbeitende'!L839)","v":""},{"$f":"IF(OR($A839=\"\",'Stammdaten Mitarbeitende'!J839=\"\"),\"\",'Stammdaten Mitarbeitende'!J839)","v":""},"","",0,0,0,0,0,0,0]
[{"$f":"Übersetzungstexte!A$230","v":"Seitentotal"},null,{"$f":"SUM(C819:C839)","v":0},null,{"$f":"SUM(E819:E839)","v":0},{"$f":"SUM(F819:F839)","v":0},null,{"$f":"Übersetzungstexte!A$230","v":"Seitentotal"},null,{"$f":"SUM(J819:J839)","v":0},null,{"$f":"SUM(L819:L839)","v":0},{"$f":"SUM(M819:M839)","v":0}]
[{"$f":"'Stammdaten Betrieb & Abteilung'!D$1","v":"  "},null,null,null,null,null,null,{"$f":"Übersetzungstexte!A$190","v":"Betrieb / Betriebsabteilung"},{"$f":"'Stammdaten Betrieb & Abteilung'!D$13","v":" "}]
[{"$f":"'Stammdaten Betrieb & Abteilung'!D$3","v":" "},null,null,null,null,null,null,{"$f":"Übersetzungstexte!A$191","v":"PLZ/Ort"},{"$f":"'Stammdaten Betrieb & Abteilung'!D$4","v":" "}]
[]
[null,null,null,null,null,{"$f":"CONCATENATE(Übersetzungstexte!A$192,\" \",TEXT(MONTH(P$3),\"00\"),\".\",YEAR(P$3))","v":"Zeitgleiche Periode des Vorjahres: 01.3799"},null,null,null,null,null,null,{"$f":"CONCATENATE(Übersetzungstexte!A$211,\" \",TEXT(MONTH(P$4),\"00\"),\".\",YEAR(P$4))","v":"Zeitgleiche Periode des vorletzten Jahres: 01.3798"}]
[1,2,3,4,5,6,null,1,2,3,4,5,6,null,null,null,null,"Regel 4","Regel 5","Sollstd.","Absenzen",null,"Sollstd.","Absenzen"]
[{"$f":"Übersetzungstexte!A$193","v":""},{"$f":"Übersetzungstexte!A$196","v":"vertragliche"},{"$f":"Übersetzungstexte!A$199","v":"Sollstd. zeitgl."},{"$f":"Übersetzungstexte!A$202","v":"Istzeit"},{"$f":"Übersetzungstexte!A$205","v":"Bezahlte/"},{"$f":"Übersetzungstexte!A$208","v":"Ausfallstunden"},null,{"$f":"Übersetzungstexte!A$212","v":""},{"$f":"Übersetzungstexte!A$215","v":"vertragliche"},{"$f":"Übersetzungstexte!A$218","v":"Sollstd. zeitgl."},{"$f":"Übersetzungstexte!A$221","v":"Istzeit"},{"$f":"Übersetzungstexte!A$224","v":"Bezahlte/"},{"$f":"Übersetzungstexte!A$227","v":"Ausfallstunden"},null,null,"anrechen-","vertragl.","Ausfall-","Ausfall-","betroffene","betroffene","Ausfall-","betroffene","betroffene","Ausfall-"]
[{"$f":"Übersetzungstexte!A$194","v":""},{"$f":"Übersetzungstexte!A$197","v":"wöchentliche"},{"$f":"Übersetzungstexte!A$200","v":"Periode inkl."},{"$f":"Übersetzungstexte!A$203","v":""},{"$f":"Übersetzungstexte!A$206","v":"Unbezahlte"},{"$f":"Übersetzungstexte!A$209","v":""},null,{"$f":"Übersetzungstexte!A$213","v":""},{"$f":"Übersetzungstexte!A$216","v":"wöchentliche"},{"$f":"Übersetzungstexte!A$219","v":"Periode inkl."},{"$f":"Übersetzungstexte!A$222","v":""},{"$f":"Übersetzungstexte!A$225","v":"Unbezahlte"},{"$f":"Übersetzungstexte!A$228","v":""},null,null,"barer Std.-","wöchentl.","stunden","stunden","Mitarbeiter","Mitarbeiter","stunden","Mitarbeiter","Mitarbeiter","stunden","Max. der"]
[{"$f":"Übersetzungstexte!A$195","v":"Name,Vorname"},{"$f":"Übersetzungstexte!A$198","v":"Arbeitszeit"},{"$f":"Übersetzungstexte!A$201","v":"Vorholzeit"},{"$f":"Übersetzungstexte!A$204","v":""},{"$f":"Übersetzungstexte!A$207","v":"Absenzen"},{"$f":"Übersetzungstexte!A$210","v":""},null,{"$f":"Übersetzungstexte!A$214","v":"Name,Vorname"},{"$f":"Übersetzungstexte!A$217","v":"Arbeitszeit"},{"$f":"Übersetzungstexte!A$220","v":"Vorholzeit"},{"$f":"Übersetzungstexte!A$223","v":""},{"$f":"Übersetzungstexte!A$226","v":"Absenzen"},{"$f":"Übersetzungstexte!A$229","v":""},null,"Name,Vorname","Verdienst","Arbeitszeit",{"$f":"P$3","v":"3799-01-01"},{"$f":"P$4","v":"3798-01-01"},"Vorjahr","Vorjahr","Vorjahr","Vorvorjahr","Vorvorjahr","Vorvorjahr","Spalte"]
[{"$f":"O849","v":""},null,null,null,null,{"$f":"R849","v":""},null,{"$f":"O849","v":""},null,null,null,null,{"$f":"S849","v":""},null,{"$f":"'Stammdaten Mitarbeitende'!AA849","v":""},{"$f":"IF($A849=\"\",\"\",'Stammdaten Mitarbeitende'!L849)","v":""},{"$f":"IF(OR($A849=\"\",'Stammdaten Mitarbeitende'!J849=\"\"),\"\",'Stammdaten Mitarbeitende'!J849)","v":""},{"$f":"IF(OR($A849=\"\",C849=\"\",D849=\"\",E849=\"\"),\"\",MAX(C849-D849-E849,0))","v":""},{"$f":"IF(OR($H849=\"\",J849=\"\",K849=\"\",L849=\"\"),\"\",MAX(J849-K849-L849,0))","v":""},{"$f":"IF(OR(F849=\"\"),0,C849)","v":0},{"$f":"IF(OR(F849=\"\"),0,E849)","v":0},{"$f":"IF(OR(F849<=0,F849=\"\"),0,R849)","v":0},{"$f":"IF(OR(M849=\"\"),0,J849)","v":0},{"$f":"IF(OR(M849=\"\"),0,L849)","v":0},{"$f":"IF(OR(M849<=0,M849=\"\"),0,S849)","v":0},{"$f":"MAX(P849:Y849)","v":0}]
["",null,null,null,null,"",null,"",null,null,null,null,"",null,{"$f":"'Stammdaten Mitarbeitende'!AA850","v":""},{"$f":"IF($A850=\"\",\"\",'Stammdaten Mitarbeitende'!L850)","v":""},{"$f":"IF(OR($A850=\"\",'Stammdaten Mitarbeitende'!J850=\"\"),\"\",'Stammdaten Mitarbeitende'!J850)","v":""},"",{"$f":"IF(OR($H850=\"\",J850=\"\",K850=\"\",L850=\"\"),\"\",MAX(J850-K850-L850,0))","v":""},0,0,0,0,0,0,{"$f":"MAX(P850:Y850)","v":0}]
["",null,null,null,null,"",null,"",null,null,null,null,"",null,{"$f":"'Stammdaten Mitarbeitende'!AA851","v":""},{"$f":"IF($A851=\"\",\"\",'Stammdaten Mitarbeitende'!L851)","v":""},{"$f":"IF(OR($A851=\"\",'Stammdaten Mitarbeitende'!J851=\"\"),\"\",'Stammdaten Mitarbeitende'!J851)","v":""},"","",0,0,0,0,0,0,0]
["",null,null,null,null,"",null,"",null,null,null,null,"",null,{"$f":"'Stammdaten Mitarbeitende'!AA852","v":""},{"$f":"IF($A852=\"\",\"\",'Stammdaten Mitarbeitende'!L852)","v":""},{"$f":"IF(OR($A852=\"\",'Stammdaten Mitarbeitende'!J852=\"\"),\"\",'Stammdaten Mitarbeitende'!J852)","v":""},"","",0,0,0,0,0,0,0]
["",null,null,null,null,"",null,"",null,null,null,null,"",null,{"$f":"'Stammdaten Mitarbeitende'!AA853","v":""},{"$f":"IF($A853=\"\",\"\",'Stammdaten Mitarbeitende'!L853)","v":""},{"$f":"IF(OR($A853=\"\",'Stammdaten Mitarbeitende'!J853=\"\"),\"\",'Stammdaten Mitarbeitende'!J853)","v":""},"","",0,0,0,0,0,0,0]
["",null,null,null,null,"",null,"",null,null,null,null,"",null,{"$f":"'Stammdaten Mitarbeitende'!AA854","v":""},{"$f":"IF($A854=\"\",\"\",'Stammdaten Mitarbeitende'!L854)","v":""},{"$f":"IF(OR($A854=\"\",'Stammdaten Mitarbeitende'!J854=\"\"),\"\",'Stammdaten Mitarbeitende'!J854)","v":""},"","",0,0,0,0,0,0,0]
["",null,null,null,null,"",null,"",null,null,null,null,"",null,{"$f":"'Stammdaten Mitarbeitende'!AA855","v":""},{"$f":"IF($A855=\"\",\"\",'Stammdaten Mitarbeitende'!L855)","v":""},{"$f":"IF(OR($A855=\"\",'Stammdaten Mitarbeitende'!J855=\"\"),\"\",'Stammdaten Mitarbeitende'!J855)","v":""},"","",0,0,0,0,0,0,0]
["",null,null,null,null,"",null,"",null,null,null,null,"",null,{"$f":"'Stammdaten Mitarbeitende'!AA856","v":""},{"$f":"IF($A856=\"\",\"\",'Stammdaten Mitarbeitende'!L856)","v":""},{"$f":"IF(OR($A856=\"\",'Stammdaten Mitarbeitende'!J856=\"\"),\"\",'Stammdaten Mitarbeitende'!J856)","v":""},"","",0,0,0,0,0,0,0]
["",null,null,null,null,"",null,"",null,null,null,null,"",null,{"$f":"'Stammdaten Mitarbeitende'!AA857","v":""},{"$f":"IF($A857=\"\",\"\",'Stammdaten Mitarbeitende'!L857)","v":""},{"$f":"IF(OR($A857=\"\",'Stammdaten Mitarbeitende'!J857=\"\"),\"\",'Stammdaten Mitarbeitende'!J857)","v":""},"","",0,0,0,0,0,0,0]
["",null,null,null,null,"",null,"",null,null,null,null,"",null,{"$f":"'Stammdaten Mitarbeitende'!AA858","v":""},{"$f":"IF($A858=\"\",\"\",'Stammdaten Mitarbeitende'!L858)","v":""},{"$f":"IF(OR($A858=\"\",'Stammdaten Mitarbeitende'!J858=\"\"),\"\",'Stammdaten Mitarbeitende'!J858)","v":""},"","",0,0,0,0,0,0,0]
["",null,null,null,null,"",null,"",null,null,null,null,"",null,{"$f":"'Stammdaten Mitarbeitende'!AA859","v":""},{"$f":"IF($A859=\"\",\"\",'Stammdaten Mitarbeitende'!L859)","v":""},{"$f":"IF(OR($A859=\"\",'Stammdaten Mitarbeitende'!J859=\"\"),\"\",'Stammdaten Mitarbeitende'!J859)","v":""},"","",0,0,0,0,0,0,0]
["",null,null,null,null,"",null,"",null,null,null,null,"",null,{"$f":"'Stammdaten Mitarbeitende'!AA860","v":""},{"$f":"IF($A860=\"\",\"\",'Stammdaten Mitarbeitende'!L860)","v":""},{"$f":"IF(OR($A860=\"\",'Stammdaten Mitarbeitende'!J860=\"\"),\"\",'Stammdaten Mitarbeitende'!J860)","v":""},"","",0,0,0,0,0,0,0]
["",null,null,null,null,"",null,"",null,null,null,null,"",null,{"$f":"'Stammdaten Mitarbeitende'!AA861","v":""},{"$f":"IF($A861=\"\",\"\",'Stammdaten Mitarbeitende'!L861)","v":""},{"$f":"IF(OR($A861=\"\",'Stammdaten Mitarbeitende'!J861=\"\"),\"\",'Stammdaten Mitarbeitende'!J861)","v":""},"","",0,0,0,0,0,0,0]
["",null,null,null,null,"",null,"",null,null,null,null,"",null,{"$f":"'Stammdaten Mitarbeitende'!AA862","v":""},{"$f":"IF($A862=\"\",\"\",'Stammdaten Mitarbeitende'!L862)","v":""},{"$f":"IF(OR($A862=\"\",'Stammdaten Mitarbeitende'!J862=\"\"),\"\",'Stammdaten Mitarbeitende'!J862)","v":""},"","",0,0,0,0,0,0,0]
["",null,null,null,null,"",null,"",null,null,null,null,"",null,{"$f":"'Stammdaten Mitarbeitende'!AA863","v":""},{"$f":"IF($A863=\"\",\"\",'Stammdaten Mitarbeitende'!L863)","v":""},{"$f":"IF(OR($A863=\"\",'Stammdaten Mitarbeitende'!J863=\"\"),\"\",'Stammdaten Mitarbeitende'!J863)","v":""},"","",0,0,0,0,0,0,0]
["",null,null,null,null,"",null,"",null,null,null,null,"",null,{"$f":"'Stammdaten Mitarbeitende'!AA864","v":""},{"$f":"IF($A864=\"\",\"\",'Stammdaten Mitarbeitende'!L864)","v":""},{"$f":"IF(OR($A864=\"\",'Stammdaten Mitarbeitende'!J864=\"\"),\"\",'Stammdaten Mitarbeitende'!J864)","v":""},"","",0,0,0,0,0,0,0]
["",null,null,null,null,"",null,"",null,null,null,null,"",null,{"$f":"'Stammdaten Mitarbeitende'!AA865","v":""},{"$f":"IF($A865=\"\",\"\",'Stammdaten Mitarbeitende'!L865)","v":""},{"$f":"IF(OR($A865=\"\",'Stammdaten Mitarbeitende'!J865=\"\"),\"\",'Stammdaten Mitarbeitende'!J865)","v":""},"","",0,0,0,0,0,0,0]
["",null,null,null,null,"",null,"",null,null,null,null,"",null,{"$f":"'Stammdaten Mitarbeitende'!AA866","v":""},{"$f":"IF($A866=\"\",\"\",'Stammdaten Mitarbeitende'!L866)","v":""},{"$f":"IF(OR($A866=\"\",'Stammdaten Mitarbeitende'!J866=\"\"),\"\",'Stammdaten Mitarbeitende'!J866)","v":""},"","",0,0,0,0,0,0,0]
["",null,null,null,null,"",null,"",null,null,null,null,"",null,{"$f":"'Stammdaten Mitarbeitende'!AA867","v":""},{"$f":"IF($A867=\"\",\"\",'Stammdaten Mitarbeitende'!L867)","v":""},{"$f":"IF(OR($A867=\"\",'Stammdaten Mitarbeitende'!J867=\"\"),\"\",'Stammdaten Mitarbeitende'!J867)","v":""},"","",0,0,0,0,0,0,0]
["",null,null,null,null,"",null,"",null,null,null,null,"",null,{"$f":"'Stammdaten Mitarbeitende'!AA868","v":""},{"$f":"IF($A868=\"\",\"\",'Stammdaten Mitarbeitende'!L868)","v":""},{"$f":"IF(OR($A868=\"\",'Stammdaten Mitarbeitende'!J868=\"\"),\"\",'Stammdaten Mitarbeitende'!J868)","v":""},"","",0,0,0,0,0,0,0]
["",null,null,null,null,"",null,"",null,null,null,null,"",null,{"$f":"'Stammdaten Mitarbeitende'!AA869","v":""},{"$f":"IF($A869=\"\",\"\",'Stammdaten Mitarbeitende'!L869)","v":""},{"$f":"IF(OR($A869=\"\",'Stammdaten Mitarbeitende'!J869=\"\"),\"\",'Stammdaten Mitarbeitende'!J869)","v":""},"","",0,0,0,0,0,0,0]
[{"$f":"Übersetzungstexte!A$230","v":"Seitentotal"},null,{"$f":"SUM(C849:C869)","v":0},null,{"$f":"SUM(E849:E869)","v":0},{"$f":"SUM(F849:F869)","v":0},null,{"$f":"Übersetzungstexte!A$230","v":"Seitentotal"},null,{"$f":"SUM(J849:J869)","v":0},null,{"$f":"SUM(L849:L869)","v":0},{"$f":"SUM(M849:M869)","v":0}]
[{"$f":"'Stammdaten Betrieb & Abteilung'!D$1","v":"  "},null,null,null,null,null,null,{"$f":"Übersetzungstexte!A$190","v":"Betrieb / Betriebsabteilung"},{"$f":"'Stammdaten Betrieb & Abteilung'!D$13","v":" "}]
[{"$f":"'Stammdaten Betrieb & Abteilung'!D$3","v":" "},null,null,null,null,null,null,{"$f":"Übersetzungstexte!A$191","v":"PLZ/Ort"},{"$f":"'Stammdaten Betrieb & Abteilung'!D$4","v":" "}]
[]
[null,null,null,null,null,{"$f":"CONCATENATE(Übersetzungstexte!A$192,\" \",TEXT(MONTH(P$3),\"00\"),\".\",YEAR(P$3))","v":"Zeitgleiche Periode des Vorjahres: 01.3799"},null,null,null,null,null,null,{"$f":"CONCATENATE(Übersetzungstexte!A$211,\" \",TEXT(MONTH(P$4),\"00\"),\".\",YEAR(P$4))","v":"Zeitgleiche Periode des vorletzten Jahres: 01.3798"}]
[1,2,3,4,5,6,null,1,2,3,4,5,6,null,null,null,null,"Regel 4","Regel 5","Sollstd.","Absenzen",null,"Sollstd.","Absenzen"]
[{"$f":"Übersetzungstexte!A$193","v":""},{"$f":"Übersetzungstexte!A$196","v":"vertragliche"},{"$f":"Übersetzungstexte!A$199","v":"Sollstd. zeitgl."},{"$f":"Übersetzungstexte!A$202","v":"Istzeit"},{"$f":"Übersetzungstexte!A$205","v":"Bezahlte/"},{"$f":"Übersetzungstexte!A$208","v":"Ausfallstunden"},null,{"$f":"Übersetzungstexte!A$212","v":""},{"$f":"Übersetzungstexte!A$215","v":"vertragliche"},{"$f":"Übersetzungstexte!A$218","v":"Sollstd. zeitgl."},{"$f":"Übersetzungstexte!A$221","v":"Istzeit"},{"$f":"Übersetzungstexte!A$224","v":"Bezahlte/"},{"$f":"Übersetzungstexte!A$227","v":"Ausfallstunden"},null,null,"anrechen-","vertragl.","Ausfall-","Ausfall-","betroffene","betroffene","Ausfall-","betroffene","betroffene","Ausfall-"]
[{"$f":"Übersetzungstexte!A$194","v":""},{"$f":"Übersetzungstexte!A$197","v":"wöchentliche"},{"$f":"Übersetzungstexte!A$200","v":"Periode inkl."},{"$f":"Übersetzungstexte!A$203","v":""},{"$f":"Übersetzungstexte!A$206","v":"Unbezahlte"},{"$f":"Übersetzungstexte!A$209","v":""},null,{"$f":"Übersetzungstexte!A$213","v":""},{"$f":"Übersetzungstexte!A$216","v":"wöchentliche"},{"$f":"Übersetzungstexte!A$219","v":"Periode inkl."},{"$f":"Übersetzungstexte!A$222","v":""},{"$f":"Übersetzungstexte!A$225","v":"Unbezahlte"},{"$f":"Übersetzungstexte!A$228","v":""},null,null,"barer Std.-","wöchentl.","stunden","stunden","Mitarbeiter","Mitarbeiter","stunden","Mitarbeiter","Mitarbeiter","stunden","Max. der"]
[{"$f":"Übersetzungstexte!A$195","v":"Name,Vorname"},{"$f":"Übersetzungstexte!A$198","v":"Arbeitszeit"},{"$f":"Übersetzungstexte!A$201","v":"Vorholzeit"},{"$f":"Übersetzungstexte!A$204","v":""},{"$f":"Übersetzungstexte!A$207","v":"Absenzen"},{"$f":"Übersetzungstexte!A$210","v":""},null,{"$f":"Übersetzungstexte!A$214","v":"Name,Vorname"},{"$f":"Übersetzungstexte!A$217","v":"Arbeitszeit"},{"$f":"Übersetzungstexte!A$220","v":"Vorholzeit"},{"$f":"Übersetzungstexte!A$223","v":""},{"$f":"Übersetzungstexte!A$226","v":"Absenzen"},{"$f":"Übersetzungstexte!A$229","v":""},null,"Name,Vorname","Verdienst","Arbeitszeit",{"$f":"P$3","v":"3799-01-01"},{"$f":"P$4","v":"3798-01-01"},"Vorjahr","Vorjahr","Vorjahr","Vorvorjahr","Vorvorjahr","Vorvorjahr","Spalte"]
[{"$f":"O879","v":""},null,null,null,null,{"$f":"R879","v":""},null,{"$f":"O879","v":""},null,null,null,null,{"$f":"S879","v":""},null,{"$f":"'Stammdaten Mitarbeitende'!AA879","v":""},{"$f":"IF($A879=\"\",\"\",'Stammdaten Mitarbeitende'!L879)","v":""},{"$f":"IF(OR($A879=\"\",'Stammdaten Mitarbeitende'!J879=\"\"),\"\",'Stammdaten Mitarbeitende'!J879)","v":""},{"$f":"IF(OR($A879=\"\",C879=\"\",D879=\"\",E879=\"\"),\"\",MAX(C879-D879-E879,0))","v":""},{"$f":"IF(OR($H879=\"\",J879=\"\",K879=\"\",L879=\"\"),\"\",MAX(J879-K879-L879,0))","v":""},{"$f":"IF(OR(F879=\"\"),0,C879)","v":0},{"$f":"IF(OR(F879=\"\"),0,E879)","v":0},{"$f":"IF(OR(F879<=0,F879=\"\"),0,R879)","v":0},{"$f":"IF(OR(M879=\"\"),0,J879)","v":0},{"$f":"IF(OR(M879=\"\"),0,L879)","v":0},{"$f":"IF(OR(M879<=0,M879=\"\"),0,S879)","v":0},{"$f":"MAX(P879:Y879)","v":0}]
["",null,null,null,null,"",null,"",null,null,null,null,"",null,{"$f":"'Stammdaten Mitarbeitende'!AA880","v":""},{"$f":"IF($A880=\"\",\"\",'Stammdaten Mitarbeitende'!L880)","v":""},{"$f":"IF(OR($A880=\"\",'Stammdaten Mitarbeitende'!J880=\"\"),\"\",'Stammdaten Mitarbeitende'!J880)","v":""},"",{"$f":"IF(OR($H880=\"\",J880=\"\",K880=\"\",L880=\"\"),\"\",MAX(J880-K880-L880,0))","v":""},0,0,0,0,0,0,{"$f":"MAX(P880:Y880)","v":0}]
["",null,null,null,null,"",null,"",null,null,null,null,"",null,{"$f":"'Stammdaten Mitarbeitende'!AA881","v":""},{"$f":"IF($A881=\"\",\"\",'Stammdaten Mitarbeitende'!L881)","v":""},{"$f":"IF(OR($A881=\"\",'Stammdaten Mitarbeitende'!J881=\"\"),\"\",'Stammdaten Mitarbeitende'!J881)","v":""},"","",0,0,0,0,0,0,0]
["",null,null,null,null,"",null,"",null,null,null,null,"",null,{"$f":"'Stammdaten Mitarbeitende'!AA882","v":""},{"$f":"IF($A882=\"\",\"\",'Stammdaten Mitarbeitende'!L882)","v":""},{"$f":"IF(OR($A882=\"\",'Stammdaten Mitarbeitende'!J882=\"\"),\"\",'Stammdaten Mitarbeitende'!J882)","v":""},"","",0,0,0,0,0,0,0]
["",null,null,null,null,"",null,"",null,null,null,null,"",null,{"$f":"'Stammdaten Mitarbeitende'!AA883","v":""},{"$f":"IF($A883=\"\",\"\",'Stammdaten Mitarbeitende'!L883)","v":""},{"$f":"IF(OR($A883=\"\",'Stammdaten Mitarbeitende'!J883=\"\"),\"\",'Stammdaten Mitarbeitende'!J883)","v":""},"","",0,0,0,0,0,0,0]
["",null,null,null,null,"",null,"",null,null,null,null,"",null,{"$f":"'Stammdaten Mitarbeitende'!AA884","v":""},{"$f":"IF($A884=\"\",\"\",'Stammdaten Mitarbeitende'!L884)","v":""},{"$f":"IF(OR($A884=\"\",'Stammdaten Mitarbeitende'!J884=\"\"),\"\",'Stammdaten Mitarbeitende'!J884)","v":""},"","",0,0,0,0,0,0,0]
["",null,null,null,null,"",null,"",null,null,null,null,"",null,{"$f":"'Stammdaten Mitarbeitende'!AA885","v":""},{"$f":"IF($A885=\"\",\"\",'Stammdaten Mitarbeitende'!L885)","v":""},{"$f":"IF(OR($A885=\"\",'Stammdaten Mitarbeitende'!J885=\"\"),\"\",'Stammdaten Mitarbeitende'!J885)","v":""},"","",0,0,0,0,0,0,0]
["",null,null,null,null,"",null,"",null,null,null,null,"",null,{"$f":"'Stammdaten Mitarbeitende'!AA886","v":""},{"$f":"IF($A886=\"\",\"\",'Stammdaten Mitarbeitende'!L886)","v":""},{"$f":"IF(OR($A886=\"\",'Stammdaten Mitarbeitende'!J886=\"\"),\"\",'Stammdaten Mitarbeitende'!J886)","v":""},"","",0,0,0,0,0,0,0]
["",null,null,null,null,"",null,"",null,null,null,null,"",null,{"$f":"'Stammdaten Mitarbeitende'!AA887","v":""},{"$f":"IF($A887=\"\",\"\",'Stammdaten Mitarbeitende'!L887)","v":""},{"$f":"IF(OR($A887=\"\",'Stammdaten Mitarbeitende'!J887=\"\"),\"\",'Stammdaten Mitarbeitende'!J887)","v":""},"","",0,0,0,0,0,0,0]
["",null,null,null,null,"",null,"",null,null,null,null,"",null,{"$f":"'Stammdaten Mitarbeitende'!AA888","v":""},{"$f":"IF($A888=\"\",\"\",'Stammdaten Mitarbeitende'!L888)","v":""},{"$f":"IF(OR($A888=\"\",'Stammdaten Mitarbeitende'!J888=\"\"),\"\",'Stammdaten Mitarbeitende'!J888)","v":""},"","",0,0,0,0,0,0,0]
["",null,null,null,null,"",null,"",null,null,null,null,"",null,{"$f":"'Stammdaten Mitarbeitende'!AA889","v":""},{"$f":"IF($A889=\"\",\"\",'Stammdaten Mitarbeitende'!L889)","v":""},{"$f":"IF(OR($A889=\"\",'Stammdaten Mitarbeitende'!J889=\"\"),\"\",'Stammdaten Mitarbeitende'!J889)","v":""},"","",0,0,0,0,0,0,0]
["",null,null,null,null,"",null,"",null,null,null,null,"",null,{"$f":"'Stammdaten Mitarbeitende'!AA890","v":""},{"$f":"IF($A890=\"\",\"\",'Stammdaten Mitarbeitende'!L890)","v":""},{"$f":"IF(OR($A890=\"\",'Stammdaten Mitarbeitende'!J890=\"\"),\"\",'Stammdaten Mitarbeitende'!J890)","v":""},"","",0,0,0,0,0,0,0]
["",null,null,null,null,"",null,"",null,null,null,null,"",null,{"$f":"'Stammdaten Mitarbeitende'!AA891","v":""},{"$f":"IF($A891=\"\",\"\",'Stammdaten Mitarbeitende'!L891)","v":""},{"$f":"IF(OR($A891=\"\",'Stammdaten Mitarbeitende'!J891=\"\"),\"\",'Stammdaten Mitarbeitende'!J891)","v":""},"","",0,0,0,0,0,0,0]
["",null,null,null,null,"",null,"",null,null,null,null,"",null,{"$f":"'Stammdaten Mitarbeitende'!AA892","v":""},{"$f":"IF($A892=\"\",\"\",'Stammdaten Mitarbeitende'!L892)","v":""},{"$f":"IF(OR($A892=\"\",'Stammdaten Mitarbeitende'!J892=\"\"),\"\",'Stammdaten Mitarbeitende'!J892)","v":""},"","",0,0,0,0,0,0,0]
["",null,null,null,null,"",null,"",null,null,null,null,"",null,{"$f":"'Stammdaten Mitarbeitende'!AA893","v":""},{"$f":"IF($A893=\"\",\"\",'Stammdaten Mitarbeitende'!L893)","v":""},{"$f":"IF(OR($A893=\"\",'Stammdaten Mitarbeitende'!J893=\"\"),\"\",'Stammdaten Mitarbeitende'!J893)","v":""},"","",0,0,0,0,0,0,0]
["",null,null,null,null,"",null,"",null,null,null,null,"",null,{"$f":"'Stammdaten Mitarbeitende'!AA894","v":""},{"$f":"IF($A894=\"\",\"\",'Stammdaten Mitarbeitende'!L894)","v":""},{"$f":"IF(OR($A894=\"\",'Stammdaten Mitarbeitende'!J894=\"\"),\"\",'Stammdaten Mitarbeitende'!J894)","v":""},"","",0,0,0,0,0,0,0]
["",null,null,null,null,"",null,"",null,null,null,null,"",null,{"$f":"'Stammdaten Mitarbeitende'!AA895","v":""},{"$f":"IF($A895=\"\",\"\",'Stammdaten Mitarbeitende'!L895)","v":""},{"$f":"IF(OR($A895=\"\",'Stammdaten Mitarbeitende'!J895=\"\"),\"\",'Stammdaten Mitarbeitende'!J895)","v":""},"","",0,0,0,0,0,0,0]
["",null,null,null,null,"",null,"",null,null,null,null,"",null,{"$f":"'Stammdaten Mitarbeitende'!AA896","v":""},{"$f":"IF($A896=\"\",\"\",'Stammdaten Mitarbeitende'!L896)","v":""},{"$f":"IF(OR($A896=\"\",'Stammdaten Mitarbeitende'!J896=\"\"),\"\",'Stammdaten Mitarbeitende'!J896)","v":""},"","",0,0,0,0,0,0,0]
["",null,null,null,null,"",null,"",null,null,null,null,"",null,{"$f":"'Stammdaten Mitarbeitende'!AA897","v":""},{"$f":"IF($A897=\"\",\"\",'Stammdaten Mitarbeitende'!L897)","v":""},{"$f":"IF(OR($A897=\"\",'Stammdaten Mitarbeitende'!J897=\"\"),\"\",'Stammdaten Mitarbeitende'!J897)","v":""},"","",0,0,0,0,0,0,0]
["",null,null,null,null,"",null,"",null,null,null,null,"",null,{"$f":"'Stammdaten Mitarbeitende'!AA898","v":""},{"$f":"IF($A898=\"\",\"\",'Stammdaten Mitarbeitende'!L898)","v":""},{"$f":"IF(OR($A898=\"\",'Stammdaten Mitarbeitende'!J898=\"\"),\"\",'Stammdaten Mitarbeitende'!J898)","v":""},"","",0,0,0,0,0,0,0]
["",null,null,null,null,"",null,"",null,null,null,null,"",null,{"$f":"'Stammdaten Mitarbeitende'!AA899","v":""},{"$f":"IF($A899=\"\",\"\",'Stammdaten Mitarbeitende'!L899)","v":""},{"$f":"IF(OR($A899=\"\",'Stammdaten Mitarbeitende'!J899=\"\"),\"\",'Stammdaten Mitarbeitende'!J899)","v":""},"","",0,0,0,0,0,0,0]
[{"$f":"Übersetzungstexte!A$230","v":"Seitentotal"},null,{"$f":"SUM(C879:C899)","v":0},null,{"$f":"SUM(E879:E899)","v":0},{"$f":"SUM(F879:F899)","v":0},null,{"$f":"Übersetzungstexte!A$230","v":"Seitentotal"},null,{"$f":"SUM(J879:J899)","v":0},null,{"$f":"SUM(L879:L899)","v":0},{"$f":"SUM(M879:M899)","v":0}]
[{"$f":"'Stammdaten Betrieb & Abteilung'!D$1","v":"  "},null,null,null,null,null,null,{"$f":"Übersetzungstexte!A$190","v":"Betrieb / Betriebsabteilung"},{"$f":"'Stammdaten Betrieb & Abteilung'!D$13","v":" "}]
[{"$f":"'Stammdaten Betrieb & Abteilung'!D$3","v":" "},null,null,null,null,null,null,{"$f":"Übersetzungstexte!A$191","v":"PLZ/Ort"},{"$f":"'Stammdaten Betrieb & Abteilung'!D$4","v":" "}]
[]
[null,null,null,null,null,{"$f":"CONCATENATE(Übersetzungstexte!A$192,\" \",TEXT(MONTH(P$3),\"00\"),\".\",YEAR(P$3))","v":"Zeitgleiche Periode des Vorjahres: 01.3799"},null,null,null,null,null,null,{"$f":"CONCATENATE(Übersetzungstexte!A$211,\" \",TEXT(MONTH(P$4),\"00\"),\".\",YEAR(P$4))","v":"Zeitgleiche Periode des vorletzten Jahres: 01.3798"}]
[1,2,3,4,5,6,null,1,2,3,4,5,6,null,null,null,null,"Regel 4","Regel 5","Sollstd.","Absenzen",null,"Sollstd.","Absenzen"]
[{"$f":"Übersetzungstexte!A$193","v":""},{"$f":"Übersetzungstexte!A$196","v":"vertragliche"},{"$f":"Übersetzungstexte!A$199","v":"Sollstd. zeitgl."},{"$f":"Übersetzungstexte!A$202","v":"Istzeit"},{"$f":"Übersetzungstexte!A$205","v":"Bezahlte/"},{"$f":"Übersetzungstexte!A$208","v":"Ausfallstunden"},null,{"$f":"Übersetzungstexte!A$212","v":""},{"$f":"Übersetzungstexte!A$215","v":"vertragliche"},{"$f":"Übersetzungstexte!A$218","v":"Sollstd. zeitgl."},{"$f":"Übersetzungstexte!A$221","v":"Istzeit"},{"$f":"Übersetzungstexte!A$224","v":"Bezahlte/"},{"$f":"Übersetzungstexte!A$227","v":"Ausfallstunden"},null,null,"anrechen-","vertragl.","Ausfall-","Ausfall-","betroffene","betroffene","Ausfall-","betroffene","betroffene","Ausfall-"]
[{"$f":"Übersetzungstexte!A$194","v":""},{"$f":"Übersetzungstexte!A$197","v":"wöchentliche"},{"$f":"Übersetzungstexte!A$200","v":"Periode inkl."},{"$f":"Übersetzungstexte!A$203","v":""},{"$f":"Übersetzungstexte!A$206","v":"Unbezahlte"},{"$f":"Übersetzungstexte!A$209","v":""},null,{"$f":"Übersetzungstexte!A$213","v":""},{"$f":"Übersetzungstexte!A$216","v":"wöchentliche"},{"$f":"Übersetzungstexte!A$219","v":"Periode inkl."},{"$f":"Übersetzungstexte!A$222","v":""},{"$f":"Übersetzungstexte!A$225","v":"Unbezahlte"},{"$f":"Übersetzungstexte!A$228","v":""},null,null,"barer Std.-","wöchentl.","stunden","stunden","Mitarbeiter","Mitarbeiter","stunden","Mitarbeiter","Mitarbeiter","stunden","Max. der"]
[{"$f":"Übersetzungstexte!A$195","v":"Name,Vorname"},{"$f":"Übersetzungstexte!A$198","v":"Arbeitszeit"},{"$f":"Übersetzungstexte!A$201","v":"Vorholzeit"},{"$f":"Übersetzungstexte!A$204","v":""},{"$f":"Übersetzungstexte!A$207","v":"Absenzen"},{"$f":"Übersetzungstexte!A$210","v":""},null,{"$f":"Übersetzungstexte!A$214","v":"Name,Vorname"},{"$f":"Übersetzungstexte!A$217","v":"Arbeitszeit"},{"$f":"Übersetzungstexte!A$220","v":"Vorholzeit"},{"$f":"Übersetzungstexte!A$223","v":""},{"$f":"Übersetzungstexte!A$226","v":"Absenzen"},{"$f":"Übersetzungstexte!A$229","v":""},null,"Name,Vorname","Verdienst","Arbeitszeit",{"$f":"P$3","v":"3799-01-01"},{"$f":"P$4","v":"3798-01-01"},"Vorjahr","Vorjahr","Vorjahr","Vorvorjahr","Vorvorjahr","Vorvorjahr","Spalte"]
[{"$f":"O909","v":""},null,null,null,null,{"$f":"R909","v":""},null,{"$f":"O909","v":""},null,null,null,null,{"$f":"S909","v":""},null,{"$f":"'Stammdaten Mitarbeitende'!AA909","v":""},{"$f":"IF($A909=\"\",\"\",'Stammdaten Mitarbeitende'!L909)","v":""},{"$f":"IF(OR($A909=\"\",'Stammdaten Mitarbeitende'!J909=\"\"),\"\",'Stammdaten Mitarbeitende'!J909)","v":""},{"$f":"IF(OR($A909=\"\",C909=\"\",D909=\"\",E909=\"\"),\"\",MAX(C909-D909-E909,0))","v":""},{"$f":"IF(OR($H909=\"\",J909=\"\",K909=\"\",L909=\"\"),\"\",MAX(J909-K909-L909,0))","v":""},{"$f":"IF(OR(F909=\"\"),0,C909)","v":0},{"$f":"IF(OR(F909=\"\"),0,E909)","v":0},{"$f":"IF(OR(F909<=0,F909=\"\"),0,R909)","v":0},{"$f":"IF(OR(M909=\"\"),0,J909)","v":0},{"$f":"IF(OR(M909=\"\"),0,L909)","v":0},{"$f":"IF(OR(M909<=0,M909=\"\"),0,S909)","v":0},{"$f":"MAX(P909:Y909)","v":0}]
["",null,null,null,null,"",null,"",null,null,null,null,"",null,{"$f":"'Stammdaten Mitarbeitende'!AA910","v":""},{"$f":"IF($A910=\"\",\"\",'Stammdaten Mitarbeitende'!L910)","v":""},{"$f":"IF(OR($A910=\"\",'Stammdaten Mitarbeitende'!J910=\"\"),\"\",'Stammdaten Mitarbeitende'!J910)","v":""},"",{"$f":"IF(OR($H910=\"\",J910=\"\",K910=\"\",L910=\"\"),\"\",MAX(J910-K910-L910,0))","v":""},0,0,0,0,0,0,{"$f":"MAX(P910:Y910)","v":0}]
["",null,null,null,null,"",null,"",null,null,null,null,"",null,{"$f":"'Stammdaten Mitarbeitende'!AA911","v":""},{"$f":"IF($A911=\"\",\"\",'Stammdaten Mitarbeitende'!L911)","v":""},{"$f":"IF(OR($A911=\"\",'Stammdaten Mitarbeitende'!J911=\"\"),\"\",'Stammdaten Mitarbeitende'!J911)","v":""},"","",0,0,0,0,0,0,0]
["",null,null,null,null,"",null,"",null,null,null,null,"",null,{"$f":"'Stammdaten Mitarbeitende'!AA912","v":""},{"$f":"IF($A912=\"\",\"\",'Stammdaten Mitarbeitende'!L912)","v":""},{"$f":"IF(OR($A912=\"\",'Stammdaten Mitarbeitende'!J912=\"\"),\"\",'Stammdaten Mitarbeitende'!J912)","v":""},"","",0,0,0,0,0,0,0]
["",null,null,null,null,"",null,"",null,null,null,null,"",null,{"$f":"'Stammdaten Mitarbeitende'!AA913","v":""},{"$f":"IF($A913=\"\",\"\",'Stammdaten Mitarbeitende'!L913)","v":""},{"$f":"IF(OR($A913=\"\",'Stammdaten Mitarbeitende'!J913=\"\"),\"\",'Stammdaten Mitarbeitende'!J913)","v":""},"","",0,0,0,0,0,0,0]
["",null,null,null,null,"",null,"",null,null,null,null,"",null,{"$f":"'Stammdaten Mitarbeitende'!AA914","v":""},{"$f":"IF($A914=\"\",\"\",'Stammdaten Mitarbeitende'!L914)","v":""},{"$f":"IF(OR($A914=\"\",'Stammdaten Mitarbeitende'!J914=\"\"),\"\",'Stammdaten Mitarbeitende'!J914)","v":""},"","",0,0,0,0,0,0,0]
["",null,null,null,null,"",null,"",null,null,null,null,"",null,{"$f":"'Stammdaten Mitarbeitende'!AA915","v":""},{"$f":"IF($A915=\"\",\"\",'Stammdaten Mitarbeitende'!L915)","v":""},{"$f":"IF(OR($A915=\"\",'Stammdaten Mitarbeitende'!J915=\"\"),\"\",'Stammdaten Mitarbeitende'!J915)","v":""},"","",0,0,0,0,0,0,0]
["",null,null,null,null,"",null,"",null,null,null,null,"",null,{"$f":"'Stammdaten Mitarbeitende'!AA916","v":""},{"$f":"IF($A916=\"\",\"\",'Stammdaten Mitarbeitende'!L916)","v":""},{"$f":"IF(OR($A916=\"\",'Stammdaten Mitarbeitende'!J916=\"\"),\"\",'Stammdaten Mitarbeitende'!J916)","v":""},"","",0,0,0,0,0,0,0]
["",null,null,null,null,"",null,"",null,null,null,null,"",null,{"$f":"'Stammdaten Mitarbeitende'!AA917","v":""},{"$f":"IF($A917=\"\",\"\",'Stammdaten Mitarbeitende'!L917)","v":""},{"$f":"IF(OR($A917=\"\",'Stammdaten Mitarbeitende'!J917=\"\"),\"\",'Stammdaten Mitarbeitende'!J917)","v":""},"","",0,0,0,0,0,0,0]
["",null,null,null,null,"",null,"",null,null,null,null,"",null,{"$f":"'Stammdaten Mitarbeitende'!AA918","v":""},{"$f":"IF($A918=\"\",\"\",'Stammdaten Mitarbeitende'!L918)","v":""},{"$f":"IF(OR($A918=\"\",'Stammdaten Mitarbeitende'!J918=\"\"),\"\",'Stammdaten Mitarbeitende'!J918)","v":""},"","",0,0,0,0,0,0,0]
["",null,null,null,null,"",null,"",null,null,null,null,"",null,{"$f":"'Stammdaten Mitarbeitende'!AA919","v":""},{"$f":"IF($A919=\"\",\"\",'Stammdaten Mitarbeitende'!L919)","v":""},{"$f":"IF(OR($A919=\"\",'Stammdaten Mitarbeitende'!J919=\"\"),\"\",'Stammdaten Mitarbeitende'!J919)","v":""},"","",0,0,0,0,0,0,0]
["",null,null,null,null,"",null,"",null,null,null,null,"",null,{"$f":"'Stammdaten Mitarbeitende'!AA920","v":""},{"$f":"IF($A920=\"\",\"\",'Stammdaten Mitarbeitende'!L920)","v":""},{"$f":"IF(OR($A920=\"\",'Stammdaten Mitarbeitende'!J920=\"\"),\"\",'Stammdaten Mitarbeitende'!J920)","v":""},"","",0,0,0,0,0,0,0]
["",null,null,null,null,"",null,"",null,null,null,null,"",null,{"$f":"'Stammdaten Mitarbeitende'!AA921","v":""},{"$f":"IF($A921=\"\",\"\",'Stammdaten Mitarbeitende'!L921)","v":""},{"$f":"IF(OR($A921=\"\",'Stammdaten Mitarbeitende'!J921=\"\"),\"\",'Stammdaten Mitarbeitende'!J921)","v":""},"","",0,0,0,0,0,0,0]
["",null,null,null,null,"",null,"",null,null,null,null,"",null,{"$f":"'Stammdaten Mitarbeitende'!AA922","v":""},{"$f":"IF($A922=\"\",\"\",'Stammdaten Mitarbeitende'!L922)","v":""},{"$f":"IF(OR($A922=\"\",'Stammdaten Mitarbeitende'!J922=\"\"),\"\",'Stammdaten Mitarbeitende'!J922)","v":""},"","",0,0,0,0,0,0,0]
["",null,null,null,null,"",null,"",null,null,null,null,"",null,{"$f":"'Stammdaten Mitarbeitende'!AA923","v":""},{"$f":"IF($A923=\"\",\"\",'Stammdaten Mitarbeitende'!L923)","v":""},{"$f":"IF(OR($A923=\"\",'Stammdaten Mitarbeitende'!J923=\"\"),\"\",'Stammdaten Mitarbeitende'!J923)","v":""},"","",0,0,0,0,0,0,0]
["",null,null,null,null,"",null,"",null,null,null,null,"",null,{"$f":"'Stammdaten Mitarbeitende'!AA924","v":""},{"$f":"IF($A924=\"\",\"\",'Stammdaten Mitarbeitende'!L924)","v":""},{"$f":"IF(OR($A924=\"\",'Stammdaten Mitarbeitende'!J924=\"\"),\"\",'Stammdaten Mitarbeitende'!J924)","v":""},"","",0,0,0,0,0,0,0]
["",null,null,null,null,"",null,"",null,null,null,null,"",null,{"$f":"'Stammdaten Mitarbeitende'!AA925","v":""},{"$f":"IF($A925=\"\",\"\",'Stammdaten Mitarbeitende'!L925)","v":""},{"$f":"IF(OR($A925=\"\",'Stammdaten Mitarbeitende'!J925=\"\"),\"\",'Stammdaten Mitarbeitende'!J925)","v":""},"","",0,0,0,0,0,0,0]
["",null,null,null,null,"",null,"",null,null,null,null,"",null,{"$f":"'Stammdaten Mitarbeitende'!AA926","v":""},{"$f":"IF($A926=\"\",\"\",'Stammdaten Mitarbeitende'!L926)","v":""},{"$f":"IF(OR($A926=\"\",'Stammdaten Mitarbeitende'!J926=\"\"),\"\",'Stammdaten Mitarbeitende'!J926)","v":""},"","",0,0,0,0,0,0,0]
["",null,null,null,null,"",null,"",null,null,null,null,"",null,{"$f":"'Stammdaten Mitarbeitende'!AA927","v":""},{"$f":"IF($A927=\"\",\"\",'Stammdaten Mitarbeitende'!L927)","v":""},{"$f":"IF(OR($A927=\"\",'Stammdaten Mitarbeitende'!J927=\"\"),\"\",'Stammdaten Mitarbeitende'!J927)","v":""},"","",0,0,0,0,0,0,0]
["",null,null,null,null,"",null,"",null,null,null,null,"",null,{"$f":"'Stammdaten Mitarbeitende'!AA928","v":""},{"$f":"IF($A928=\"\",\"\",'Stammdaten Mitarbeitende'!L928)","v":""},{"$f":"IF(OR($A928=\"\",'Stammdaten Mitarbeitende'!J928=\"\"),\"\",'Stammdaten Mitarbeitende'!J928)","v":""},"","",0,0,0,0,0,0,0]
["",null,null,null,null,"",null,"",null,null,null,null,"",null,{"$f":"'Stammdaten Mitarbeitende'!AA929","v":""},{"$f":"IF($A929=\"\",\"\",'Stammdaten Mitarbeitende'!L929)","v":""},{"$f":"IF(OR($A929=\"\",'Stammdaten Mitarbeitende'!J929=\"\"),\"\",'Stammdaten Mitarbeitende'!J929)","v":""},"","",0,0,0,0,0,0,0]
[{"$f":"Übersetzungstexte!A$230","v":"Seitentotal"},null,{"$f":"SUM(C909:C929)","v":0},null,{"$f":"SUM(E909:E929)","v":0},{"$f":"SUM(F909:F929)","v":0},null,{"$f":"Übersetzungstexte!A$230","v":"Seitentotal"},null,{"$f":"SUM(J909:J929)","v":0},null,{"$f":"SUM(L909:L929)","v":0},{"$f":"SUM(M909:M929)","v":0}]
[{"$f":"'Stammdaten Betrieb & Abteilung'!D$1","v":"  "},null,null,null,null,null,null,{"$f":"Übersetzungstexte!A$190","v":"Betrieb / Betriebsabteilung"},{"$f":"'Stammdaten Betrieb & Abteilung'!D$13","v":" "}]
[{"$f":"'Stammdaten Betrieb & Abteilung'!D$3","v":" "},null,null,null,null,null,null,{"$f":"Übersetzungstexte!A$191","v":"PLZ/Ort"},{"$f":"'Stammdaten Betrieb & Abteilung'!D$4","v":" "}]
[]
[null,null,null,null,null,{"$f":"CONCATENATE(Übersetzungstexte!A$192,\" \",TEXT(MONTH(P$3),\"00\"),\".\",YEAR(P$3))","v":"Zeitgleiche Periode des Vorjahres: 01.3799"},null,null,null,null,null,null,{"$f":"CONCATENATE(Übersetzungstexte!A$211,\" \",TEXT(MONTH(P$4),\"00\"),\".\",YEAR(P$4))","v":"Zeitgleiche Periode des vorletzten Jahres: 01.3798"}]
[1,2,3,4,5,6,null,1,2,3,4,5,6,null,null,null,null,"Regel 4","Regel 5","Sollstd.","Absenzen",null,"Sollstd.","Absenzen"]
[{"$f":"Übersetzungstexte!A$193","v":""},{"$f":"Übersetzungstexte!A$196","v":"vertragliche"},{"$f":"Übersetzungstexte!A$199","v":"Sollstd. zeitgl."},{"$f":"Übersetzungstexte!A$202","v":"Istzeit"},{"$f":"Übersetzungstexte!A$205","v":"Bezahlte/"},{"$f":"Übersetzungstexte!A$208","v":"Ausfallstunden"},null,{"$f":"Übersetzungstexte!A$212","v":""},{"$f":"Übersetzungstexte!A$215","v":"vertragliche"},{"$f":"Übersetzungstexte!A$218","v":"Sollstd. zeitgl."},{"$f":"Übersetzungstexte!A$221","v":"Istzeit"},{"$f":"Übersetzungstexte!A$224","v":"Bezahlte/"},{"$f":"Übersetzungstexte!A$227","v":"Ausfallstunden"},null,null,"anrechen-","vertragl.","Ausfall-","Ausfall-","betroffene","betroffene","Ausfall-","betroffene","betroffene","Ausfall-"]
[{"$f":"Übersetzungstexte!A$194","v":""},{"$f":"Übersetzungstexte!A$197","v":"wöchentliche"},{"$f":"Übersetzungstexte!A$200","v":"Periode inkl."},{"$f":"Übersetzungstexte!A$203","v":""},{"$f":"Übersetzungstexte!A$206","v":"Unbezahlte"},{"$f":"Übersetzungstexte!A$209","v":""},null,{"$f":"Übersetzungstexte!A$213","v":""},{"$f":"Übersetzungstexte!A$216","v":"wöchentliche"},{"$f":"Übersetzungstexte!A$219","v":"Periode inkl."},{"$f":"Übersetzungstexte!A$222","v":""},{"$f":"Übersetzungstexte!A$225","v":"Unbezahlte"},{"$f":"Übersetzungstexte!A$228","v":""},null,null,"barer Std.-","wöchentl.","stunden","stunden","Mitarbeiter","Mitarbeiter","stunden","Mitarbeiter","Mitarbeiter","stunden","Max. der"]
[{"$f":"Übersetzungstexte!A$195","v":"Name,Vorname"},{"$f":"Übersetzungstexte!A$198","v":"Arbeitszeit"},{"$f":"Übersetzungstexte!A$201","v":"Vorholzeit"},{"$f":"Übersetzungstexte!A$204","v":""},{"$f":"Übersetzungstexte!A$207","v":"Absenzen"},{"$f":"Übersetzungstexte!A$210","v":""},null,{"$f":"Übersetzungstexte!A$214","v":"Name,Vorname"},{"$f":"Übersetzungstexte!A$217","v":"Arbeitszeit"},{"$f":"Übersetzungstexte!A$220","v":"Vorholzeit"},{"$f":"Übersetzungstexte!A$223","v":""},{"$f":"Übersetzungstexte!A$226","v":"Absenzen"},{"$f":"Übersetzungstexte!A$229","v":""},null,"Name,Vorname","Verdienst","Arbeitszeit",{"$f":"P$3","v":"3799-01-01"},{"$f":"P$4","v":"3798-01-01"},"Vorjahr","Vorjahr","Vorjahr","Vorvorjahr","Vorvorjahr","Vorvorjahr","Spalte"]
[{"$f":"O939","v":""},null,null,null,null,{"$f":"R939","v":""},null,{"$f":"O939","v":""},null,null,null,null,{"$f":"S939","v":""},null,{"$f":"'Stammdaten Mitarbeitende'!AA939","v":""},{"$f":"IF($A939=\"\",\"\",'Stammdaten Mitarbeitende'!L939)","v":""},{"$f":"IF(OR($A939=\"\",'Stammdaten Mitarbeitende'!J939=\"\"),\"\",'Stammdaten Mitarbeitende'!J939)","v":""},{"$f":"IF(OR($A939=\"\",C939=\"\",D939=\"\",E939=\"\"),\"\",MAX(C939-D939-E939,0))","v":""},{"$f":"IF(OR($H939=\"\",J939=\"\",K939=\"\",L939=\"\"),\"\",MAX(J939-K939-L939,0))","v":""},{"$f":"IF(OR(F939=\"\"),0,C939)","v":0},{"$f":"IF(OR(F939=\"\"),0,E939)","v":0},{"$f":"IF(OR(F939<=0,F939=\"\"),0,R939)","v":0},{"$f":"IF(OR(M939=\"\"),0,J939)","v":0},{"$f":"IF(OR(M939=\"\"),0,L939)","v":0},{"$f":"IF(OR(M939<=0,M939=\"\"),0,S939)","v":0},{"$f":"MAX(P939:Y939)","v":0}]
["",null,null,null,null,"",null,"",null,null,null,null,"",null,{"$f":"'Stammdaten Mitarbeitende'!AA940","v":""},{"$f":"IF($A940=\"\",\"\",'Stammdaten Mitarbeitende'!L940)","v":""},{"$f":"IF(OR($A940=\"\",'Stammdaten Mitarbeitende'!J940=\"\"),\"\",'Stammdaten Mitarbeitende'!J940)","v":""},"",{"$f":"IF(OR($H940=\"\",J940=\"\",K940=\"\",L940=\"\"),\"\",MAX(J940-K940-L940,0))","v":""},0,0,0,0,0,0,{"$f":"MAX(P940:Y940)","v":0}]
["",null,null,null,null,"",null,"",null,null,null,null,"",null,{"$f":"'Stammdaten Mitarbeitende'!AA941","v":""},{"$f":"IF($A941=\"\",\"\",'Stammdaten Mitarbeitende'!L941)","v":""},{"$f":"IF(OR($A941=\"\",'Stammdaten Mitarbeitende'!J941=\"\"),\"\",'Stammdaten Mitarbeitende'!J941)","v":""},"","",0,0,0,0,0,0,0]
["",null,null,null,null,"",null,"",null,null,null,null,"",null,{"$f":"'Stammdaten Mitarbeitende'!AA942","v":""},{"$f":"IF($A942=\"\",\"\",'Stammdaten Mitarbeitende'!L942)","v":""},{"$f":"IF(OR($A942=\"\",'Stammdaten Mitarbeitende'!J942=\"\"),\"\",'Stammdaten Mitarbeitende'!J942)","v":""},"","",0,0,0,0,0,0,0]
["",null,null,null,null,"",null,"",null,null,null,null,"",null,{"$f":"'Stammdaten Mitarbeitende'!AA943","v":""},{"$f":"IF($A943=\"\",\"\",'Stammdaten Mitarbeitende'!L943)","v":""},{"$f":"IF(OR($A943=\"\",'Stammdaten Mitarbeitende'!J943=\"\"),\"\",'Stammdaten Mitarbeitende'!J943)","v":""},"","",0,0,0,0,0,0,0]
["",null,null,null,null,"",null,"",null,null,null,null,"",null,{"$f":"'Stammdaten Mitarbeitende'!AA944","v":""},{"$f":"IF($A944=\"\",\"\",'Stammdaten Mitarbeitende'!L944)","v":""},{"$f":"IF(OR($A944=\"\",'Stammdaten Mitarbeitende'!J944=\"\"),\"\",'Stammdaten Mitarbeitende'!J944)","v":""},"","",0,0,0,0,0,0,0]
["",null,null,null,null,"",null,"",null,null,null,null,"",null,{"$f":"'Stammdaten Mitarbeitende'!AA945","v":""},{"$f":"IF($A945=\"\",\"\",'Stammdaten Mitarbeitende'!L945)","v":""},{"$f":"IF(OR($A945=\"\",'Stammdaten Mitarbeitende'!J945=\"\"),\"\",'Stammdaten Mitarbeitende'!J945)","v":""},"","",0,0,0,0,0,0,0]
["",null,null,null,null,"",null,"",null,null,null,null,"",null,{"$f":"'Stammdaten Mitarbeitende'!AA946","v":""},{"$f":"IF($A946=\"\",\"\",'Stammdaten Mitarbeitende'!L946)","v":""},{"$f":"IF(OR($A946=\"\",'Stammdaten Mitarbeitende'!J946=\"\"),\"\",'Stammdaten Mitarbeitende'!J946)","v":""},"","",0,0,0,0,0,0,0]
["",null,null,null,null,"",null,"",null,null,null,null,"",null,{"$f":"'Stammdaten Mitarbeitende'!AA947","v":""},{"$f":"IF($A947=\"\",\"\",'Stammdaten Mitarbeitende'!L947)","v":""},{"$f":"IF(OR($A947=\"\",'Stammdaten Mitarbeitende'!J947=\"\"),\"\",'Stammdaten Mitarbeitende'!J947)","v":""},"","",0,0,0,0,0,0,0]
["",null,null,null,null,"",null,"",null,null,null,null,"",null,{"$f":"'Stammdaten Mitarbeitende'!AA948","v":""},{"$f":"IF($A948=\"\",\"\",'Stammdaten Mitarbeitende'!L948)","v":""},{"$f":"IF(OR($A948=\"\",'Stammdaten Mitarbeitende'!J948=\"\"),\"\",'Stammdaten Mitarbeitende'!J948)","v":""},"","",0,0,0,0,0,0,0]
["",null,null,null,null,"",null,"",null,null,null,null,"",null,{"$f":"'Stammdaten Mitarbeitende'!AA949","v":""},{"$f":"IF($A949=\"\",\"\",'Stammdaten Mitarbeitende'!L949)","v":""},{"$f":"IF(OR($A949=\"\",'Stammdaten Mitarbeitende'!J949=\"\"),\"\",'Stammdaten Mitarbeitende'!J949)","v":""},"","",0,0,0,0,0,0,0]
["",null,null,null,null,"",null,"",null,null,null,null,"",null,{"$f":"'Stammdaten Mitarbeitende'!AA950","v":""},{"$f":"IF($A950=\"\",\"\",'Stammdaten Mitarbeitende'!L950)","v":""},{"$f":"IF(OR($A950=\"\",'Stammdaten Mitarbeitende'!J950=\"\"),\"\",'Stammdaten Mitarbeitende'!J950)","v":""},"","",0,0,0,0,0,0,0]
["",null,null,null,null,"",null,"",null,null,null,null,"",null,{"$f":"'Stammdaten Mitarbeitende'!AA951","v":""},{"$f":"IF($A951=\"\",\"\",'Stammdaten Mitarbeitende'!L951)","v":""},{"$f":"IF(OR($A951=\"\",'Stammdaten Mitarbeitende'!J951=\"\"),\"\",'Stammdaten Mitarbeitende'!J951)","v":""},"","",0,0,0,0,0,0,0]
["",null,null,null,null,"",null,"",null,null,null,null,"",null,{"$f":"'Stammdaten Mitarbeitende'!AA952","v":""},{"$f":"IF($A952=\"\",\"\",'Stammdaten Mitarbeitende'!L952)","v":""},{"$f":"IF(OR($A952=\"\",'Stammdaten Mitarbeitende'!J952=\"\"),\"\",'Stammdaten Mitarbeitende'!J952)","v":""},"","",0,0,0,0,0,0,0]
["",null,null,null,null,"",null,"",null,null,null,null,"",null,{"$f":"'Stammdaten Mitarbeitende'!AA953","v":""},{"$f":"IF($A953=\"\",\"\",'Stammdaten Mitarbeitende'!L953)","v":""},{"$f":"IF(OR($A953=\"\",'Stammdaten Mitarbeitende'!J953=\"\"),\"\",'Stammdaten Mitarbeitende'!J953)","v":""},"","",0,0,0,0,0,0,0]
["",null,null,null,null,"",null,"",null,null,null,null,"",null,{"$f":"'Stammdaten Mitarbeitende'!AA954","v":""},{"$f":"IF($A954=\"\",\"\",'Stammdaten Mitarbeitende'!L954)","v":""},{"$f":"IF(OR($A954=\"\",'Stammdaten Mitarbeitende'!J954=\"\"),\"\",'Stammdaten Mitarbeitende'!J954)","v":""},"","",0,0,0,0,0,0,0]
["",null,null,null,null,"",null,"",null,null,null,null,"",null,{"$f":"'Stammdaten Mitarbeitende'!AA955","v":""},{"$f":"IF($A955=\"\",\"\",'Stammdaten Mitarbeitende'!L955)","v":""},{"$f":"IF(OR($A955=\"\",'Stammdaten Mitarbeitende'!J955=\"\"),\"\",'Stammdaten Mitarbeitende'!J955)","v":""},"","",0,0,0,0,0,0,0]
["",null,null,null,null,"",null,"",null,null,null,null,"",null,{"$f":"'Stammdaten Mitarbeitende'!AA956","v":""},{"$f":"IF($A956=\"\",\"\",'Stammdaten Mitarbeitende'!L956)","v":""},{"$f":"IF(OR($A956=\"\",'Stammdaten Mitarbeitende'!J956=\"\"),\"\",'Stammdaten Mitarbeitende'!J956)","v":""},"","",0,0,0,0,0,0,0]
["",null,null,null,null,"",null,"",null,null,null,null,"",null,{"$f":"'Stammdaten Mitarbeitende'!AA957","v":""},{"$f":"IF($A957=\"\",\"\",'Stammdaten Mitarbeitende'!L957)","v":""},{"$f":"IF(OR($A957=\"\",'Stammdaten Mitarbeitende'!J957=\"\"),\"\",'Stammdaten Mitarbeitende'!J957)","v":""},"","",0,0,0,0,0,0,0]
["",null,null,null,null,"",null,"",null,null,null,null,"",null,{"$f":"'Stammdaten Mitarbeitende'!AA958","v":""},{"$f":"IF($A958=\"\",\"\",'Stammdaten Mitarbeitende'!L958)","v":""},{"$f":"IF(OR($A958=\"\",'Stammdaten Mitarbeitende'!J958=\"\"),\"\",'Stammdaten Mitarbeitende'!J958)","v":""},"","",0,0,0,0,0,0,0]
["",null,null,null,null,"",null,"",null,null,null,null,"",null,{"$f":"'Stammdaten Mitarbeitende'!AA959","v":""},{"$f":"IF($A959=\"\",\"\",'Stammdaten Mitarbeitende'!L959)","v":""},{"$f":"IF(OR($A959=\"\",'Stammdaten Mitarbeitende'!J959=\"\"),\"\",'Stammdaten Mitarbeitende'!J959)","v":""},"","",0,0,0,0,0,0,0]
[{"$f":"Übersetzungstexte!A$230","v":"Seitentotal"},null,{"$f":"SUM(C939:C959)","v":0},null,{"$f":"SUM(E939:E959)","v":0},{"$f":"SUM(F939:F959)","v":0},null,{"$f":"Übersetzungstexte!A$230","v":"Seitentotal"},null,{"$f":"SUM(J939:J959)","v":0},null,{"$f":"SUM(L939:L959)","v":0},{"$f":"SUM(M939:M959)","v":0}]
[{"$f":"'Stammdaten Betrieb & Abteilung'!D$1","v":"  "},null,null,null,null,null,null,{"$f":"Übersetzungstexte!A$190","v":"Betrieb / Betriebsabteilung"},{"$f":"'Stammdaten Betrieb & Abteilung'!D$13","v":" "}]
[{"$f":"'Stammdaten Betrieb & Abteilung'!D$3","v":" "},null,null,null,null,null,null,{"$f":"Übersetzungstexte!A$191","v":"PLZ/Ort"},{"$f":"'Stammdaten Betrieb & Abteilung'!D$4","v":" "}]
[]
[null,null,null,null,null,{"$f":"CONCATENATE(Übersetzungstexte!A$192,\" \",TEXT(MONTH(P$3),\"00\"),\".\",YEAR(P$3))","v":"Zeitgleiche Periode des Vorjahres: 01.3799"},null,null,null,null,null,null,{"$f":"CONCATENATE(Übersetzungstexte!A$211,\" \",TEXT(MONTH(P$4),\"00\"),\".\",YEAR(P$4))","v":"Zeitgleiche Periode des vorletzten Jahres: 01.3798"}]
[1,2,3,4,5,6,null,1,2,3,4,5,6,null,null,null,null,"Regel 4","Regel 5","Sollstd.","Absenzen",null,"Sollstd.","Absenzen"]
[{"$f":"Übersetzungstexte!A$193","v":""},{"$f":"Übersetzungstexte!A$196","v":"vertragliche"},{"$f":"Übersetzungstexte!A$199","v":"Sollstd. zeitgl."},{"$f":"Übersetzungstexte!A$202","v":"Istzeit"},{"$f":"Übersetzungstexte!A$205","v":"Bezahlte/"},{"$f":"Übersetzungstexte!A$208","v":"Ausfallstunden"},null,{"$f":"Übersetzungstexte!A$212","v":""},{"$f":"Übersetzungstexte!A$215","v":"vertragliche"},{"$f":"Übersetzungstexte!A$218","v":"Sollstd. zeitgl."},{"$f":"Übersetzungstexte!A$221","v":"Istzeit"},{"$f":"Übersetzungstexte!A$224","v":"Bezahlte/"},{"$f":"Übersetzungstexte!A$227","v":"Ausfallstunden"},null,null,"anrechen-","vertragl.","Ausfall-","Ausfall-","betroffene","betroffene","Ausfall-","betroffene","betroffene","Ausfall-"]
[{"$f":"Übersetzungstexte!A$194","v":""},{"$f":"Übersetzungstexte!A$197","v":"wöchentliche"},{"$f":"Übersetzungstexte!A$200","v":"Periode inkl."},{"$f":"Übersetzungstexte!A$203","v":""},{"$f":"Übersetzungstexte!A$206","v":"Unbezahlte"},{"$f":"Übersetzungstexte!A$209","v":""},null,{"$f":"Übersetzungstexte!A$213","v":""},{"$f":"Übersetzungstexte!A$216","v":"wöchentliche"},{"$f":"Übersetzungstexte!A$219","v":"Periode inkl."},{"$f":"Übersetzungstexte!A$222","v":""},{"$f":"Übersetzungstexte!A$225","v":"Unbezahlte"},{"$f":"Übersetzungstexte!A$228","v":""},null,null,"barer Std.-","wöchentl.","stunden","stunden","Mitarbeiter","Mitarbeiter","stunden","Mitarbeiter","Mitarbeiter","stunden","Max. der"]
[{"$f":"Übersetzungstexte!A$195","v":"Name,Vorname"},{"$f":"Übersetzungstexte!A$198","v":"Arbeitszeit"},{"$f":"Übersetzungstexte!A$201","v":"Vorholzeit"},{"$f":"Übersetzungstexte!A$204","v":""},{"$f":"Übersetzungstexte!A$207","v":"Absenzen"},{"$f":"Übersetzungstexte!A$210","v":""},null,{"$f":"Übersetzungstexte!A$214","v":"Name,Vorname"},{"$f":"Übersetzungstexte!A$217","v":"Arbeitszeit"},{"$f":"Übersetzungstexte!A$220","v":"Vorholzeit"},{"$f":"Übersetzungstexte!A$223","v":""},{"$f":"Übersetzungstexte!A$226","v":"Absenzen"},{"$f":"Übersetzungstexte!A$229","v":""},null,"Name,Vorname","Verdienst","Arbeitszeit",{"$f":"P$3","v":"3799-01-01"},{"$f":"P$4","v":"3798-01-01"},"Vorjahr","Vorjahr","Vorjahr","Vorvorjahr","Vorvorjahr","Vorvorjahr","Spalte"]
[{"$f":"O969","v":""},null,null,null,null,{"$f":"R969","v":""},null,{"$f":"O969","v":""},null,null,null,null,{"$f":"S969","v":""},null,{"$f":"'Stammdaten Mitarbeitende'!AA969","v":""},{"$f":"IF($A969=\"\",\"\",'Stammdaten Mitarbeitende'!L969)","v":""},{"$f":"IF(OR($A969=\"\",'Stammdaten Mitarbeitende'!J969=\"\"),\"\",'Stammdaten Mitarbeitende'!J969)","v":""},{"$f":"IF(OR($A969=\"\",C969=\"\",D969=\"\",E969=\"\"),\"\",MAX(C969-D969-E969,0))","v":""},{"$f":"IF(OR($H969=\"\",J969=\"\",K969=\"\",L969=\"\"),\"\",MAX(J969-K969-L969,0))","v":""},{"$f":"IF(OR(F969=\"\"),0,C969)","v":0},{"$f":"IF(OR(F969=\"\"),0,E969)","v":0},{"$f":"IF(OR(F969<=0,F969=\"\"),0,R969)","v":0},{"$f":"IF(OR(M969=\"\"),0,J969)","v":0},{"$f":"IF(OR(M969=\"\"),0,L969)","v":0},{"$f":"IF(OR(M969<=0,M969=\"\"),0,S969)","v":0},{"$f":"MAX(P969:Y969)","v":0}]
["",null,null,null,null,"",null,"",null,null,null,null,"",null,{"$f":"'Stammdaten Mitarbeitende'!AA970","v":""},{"$f":"IF($A970=\"\",\"\",'Stammdaten Mitarbeitende'!L970)","v":""},{"$f":"IF(OR($A970=\"\",'Stammdaten Mitarbeitende'!J970=\"\"),\"\",'Stammdaten Mitarbeitende'!J970)","v":""},"",{"$f":"IF(OR($H970=\"\",J970=\"\",K970=\"\",L970=\"\"),\"\",MAX(J970-K970-L970,0))","v":""},0,0,0,0,0,0,{"$f":"MAX(P970:Y970)","v":0}]
["",null,null,null,null,"",null,"",null,null,null,null,"",null,{"$f":"'Stammdaten Mitarbeitende'!AA971","v":""},{"$f":"IF($A971=\"\",\"\",'Stammdaten Mitarbeitende'!L971)","v":""},{"$f":"IF(OR($A971=\"\",'Stammdaten Mitarbeitende'!J971=\"\"),\"\",'Stammdaten Mitarbeitende'!J971)","v":""},"","",0,0,0,0,0,0,0]
["",null,null,null,null,"",null,"",null,null,null,null,"",null,{"$f":"'Stammdaten Mitarbeitende'!AA972","v":""},{"$f":"IF($A972=\"\",\"\",'Stammdaten Mitarbeitende'!L972)","v":""},{"$f":"IF(OR($A972=\"\",'Stammdaten Mitarbeitende'!J972=\"\"),\"\",'Stammdaten Mitarbeitende'!J972)","v":""},"","",0,0,0,0,0,0,0]
["",null,null,null,null,"",null,"",null,null,null,null,"",null,{"$f":"'Stammdaten Mitarbeitende'!AA973","v":""},{"$f":"IF($A973=\"\",\"\",'Stammdaten Mitarbeitende'!L973)","v":""},{"$f":"IF(OR($A973=\"\",'Stammdaten Mitarbeitende'!J973=\"\"),\"\",'Stammdaten Mitarbeitende'!J973)","v":""},"","",0,0,0,0,0,0,0]
["",null,null,null,null,"",null,"",null,null,null,null,"",null,{"$f":"'Stammdaten Mitarbeitende'!AA974","v":""},{"$f":"IF($A974=\"\",\"\",'Stammdaten Mitarbeitende'!L974)","v":""},{"$f":"IF(OR($A974=\"\",'Stammdaten Mitarbeitende'!J974=\"\"),\"\",'Stammdaten Mitarbeitende'!J974)","v":""},"","",0,0,0,0,0,0,0]
["",null,null,null,null,"",null,"",null,null,null,null,"",null,{"$f":"'Stammdaten Mitarbeitende'!AA975","v":""},{"$f":"IF($A975=\"\",\"\",'Stammdaten Mitarbeitende'!L975)","v":""},{"$f":"IF(OR($A975=\"\",'Stammdaten Mitarbeitende'!J975=\"\"),\"\",'Stammdaten Mitarbeitende'!J975)","v":""},"","",0,0,0,0,0,0,0]
["",null,null,null,null,"",null,"",null,null,null,null,"",null,{"$f":"'Stammdaten Mitarbeitende'!AA976","v":""},{"$f":"IF($A976=\"\",\"\",'Stammdaten Mitarbeitende'!L976)","v":""},{"$f":"IF(OR($A976=\"\",'Stammdaten Mitarbeitende'!J976=\"\"),\"\",'Stammdaten Mitarbeitende'!J976)","v":""},"","",0,0,0,0,0,0,0]
["",null,null,null,null,"",null,"",null,null,null,null,"",null,{"$f":"'Stammdaten Mitarbeitende'!AA977","v":""},{"$f":"IF($A977=\"\",\"\",'Stammdaten Mitarbeitende'!L977)","v":""},{"$f":"IF(OR($A977=\"\",'Stammdaten Mitarbeitende'!J977=\"\"),\"\",'Stammdaten Mitarbeitende'!J977)","v":""},"","",0,0,0,0,0,0,0]
["",null,null,null,null,"",null,"",null,null,null,null,"",null,{"$f":"'Stammdaten Mitarbeitende'!AA978","v":""},{"$f":"IF($A978=\"\",\"\",'Stammdaten Mitarbeitende'!L978)","v":""},{"$f":"IF(OR($A978=\"\",'Stammdaten Mitarbeitende'!J978=\"\"),\"\",'Stammdaten Mitarbeitende'!J978)","v":""},"","",0,0,0,0,0,0,0]
["",null,null,null,null,"",null,"",null,null,null,null,"",null,{"$f":"'Stammdaten Mitarbeitende'!AA979","v":""},{"$f":"IF($A979=\"\",\"\",'Stammdaten Mitarbeitende'!L979)","v":""},{"$f":"IF(OR($A979=\"\",'Stammdaten Mitarbeitende'!J979=\"\"),\"\",'Stammdaten Mitarbeitende'!J979)","v":""},"","",0,0,0,0,0,0,0]
["",null,null,null,null,"",null,"",null,null,null,null,"",null,{"$f":"'Stammdaten Mitarbeitende'!AA980","v":""},{"$f":"IF($A980=\"\",\"\",'Stammdaten Mitarbeitende'!L980)","v":""},{"$f":"IF(OR($A980=\"\",'Stammdaten Mitarbeitende'!J980=\"\"),\"\",'Stammdaten Mitarbeitende'!J980)","v":""},"","",0,0,0,0,0,0,0]
["",null,null,null,null,"",null,"",null,null,null,null,"",null,{"$f":"'Stammdaten Mitarbeitende'!AA981","v":""},{"$f":"IF($A981=\"\",\"\",'Stammdaten Mitarbeitende'!L981)","v":""},{"$f":"IF(OR($A981=\"\",'Stammdaten Mitarbeitende'!J981=\"\"),\"\",'Stammdaten Mitarbeitende'!J981)","v":""},"","",0,0,0,0,0,0,0]
["",null,null,null,null,"",null,"",null,null,null,null,"",null,{"$f":"'Stammdaten Mitarbeitende'!AA982","v":""},{"$f":"IF($A982=\"\",\"\",'Stammdaten Mitarbeitende'!L982)","v":""},{"$f":"IF(OR($A982=\"\",'Stammdaten Mitarbeitende'!J982=\"\"),\"\",'Stammdaten Mitarbeitende'!J982)","v":""},"","",0,0,0,0,0,0,0]
["",null,null,null,null,"",null,"",null,null,null,null,"",null,{"$f":"'Stammdaten Mitarbeitende'!AA983","v":""},{"$f":"IF($A983=\"\",\"\",'Stammdaten Mitarbeitende'!L983)","v":""},{"$f":"IF(OR($A983=\"\",'Stammdaten Mitarbeitende'!J983=\"\"),\"\",'Stammdaten Mitarbeitende'!J983)","v":""},"","",0,0,0,0,0,0,0]
["",null,null,null,null,"",null,"",null,null,null,null,"",null,{"$f":"'Stammdaten Mitarbeitende'!AA984","v":""},{"$f":"IF($A984=\"\",\"\",'Stammdaten Mitarbeitende'!L984)","v":""},{"$f":"IF(OR($A984=\"\",'Stammdaten Mitarbeitende'!J984=\"\"),\"\",'Stammdaten Mitarbeitende'!J984)","v":""},"","",0,0,0,0,0,0,0]
["",null,null,null,null,"",null,"",null,null,null,null,"",null,{"$f":"'Stammdaten Mitarbeitende'!AA985","v":""},{"$f":"IF($A985=\"\",\"\",'Stammdaten Mitarbeitende'!L985)","v":""},{"$f":"IF(OR($A985=\"\",'Stammdaten Mitarbeitende'!J985=\"\"),\"\",'Stammdaten Mitarbeitende'!J985)","v":""},"","",0,0,0,0,0,0,0]
["",null,null,null,null,"",null,"",null,null,null,null,"",null,{"$f":"'Stammdaten Mitarbeitende'!AA986","v":""},{"$f":"IF($A986=\"\",\"\",'Stammdaten Mitarbeitende'!L986)","v":""},{"$f":"IF(OR($A986=\"\",'Stammdaten Mitarbeitende'!J986=\"\"),\"\",'Stammdaten Mitarbeitende'!J986)","v":""},"","",0,0,0,0,0,0,0]
["",null,null,null,null,"",null,"",null,null,null,null,"",null,{"$f":"'Stammdaten Mitarbeitende'!AA987","v":""},{"$f":"IF($A987=\"\",\"\",'Stammdaten Mitarbeitende'!L987)","v":""},{"$f":"IF(OR($A987=\"\",'Stammdaten Mitarbeitende'!J987=\"\"),\"\",'Stammdaten Mitarbeitende'!J987)","v":""},"","",0,0,0,0,0,0,0]
["",null,null,null,null,"",null,"",null,null,null,null,"",null,{"$f":"'Stammdaten Mitarbeitende'!AA988","v":""},{"$f":"IF($A988=\"\",\"\",'Stammdaten Mitarbeitende'!L988)","v":""},{"$f":"IF(OR($A988=\"\",'Stammdaten Mitarbeitende'!J988=\"\"),\"\",'Stammdaten Mitarbeitende'!J988)","v":""},"","",0,0,0,0,0,0,0]
["",null,null,null,null,"",null,"",null,null,null,null,"",null,{"$f":"'Stammdaten Mitarbeitende'!AA989","v":""},{"$f":"IF($A989=\"\",\"\",'Stammdaten Mitarbeitende'!L989)","v":""},{"$f":"IF(OR($A989=\"\",'Stammdaten Mitarbeitende'!J989=\"\"),\"\",'Stammdaten Mitarbeitende'!J989)","v":""},"","",0,0,0,0,0,0,0]
[{"$f":"Übersetzungstexte!A$230","v":"Seitentotal"},null,{"$f":"SUM(C969:C989)","v":0},null,{"$f":"SUM(E969:E989)","v":0},{"$f":"SUM(F969:F989)","v":0},null,{"$f":"Übersetzungstexte!A$230","v":"Seitentotal"},null,{"$f":"SUM(J969:J989)","v":0},null,{"$f":"SUM(L969:L989)","v":0},{"$f":"SUM(M969:M989)","v":0}]
[{"$f":"'Stammdaten Betrieb & Abteilung'!D$1","v":"  "},null,null,null,null,null,null,{"$f":"Übersetzungstexte!A$190","v":"Betrieb / Betriebsabteilung"},{"$f":"'Stammdaten Betrieb & Abteilung'!D$13","v":" "}]
[{"$f":"'Stammdaten Betrieb & Abteilung'!D$3","v":" "},null,null,null,null,null,null,{"$f":"Übersetzungstexte!A$191","v":"PLZ/Ort"},{"$f":"'Stammdaten Betrieb & Abteilung'!D$4","v":" "}]
[]
[null,null,null,null,null,{"$f":"CONCATENATE(Übersetzungstexte!A$192,\" \",TEXT(MONTH(P$3),\"00\"),\".\",YEAR(P$3))","v":"Zeitgleiche Periode des Vorjahres: 01.3799"},null,null,null,null,null,null,{"$f":"CONCATENATE(Übersetzungstexte!A$211,\" \",TEXT(MONTH(P$4),\"00\"),\".\",YEAR(P$4))","v":"Zeitgleiche Periode des vorletzten Jahres: 01.3798"}]
[1,2,3,4,5,6,null,1,2,3,4,5,6,null,null,null,null,"Regel 4","Regel 5","Sollstd.","Absenzen",null,"Sollstd.","Absenzen"]
[{"$f":"Übersetzungstexte!A$193","v":""},{"$f":"Übersetzungstexte!A$196","v":"vertragliche"},{"$f":"Übersetzungstexte!A$199","v":"Sollstd. zeitgl."},{"$f":"Übersetzungstexte!A$202","v":"Istzeit"},{"$f":"Übersetzungstexte!A$205","v":"Bezahlte/"},{"$f":"Übersetzungstexte!A$208","v":"Ausfallstunden"},null,{"$f":"Übersetzungstexte!A$212","v":""},{"$f":"Übersetzungstexte!A$215","v":"vertragliche"},{"$f":"Übersetzungstexte!A$218","v":"Sollstd. zeitgl."},{"$f":"Übersetzungstexte!A$221","v":"Istzeit"},{"$f":"Übersetzungstexte!A$224","v":"Bezahlte/"},{"$f":"Übersetzungstexte!A$227","v":"Ausfallstunden"},null,null,"anrechen-","vertragl.","Ausfall-","Ausfall-","betroffene","betroffene","Ausfall-","betroffene","betroffene","Ausfall-"]
[{"$f":"Übersetzungstexte!A$194","v":""},{"$f":"Übersetzungstexte!A$197","v":"wöchentliche"},{"$f":"Übersetzungstexte!A$200","v":"Periode inkl."},{"$f":"Übersetzungstexte!A$203","v":""},{"$f":"Übersetzungstexte!A$206","v":"Unbezahlte"},{"$f":"Übersetzungstexte!A$209","v":""},null,{"$f":"Übersetzungstexte!A$213","v":""},{"$f":"Übersetzungstexte!A$216","v":"wöchentliche"},{"$f":"Übersetzungstexte!A$219","v":"Periode inkl."},{"$f":"Übersetzungstexte!A$222","v":""},{"$f":"Übersetzungstexte!A$225","v":"Unbezahlte"},{"$f":"Übersetzungstexte!A$228","v":""},null,null,"barer Std.-","wöchentl.","stunden","stunden","Mitarbeiter","Mitarbeiter","stunden","Mitarbeiter","Mitarbeiter","stunden","Max. der"]
[{"$f":"Übersetzungstexte!A$195","v":"Name,Vorname"},{"$f":"Übersetzungstexte!A$198","v":"Arbeitszeit"},{"$f":"Übersetzungstexte!A$201","v":"Vorholzeit"},{"$f":"Übersetzungstexte!A$204","v":""},{"$f":"Übersetzungstexte!A$207","v":"Absenzen"},{"$f":"Übersetzungstexte!A$210","v":""},null,{"$f":"Übersetzungstexte!A$214","v":"Name,Vorname"},{"$f":"Übersetzungstexte!A$217","v":"Arbeitszeit"},{"$f":"Übersetzungstexte!A$220","v":"Vorholzeit"},{"$f":"Übersetzungstexte!A$223","v":""},{"$f":"Übersetzungstexte!A$226","v":"Absenzen"},{"$f":"Übersetzungstexte!A$229","v":""},null,"Name,Vorname","Verdienst","Arbeitszeit",{"$f":"P$3","v":"3799-01-01"},{"$f":"P$4","v":"3798-01-01"},"Vorjahr","Vorjahr","Vorjahr","Vorvorjahr","Vorvorjahr","Vorvorjahr","Spalte"]
[{"$f":"O999","v":""},null,null,null,null,{"$f":"R999","v":""},null,{"$f":"O999","v":""},null,null,null,null,{"$f":"S999","v":""},null,{"$f":"'Stammdaten Mitarbeitende'!AA999","v":""},{"$f":"IF($A999=\"\",\"\",'Stammdaten Mitarbeitende'!L999)","v":""},{"$f":"IF(OR($A999=\"\",'Stammdaten Mitarbeitende'!J999=\"\"),\"\",'Stammdaten Mitarbeitende'!J999)","v":""},{"$f":"IF(OR($A999=\"\",C999=\"\",D999=\"\",E999=\"\"),\"\",MAX(C999-D999-E999,0))","v":""},{"$f":"IF(OR($H999=\"\",J999=\"\",K999=\"\",L999=\"\"),\"\",MAX(J999-K999-L999,0))","v":""},{"$f":"IF(OR(F999=\"\"),0,C999)","v":0},{"$f":"IF(OR(F999=\"\"),0,E999)","v":0},{"$f":"IF(OR(F999<=0,F999=\"\"),0,R999)","v":0},{"$f":"IF(OR(M999=\"\"),0,J999)","v":0},{"$f":"IF(OR(M999=\"\"),0,L999)","v":0},{"$f":"IF(OR(M999<=0,M999=\"\"),0,S999)","v":0},{"$f":"MAX(P999:Y999)","v":0}]
["",null,null,null,null,"",null,"",null,null,null,null,"",null,{"$f":"'Stammdaten Mitarbeitende'!AA1000","v":""},{"$f":"IF($A1000=\"\",\"\",'Stammdaten Mitarbeitende'!L1000)","v":""},{"$f":"IF(OR($A1000=\"\",'Stammdaten Mitarbeitende'!J1000=\"\"),\"\",'Stammdaten Mitarbeitende'!J1000)","v":""},"",{"$f":"IF(OR($H1000=\"\",J1000=\"\",K1000=\"\",L1000=\"\"),\"\",MAX(J1000-K1000-L1000,0))","v":""},0,0,0,0,0,0,{"$f":"MAX(P1000:Y1000)","v":0}]
["",null,null,null,null,"",null,"",null,null,null,null,"",null,{"$f":"'Stammdaten Mitarbeitende'!AA1001","v":""},{"$f":"IF($A1001=\"\",\"\",'Stammdaten Mitarbeitende'!L1001)","v":""},{"$f":"IF(OR($A1001=\"\",'Stammdaten Mitarbeitende'!J1001=\"\"),\"\",'Stammdaten Mitarbeitende'!J1001)","v":""},"","",0,0,0,0,0,0,0]
["",null,null,null,null,"",null,"",null,null,null,null,"",null,{"$f":"'Stammdaten Mitarbeitende'!AA1002","v":""},{"$f":"IF($A1002=\"\",\"\",'Stammdaten Mitarbeitende'!L1002)","v":""},{"$f":"IF(OR($A1002=\"\",'Stammdaten Mitarbeitende'!J1002=\"\"),\"\",'Stammdaten Mitarbeitende'!J1002)","v":""},"","",0,0,0,0,0,0,0]
["",null,null,null,null,"",null,"",null,null,null,null,"",null,{"$f":"'Stammdaten Mitarbeitende'!AA1003","v":""},{"$f":"IF($A1003=\"\",\"\",'Stammdaten Mitarbeitende'!L1003)","v":""},{"$f":"IF(OR($A1003=\"\",'Stammdaten Mitarbeitende'!J1003=\"\"),\"\",'Stammdaten Mitarbeitende'!J1003)","v":""},"","",0,0,0,0,0,0,0]
["",null,null,null,null,"",null,"",null,null,null,null,"",null,{"$f":"'Stammdaten Mitarbeitende'!AA1004","v":""},{"$f":"IF($A1004=\"\",\"\",'Stammdaten Mitarbeitende'!L1004)","v":""},{"$f":"IF(OR($A1004=\"\",'Stammdaten Mitarbeitende'!J1004=\"\"),\"\",'Stammdaten Mitarbeitende'!J1004)","v":""},"","",0,0,0,0,0,0,0]
["",null,null,null,null,"",null,"",null,null,null,null,"",null,{"$f":"'Stammdaten Mitarbeitende'!AA1005","v":""},{"$f":"IF($A1005=\"\",\"\",'Stammdaten Mitarbeitende'!L1005)","v":""},{"$f":"IF(OR($A1005=\"\",'Stammdaten Mitarbeitende'!J1005=\"\"),\"\",'Stammdaten Mitarbeitende'!J1005)","v":""},"","",0,0,0,0,0,0,0]
["",null,null,null,null,"",null,"",null,null,null,null,"",null,{"$f":"'Stammdaten Mitarbeitende'!AA1006","v":""},{"$f":"IF($A1006=\"\",\"\",'Stammdaten Mitarbeitende'!L1006)","v":""},{"$f":"IF(OR($A1006=\"\",'Stammdaten Mitarbeitende'!J1006=\"\"),\"\",'Stammdaten Mitarbeitende'!J1006)","v":""},"","",0,0,0,0,0,0,0]
["",null,null,null,null,"",null,"",null,null,null,null,"",null,{"$f":"'Stammdaten Mitarbeitende'!AA1007","v":""},{"$f":"IF($A1007=\"\",\"\",'Stammdaten Mitarbeitende'!L1007)","v":""},{"$f":"IF(OR($A1007=\"\",'Stammdaten Mitarbeitende'!J1007=\"\"),\"\",'Stammdaten Mitarbeitende'!J1007)","v":""},"","",0,0,0,0,0,0,0]
["",null,null,null,null,"",null,"",null,null,null,null,"",null,{"$f":"'Stammdaten Mitarbeitende'!AA1008","v":""},{"$f":"IF($A1008=\"\",\"\",'Stammdaten Mitarbeitende'!L1008)","v":""},{"$f":"IF(OR($A1008=\"\",'Stammdaten Mitarbeitende'!J1008=\"\"),\"\",'Stammdaten Mitarbeitende'!J1008)","v":""},"","",0,0,0,0,0,0,0]
["",null,null,null,null,"",null,"",null,null,null,null,"",null,{"$f":"'Stammdaten Mitarbeitende'!AA1009","v":""},{"$f":"IF($A1009=\"\",\"\",'Stammdaten Mitarbeitende'!L1009)","v":""},{"$f":"IF(OR($A1009=\"\",'Stammdaten Mitarbeitende'!J1009=\"\"),\"\",'Stammdaten Mitarbeitende'!J1009)","v":""},"","",0,0,0,0,0,0,0]
["",null,null,null,null,"",null,"",null,null,null,null,"",null,{"$f":"'Stammdaten Mitarbeitende'!AA1010","v":""},{"$f":"IF($A1010=\"\",\"\",'Stammdaten Mitarbeitende'!L1010)","v":""},{"$f":"IF(OR($A1010=\"\",'Stammdaten Mitarbeitende'!J1010=\"\"),\"\",'Stammdaten Mitarbeitende'!J1010)","v":""},"","",0,0,0,0,0,0,0]
["",null,null,null,null,"",null,"",null,null,null,null,"",null,{"$f":"'Stammdaten Mitarbeitende'!AA1011","v":""},{"$f":"IF($A1011=\"\",\"\",'Stammdaten Mitarbeitende'!L1011)","v":""},{"$f":"IF(OR($A1011=\"\",'Stammdaten Mitarbeitende'!J1011=\"\"),\"\",'Stammdaten Mitarbeitende'!J1011)","v":""},"","",0,0,0,0,0,0,0]
["",null,null,null,null,"",null,"",null,null,null,null,"",null,{"$f":"'Stammdaten Mitarbeitende'!AA1012","v":""},{"$f":"IF($A1012=\"\",\"\",'Stammdaten Mitarbeitende'!L1012)","v":""},{"$f":"IF(OR($A1012=\"\",'Stammdaten Mitarbeitende'!J1012=\"\"),\"\",'Stammdaten Mitarbeitende'!J1012)","v":""},"","",0,0,0,0,0,0,0]
["",null,null,null,null,"",null,"",null,null,null,null,"",null,{"$f":"'Stammdaten Mitarbeitende'!AA1013","v":""},{"$f":"IF($A1013=\"\",\"\",'Stammdaten Mitarbeitende'!L1013)","v":""},{"$f":"IF(OR($A1013=\"\",'Stammdaten Mitarbeitende'!J1013=\"\"),\"\",'Stammdaten Mitarbeitende'!J1013)","v":""},"","",0,0,0,0,0,0,0]
["",null,null,null,null,"",null,"",null,null,null,null,"",null,{"$f":"'Stammdaten Mitarbeitende'!AA1014","v":""},{"$f":"IF($A1014=\"\",\"\",'Stammdaten Mitarbeitende'!L1014)","v":""},{"$f":"IF(OR($A1014=\"\",'Stammdaten Mitarbeitende'!J1014=\"\"),\"\",'Stammdaten Mitarbeitende'!J1014)","v":""},"","",0,0,0,0,0,0,0]
["",null,null,null,null,"",null,"",null,null,null,null,"",null,{"$f":"'Stammdaten Mitarbeitende'!AA1015","v":""},{"$f":"IF($A1015=\"\",\"\",'Stammdaten Mitarbeitende'!L1015)","v":""},{"$f":"IF(OR($A1015=\"\",'Stammdaten Mitarbeitende'!J1015=\"\"),\"\",'Stammdaten Mitarbeitende'!J1015)","v":""},"","",0,0,0,0,0,0,0]
["",null,null,null,null,"",null,"",null,null,null,null,"",null,{"$f":"'Stammdaten Mitarbeitende'!AA1016","v":""},{"$f":"IF($A1016=\"\",\"\",'Stammdaten Mitarbeitende'!L1016)","v":""},{"$f":"IF(OR($A1016=\"\",'Stammdaten Mitarbeitende'!J1016=\"\"),\"\",'Stammdaten Mitarbeitende'!J1016)","v":""},"","",0,0,0,0,0,0,0]
["",null,null,null,null,"",null,"",null,null,null,null,"",null,{"$f":"'Stammdaten Mitarbeitende'!AA1017","v":""},{"$f":"IF($A1017=\"\",\"\",'Stammdaten Mitarbeitende'!L1017)","v":""},{"$f":"IF(OR($A1017=\"\",'Stammdaten Mitarbeitende'!J1017=\"\"),\"\",'Stammdaten Mitarbeitende'!J1017)","v":""},"","",0,0,0,0,0,0,0]
["",null,null,null,null,"",null,"",null,null,null,null,"",null,{"$f":"'Stammdaten Mitarbeitende'!AA1018","v":""},{"$f":"IF($A1018=\"\",\"\",'Stammdaten Mitarbeitende'!L1018)","v":""},{"$f":"IF(OR($A1018=\"\",'Stammdaten Mitarbeitende'!J1018=\"\"),\"\",'Stammdaten Mitarbeitende'!J1018)","v":""},"","",0,0,0,0,0,0,0]
["",null,null,null,null,"",null,"",null,null,null,null,"",null,{"$f":"'Stammdaten Mitarbeitende'!AA1019","v":""},{"$f":"IF($A1019=\"\",\"\",'Stammdaten Mitarbeitende'!L1019)","v":""},{"$f":"IF(OR($A1019=\"\",'Stammdaten Mitarbeitende'!J1019=\"\"),\"\",'Stammdaten Mitarbeitende'!J1019)","v":""},"","",0,0,0,0,0,0,0]
[{"$f":"Übersetzungstexte!A$230","v":"Seitentotal"},null,{"$f":"SUM(C999:C1019)","v":0},null,{"$f":"SUM(E999:E1019)","v":0},{"$f":"SUM(F999:F1019)","v":0},null,{"$f":"Übersetzungstexte!A$230","v":"Seitentotal"},null,{"$f":"SUM(J999:J1019)","v":0},null,{"$f":"SUM(L999:L1019)","v":0},{"$f":"SUM(M999:M1019)","v":0}]
[{"$f":"'Stammdaten Betrieb & Abteilung'!D$1","v":"  "},null,null,null,null,null,null,{"$f":"Übersetzungstexte!A$190","v":"Betrieb / Betriebsabteilung"},{"$f":"'Stammdaten Betrieb & Abteilung'!D$13","v":" "}]
[{"$f":"'Stammdaten Betrieb & Abteilung'!D$3","v":" "},null,null,null,null,null,null,{"$f":"Übersetzungstexte!A$191","v":"PLZ/Ort"},{"$f":"'Stammdaten Betrieb & Abteilung'!D$4","v":" "}]
[]
[null,null,null,null,null,{"$f":"CONCATENATE(Übersetzungstexte!A$192,\" \",TEXT(MONTH(P$3),\"00\"),\".\",YEAR(P$3))","v":"Zeitgleiche Periode des Vorjahres: 01.3799"},null,null,null,null,null,null,{"$f":"CONCATENATE(Übersetzungstexte!A$211,\" \",TEXT(MONTH(P$4),\"00\"),\".\",YEAR(P$4))","v":"Zeitgleiche Periode des vorletzten Jahres: 01.3798"}]
[1,2,3,4,5,6,null,1,2,3,4,5,6,null,null,null,null,"Regel 4","Regel 5","Sollstd.","Absenzen",null,"Sollstd.","Absenzen"]
[{"$f":"Übersetzungstexte!A$193","v":""},{"$f":"Übersetzungstexte!A$196","v":"vertragliche"},{"$f":"Übersetzungstexte!A$199","v":"Sollstd. zeitgl."},{"$f":"Übersetzungstexte!A$202","v":"Istzeit"},{"$f":"Übersetzungstexte!A$205","v":"Bezahlte/"},{"$f":"Übersetzungstexte!A$208","v":"Ausfallstunden"},null,{"$f":"Übersetzungstexte!A$212","v":""},{"$f":"Übersetzungstexte!A$215","v":"vertragliche"},{"$f":"Übersetzungstexte!A$218","v":"Sollstd. zeitgl."},{"$f":"Übersetzungstexte!A$221","v":"Istzeit"},{"$f":"Übersetzungstexte!A$224","v":"Bezahlte/"},{"$f":"Übersetzungstexte!A$227","v":"Ausfallstunden"},null,null,"anrechen-","vertragl.","Ausfall-","Ausfall-","betroffene","betroffene","Ausfall-","betroffene","betroffene","Ausfall-"]
[{"$f":"Übersetzungstexte!A$194","v":""},{"$f":"Übersetzungstexte!A$197","v":"wöchentliche"},{"$f":"Übersetzungstexte!A$200","v":"Periode inkl."},{"$f":"Übersetzungstexte!A$203","v":""},{"$f":"Übersetzungstexte!A$206","v":"Unbezahlte"},{"$f":"Übersetzungstexte!A$209","v":""},null,{"$f":"Übersetzungstexte!A$213","v":""},{"$f":"Übersetzungstexte!A$216","v":"wöchentliche"},{"$f":"Übersetzungstexte!A$219","v":"Periode inkl."},{"$f":"Übersetzungstexte!A$222","v":""},{"$f":"Übersetzungstexte!A$225","v":"Unbezahlte"},{"$f":"Übersetzungstexte!A$228","v":""},null,null,"barer Std.-","wöchentl.","stunden","stunden","Mitarbeiter","Mitarbeiter","stunden","Mitarbeiter","Mitarbeiter","stunden","Max. der"]
[{"$f":"Übersetzungstexte!A$195","v":"Name,Vorname"},{"$f":"Übersetzungstexte!A$198","v":"Arbeitszeit"},{"$f":"Übersetzungstexte!A$201","v":"Vorholzeit"},{"$f":"Übersetzungstexte!A$204","v":""},{"$f":"Übersetzungstexte!A$207","v":"Absenzen"},{"$f":"Übersetzungstexte!A$210","v":""},null,{"$f":"Übersetzungstexte!A$214","v":"Name,Vorname"},{"$f":"Übersetzungstexte!A$217","v":"Arbeitszeit"},{"$f":"Übersetzungstexte!A$220","v":"Vorholzeit"},{"$f":"Übersetzungstexte!A$223","v":""},{"$f":"Übersetzungstexte!A$226","v":"Absenzen"},{"$f":"Übersetzungstexte!A$229","v":""},null,"Name,Vorname","Verdienst","Arbeitszeit",{"$f":"P$3","v":"3799-01-01"},{"$f":"P$4","v":"3798-01-01"},"Vorjahr","Vorjahr","Vorjahr","Vorvorjahr","Vorvorjahr","Vorvorjahr","Spalte"]
[{"$f":"O1029","v":""},null,null,null,null,{"$f":"R1029","v":""},null,{"$f":"O1029","v":""},null,null,null,null,{"$f":"S1029","v":""},null,{"$f":"'Stammdaten Mitarbeitende'!AA1029","v":""},{"$f":"IF($A1029=\"\",\"\",'Stammdaten Mitarbeitende'!L1029)","v":""},{"$f":"IF(OR($A1029=\"\",'Stammdaten Mitarbeitende'!J1029=\"\"),\"\",'Stammdaten Mitarbeitende'!J1029)","v":""},{"$f":"IF(OR($A1029=\"\",C1029=\"\",D1029=\"\",E1029=\"\"),\"\",MAX(C1029-D1029-E1029,0))","v":""},{"$f":"IF(OR($H1029=\"\",J1029=\"\",K1029=\"\",L1029=\"\"),\"\",MAX(J1029-K1029-L1029,0))","v":""},{"$f":"IF(OR(F1029=\"\"),0,C1029)","v":0},{"$f":"IF(OR(F1029=\"\"),0,E1029)","v":0},{"$f":"IF(OR(F1029<=0,F1029=\"\"),0,R1029)","v":0},{"$f":"IF(OR(M1029=\"\"),0,J1029)","v":0},{"$f":"IF(OR(M1029=\"\"),0,L1029)","v":0},{"$f":"IF(OR(M1029<=0,M1029=\"\"),0,S1029)","v":0},{"$f":"MAX(P1029:Y1029)","v":0}]
["",null,null,null,null,"",null,"",null,null,null,null,"",null,{"$f":"'Stammdaten Mitarbeitende'!AA1030","v":""},{"$f":"IF($A1030=\"\",\"\",'Stammdaten Mitarbeitende'!L1030)","v":""},{"$f":"IF(OR($A1030=\"\",'Stammdaten Mitarbeitende'!J1030=\"\"),\"\",'Stammdaten Mitarbeitende'!J1030)","v":""},"",{"$f":"IF(OR($H1030=\"\",J1030=\"\",K1030=\"\",L1030=\"\"),\"\",MAX(J1030-K1030-L1030,0))","v":""},0,0,0,0,0,0,{"$f":"MAX(P1030:Y1030)","v":0}]
["",null,null,null,null,"",null,"",null,null,null,null,"",null,{"$f":"'Stammdaten Mitarbeitende'!AA1031","v":""},{"$f":"IF($A1031=\"\",\"\",'Stammdaten Mitarbeitende'!L1031)","v":""},{"$f":"IF(OR($A1031=\"\",'Stammdaten Mitarbeitende'!J1031=\"\"),\"\",'Stammdaten Mitarbeitende'!J1031)","v":""},"","",0,0,0,0,0,0,0]
["",null,null,null,null,"",null,"",null,null,null,null,"",null,{"$f":"'Stammdaten Mitarbeitende'!AA1032","v":""},{"$f":"IF($A1032=\"\",\"\",'Stammdaten Mitarbeitende'!L1032)","v":""},{"$f":"IF(OR($A1032=\"\",'Stammdaten Mitarbeitende'!J1032=\"\"),\"\",'Stammdaten Mitarbeitende'!J1032)","v":""},"","",0,0,0,0,0,0,0]
["",null,null,null,null,"",null,"",null,null,null,null,"",null,{"$f":"'Stammdaten Mitarbeitende'!AA1033","v":""},{"$f":"IF($A1033=\"\",\"\",'Stammdaten Mitarbeitende'!L1033)","v":""},{"$f":"IF(OR($A1033=\"\",'Stammdaten Mitarbeitende'!J1033=\"\"),\"\",'Stammdaten Mitarbeitende'!J1033)","v":""},"","",0,0,0,0,0,0,0]
["",null,null,null,null,"",null,"",null,null,null,null,"",null,{"$f":"'Stammdaten Mitarbeitende'!AA1034","v":""},{"$f":"IF($A1034=\"\",\"\",'Stammdaten Mitarbeitende'!L1034)","v":""},{"$f":"IF(OR($A1034=\"\",'Stammdaten Mitarbeitende'!J1034=\"\"),\"\",'Stammdaten Mitarbeitende'!J1034)","v":""},"","",0,0,0,0,0,0,0]
["",null,null,null,null,"",null,"",null,null,null,null,"",null,{"$f":"'Stammdaten Mitarbeitende'!AA1035","v":""},{"$f":"IF($A1035=\"\",\"\",'Stammdaten Mitarbeitende'!L1035)","v":""},{"$f":"IF(OR($A1035=\"\",'Stammdaten Mitarbeitende'!J1035=\"\"),\"\",'Stammdaten Mitarbeitende'!J1035)","v":""},"","",0,0,0,0,0,0,0]
["",null,null,null,null,"",null,"",null,null,null,null,"",null,{"$f":"'Stammdaten Mitarbeitende'!AA1036","v":""},{"$f":"IF($A1036=\"\",\"\",'Stammdaten Mitarbeitende'!L1036)","v":""},{"$f":"IF(OR($A1036=\"\",'Stammdaten Mitarbeitende'!J1036=\"\"),\"\",'Stammdaten Mitarbeitende'!J1036)","v":""},"","",0,0,0,0,0,0,0]
["",null,null,null,null,"",null,"",null,null,null,null,"",null,{"$f":"'Stammdaten Mitarbeitende'!AA1037","v":""},{"$f":"IF($A1037=\"\",\"\",'Stammdaten Mitarbeitende'!L1037)","v":""},{"$f":"IF(OR($A1037=\"\",'Stammdaten Mitarbeitende'!J1037=\"\"),\"\",'Stammdaten Mitarbeitende'!J1037)","v":""},"","",0,0,0,0,0,0,0]
["",null,null,null,null,"",null,"",null,null,null,null,"",null,{"$f":"'Stammdaten Mitarbeitende'!AA1038","v":""},{"$f":"IF($A1038=\"\",\"\",'Stammdaten Mitarbeitende'!L1038)","v":""},{"$f":"IF(OR($A1038=\"\",'Stammdaten Mitarbeitende'!J1038=\"\"),\"\",'Stammdaten Mitarbeitende'!J1038)","v":""},"","",0,0,0,0,0,0,0]
["",null,null,null,null,"",null,"",null,null,null,null,"",null,{"$f":"'Stammdaten Mitarbeitende'!AA1039","v":""},{"$f":"IF($A1039=\"\",\"\",'Stammdaten Mitarbeitende'!L1039)","v":""},{"$f":"IF(OR($A1039=\"\",'Stammdaten Mitarbeitende'!J1039=\"\"),\"\",'Stammdaten Mitarbeitende'!J1039)","v":""},"","",0,0,0,0,0,0,0]
["",null,null,null,null,"",null,"",null,null,null,null,"",null,{"$f":"'Stammdaten Mitarbeitende'!AA1040","v":""},{"$f":"IF($A1040=\"\",\"\",'Stammdaten Mitarbeitende'!L1040)","v":""},{"$f":"IF(OR($A1040=\"\",'Stammdaten Mitarbeitende'!J1040=\"\"),\"\",'Stammdaten Mitarbeitende'!J1040)","v":""},"","",0,0,0,0,0,0,0]
["",null,null,null,null,"",null,"",null,null,null,null,"",null,{"$f":"'Stammdaten Mitarbeitende'!AA1041","v":""},{"$f":"IF($A1041=\"\",\"\",'Stammdaten Mitarbeitende'!L1041)","v":""},{"$f":"IF(OR($A1041=\"\",'Stammdaten Mitarbeitende'!J1041=\"\"),\"\",'Stammdaten Mitarbeitende'!J1041)","v":""},"","",0,0,0,0,0,0,0]
["",null,null,null,null,"",null,"",null,null,null,null,"",null,{"$f":"'Stammdaten Mitarbeitende'!AA1042","v":""},{"$f":"IF($A1042=\"\",\"\",'Stammdaten Mitarbeitende'!L1042)","v":""},{"$f":"IF(OR($A1042=\"\",'Stammdaten Mitarbeitende'!J1042=\"\"),\"\",'Stammdaten Mitarbeitende'!J1042)","v":""},"","",0,0,0,0,0,0,0]
["",null,null,null,null,"",null,"",null,null,null,null,"",null,{"$f":"'Stammdaten Mitarbeitende'!AA1043","v":""},{"$f":"IF($A1043=\"\",\"\",'Stammdaten Mitarbeitende'!L1043)","v":""},{"$f":"IF(OR($A1043=\"\",'Stammdaten Mitarbeitende'!J1043=\"\"),\"\",'Stammdaten Mitarbeitende'!J1043)","v":""},"","",0,0,0,0,0,0,0]
["",null,null,null,null,"",null,"",null,null,null,null,"",null,{"$f":"'Stammdaten Mitarbeitende'!AA1044","v":""},{"$f":"IF($A1044=\"\",\"\",'Stammdaten Mitarbeitende'!L1044)","v":""},{"$f":"IF(OR($A1044=\"\",'Stammdaten Mitarbeitende'!J1044=\"\"),\"\",'Stammdaten Mitarbeitende'!J1044)","v":""},"","",0,0,0,0,0,0,0]
["",null,null,null,null,"",null,"",null,null,null,null,"",null,{"$f":"'Stammdaten Mitarbeitende'!AA1045","v":""},{"$f":"IF($A1045=\"\",\"\",'Stammdaten Mitarbeitende'!L1045)","v":""},{"$f":"IF(OR($A1045=\"\",'Stammdaten Mitarbeitende'!J1045=\"\"),\"\",'Stammdaten Mitarbeitende'!J1045)","v":""},"","",0,0,0,0,0,0,0]
["",null,null,null,null,"",null,"",null,null,null,null,"",null,{"$f":"'Stammdaten Mitarbeitende'!AA1046","v":""},{"$f":"IF($A1046=\"\",\"\",'Stammdaten Mitarbeitende'!L1046)","v":""},{"$f":"IF(OR($A1046=\"\",'Stammdaten Mitarbeitende'!J1046=\"\"),\"\",'Stammdaten Mitarbeitende'!J1046)","v":""},"","",0,0,0,0,0,0,0]
["",null,null,null,null,"",null,"",null,null,null,null,"",null,{"$f":"'Stammdaten Mitarbeitende'!AA1047","v":""},{"$f":"IF($A1047=\"\",\"\",'Stammdaten Mitarbeitende'!L1047)","v":""},{"$f":"IF(OR($A1047=\"\",'Stammdaten Mitarbeitende'!J1047=\"\"),\"\",'Stammdaten Mitarbeitende'!J1047)","v":""},"","",0,0,0,0,0,0,0]
["",null,null,null,null,"",null,"",null,null,null,null,"",null,{"$f":"'Stammdaten Mitarbeitende'!AA1048","v":""},{"$f":"IF($A1048=\"\",\"\",'Stammdaten Mitarbeitende'!L1048)","v":""},{"$f":"IF(OR($A1048=\"\",'Stammdaten Mitarbeitende'!J1048=\"\"),\"\",'Stammdaten Mitarbeitende'!J1048)","v":""},"","",0,0,0,0,0,0,0]
["",null,null,null,null,"",null,"",null,null,null,null,"",null,{"$f":"'Stammdaten Mitarbeitende'!AA1049","v":""},{"$f":"IF($A1049=\"\",\"\",'Stammdaten Mitarbeitende'!L1049)","v":""},{"$f":"IF(OR($A1049=\"\",'Stammdaten Mitarbeitende'!J1049=\"\"),\"\",'Stammdaten Mitarbeitende'!J1049)","v":""},"","",0,0,0,0,0,0,0]
[{"$f":"Übersetzungstexte!A$230","v":"Seitentotal"},null,{"$f":"SUM(C1029:C1049)","v":0},null,{"$f":"SUM(E1029:E1049)","v":0},{"$f":"SUM(F1029:F1049)","v":0},null,{"$f":"Übersetzungstexte!A$230","v":"Seitentotal"},null,{"$f":"SUM(J1029:J1049)","v":0},null,{"$f":"SUM(L1029:L1049)","v":0},{"$f":"SUM(M1029:M1049)","v":0}]
[{"$f":"'Stammdaten Betrieb & Abteilung'!D$1","v":"  "},null,null,null,null,null,null,{"$f":"Übersetzungstexte!A$190","v":"Betrieb / Betriebsabteilung"},{"$f":"'Stammdaten Betrieb & Abteilung'!D$13","v":" "}]
[{"$f":"'Stammdaten Betrieb & Abteilung'!D$3","v":" "},null,null,null,null,null,null,{"$f":"Übersetzungstexte!A$191","v":"PLZ/Ort"},{"$f":"'Stammdaten Betrieb & Abteilung'!D$4","v":" "}]
[]
[null,null,null,null,null,{"$f":"CONCATENATE(Übersetzungstexte!A$192,\" \",TEXT(MONTH(P$3),\"00\"),\".\",YEAR(P$3))","v":"Zeitgleiche Periode des Vorjahres: 01.3799"},null,null,null,null,null,null,{"$f":"CONCATENATE(Übersetzungstexte!A$211,\" \",TEXT(MONTH(P$4),\"00\"),\".\",YEAR(P$4))","v":"Zeitgleiche Periode des vorletzten Jahres: 01.3798"}]
[1,2,3,4,5,6,null,1,2,3,4,5,6,null,null,null,null,"Regel 4","Regel 5","Sollstd.","Absenzen",null,"Sollstd.","Absenzen"]
[{"$f":"Übersetzungstexte!A$193","v":""},{"$f":"Übersetzungstexte!A$196","v":"vertragliche"},{"$f":"Übersetzungstexte!A$199","v":"Sollstd. zeitgl."},{"$f":"Übersetzungstexte!A$202","v":"Istzeit"},{"$f":"Übersetzungstexte!A$205","v":"Bezahlte/"},{"$f":"Übersetzungstexte!A$208","v":"Ausfallstunden"},null,{"$f":"Übersetzungstexte!A$212","v":""},{"$f":"Übersetzungstexte!A$215","v":"vertragliche"},{"$f":"Übersetzungstexte!A$218","v":"Sollstd. zeitgl."},{"$f":"Übersetzungstexte!A$221","v":"Istzeit"},{"$f":"Übersetzungstexte!A$224","v":"Bezahlte/"},{"$f":"Übersetzungstexte!A$227","v":"Ausfallstunden"},null,null,"anrechen-","vertragl.","Ausfall-","Ausfall-","betroffene","betroffene","Ausfall-","betroffene","betroffene","Ausfall-"]
[{"$f":"Übersetzungstexte!A$194","v":""},{"$f":"Übersetzungstexte!A$197","v":"wöchentliche"},{"$f":"Übersetzungstexte!A$200","v":"Periode inkl."},{"$f":"Übersetzungstexte!A$203","v":""},{"$f":"Übersetzungstexte!A$206","v":"Unbezahlte"},{"$f":"Übersetzungstexte!A$209","v":""},null,{"$f":"Übersetzungstexte!A$213","v":""},{"$f":"Übersetzungstexte!A$216","v":"wöchentliche"},{"$f":"Übersetzungstexte!A$219","v":"Periode inkl."},{"$f":"Übersetzungstexte!A$222","v":""},{"$f":"Übersetzungstexte!A$225","v":"Unbezahlte"},{"$f":"Übersetzungstexte!A$228","v":""},null,null,"barer Std.-","wöchentl.","stunden","stunden","Mitarbeiter","Mitarbeiter","stunden","Mitarbeiter","Mitarbeiter","stunden","Max. der"]
[{"$f":"Übersetzungstexte!A$195","v":"Name,Vorname"},{"$f":"Übersetzungstexte!A$198","v":"Arbeitszeit"},{"$f":"Übersetzungstexte!A$201","v":"Vorholzeit"},{"$f":"Übersetzungstexte!A$204","v":""},{"$f":"Übersetzungstexte!A$207","v":"Absenzen"},{"$f":"Übersetzungstexte!A$210","v":""},null,{"$f":"Übersetzungstexte!A$214","v":"Name,Vorname"},{"$f":"Übersetzungstexte!A$217","v":"Arbeitszeit"},{"$f":"Übersetzungstexte!A$220","v":"Vorholzeit"},{"$f":"Übersetzungstexte!A$223","v":""},{"$f":"Übersetzungstexte!A$226","v":"Absenzen"},{"$f":"Übersetzungstexte!A$229","v":""},null,"Name,Vorname","Verdienst","Arbeitszeit",{"$f":"P$3","v":"3799-01-01"},{"$f":"P$4","v":"3798-01-01"},"Vorjahr","Vorjahr","Vorjahr","Vorvorjahr","Vorvorjahr","Vorvorjahr","Spalte"]
[{"$f":"O1059","v":""},null,null,null,null,{"$f":"R1059","v":""},null,{"$f":"O1059","v":""},null,null,null,null,{"$f":"S1059","v":""},null,{"$f":"'Stammdaten Mitarbeitende'!AA1059","v":""},{"$f":"IF($A1059=\"\",\"\",'Stammdaten Mitarbeitende'!L1059)","v":""},{"$f":"IF(OR($A1059=\"\",'Stammdaten Mitarbeitende'!J1059=\"\"),\"\",'Stammdaten Mitarbeitende'!J1059)","v":""},{"$f":"IF(OR($A1059=\"\",C1059=\"\",D1059=\"\",E1059=\"\"),\"\",MAX(C1059-D1059-E1059,0))","v":""},{"$f":"IF(OR($H1059=\"\",J1059=\"\",K1059=\"\",L1059=\"\"),\"\",MAX(J1059-K1059-L1059,0))","v":""},{"$f":"IF(OR(F1059=\"\"),0,C1059)","v":0},{"$f":"IF(OR(F1059=\"\"),0,E1059)","v":0},{"$f":"IF(OR(F1059<=0,F1059=\"\"),0,R1059)","v":0},{"$f":"IF(OR(M1059=\"\"),0,J1059)","v":0},{"$f":"IF(OR(M1059=\"\"),0,L1059)","v":0},{"$f":"IF(OR(M1059<=0,M1059=\"\"),0,S1059)","v":0},{"$f":"MAX(P1059:Y1059)","v":0}]
["",null,null,null,null,"",null,"",null,null,null,null,"",null,{"$f":"'Stammdaten Mitarbeitende'!AA1060","v":""},{"$f":"IF($A1060=\"\",\"\",'Stammdaten Mitarbeitende'!L1060)","v":""},{"$f":"IF(OR($A1060=\"\",'Stammdaten Mitarbeitende'!J1060=\"\"),\"\",'Stammdaten Mitarbeitende'!J1060)","v":""},"",{"$f":"IF(OR($H1060=\"\",J1060=\"\",K1060=\"\",L1060=\"\"),\"\",MAX(J1060-K1060-L1060,0))","v":""},0,0,0,0,0,0,{"$f":"MAX(P1060:Y1060)","v":0}]
["",null,null,null,null,"",null,"",null,null,null,null,"",null,{"$f":"'Stammdaten Mitarbeitende'!AA1061","v":""},{"$f":"IF($A1061=\"\",\"\",'Stammdaten Mitarbeitende'!L1061)","v":""},{"$f":"IF(OR($A1061=\"\",'Stammdaten Mitarbeitende'!J1061=\"\"),\"\",'Stammdaten Mitarbeitende'!J1061)","v":""},"","",0,0,0,0,0,0,0]
["",null,null,null,null,"",null,"",null,null,null,null,"",null,{"$f":"'Stammdaten Mitarbeitende'!AA1062","v":""},{"$f":"IF($A1062=\"\",\"\",'Stammdaten Mitarbeitende'!L1062)","v":""},{"$f":"IF(OR($A1062=\"\",'Stammdaten Mitarbeitende'!J1062=\"\"),\"\",'Stammdaten Mitarbeitende'!J1062)","v":""},"","",0,0,0,0,0,0,0]
["",null,null,null,null,"",null,"",null,null,null,null,"",null,{"$f":"'Stammdaten Mitarbeitende'!AA1063","v":""},{"$f":"IF($A1063=\"\",\"\",'Stammdaten Mitarbeitende'!L1063)","v":""},{"$f":"IF(OR($A1063=\"\",'Stammdaten Mitarbeitende'!J1063=\"\"),\"\",'Stammdaten Mitarbeitende'!J1063)","v":""},"","",0,0,0,0,0,0,0]
["",null,null,null,null,"",null,"",null,null,null,null,"",null,{"$f":"'Stammdaten Mitarbeitende'!AA1064","v":""},{"$f":"IF($A1064=\"\",\"\",'Stammdaten Mitarbeitende'!L1064)","v":""},{"$f":"IF(OR($A1064=\"\",'Stammdaten Mitarbeitende'!J1064=\"\"),\"\",'Stammdaten Mitarbeitende'!J1064)","v":""},"","",0,0,0,0,0,0,0]
["",null,null,null,null,"",null,"",null,null,null,null,"",null,{"$f":"'Stammdaten Mitarbeitende'!AA1065","v":""},{"$f":"IF($A1065=\"\",\"\",'Stammdaten Mitarbeitende'!L1065)","v":""},{"$f":"IF(OR($A1065=\"\",'Stammdaten Mitarbeitende'!J1065=\"\"),\"\",'Stammdaten Mitarbeitende'!J1065)","v":""},"","",0,0,0,0,0,0,0]
["",null,null,null,null,"",null,"",null,null,null,null,"",null,{"$f":"'Stammdaten Mitarbeitende'!AA1066","v":""},{"$f":"IF($A1066=\"\",\"\",'Stammdaten Mitarbeitende'!L1066)","v":""},{"$f":"IF(OR($A1066=\"\",'Stammdaten Mitarbeitende'!J1066=\"\"),\"\",'Stammdaten Mitarbeitende'!J1066)","v":""},"","",0,0,0,0,0,0,0]
["",null,null,null,null,"",null,"",null,null,null,null,"",null,{"$f":"'Stammdaten Mitarbeitende'!AA1067","v":""},{"$f":"IF($A1067=\"\",\"\",'Stammdaten Mitarbeitende'!L1067)","v":""},{"$f":"IF(OR($A1067=\"\",'Stammdaten Mitarbeitende'!J1067=\"\"),\"\",'Stammdaten Mitarbeitende'!J1067)","v":""},"","",0,0,0,0,0,0,0]
["",null,null,null,null,"",null,"",null,null,null,null,"",null,{"$f":"'Stammdaten Mitarbeitende'!AA1068","v":""},{"$f":"IF($A1068=\"\",\"\",'Stammdaten Mitarbeitende'!L1068)","v":""},{"$f":"IF(OR($A1068=\"\",'Stammdaten Mitarbeitende'!J1068=\"\"),\"\",'Stammdaten Mitarbeitende'!J1068)","v":""},"","",0,0,0,0,0,0,0]
["",null,null,null,null,"",null,"",null,null,null,null,"",null,{"$f":"'Stammdaten Mitarbeitende'!AA1069","v":""},{"$f":"IF($A1069=\"\",\"\",'Stammdaten Mitarbeitende'!L1069)","v":""},{"$f":"IF(OR($A1069=\"\",'Stammdaten Mitarbeitende'!J1069=\"\"),\"\",'Stammdaten Mitarbeitende'!J1069)","v":""},"","",0,0,0,0,0,0,0]
["",null,null,null,null,"",null,"",null,null,null,null,"",null,{"$f":"'Stammdaten Mitarbeitende'!AA1070","v":""},{"$f":"IF($A1070=\"\",\"\",'Stammdaten Mitarbeitende'!L1070)","v":""},{"$f":"IF(OR($A1070=\"\",'Stammdaten Mitarbeitende'!J1070=\"\"),\"\",'Stammdaten Mitarbeitende'!J1070)","v":""},"","",0,0,0,0,0,0,0]
["",null,null,null,null,"",null,"",null,null,null,null,"",null,{"$f":"'Stammdaten Mitarbeitende'!AA1071","v":""},{"$f":"IF($A1071=\"\",\"\",'Stammdaten Mitarbeitende'!L1071)","v":""},{"$f":"IF(OR($A1071=\"\",'Stammdaten Mitarbeitende'!J1071=\"\"),\"\",'Stammdaten Mitarbeitende'!J1071)","v":""},"","",0,0,0,0,0,0,0]
["",null,null,null,null,"",null,"",null,null,null,null,"",null,{"$f":"'Stammdaten Mitarbeitende'!AA1072","v":""},{"$f":"IF($A1072=\"\",\"\",'Stammdaten Mitarbeitende'!L1072)","v":""},{"$f":"IF(OR($A1072=\"\",'Stammdaten Mitarbeitende'!J1072=\"\"),\"\",'Stammdaten Mitarbeitende'!J1072)","v":""},"","",0,0,0,0,0,0,0]
["",null,null,null,null,"",null,"",null,null,null,null,"",null,{"$f":"'Stammdaten Mitarbeitende'!AA1073","v":""},{"$f":"IF($A1073=\"\",\"\",'Stammdaten Mitarbeitende'!L1073)","v":""},{"$f":"IF(OR($A1073=\"\",'Stammdaten Mitarbeitende'!J1073=\"\"),\"\",'Stammdaten Mitarbeitende'!J1073)","v":""},"","",0,0,0,0,0,0,0]
["",null,null,null,null,"",null,"",null,null,null,null,"",null,{"$f":"'Stammdaten Mitarbeitende'!AA1074","v":""},{"$f":"IF($A1074=\"\",\"\",'Stammdaten Mitarbeitende'!L1074)","v":""},{"$f":"IF(OR($A1074=\"\",'Stammdaten Mitarbeitende'!J1074=\"\"),\"\",'Stammdaten Mitarbeitende'!J1074)","v":""},"","",0,0,0,0,0,0,0]
["",null,null,null,null,"",null,"",null,null,null,null,"",null,{"$f":"'Stammdaten Mitarbeitende'!AA1075","v":""},{"$f":"IF($A1075=\"\",\"\",'Stammdaten Mitarbeitende'!L1075)","v":""},{"$f":"IF(OR($A1075=\"\",'Stammdaten Mitarbeitende'!J1075=\"\"),\"\",'Stammdaten Mitarbeitende'!J1075)","v":""},"","",0,0,0,0,0,0,0]
["",null,null,null,null,"",null,"",null,null,null,null,"",null,{"$f":"'Stammdaten Mitarbeitende'!AA1076","v":""},{"$f":"IF($A1076=\"\",\"\",'Stammdaten Mitarbeitende'!L1076)","v":""},{"$f":"IF(OR($A1076=\"\",'Stammdaten Mitarbeitende'!J1076=\"\"),\"\",'Stammdaten Mitarbeitende'!J1076)","v":""},"","",0,0,0,0,0,0,0]
["",null,null,null,null,"",null,"",null,null,null,null,"",null,{"$f":"'Stammdaten Mitarbeitende'!AA1077","v":""},{"$f":"IF($A1077=\"\",\"\",'Stammdaten Mitarbeitende'!L1077)","v":""},{"$f":"IF(OR($A1077=\"\",'Stammdaten Mitarbeitende'!J1077=\"\"),\"\",'Stammdaten Mitarbeitende'!J1077)","v":""},"","",0,0,0,0,0,0,0]
["",null,null,null,null,"",null,"",null,null,null,null,"",null,{"$f":"'Stammdaten Mitarbeitende'!AA1078","v":""},{"$f":"IF($A1078=\"\",\"\",'Stammdaten Mitarbeitende'!L1078)","v":""},{"$f":"IF(OR($A1078=\"\",'Stammdaten Mitarbeitende'!J1078=\"\"),\"\",'Stammdaten Mitarbeitende'!J1078)","v":""},"","",0,0,0,0,0,0,0]
["",null,null,null,null,"",null,"",null,null,null,null,"",null,{"$f":"'Stammdaten Mitarbeitende'!AA1079","v":""},{"$f":"IF($A1079=\"\",\"\",'Stammdaten Mitarbeitende'!L1079)","v":""},{"$f":"IF(OR($A1079=\"\",'Stammdaten Mitarbeitende'!J1079=\"\"),\"\",'Stammdaten Mitarbeitende'!J1079)","v":""},"","",0,0,0,0,0,0,0]
[{"$f":"Übersetzungstexte!A$230","v":"Seitentotal"},null,{"$f":"SUM(C1059:C1079)","v":0},null,{"$f":"SUM(E1059:E1079)","v":0},{"$f":"SUM(F1059:F1079)","v":0},null,{"$f":"Übersetzungstexte!A$230","v":"Seitentotal"},null,{"$f":"SUM(J1059:J1079)","v":0},null,{"$f":"SUM(L1059:L1079)","v":0},{"$f":"SUM(M1059:M1079)","v":0}]
[{"$f":"'Stammdaten Betrieb & Abteilung'!D$1","v":"  "},null,null,null,null,null,null,{"$f":"Übersetzungstexte!A$190","v":"Betrieb / Betriebsabteilung"},{"$f":"'Stammdaten Betrieb & Abteilung'!D$13","v":" "}]
[{"$f":"'Stammdaten Betrieb & Abteilung'!D$3","v":" "},null,null,null,null,null,null,{"$f":"Übersetzungstexte!A$191","v":"PLZ/Ort"},{"$f":"'Stammdaten Betrieb & Abteilung'!D$4","v":" "}]
[]
[null,null,null,null,null,{"$f":"CONCATENATE(Übersetzungstexte!A$192,\" \",TEXT(MONTH(P$3),\"00\"),\".\",YEAR(P$3))","v":"Zeitgleiche Periode des Vorjahres: 01.3799"},null,null,null,null,null,null,{"$f":"CONCATENATE(Übersetzungstexte!A$211,\" \",TEXT(MONTH(P$4),\"00\"),\".\",YEAR(P$4))","v":"Zeitgleiche Periode des vorletzten Jahres: 01.3798"}]
[1,2,3,4,5,6,null,1,2,3,4,5,6,null,null,null,null,"Regel 4","Regel 5","Sollstd.","Absenzen",null,"Sollstd.","Absenzen"]
[{"$f":"Übersetzungstexte!A$193","v":""},{"$f":"Übersetzungstexte!A$196","v":"vertragliche"},{"$f":"Übersetzungstexte!A$199","v":"Sollstd. zeitgl."},{"$f":"Übersetzungstexte!A$202","v":"Istzeit"},{"$f":"Übersetzungstexte!A$205","v":"Bezahlte/"},{"$f":"Übersetzungstexte!A$208","v":"Ausfallstunden"},null,{"$f":"Übersetzungstexte!A$212","v":""},{"$f":"Übersetzungstexte!A$215","v":"vertragliche"},{"$f":"Übersetzungstexte!A$218","v":"Sollstd. zeitgl."},{"$f":"Übersetzungstexte!A$221","v":"Istzeit"},{"$f":"Übersetzungstexte!A$224","v":"Bezahlte/"},{"$f":"Übersetzungstexte!A$227","v":"Ausfallstunden"},null,null,"anrechen-","vertragl.","Ausfall-","Ausfall-","betroffene","betroffene","Ausfall-","betroffene","betroffene","Ausfall-"]
[{"$f":"Übersetzungstexte!A$194","v":""},{"$f":"Übersetzungstexte!A$197","v":"wöchentliche"},{"$f":"Übersetzungstexte!A$200","v":"Periode inkl."},{"$f":"Übersetzungstexte!A$203","v":""},{"$f":"Übersetzungstexte!A$206","v":"Unbezahlte"},{"$f":"Übersetzungstexte!A$209","v":""},null,{"$f":"Übersetzungstexte!A$213","v":""},{"$f":"Übersetzungstexte!A$216","v":"wöchentliche"},{"$f":"Übersetzungstexte!A$219","v":"Periode inkl."},{"$f":"Übersetzungstexte!A$222","v":""},{"$f":"Übersetzungstexte!A$225","v":"Unbezahlte"},{"$f":"Übersetzungstexte!A$228","v":""},null,null,"barer Std.-","wöchentl.","stunden","stunden","Mitarbeiter","Mitarbeiter","stunden","Mitarbeiter","Mitarbeiter","stunden","Max. der"]
[{"$f":"Übersetzungstexte!A$195","v":"Name,Vorname"},{"$f":"Übersetzungstexte!A$198","v":"Arbeitszeit"},{"$f":"Übersetzungstexte!A$201","v":"Vorholzeit"},{"$f":"Übersetzungstexte!A$204","v":""},{"$f":"Übersetzungstexte!A$207","v":"Absenzen"},{"$f":"Übersetzungstexte!A$210","v":""},null,{"$f":"Übersetzungstexte!A$214","v":"Name,Vorname"},{"$f":"Übersetzungstexte!A$217","v":"Arbeitszeit"},{"$f":"Übersetzungstexte!A$220","v":"Vorholzeit"},{"$f":"Übersetzungstexte!A$223","v":""},{"$f":"Übersetzungstexte!A$226","v":"Absenzen"},{"$f":"Übersetzungstexte!A$229","v":""},null,"Name,Vorname","Verdienst","Arbeitszeit",{"$f":"P$3","v":"3799-01-01"},{"$f":"P$4","v":"3798-01-01"},"Vorjahr","Vorjahr","Vorjahr","Vorvorjahr","Vorvorjahr","Vorvorjahr","Spalte"]
[{"$f":"O1089","v":""},null,null,null,null,{"$f":"R1089","v":""},null,{"$f":"O1089","v":""},null,null,null,null,{"$f":"S1089","v":""},null,{"$f":"'Stammdaten Mitarbeitende'!AA1089","v":""},{"$f":"IF($A1089=\"\",\"\",'Stammdaten Mitarbeitende'!L1089)","v":""},{"$f":"IF(OR($A1089=\"\",'Stammdaten Mitarbeitende'!J1089=\"\"),\"\",'Stammdaten Mitarbeitende'!J1089)","v":""},{"$f":"IF(OR($A1089=\"\",C1089=\"\",D1089=\"\",E1089=\"\"),\"\",MAX(C1089-D1089-E1089,0))","v":""},{"$f":"IF(OR($H1089=\"\",J1089=\"\",K1089=\"\",L1089=\"\"),\"\",MAX(J1089-K1089-L1089,0))","v":""},{"$f":"IF(OR(F1089=\"\"),0,C1089)","v":0},{"$f":"IF(OR(F1089=\"\"),0,E1089)","v":0},{"$f":"IF(OR(F1089<=0,F1089=\"\"),0,R1089)","v":0},{"$f":"IF(OR(M1089=\"\"),0,J1089)","v":0},{"$f":"IF(OR(M1089=\"\"),0,L1089)","v":0},{"$f":"IF(OR(M1089<=0,M1089=\"\"),0,S1089)","v":0},{"$f":"MAX(P1089:Y1089)","v":0}]
["",null,null,null,null,"",null,"",null,null,null,null,"",null,{"$f":"'Stammdaten Mitarbeitende'!AA1090","v":""},{"$f":"IF($A1090=\"\",\"\",'Stammdaten Mitarbeitende'!L1090)","v":""},{"$f":"IF(OR($A1090=\"\",'Stammdaten Mitarbeitende'!J1090=\"\"),\"\",'Stammdaten Mitarbeitende'!J1090)","v":""},"",{"$f":"IF(OR($H1090=\"\",J1090=\"\",K1090=\"\",L1090=\"\"),\"\",MAX(J1090-K1090-L1090,0))","v":""},0,0,0,0,0,0,{"$f":"MAX(P1090:Y1090)","v":0}]
["",null,null,null,null,"",null,"",null,null,null,null,"",null,{"$f":"'Stammdaten Mitarbeitende'!AA1091","v":""},{"$f":"IF($A1091=\"\",\"\",'Stammdaten Mitarbeitende'!L1091)","v":""},{"$f":"IF(OR($A1091=\"\",'Stammdaten Mitarbeitende'!J1091=\"\"),\"\",'Stammdaten Mitarbeitende'!J1091)","v":""},"","",0,0,0,0,0,0,0]
["",null,null,null,null,"",null,"",null,null,null,null,"",null,{"$f":"'Stammdaten Mitarbeitende'!AA1092","v":""},{"$f":"IF($A1092=\"\",\"\",'Stammdaten Mitarbeitende'!L1092)","v":""},{"$f":"IF(OR($A1092=\"\",'Stammdaten Mitarbeitende'!J1092=\"\"),\"\",'Stammdaten Mitarbeitende'!J1092)","v":""},"","",0,0,0,0,0,0,0]
["",null,null,null,null,"",null,"",null,null,null,null,"",null,{"$f":"'Stammdaten Mitarbeitende'!AA1093","v":""},{"$f":"IF($A1093=\"\",\"\",'Stammdaten Mitarbeitende'!L1093)","v":""},{"$f":"IF(OR($A1093=\"\",'Stammdaten Mitarbeitende'!J1093=\"\"),\"\",'Stammdaten Mitarbeitende'!J1093)","v":""},"","",0,0,0,0,0,0,0]
["",null,null,null,null,"",null,"",null,null,null,null,"",null,{"$f":"'Stammdaten Mitarbeitende'!AA1094","v":""},{"$f":"IF($A1094=\"\",\"\",'Stammdaten Mitarbeitende'!L1094)","v":""},{"$f":"IF(OR($A1094=\"\",'Stammdaten Mitarbeitende'!J1094=\"\"),\"\",'Stammdaten Mitarbeitende'!J1094)","v":""},"","",0,0,0,0,0,0,0]
["",null,null,null,null,"",null,"",null,null,null,null,"",null,{"$f":"'Stammdaten Mitarbeitende'!AA1095","v":""},{"$f":"IF($A1095=\"\",\"\",'Stammdaten Mitarbeitende'!L1095)","v":""},{"$f":"IF(OR($A1095=\"\",'Stammdaten Mitarbeitende'!J1095=\"\"),\"\",'Stammdaten Mitarbeitende'!J1095)","v":""},"","",0,0,0,0,0,0,0]
["",null,null,null,null,"",null,"",null,null,null,null,"",null,{"$f":"'Stammdaten Mitarbeitende'!AA1096","v":""},{"$f":"IF($A1096=\"\",\"\",'Stammdaten Mitarbeitende'!L1096)","v":""},{"$f":"IF(OR($A1096=\"\",'Stammdaten Mitarbeitende'!J1096=\"\"),\"\",'Stammdaten Mitarbeitende'!J1096)","v":""},"","",0,0,0,0,0,0,0]
["",null,null,null,null,"",null,"",null,null,null,null,"",null,{"$f":"'Stammdaten Mitarbeitende'!AA1097","v":""},{"$f":"IF($A1097=\"\",\"\",'Stammdaten Mitarbeitende'!L1097)","v":""},{"$f":"IF(OR($A1097=\"\",'Stammdaten Mitarbeitende'!J1097=\"\"),\"\",'Stammdaten Mitarbeitende'!J1097)","v":""},"","",0,0,0,0,0,0,0]
["",null,null,null,null,"",null,"",null,null,null,null,"",null,{"$f":"'Stammdaten Mitarbeitende'!AA1098","v":""},{"$f":"IF($A1098=\"\",\"\",'Stammdaten Mitarbeitende'!L1098)","v":""},{"$f":"IF(OR($A1098=\"\",'Stammdaten Mitarbeitende'!J1098=\"\"),\"\",'Stammdaten Mitarbeitende'!J1098)","v":""},"","",0,0,0,0,0,0,0]
["",null,null,null,null,"",null,"",null,null,null,null,"",null,{"$f":"'Stammdaten Mitarbeitende'!AA1099","v":""},{"$f":"IF($A1099=\"\",\"\",'Stammdaten Mitarbeitende'!L1099)","v":""},{"$f":"IF(OR($A1099=\"\",'Stammdaten Mitarbeitende'!J1099=\"\"),\"\",'Stammdaten Mitarbeitende'!J1099)","v":""},"","",0,0,0,0,0,0,0]
["",null,null,null,null,"",null,"",null,null,null,null,"",null,{"$f":"'Stammdaten Mitarbeitende'!AA1100","v":""},{"$f":"IF($A1100=\"\",\"\",'Stammdaten Mitarbeitende'!L1100)","v":""},{"$f":"IF(OR($A1100=\"\",'Stammdaten Mitarbeitende'!J1100=\"\"),\"\",'Stammdaten Mitarbeitende'!J1100)","v":""},"","",0,0,0,0,0,0,0]
["",null,null,null,null,"",null,"",null,null,null,null,"",null,{"$f":"'Stammdaten Mitarbeitende'!AA1101","v":""},{"$f":"IF($A1101=\"\",\"\",'Stammdaten Mitarbeitende'!L1101)","v":""},{"$f":"IF(OR($A1101=\"\",'Stammdaten Mitarbeitende'!J1101=\"\"),\"\",'Stammdaten Mitarbeitende'!J1101)","v":""},"","",0,0,0,0,0,0,0]
["",null,null,null,null,"",null,"",null,null,null,null,"",null,{"$f":"'Stammdaten Mitarbeitende'!AA1102","v":""},{"$f":"IF($A1102=\"\",\"\",'Stammdaten Mitarbeitende'!L1102)","v":""},{"$f":"IF(OR($A1102=\"\",'Stammdaten Mitarbeitende'!J1102=\"\"),\"\",'Stammdaten Mitarbeitende'!J1102)","v":""},"","",0,0,0,0,0,0,0]
["",null,null,null,null,"",null,"",null,null,null,null,"",null,{"$f":"'Stammdaten Mitarbeitende'!AA1103","v":""},{"$f":"IF($A1103=\"\",\"\",'Stammdaten Mitarbeitende'!L1103)","v":""},{"$f":"IF(OR($A1103=\"\",'Stammdaten Mitarbeitende'!J1103=\"\"),\"\",'Stammdaten Mitarbeitende'!J1103)","v":""},"","",0,0,0,0,0,0,0]
["",null,null,null,null,"",null,"",null,null,null,null,"",null,{"$f":"'Stammdaten Mitarbeitende'!AA1104","v":""},{"$f":"IF($A1104=\"\",\"\",'Stammdaten Mitarbeitende'!L1104)","v":""},{"$f":"IF(OR($A1104=\"\",'Stammdaten Mitarbeitende'!J1104=\"\"),\"\",'Stammdaten Mitarbeitende'!J1104)","v":""},"","",0,0,0,0,0,0,0]
["",null,null,null,null,"",null,"",null,null,null,null,"",null,{"$f":"'Stammdaten Mitarbeitende'!AA1105","v":""},{"$f":"IF($A1105=\"\",\"\",'Stammdaten Mitarbeitende'!L1105)","v":""},{"$f":"IF(OR($A1105=\"\",'Stammdaten Mitarbeitende'!J1105=\"\"),\"\",'Stammdaten Mitarbeitende'!J1105)","v":""},"","",0,0,0,0,0,0,0]
["",null,null,null,null,"",null,"",null,null,null,null,"",null,{"$f":"'Stammdaten Mitarbeitende'!AA1106","v":""},{"$f":"IF($A1106=\"\",\"\",'Stammdaten Mitarbeitende'!L1106)","v":""},{"$f":"IF(OR($A1106=\"\",'Stammdaten Mitarbeitende'!J1106=\"\"),\"\",'Stammdaten Mitarbeitende'!J1106)","v":""},"","",0,0,0,0,0,0,0]
["",null,null,null,null,"",null,"",null,null,null,null,"",null,{"$f":"'Stammdaten Mitarbeitende'!AA1107","v":""},{"$f":"IF($A1107=\"\",\"\",'Stammdaten Mitarbeitende'!L1107)","v":""},{"$f":"IF(OR($A1107=\"\",'Stammdaten Mitarbeitende'!J1107=\"\"),\"\",'Stammdaten Mitarbeitende'!J1107)","v":""},"","",0,0,0,0,0,0,0]
["",null,null,null,null,"",null,"",null,null,null,null,"",null,{"$f":"'Stammdaten Mitarbeitende'!AA1108","v":""},{"$f":"IF($A1108=\"\",\"\",'Stammdaten Mitarbeitende'!L1108)","v":""},{"$f":"IF(OR($A1108=\"\",'Stammdaten Mitarbeitende'!J1108=\"\"),\"\",'Stammdaten Mitarbeitende'!J1108)","v":""},"","",0,0,0,0,0,0,0]
["",null,null,null,null,"",null,"",null,null,null,null,"",null,{"$f":"'Stammdaten Mitarbeitende'!AA1109","v":""},{"$f":"IF($A1109=\"\",\"\",'Stammdaten Mitarbeitende'!L1109)","v":""},{"$f":"IF(OR($A1109=\"\",'Stammdaten Mitarbeitende'!J1109=\"\"),\"\",'Stammdaten Mitarbeitende'!J1109)","v":""},"","",0,0,0,0,0,0,0]
[{"$f":"Übersetzungstexte!A$230","v":"Seitentotal"},null,{"$f":"SUM(C1089:C1109)","v":0},null,{"$f":"SUM(E1089:E1109)","v":0},{"$f":"SUM(F1089:F1109)","v":0},null,{"$f":"Übersetzungstexte!A$230","v":"Seitentotal"},null,{"$f":"SUM(J1089:J1109)","v":0},null,{"$f":"SUM(L1089:L1109)","v":0},{"$f":"SUM(M1089:M1109)","v":0}]
[{"$f":"'Stammdaten Betrieb & Abteilung'!D$1","v":"  "},null,null,null,null,null,null,{"$f":"Übersetzungstexte!A$190","v":"Betrieb / Betriebsabteilung"},{"$f":"'Stammdaten Betrieb & Abteilung'!D$13","v":" "}]
[{"$f":"'Stammdaten Betrieb & Abteilung'!D$3","v":" "},null,null,null,null,null,null,{"$f":"Übersetzungstexte!A$191","v":"PLZ/Ort"},{"$f":"'Stammdaten Betrieb & Abteilung'!D$4","v":" "}]
[]
[null,null,null,null,null,{"$f":"CONCATENATE(Übersetzungstexte!A$192,\" \",TEXT(MONTH(P$3),\"00\"),\".\",YEAR(P$3))","v":"Zeitgleiche Periode des Vorjahres: 01.3799"},null,null,null,null,null,null,{"$f":"CONCATENATE(Übersetzungstexte!A$211,\" \",TEXT(MONTH(P$4),\"00\"),\".\",YEAR(P$4))","v":"Zeitgleiche Periode des vorletzten Jahres: 01.3798"}]
[1,2,3,4,5,6,null,1,2,3,4,5,6,null,null,null,null,"Regel 4","Regel 5","Sollstd.","Absenzen",null,"Sollstd.","Absenzen"]
[{"$f":"Übersetzungstexte!A$193","v":""},{"$f":"Übersetzungstexte!A$196","v":"vertragliche"},{"$f":"Übersetzungstexte!A$199","v":"Sollstd. zeitgl."},{"$f":"Übersetzungstexte!A$202","v":"Istzeit"},{"$f":"Übersetzungstexte!A$205","v":"Bezahlte/"},{"$f":"Übersetzungstexte!A$208","v":"Ausfallstunden"},null,{"$f":"Übersetzungstexte!A$212","v":""},{"$f":"Übersetzungstexte!A$215","v":"vertragliche"},{"$f":"Übersetzungstexte!A$218","v":"Sollstd. zeitgl."},{"$f":"Übersetzungstexte!A$221","v":"Istzeit"},{"$f":"Übersetzungstexte!A$224","v":"Bezahlte/"},{"$f":"Übersetzungstexte!A$227","v":"Ausfallstunden"},null,null,"anrechen-","vertragl.","Ausfall-","Ausfall-","betroffene","betroffene","Ausfall-","betroffene","betroffene","Ausfall-"]
[{"$f":"Übersetzungstexte!A$194","v":""},{"$f":"Übersetzungstexte!A$197","v":"wöchentliche"},{"$f":"Übersetzungstexte!A$200","v":"Periode inkl."},{"$f":"Übersetzungstexte!A$203","v":""},{"$f":"Übersetzungstexte!A$206","v":"Unbezahlte"},{"$f":"Übersetzungstexte!A$209","v":""},null,{"$f":"Übersetzungstexte!A$213","v":""},{"$f":"Übersetzungstexte!A$216","v":"wöchentliche"},{"$f":"Übersetzungstexte!A$219","v":"Periode inkl."},{"$f":"Übersetzungstexte!A$222","v":""},{"$f":"Übersetzungstexte!A$225","v":"Unbezahlte"},{"$f":"Übersetzungstexte!A$228","v":""},null,null,"barer Std.-","wöchentl.","stunden","stunden","Mitarbeiter","Mitarbeiter","stunden","Mitarbeiter","Mitarbeiter","stunden","Max. der"]
[{"$f":"Übersetzungstexte!A$195","v":"Name,Vorname"},{"$f":"Übersetzungstexte!A$198","v":"Arbeitszeit"},{"$f":"Übersetzungstexte!A$201","v":"Vorholzeit"},{"$f":"Übersetzungstexte!A$204","v":""},{"$f":"Übersetzungstexte!A$207","v":"Absenzen"},{"$f":"Übersetzungstexte!A$210","v":""},null,{"$f":"Übersetzungstexte!A$214","v":"Name,Vorname"},{"$f":"Übersetzungstexte!A$217","v":"Arbeitszeit"},{"$f":"Übersetzungstexte!A$220","v":"Vorholzeit"},{"$f":"Übersetzungstexte!A$223","v":""},{"$f":"Übersetzungstexte!A$226","v":"Absenzen"},{"$f":"Übersetzungstexte!A$229","v":""},null,"Name,Vorname","Verdienst","Arbeitszeit",{"$f":"P$3","v":"3799-01-01"},{"$f":"P$4","v":"3798-01-01"},"Vorjahr","Vorjahr","Vorjahr","Vorvorjahr","Vorvorjahr","Vorvorjahr","Spalte"]
[{"$f":"O1119","v":""},null,null,null,null,{"$f":"R1119","v":""},null,{"$f":"O1119","v":""},null,null,null,null,{"$f":"S1119","v":""},null,{"$f":"'Stammdaten Mitarbeitende'!AA1119","v":""},{"$f":"IF($A1119=\"\",\"\",'Stammdaten Mitarbeitende'!L1119)","v":""},{"$f":"IF(OR($A1119=\"\",'Stammdaten Mitarbeitende'!J1119=\"\"),\"\",'Stammdaten Mitarbeitende'!J1119)","v":""},{"$f":"IF(OR($A1119=\"\",C1119=\"\",D1119=\"\",E1119=\"\"),\"\",MAX(C1119-D1119-E1119,0))","v":""},{"$f":"IF(OR($H1119=\"\",J1119=\"\",K1119=\"\",L1119=\"\"),\"\",MAX(J1119-K1119-L1119,0))","v":""},{"$f":"IF(OR(F1119=\"\"),0,C1119)","v":0},{"$f":"IF(OR(F1119=\"\"),0,E1119)","v":0},{"$f":"IF(OR(F1119<=0,F1119=\"\"),0,R1119)","v":0},{"$f":"IF(OR(M1119=\"\"),0,J1119)","v":0},{"$f":"IF(OR(M1119=\"\"),0,L1119)","v":0},{"$f":"IF(OR(M1119<=0,M1119=\"\"),0,S1119)","v":0},{"$f":"MAX(P1119:Y1119)","v":0}]
["",null,null,null,null,"",null,"",null,null,null,null,"",null,{"$f":"'Stammdaten Mitarbeitende'!AA1120","v":""},{"$f":"IF($A1120=\"\",\"\",'Stammdaten Mitarbeitende'!L1120)","v":""},{"$f":"IF(OR($A1120=\"\",'Stammdaten Mitarbeitende'!J1120=\"\"),\"\",'Stammdaten Mitarbeitende'!J1120)","v":""},"",{"$f":"IF(OR($H1120=\"\",J1120=\"\",K1120=\"\",L1120=\"\"),\"\",MAX(J1120-K1120-L1120,0))","v":""},0,0,0,0,0,0,{"$f":"MAX(P1120:Y1120)","v":0}]
["",null,null,null,null,"",null,"",null,null,null,null,"",null,{"$f":"'Stammdaten Mitarbeitende'!AA1121","v":""},{"$f":"IF($A1121=\"\",\"\",'Stammdaten Mitarbeitende'!L1121)","v":""},{"$f":"IF(OR($A1121=\"\",'Stammdaten Mitarbeitende'!J1121=\"\"),\"\",'Stammdaten Mitarbeitende'!J1121)","v":""},"","",0,0,0,0,0,0,0]
["",null,null,null,null,"",null,"",null,null,null,null,"",null,{"$f":"'Stammdaten Mitarbeitende'!AA1122","v":""},{"$f":"IF($A1122=\"\",\"\",'Stammdaten Mitarbeitende'!L1122)","v":""},{"$f":"IF(OR($A1122=\"\",'Stammdaten Mitarbeitende'!J1122=\"\"),\"\",'Stammdaten Mitarbeitende'!J1122)","v":""},"","",0,0,0,0,0,0,0]
["",null,null,null,null,"",null,"",null,null,null,null,"",null,{"$f":"'Stammdaten Mitarbeitende'!AA1123","v":""},{"$f":"IF($A1123=\"\",\"\",'Stammdaten Mitarbeitende'!L1123)","v":""},{"$f":"IF(OR($A1123=\"\",'Stammdaten Mitarbeitende'!J1123=\"\"),\"\",'Stammdaten Mitarbeitende'!J1123)","v":""},"","",0,0,0,0,0,0,0]
["",null,null,null,null,"",null,"",null,null,null,null,"",null,{"$f":"'Stammdaten Mitarbeitende'!AA1124","v":""},{"$f":"IF($A1124=\"\",\"\",'Stammdaten Mitarbeitende'!L1124)","v":""},{"$f":"IF(OR($A1124=\"\",'Stammdaten Mitarbeitende'!J1124=\"\"),\"\",'Stammdaten Mitarbeitende'!J1124)","v":""},"","",0,0,0,0,0,0,0]
["",null,null,null,null,"",null,"",null,null,null,null,"",null,{"$f":"'Stammdaten Mitarbeitende'!AA1125","v":""},{"$f":"IF($A1125=\"\",\"\",'Stammdaten Mitarbeitende'!L1125)","v":""},{"$f":"IF(OR($A1125=\"\",'Stammdaten Mitarbeitende'!J1125=\"\"),\"\",'Stammdaten Mitarbeitende'!J1125)","v":""},"","",0,0,0,0,0,0,0]
["",null,null,null,null,"",null,"",null,null,null,null,"",null,{"$f":"'Stammdaten Mitarbeitende'!AA1126","v":""},{"$f":"IF($A1126=\"\",\"\",'Stammdaten Mitarbeitende'!L1126)","v":""},{"$f":"IF(OR($A1126=\"\",'Stammdaten Mitarbeitende'!J1126=\"\"),\"\",'Stammdaten Mitarbeitende'!J1126)","v":""},"","",0,0,0,0,0,0,0]
["",null,null,null,null,"",null,"",null,null,null,null,"",null,{"$f":"'Stammdaten Mitarbeitende'!AA1127","v":""},{"$f":"IF($A1127=\"\",\"\",'Stammdaten Mitarbeitende'!L1127)","v":""},{"$f":"IF(OR($A1127=\"\",'Stammdaten Mitarbeitende'!J1127=\"\"),\"\",'Stammdaten Mitarbeitende'!J1127)","v":""},"","",0,0,0,0,0,0,0]
["",null,null,null,null,"",null,"",null,null,null,null,"",null,{"$f":"'Stammdaten Mitarbeitende'!AA1128","v":""},{"$f":"IF($A1128=\"\",\"\",'Stammdaten Mitarbeitende'!L1128)","v":""},{"$f":"IF(OR($A1128=\"\",'Stammdaten Mitarbeitende'!J1128=\"\"),\"\",'Stammdaten Mitarbeitende'!J1128)","v":""},"","",0,0,0,0,0,0,0]
["",null,null,null,null,"",null,"",null,null,null,null,"",null,{"$f":"'Stammdaten Mitarbeitende'!AA1129","v":""},{"$f":"IF($A1129=\"\",\"\",'Stammdaten Mitarbeitende'!L1129)","v":""},{"$f":"IF(OR($A1129=\"\",'Stammdaten Mitarbeitende'!J1129=\"\"),\"\",'Stammdaten Mitarbeitende'!J1129)","v":""},"","",0,0,0,0,0,0,0]
["",null,null,null,null,"",null,"",null,null,null,null,"",null,{"$f":"'Stammdaten Mitarbeitende'!AA1130","v":""},{"$f":"IF($A1130=\"\",\"\",'Stammdaten Mitarbeitende'!L1130)","v":""},{"$f":"IF(OR($A1130=\"\",'Stammdaten Mitarbeitende'!J1130=\"\"),\"\",'Stammdaten Mitarbeitende'!J1130)","v":""},"","",0,0,0,0,0,0,0]
["",null,null,null,null,"",null,"",null,null,null,null,"",null,{"$f":"'Stammdaten Mitarbeitende'!AA1131","v":""},{"$f":"IF($A1131=\"\",\"\",'Stammdaten Mitarbeitende'!L1131)","v":""},{"$f":"IF(OR($A1131=\"\",'Stammdaten Mitarbeitende'!J1131=\"\"),\"\",'Stammdaten Mitarbeitende'!J1131)","v":""},"","",0,0,0,0,0,0,0]
["",null,null,null,null,"",null,"",null,null,null,null,"",null,{"$f":"'Stammdaten Mitarbeitende'!AA1132","v":""},{"$f":"IF($A1132=\"\",\"\",'Stammdaten Mitarbeitende'!L1132)","v":""},{"$f":"IF(OR($A1132=\"\",'Stammdaten Mitarbeitende'!J1132=\"\"),\"\",'Stammdaten Mitarbeitende'!J1132)","v":""},"","",0,0,0,0,0,0,0]
["",null,null,null,null,"",null,"",null,null,null,null,"",null,{"$f":"'Stammdaten Mitarbeitende'!AA1133","v":""},{"$f":"IF($A1133=\"\",\"\",'Stammdaten Mitarbeitende'!L1133)","v":""},{"$f":"IF(OR($A1133=\"\",'Stammdaten Mitarbeitende'!J1133=\"\"),\"\",'Stammdaten Mitarbeitende'!J1133)","v":""},"","",0,0,0,0,0,0,0]
["",null,null,null,null,"",null,"",null,null,null,null,"",null,{"$f":"'Stammdaten Mitarbeitende'!AA1134","v":""},{"$f":"IF($A1134=\"\",\"\",'Stammdaten Mitarbeitende'!L1134)","v":""},{"$f":"IF(OR($A1134=\"\",'Stammdaten Mitarbeitende'!J1134=\"\"),\"\",'Stammdaten Mitarbeitende'!J1134)","v":""},"","",0,0,0,0,0,0,0]
["",null,null,null,null,"",null,"",null,null,null,null,"",null,{"$f":"'Stammdaten Mitarbeitende'!AA1135","v":""},{"$f":"IF($A1135=\"\",\"\",'Stammdaten Mitarbeitende'!L1135)","v":""},{"$f":"IF(OR($A1135=\"\",'Stammdaten Mitarbeitende'!J1135=\"\"),\"\",'Stammdaten Mitarbeitende'!J1135)","v":""},"","",0,0,0,0,0,0,0]
["",null,null,null,null,"",null,"",null,null,null,null,"",null,{"$f":"'Stammdaten Mitarbeitende'!AA1136","v":""},{"$f":"IF($A1136=\"\",\"\",'Stammdaten Mitarbeitende'!L1136)","v":""},{"$f":"IF(OR($A1136=\"\",'Stammdaten Mitarbeitende'!J1136=\"\"),\"\",'Stammdaten Mitarbeitende'!J1136)","v":""},"","",0,0,0,0,0,0,0]
["",null,null,null,null,"",null,"",null,null,null,null,"",null,{"$f":"'Stammdaten Mitarbeitende'!AA1137","v":""},{"$f":"IF($A1137=\"\",\"\",'Stammdaten Mitarbeitende'!L1137)","v":""},{"$f":"IF(OR($A1137=\"\",'Stammdaten Mitarbeitende'!J1137=\"\"),\"\",'Stammdaten Mitarbeitende'!J1137)","v":""},"","",0,0,0,0,0,0,0]
["",null,null,null,null,"",null,"",null,null,null,null,"",null,{"$f":"'Stammdaten Mitarbeitende'!AA1138","v":""},{"$f":"IF($A1138=\"\",\"\",'Stammdaten Mitarbeitende'!L1138)","v":""},{"$f":"IF(OR($A1138=\"\",'Stammdaten Mitarbeitende'!J1138=\"\"),\"\",'Stammdaten Mitarbeitende'!J1138)","v":""},"","",0,0,0,0,0,0,0]
["",null,null,null,null,"",null,"",null,null,null,null,"",null,{"$f":"'Stammdaten Mitarbeitende'!AA1139","v":""},{"$f":"IF($A1139=\"\",\"\",'Stammdaten Mitarbeitende'!L1139)","v":""},{"$f":"IF(OR($A1139=\"\",'Stammdaten Mitarbeitende'!J1139=\"\"),\"\",'Stammdaten Mitarbeitende'!J1139)","v":""},"","",0,0,0,0,0,0,0]
[{"$f":"Übersetzungstexte!A$230","v":"Seitentotal"},null,{"$f":"SUM(C1119:C1139)","v":0},null,{"$f":"SUM(E1119:E1139)","v":0},{"$f":"SUM(F1119:F1139)","v":0},null,{"$f":"Übersetzungstexte!A$230","v":"Seitentotal"},null,{"$f":"SUM(J1119:J1139)","v":0},null,{"$f":"SUM(L1119:L1139)","v":0},{"$f":"SUM(M1119:M1139)","v":0}]
[{"$f":"'Stammdaten Betrieb & Abteilung'!D$1","v":"  "},null,null,null,null,null,null,{"$f":"Übersetzungstexte!A$190","v":"Betrieb / Betriebsabteilung"},{"$f":"'Stammdaten Betrieb & Abteilung'!D$13","v":" "}]
[{"$f":"'Stammdaten Betrieb & Abteilung'!D$3","v":" "},null,null,null,null,null,null,{"$f":"Übersetzungstexte!A$191","v":"PLZ/Ort"},{"$f":"'Stammdaten Betrieb & Abteilung'!D$4","v":" "}]
[]
[null,null,null,null,null,{"$f":"CONCATENATE(Übersetzungstexte!A$192,\" \",TEXT(MONTH(P$3),\"00\"),\".\",YEAR(P$3))","v":"Zeitgleiche Periode des Vorjahres: 01.3799"},null,null,null,null,null,null,{"$f":"CONCATENATE(Übersetzungstexte!A$211,\" \",TEXT(MONTH(P$4),\"00\"),\".\",YEAR(P$4))","v":"Zeitgleiche Periode des vorletzten Jahres: 01.3798"}]
[1,2,3,4,5,6,null,1,2,3,4,5,6,null,null,null,null,"Regel 4","Regel 5","Sollstd.","Absenzen",null,"Sollstd.","Absenzen"]
[{"$f":"Übersetzungstexte!A$193","v":""},{"$f":"Übersetzungstexte!A$196","v":"vertragliche"},{"$f":"Übersetzungstexte!A$199","v":"Sollstd. zeitgl."},{"$f":"Übersetzungstexte!A$202","v":"Istzeit"},{"$f":"Übersetzungstexte!A$205","v":"Bezahlte/"},{"$f":"Übersetzungstexte!A$208","v":"Ausfallstunden"},null,{"$f":"Übersetzungstexte!A$212","v":""},{"$f":"Übersetzungstexte!A$215","v":"vertragliche"},{"$f":"Übersetzungstexte!A$218","v":"Sollstd. zeitgl."},{"$f":"Übersetzungstexte!A$221","v":"Istzeit"},{"$f":"Übersetzungstexte!A$224","v":"Bezahlte/"},{"$f":"Übersetzungstexte!A$227","v":"Ausfallstunden"},null,null,"anrechen-","vertragl.","Ausfall-","Ausfall-","betroffene","betroffene","Ausfall-","betroffene","betroffene","Ausfall-"]
[{"$f":"Übersetzungstexte!A$194","v":""},{"$f":"Übersetzungstexte!A$197","v":"wöchentliche"},{"$f":"Übersetzungstexte!A$200","v":"Periode inkl."},{"$f":"Übersetzungstexte!A$203","v":""},{"$f":"Übersetzungstexte!A$206","v":"Unbezahlte"},{"$f":"Übersetzungstexte!A$209","v":""},null,{"$f":"Übersetzungstexte!A$213","v":""},{"$f":"Übersetzungstexte!A$216","v":"wöchentliche"},{"$f":"Übersetzungstexte!A$219","v":"Periode inkl."},{"$f":"Übersetzungstexte!A$222","v":""},{"$f":"Übersetzungstexte!A$225","v":"Unbezahlte"},{"$f":"Übersetzungstexte!A$228","v":""},null,null,"barer Std.-","wöchentl.","stunden","stunden","Mitarbeiter","Mitarbeiter","stunden","Mitarbeiter","Mitarbeiter","stunden","Max. der"]
[{"$f":"Übersetzungstexte!A$195","v":"Name,Vorname"},{"$f":"Übersetzungstexte!A$198","v":"Arbeitszeit"},{"$f":"Übersetzungstexte!A$201","v":"Vorholzeit"},{"$f":"Übersetzungstexte!A$204","v":""},{"$f":"Übersetzungstexte!A$207","v":"Absenzen"},{"$f":"Übersetzungstexte!A$210","v":""},null,{"$f":"Übersetzungstexte!A$214","v":"Name,Vorname"},{"$f":"Übersetzungstexte!A$217","v":"Arbeitszeit"},{"$f":"Übersetzungstexte!A$220","v":"Vorholzeit"},{"$f":"Übersetzungstexte!A$223","v":""},{"$f":"Übersetzungstexte!A$226","v":"Absenzen"},{"$f":"Übersetzungstexte!A$229","v":""},null,"Name,Vorname","Verdienst","Arbeitszeit",{"$f":"P$3","v":"3799-01-01"},{"$f":"P$4","v":"3798-01-01"},"Vorjahr","Vorjahr","Vorjahr","Vorvorjahr","Vorvorjahr","Vorvorjahr","Spalte"]
[{"$f":"O1149","v":""},null,null,null,null,{"$f":"R1149","v":""},null,{"$f":"O1149","v":""},null,null,null,null,{"$f":"S1149","v":""},null,{"$f":"'Stammdaten Mitarbeitende'!AA1149","v":""},{"$f":"IF($A1149=\"\",\"\",'Stammdaten Mitarbeitende'!L1149)","v":""},{"$f":"IF(OR($A1149=\"\",'Stammdaten Mitarbeitende'!J1149=\"\"),\"\",'Stammdaten Mitarbeitende'!J1149)","v":""},{"$f":"IF(OR($A1149=\"\",C1149=\"\",D1149=\"\",E1149=\"\"),\"\",MAX(C1149-D1149-E1149,0))","v":""},{"$f":"IF(OR($H1149=\"\",J1149=\"\",K1149=\"\",L1149=\"\"),\"\",MAX(J1149-K1149-L1149,0))","v":""},{"$f":"IF(OR(F1149=\"\"),0,C1149)","v":0},{"$f":"IF(OR(F1149=\"\"),0,E1149)","v":0},{"$f":"IF(OR(F1149<=0,F1149=\"\"),0,R1149)","v":0},{"$f":"IF(OR(M1149=\"\"),0,J1149)","v":0},{"$f":"IF(OR(M1149=\"\"),0,L1149)","v":0},{"$f":"IF(OR(M1149<=0,M1149=\"\"),0,S1149)","v":0},{"$f":"MAX(P1149:Y1149)","v":0}]
["",null,null,null,null,"",null,"",null,null,null,null,"",null,{"$f":"'Stammdaten Mitarbeitende'!AA1150","v":""},{"$f":"IF($A1150=\"\",\"\",'Stammdaten Mitarbeitende'!L1150)","v":""},{"$f":"IF(OR($A1150=\"\",'Stammdaten Mitarbeitende'!J1150=\"\"),\"\",'Stammdaten Mitarbeitende'!J1150)","v":""},"",{"$f":"IF(OR($H1150=\"\",J1150=\"\",K1150=\"\",L1150=\"\"),\"\",MAX(J1150-K1150-L1150,0))","v":""},0,0,0,0,0,0,{"$f":"MAX(P1150:Y1150)","v":0}]
["",null,null,null,null,"",null,"",null,null,null,null,"",null,{"$f":"'Stammdaten Mitarbeitende'!AA1151","v":""},{"$f":"IF($A1151=\"\",\"\",'Stammdaten Mitarbeitende'!L1151)","v":""},{"$f":"IF(OR($A1151=\"\",'Stammdaten Mitarbeitende'!J1151=\"\"),\"\",'Stammdaten Mitarbeitende'!J1151)","v":""},"","",0,0,0,0,0,0,0]
["",null,null,null,null,"",null,"",null,null,null,null,"",null,{"$f":"'Stammdaten Mitarbeitende'!AA1152","v":""},{"$f":"IF($A1152=\"\",\"\",'Stammdaten Mitarbeitende'!L1152)","v":""},{"$f":"IF(OR($A1152=\"\",'Stammdaten Mitarbeitende'!J1152=\"\"),\"\",'Stammdaten Mitarbeitende'!J1152)","v":""},"","",0,0,0,0,0,0,0]
["",null,null,null,null,"",null,"",null,null,null,null,"",null,{"$f":"'Stammdaten Mitarbeitende'!AA1153","v":""},{"$f":"IF($A1153=\"\",\"\",'Stammdaten Mitarbeitende'!L1153)","v":""},{"$f":"IF(OR($A1153=\"\",'Stammdaten Mitarbeitende'!J1153=\"\"),\"\",'Stammdaten Mitarbeitende'!J1153)","v":""},"","",0,0,0,0,0,0,0]
["",null,null,null,null,"",null,"",null,null,null,null,"",null,{"$f":"'Stammdaten Mitarbeitende'!AA1154","v":""},{"$f":"IF($A1154=\"\",\"\",'Stammdaten Mitarbeitende'!L1154)","v":""},{"$f":"IF(OR($A1154=\"\",'Stammdaten Mitarbeitende'!J1154=\"\"),\"\",'Stammdaten Mitarbeitende'!J1154)","v":""},"","",0,0,0,0,0,0,0]
["",null,null,null,null,"",null,"",null,null,null,null,"",null,{"$f":"'Stammdaten Mitarbeitende'!AA1155","v":""},{"$f":"IF($A1155=\"\",\"\",'Stammdaten Mitarbeitende'!L1155)","v":""},{"$f":"IF(OR($A1155=\"\",'Stammdaten Mitarbeitende'!J1155=\"\"),\"\",'Stammdaten Mitarbeitende'!J1155)","v":""},"","",0,0,0,0,0,0,0]
["",null,null,null,null,"",null,"",null,null,null,null,"",null,{"$f":"'Stammdaten Mitarbeitende'!AA1156","v":""},{"$f":"IF($A1156=\"\",\"\",'Stammdaten Mitarbeitende'!L1156)","v":""},{"$f":"IF(OR($A1156=\"\",'Stammdaten Mitarbeitende'!J1156=\"\"),\"\",'Stammdaten Mitarbeitende'!J1156)","v":""},"","",0,0,0,0,0,0,0]
["",null,null,null,null,"",null,"",null,null,null,null,"",null,{"$f":"'Stammdaten Mitarbeitende'!AA1157","v":""},{"$f":"IF($A1157=\"\",\"\",'Stammdaten Mitarbeitende'!L1157)","v":""},{"$f":"IF(OR($A1157=\"\",'Stammdaten Mitarbeitende'!J1157=\"\"),\"\",'Stammdaten Mitarbeitende'!J1157)","v":""},"","",0,0,0,0,0,0,0]
["",null,null,null,null,"",null,"",null,null,null,null,"",null,{"$f":"'Stammdaten Mitarbeitende'!AA1158","v":""},{"$f":"IF($A1158=\"\",\"\",'Stammdaten Mitarbeitende'!L1158)","v":""},{"$f":"IF(OR($A1158=\"\",'Stammdaten Mitarbeitende'!J1158=\"\"),\"\",'Stammdaten Mitarbeitende'!J1158)","v":""},"","",0,0,0,0,0,0,0]
["",null,null,null,null,"",null,"",null,null,null,null,"",null,{"$f":"'Stammdaten Mitarbeitende'!AA1159","v":""},{"$f":"IF($A1159=\"\",\"\",'Stammdaten Mitarbeitende'!L1159)","v":""},{"$f":"IF(OR($A1159=\"\",'Stammdaten Mitarbeitende'!J1159=\"\"),\"\",'Stammdaten Mitarbeitende'!J1159)","v":""},"","",0,0,0,0,0,0,0]
["",null,null,null,null,"",null,"",null,null,null,null,"",null,{"$f":"'Stammdaten Mitarbeitende'!AA1160","v":""},{"$f":"IF($A1160=\"\",\"\",'Stammdaten Mitarbeitende'!L1160)","v":""},{"$f":"IF(OR($A1160=\"\",'Stammdaten Mitarbeitende'!J1160=\"\"),\"\",'Stammdaten Mitarbeitende'!J1160)","v":""},"","",0,0,0,0,0,0,0]
["",null,null,null,null,"",null,"",null,null,null,null,"",null,{"$f":"'Stammdaten Mitarbeitende'!AA1161","v":""},{"$f":"IF($A1161=\"\",\"\",'Stammdaten Mitarbeitende'!L1161)","v":""},{"$f":"IF(OR($A1161=\"\",'Stammdaten Mitarbeitende'!J1161=\"\"),\"\",'Stammdaten Mitarbeitende'!J1161)","v":""},"","",0,0,0,0,0,0,0]
["",null,null,null,null,"",null,"",null,null,null,null,"",null,{"$f":"'Stammdaten Mitarbeitende'!AA1162","v":""},{"$f":"IF($A1162=\"\",\"\",'Stammdaten Mitarbeitende'!L1162)","v":""},{"$f":"IF(OR($A1162=\"\",'Stammdaten Mitarbeitende'!J1162=\"\"),\"\",'Stammdaten Mitarbeitende'!J1162)","v":""},"","",0,0,0,0,0,0,0]
["",null,null,null,null,"",null,"",null,null,null,null,"",null,{"$f":"'Stammdaten Mitarbeitende'!AA1163","v":""},{"$f":"IF($A1163=\"\",\"\",'Stammdaten Mitarbeitende'!L1163)","v":""},{"$f":"IF(OR($A1163=\"\",'Stammdaten Mitarbeitende'!J1163=\"\"),\"\",'Stammdaten Mitarbeitende'!J1163)","v":""},"","",0,0,0,0,0,0,0]
["",null,null,null,null,"",null,"",null,null,null,null,"",null,{"$f":"'Stammdaten Mitarbeitende'!AA1164","v":""},{"$f":"IF($A1164=\"\",\"\",'Stammdaten Mitarbeitende'!L1164)","v":""},{"$f":"IF(OR($A1164=\"\",'Stammdaten Mitarbeitende'!J1164=\"\"),\"\",'Stammdaten Mitarbeitende'!J1164)","v":""},"","",0,0,0,0,0,0,0]
["",null,null,null,null,"",null,"",null,null,null,null,"",null,{"$f":"'Stammdaten Mitarbeitende'!AA1165","v":""},{"$f":"IF($A1165=\"\",\"\",'Stammdaten Mitarbeitende'!L1165)","v":""},{"$f":"IF(OR($A1165=\"\",'Stammdaten Mitarbeitende'!J1165=\"\"),\"\",'Stammdaten Mitarbeitende'!J1165)","v":""},"","",0,0,0,0,0,0,0]
["",null,null,null,null,"",null,"",null,null,null,null,"",null,{"$f":"'Stammdaten Mitarbeitende'!AA1166","v":""},{"$f":"IF($A1166=\"\",\"\",'Stammdaten Mitarbeitende'!L1166)","v":""},{"$f":"IF(OR($A1166=\"\",'Stammdaten Mitarbeitende'!J1166=\"\"),\"\",'Stammdaten Mitarbeitende'!J1166)","v":""},"","",0,0,0,0,0,0,0]
["",null,null,null,null,"",null,"",null,null,null,null,"",null,{"$f":"'Stammdaten Mitarbeitende'!AA1167","v":""},{"$f":"IF($A1167=\"\",\"\",'Stammdaten Mitarbeitende'!L1167)","v":""},{"$f":"IF(OR($A1167=\"\",'Stammdaten Mitarbeitende'!J1167=\"\"),\"\",'Stammdaten Mitarbeitende'!J1167)","v":""},"","",0,0,0,0,0,0,0]
["",null,null,null,null,"",null,"",null,null,null,null,"",null,{"$f":"'Stammdaten Mitarbeitende'!AA1168","v":""},{"$f":"IF($A1168=\"\",\"\",'Stammdaten Mitarbeitende'!L1168)","v":""},{"$f":"IF(OR($A1168=\"\",'Stammdaten Mitarbeitende'!J1168=\"\"),\"\",'Stammdaten Mitarbeitende'!J1168)","v":""},"","",0,0,0,0,0,0,0]
["",null,null,null,null,"",null,"",null,null,null,null,"",null,{"$f":"'Stammdaten Mitarbeitende'!AA1169","v":""},{"$f":"IF($A1169=\"\",\"\",'Stammdaten Mitarbeitende'!L1169)","v":""},{"$f":"IF(OR($A1169=\"\",'Stammdaten Mitarbeitende'!J1169=\"\"),\"\",'Stammdaten Mitarbeitende'!J1169)","v":""},"","",0,0,0,0,0,0,0]
[{"$f":"Übersetzungstexte!A$230","v":"Seitentotal"},null,{"$f":"SUM(C1149:C1169)","v":0},null,{"$f":"SUM(E1149:E1169)","v":0},{"$f":"SUM(F1149:F1169)","v":0},null,{"$f":"Übersetzungstexte!A$230","v":"Seitentotal"},null,{"$f":"SUM(J1149:J1169)","v":0},null,{"$f":"SUM(L1149:L1169)","v":0},{"$f":"SUM(M1149:M1169)","v":0}]
[{"$f":"'Stammdaten Betrieb & Abteilung'!D$1","v":"  "},null,null,null,null,null,null,{"$f":"Übersetzungstexte!A$190","v":"Betrieb / Betriebsabteilung"},{"$f":"'Stammdaten Betrieb & Abteilung'!D$13","v":" "}]
[{"$f":"'Stammdaten Betrieb & Abteilung'!D$3","v":" "},null,null,null,null,null,null,{"$f":"Übersetzungstexte!A$191","v":"PLZ/Ort"},{"$f":"'Stammdaten Betrieb & Abteilung'!D$4","v":" "}]
[]
[null,null,null,null,null,{"$f":"CONCATENATE(Übersetzungstexte!A$192,\" \",TEXT(MONTH(P$3),\"00\"),\".\",YEAR(P$3))","v":"Zeitgleiche Periode des Vorjahres: 01.3799"},null,null,null,null,null,null,{"$f":"CONCATENATE(Übersetzungstexte!A$211,\" \",TEXT(MONTH(P$4),\"00\"),\".\",YEAR(P$4))","v":"Zeitgleiche Periode des vorletzten Jahres: 01.3798"}]
[1,2,3,4,5,6,null,1,2,3,4,5,6,null,null,null,null,"Regel 4","Regel 5","Sollstd.","Absenzen",null,"Sollstd.","Absenzen"]
[{"$f":"Übersetzungstexte!A$193","v":""},{"$f":"Übersetzungstexte!A$196","v":"vertragliche"},{"$f":"Übersetzungstexte!A$199","v":"Sollstd. zeitgl."},{"$f":"Übersetzungstexte!A$202","v":"Istzeit"},{"$f":"Übersetzungstexte!A$205","v":"Bezahlte/"},{"$f":"Übersetzungstexte!A$208","v":"Ausfallstunden"},null,{"$f":"Übersetzungstexte!A$212","v":""},{"$f":"Übersetzungstexte!A$215","v":"vertragliche"},{"$f":"Übersetzungstexte!A$218","v":"Sollstd. zeitgl."},{"$f":"Übersetzungstexte!A$221","v":"Istzeit"},{"$f":"Übersetzungstexte!A$224","v":"Bezahlte/"},{"$f":"Übersetzungstexte!A$227","v":"Ausfallstunden"},null,null,"anrechen-","vertragl.","Ausfall-","Ausfall-","betroffene","betroffene","Ausfall-","betroffene","betroffene","Ausfall-"]
[{"$f":"Übersetzungstexte!A$194","v":""},{"$f":"Übersetzungstexte!A$197","v":"wöchentliche"},{"$f":"Übersetzungstexte!A$200","v":"Periode inkl."},{"$f":"Übersetzungstexte!A$203","v":""},{"$f":"Übersetzungstexte!A$206","v":"Unbezahlte"},{"$f":"Übersetzungstexte!A$209","v":""},null,{"$f":"Übersetzungstexte!A$213","v":""},{"$f":"Übersetzungstexte!A$216","v":"wöchentliche"},{"$f":"Übersetzungstexte!A$219","v":"Periode inkl."},{"$f":"Übersetzungstexte!A$222","v":""},{"$f":"Übersetzungstexte!A$225","v":"Unbezahlte"},{"$f":"Übersetzungstexte!A$228","v":""},null,null,"barer Std.-","wöchentl.","stunden","stunden","Mitarbeiter","Mitarbeiter","stunden","Mitarbeiter","Mitarbeiter","stunden","Max. der"]
[{"$f":"Übersetzungstexte!A$195","v":"Name,Vorname"},{"$f":"Übersetzungstexte!A$198","v":"Arbeitszeit"},{"$f":"Übersetzungstexte!A$201","v":"Vorholzeit"},{"$f":"Übersetzungstexte!A$204","v":""},{"$f":"Übersetzungstexte!A$207","v":"Absenzen"},{"$f":"Übersetzungstexte!A$210","v":""},null,{"$f":"Übersetzungstexte!A$214","v":"Name,Vorname"},{"$f":"Übersetzungstexte!A$217","v":"Arbeitszeit"},{"$f":"Übersetzungstexte!A$220","v":"Vorholzeit"},{"$f":"Übersetzungstexte!A$223","v":""},{"$f":"Übersetzungstexte!A$226","v":"Absenzen"},{"$f":"Übersetzungstexte!A$229","v":""},null,"Name,Vorname","Verdienst","Arbeitszeit",{"$f":"P$3","v":"3799-01-01"},{"$f":"P$4","v":"3798-01-01"},"Vorjahr","Vorjahr","Vorjahr","Vorvorjahr","Vorvorjahr","Vorvorjahr","Spalte"]
[{"$f":"O1179","v":""},null,null,null,null,{"$f":"R1179","v":""},null,{"$f":"O1179","v":""},null,null,null,null,{"$f":"S1179","v":""},null,{"$f":"'Stammdaten Mitarbeitende'!AA1179","v":""},{"$f":"IF($A1179=\"\",\"\",'Stammdaten Mitarbeitende'!L1179)","v":""},{"$f":"IF(OR($A1179=\"\",'Stammdaten Mitarbeitende'!J1179=\"\"),\"\",'Stammdaten Mitarbeitende'!J1179)","v":""},{"$f":"IF(OR($A1179=\"\",C1179=\"\",D1179=\"\",E1179=\"\"),\"\",MAX(C1179-D1179-E1179,0))","v":""},{"$f":"IF(OR($H1179=\"\",J1179=\"\",K1179=\"\",L1179=\"\"),\"\",MAX(J1179-K1179-L1179,0))","v":""},{"$f":"IF(OR(F1179=\"\"),0,C1179)","v":0},{"$f":"IF(OR(F1179=\"\"),0,E1179)","v":0},{"$f":"IF(OR(F1179<=0,F1179=\"\"),0,R1179)","v":0},{"$f":"IF(OR(M1179=\"\"),0,J1179)","v":0},{"$f":"IF(OR(M1179=\"\"),0,L1179)","v":0},{"$f":"IF(OR(M1179<=0,M1179=\"\"),0,S1179)","v":0},{"$f":"MAX(P1179:Y1179)","v":0}]
["",null,null,null,null,"",null,"",null,null,null,null,"",null,{"$f":"'Stammdaten Mitarbeitende'!AA1180","v":""},{"$f":"IF($A1180=\"\",\"\",'Stammdaten Mitarbeitende'!L1180)","v":""},{"$f":"IF(OR($A1180=\"\",'Stammdaten Mitarbeitende'!J1180=\"\"),\"\",'Stammdaten Mitarbeitende'!J1180)","v":""},"",{"$f":"IF(OR($H1180=\"\",J1180=\"\",K1180=\"\",L1180=\"\"),\"\",MAX(J1180-K1180-L1180,0))","v":""},0,0,0,0,0,0,{"$f":"MAX(P1180:Y1180)","v":0}]
["",null,null,null,null,"",null,"",null,null,null,null,"",null,{"$f":"'Stammdaten Mitarbeitende'!AA1181","v":""},{"$f":"IF($A1181=\"\",\"\",'Stammdaten Mitarbeitende'!L1181)","v":""},{"$f":"IF(OR($A1181=\"\",'Stammdaten Mitarbeitende'!J1181=\"\"),\"\",'Stammdaten Mitarbeitende'!J1181)","v":""},"","",0,0,0,0,0,0,0]
["",null,null,null,null,"",null,"",null,null,null,null,"",null,{"$f":"'Stammdaten Mitarbeitende'!AA1182","v":""},{"$f":"IF($A1182=\"\",\"\",'Stammdaten Mitarbeitende'!L1182)","v":""},{"$f":"IF(OR($A1182=\"\",'Stammdaten Mitarbeitende'!J1182=\"\"),\"\",'Stammdaten Mitarbeitende'!J1182)","v":""},"","",0,0,0,0,0,0,0]
["",null,null,null,null,"",null,"",null,null,null,null,"",null,{"$f":"'Stammdaten Mitarbeitende'!AA1183","v":""},{"$f":"IF($A1183=\"\",\"\",'Stammdaten Mitarbeitende'!L1183)","v":""},{"$f":"IF(OR($A1183=\"\",'Stammdaten Mitarbeitende'!J1183=\"\"),\"\",'Stammdaten Mitarbeitende'!J1183)","v":""},"","",0,0,0,0,0,0,0]
["",null,null,null,null,"",null,"",null,null,null,null,"",null,{"$f":"'Stammdaten Mitarbeitende'!AA1184","v":""},{"$f":"IF($A1184=\"\",\"\",'Stammdaten Mitarbeitende'!L1184)","v":""},{"$f":"IF(OR($A1184=\"\",'Stammdaten Mitarbeitende'!J1184=\"\"),\"\",'Stammdaten Mitarbeitende'!J1184)","v":""},"","",0,0,0,0,0,0,0]
["",null,null,null,null,"",null,"",null,null,null,null,"",null,{"$f":"'Stammdaten Mitarbeitende'!AA1185","v":""},{"$f":"IF($A1185=\"\",\"\",'Stammdaten Mitarbeitende'!L1185)","v":""},{"$f":"IF(OR($A1185=\"\",'Stammdaten Mitarbeitende'!J1185=\"\"),\"\",'Stammdaten Mitarbeitende'!J1185)","v":""},"","",0,0,0,0,0,0,0]
["",null,null,null,null,"",null,"",null,null,null,null,"",null,{"$f":"'Stammdaten Mitarbeitende'!AA1186","v":""},{"$f":"IF($A1186=\"\",\"\",'Stammdaten Mitarbeitende'!L1186)","v":""},{"$f":"IF(OR($A1186=\"\",'Stammdaten Mitarbeitende'!J1186=\"\"),\"\",'Stammdaten Mitarbeitende'!J1186)","v":""},"","",0,0,0,0,0,0,0]
["",null,null,null,null,"",null,"",null,null,null,null,"",null,{"$f":"'Stammdaten Mitarbeitende'!AA1187","v":""},{"$f":"IF($A1187=\"\",\"\",'Stammdaten Mitarbeitende'!L1187)","v":""},{"$f":"IF(OR($A1187=\"\",'Stammdaten Mitarbeitende'!J1187=\"\"),\"\",'Stammdaten Mitarbeitende'!J1187)","v":""},"","",0,0,0,0,0,0,0]
["",null,null,null,null,"",null,"",null,null,null,null,"",null,{"$f":"'Stammdaten Mitarbeitende'!AA1188","v":""},{"$f":"IF($A1188=\"\",\"\",'Stammdaten Mitarbeitende'!L1188)","v":""},{"$f":"IF(OR($A1188=\"\",'Stammdaten Mitarbeitende'!J1188=\"\"),\"\",'Stammdaten Mitarbeitende'!J1188)","v":""},"","",0,0,0,0,0,0,0]
["",null,null,null,null,"",null,"",null,null,null,null,"",null,{"$f":"'Stammdaten Mitarbeitende'!AA1189","v":""},{"$f":"IF($A1189=\"\",\"\",'Stammdaten Mitarbeitende'!L1189)","v":""},{"$f":"IF(OR($A1189=\"\",'Stammdaten Mitarbeitende'!J1189=\"\"),\"\",'Stammdaten Mitarbeitende'!J1189)","v":""},"","",0,0,0,0,0,0,0]
["",null,null,null,null,"",null,"",null,null,null,null,"",null,{"$f":"'Stammdaten Mitarbeitende'!AA1190","v":""},{"$f":"IF($A1190=\"\",\"\",'Stammdaten Mitarbeitende'!L1190)","v":""},{"$f":"IF(OR($A1190=\"\",'Stammdaten Mitarbeitende'!J1190=\"\"),\"\",'Stammdaten Mitarbeitende'!J1190)","v":""},"","",0,0,0,0,0,0,0]
["",null,null,null,null,"",null,"",null,null,null,null,"",null,{"$f":"'Stammdaten Mitarbeitende'!AA1191","v":""},{"$f":"IF($A1191=\"\",\"\",'Stammdaten Mitarbeitende'!L1191)","v":""},{"$f":"IF(OR($A1191=\"\",'Stammdaten Mitarbeitende'!J1191=\"\"),\"\",'Stammdaten Mitarbeitende'!J1191)","v":""},"","",0,0,0,0,0,0,0]
["",null,null,null,null,"",null,"",null,null,null,null,"",null,{"$f":"'Stammdaten Mitarbeitende'!AA1192","v":""},{"$f":"IF($A1192=\"\",\"\",'Stammdaten Mitarbeitende'!L1192)","v":""},{"$f":"IF(OR($A1192=\"\",'Stammdaten Mitarbeitende'!J1192=\"\"),\"\",'Stammdaten Mitarbeitende'!J1192)","v":""},"","",0,0,0,0,0,0,0]
["",null,null,null,null,"",null,"",null,null,null,null,"",null,{"$f":"'Stammdaten Mitarbeitende'!AA1193","v":""},{"$f":"IF($A1193=\"\",\"\",'Stammdaten Mitarbeitende'!L1193)","v":""},{"$f":"IF(OR($A1193=\"\",'Stammdaten Mitarbeitende'!J1193=\"\"),\"\",'Stammdaten Mitarbeitende'!J1193)","v":""},"","",0,0,0,0,0,0,0]
["",null,null,null,null,"",null,"",null,null,null,null,"",null,{"$f":"'Stammdaten Mitarbeitende'!AA1194","v":""},{"$f":"IF($A1194=\"\",\"\",'Stammdaten Mitarbeitende'!L1194)","v":""},{"$f":"IF(OR($A1194=\"\",'Stammdaten Mitarbeitende'!J1194=\"\"),\"\",'Stammdaten Mitarbeitende'!J1194)","v":""},"","",0,0,0,0,0,0,0]
["",null,null,null,null,"",null,"",null,null,null,null,"",null,{"$f":"'Stammdaten Mitarbeitende'!AA1195","v":""},{"$f":"IF($A1195=\"\",\"\",'Stammdaten Mitarbeitende'!L1195)","v":""},{"$f":"IF(OR($A1195=\"\",'Stammdaten Mitarbeitende'!J1195=\"\"),\"\",'Stammdaten Mitarbeitende'!J1195)","v":""},"","",0,0,0,0,0,0,0]
["",null,null,null,null,"",null,"",null,null,null,null,"",null,{"$f":"'Stammdaten Mitarbeitende'!AA1196","v":""},{"$f":"IF($A1196=\"\",\"\",'Stammdaten Mitarbeitende'!L1196)","v":""},{"$f":"IF(OR($A1196=\"\",'Stammdaten Mitarbeitende'!J1196=\"\"),\"\",'Stammdaten Mitarbeitende'!J1196)","v":""},"","",0,0,0,0,0,0,0]
["",null,null,null,null,"",null,"",null,null,null,null,"",null,{"$f":"'Stammdaten Mitarbeitende'!AA1197","v":""},{"$f":"IF($A1197=\"\",\"\",'Stammdaten Mitarbeitende'!L1197)","v":""},{"$f":"IF(OR($A1197=\"\",'Stammdaten Mitarbeitende'!J1197=\"\"),\"\",'Stammdaten Mitarbeitende'!J1197)","v":""},"","",0,0,0,0,0,0,0]
["",null,null,null,null,"",null,"",null,null,null,null,"",null,{"$f":"'Stammdaten Mitarbeitende'!AA1198","v":""},{"$f":"IF($A1198=\"\",\"\",'Stammdaten Mitarbeitende'!L1198)","v":""},{"$f":"IF(OR($A1198=\"\",'Stammdaten Mitarbeitende'!J1198=\"\"),\"\",'Stammdaten Mitarbeitende'!J1198)","v":""},"","",0,0,0,0,0,0,0]
["",null,null,null,null,"",null,"",null,null,null,null,"",null,{"$f":"'Stammdaten Mitarbeitende'!AA1199","v":""},{"$f":"IF($A1199=\"\",\"\",'Stammdaten Mitarbeitende'!L1199)","v":""},{"$f":"IF(OR($A1199=\"\",'Stammdaten Mitarbeitende'!J1199=\"\"),\"\",'Stammdaten Mitarbeitende'!J1199)","v":""},"","",0,0,0,0,0,0,0]
[{"$f":"Übersetzungstexte!A$230","v":"Seitentotal"},null,{"$f":"SUM(C1179:C1199)","v":0},null,{"$f":"SUM(E1179:E1199)","v":0},{"$f":"SUM(F1179:F1199)","v":0},null,{"$f":"Übersetzungstexte!A$230","v":"Seitentotal"},null,{"$f":"SUM(J1179:J1199)","v":0},null,{"$f":"SUM(L1179:L1199)","v":0},{"$f":"SUM(M1179:M1199)","v":0}]
[{"$f":"'Stammdaten Betrieb & Abteilung'!D$1","v":"  "},null,null,null,null,null,null,{"$f":"Übersetzungstexte!A$190","v":"Betrieb / Betriebsabteilung"},{"$f":"'Stammdaten Betrieb & Abteilung'!D$13","v":" "}]
[{"$f":"'Stammdaten Betrieb & Abteilung'!D$3","v":" "},null,null,null,null,null,null,{"$f":"Übersetzungstexte!A$191","v":"PLZ/Ort"},{"$f":"'Stammdaten Betrieb & Abteilung'!D$4","v":" "}]
[]
[null,null,null,null,null,{"$f":"CONCATENATE(Übersetzungstexte!A$192,\" \",TEXT(MONTH(P$3),\"00\"),\".\",YEAR(P$3))","v":"Zeitgleiche Periode des Vorjahres: 01.3799"},null,null,null,null,null,null,{"$f":"CONCATENATE(Übersetzungstexte!A$211,\" \",TEXT(MONTH(P$4),\"00\"),\".\",YEAR(P$4))","v":"Zeitgleiche Periode des vorletzten Jahres: 01.3798"}]
[1,2,3,4,5,6,null,1,2,3,4,5,6,null,null,null,null,"Regel 4","Regel 5","Sollstd.","Absenzen",null,"Sollstd.","Absenzen"]
[{"$f":"Übersetzungstexte!A$193","v":""},{"$f":"Übersetzungstexte!A$196","v":"vertragliche"},{"$f":"Übersetzungstexte!A$199","v":"Sollstd. zeitgl."},{"$f":"Übersetzungstexte!A$202","v":"Istzeit"},{"$f":"Übersetzungstexte!A$205","v":"Bezahlte/"},{"$f":"Übersetzungstexte!A$208","v":"Ausfallstunden"},null,{"$f":"Übersetzungstexte!A$212","v":""},{"$f":"Übersetzungstexte!A$215","v":"vertragliche"},{"$f":"Übersetzungstexte!A$218","v":"Sollstd. zeitgl."},{"$f":"Übersetzungstexte!A$221","v":"Istzeit"},{"$f":"Übersetzungstexte!A$224","v":"Bezahlte/"},{"$f":"Übersetzungstexte!A$227","v":"Ausfallstunden"},null,null,"anrechen-","vertragl.","Ausfall-","Ausfall-","betroffene","betroffene","Ausfall-","betroffene","betroffene","Ausfall-"]
[{"$f":"Übersetzungstexte!A$194","v":""},{"$f":"Übersetzungstexte!A$197","v":"wöchentliche"},{"$f":"Übersetzungstexte!A$200","v":"Periode inkl."},{"$f":"Übersetzungstexte!A$203","v":""},{"$f":"Übersetzungstexte!A$206","v":"Unbezahlte"},{"$f":"Übersetzungstexte!A$209","v":""},null,{"$f":"Übersetzungstexte!A$213","v":""},{"$f":"Übersetzungstexte!A$216","v":"wöchentliche"},{"$f":"Übersetzungstexte!A$219","v":"Periode inkl."},{"$f":"Übersetzungstexte!A$222","v":""},{"$f":"Übersetzungstexte!A$225","v":"Unbezahlte"},{"$f":"Übersetzungstexte!A$228","v":""},null,null,"barer Std.-","wöchentl.","stunden","stunden","Mitarbeiter","Mitarbeiter","stunden","Mitarbeiter","Mitarbeiter","stunden","Max. der"]
[{"$f":"Übersetzungstexte!A$195","v":"Name,Vorname"},{"$f":"Übersetzungstexte!A$198","v":"Arbeitszeit"},{"$f":"Übersetzungstexte!A$201","v":"Vorholzeit"},{"$f":"Übersetzungstexte!A$204","v":""},{"$f":"Übersetzungstexte!A$207","v":"Absenzen"},{"$f":"Übersetzungstexte!A$210","v":""},null,{"$f":"Übersetzungstexte!A$214","v":"Name,Vorname"},{"$f":"Übersetzungstexte!A$217","v":"Arbeitszeit"},{"$f":"Übersetzungstexte!A$220","v":"Vorholzeit"},{"$f":"Übersetzungstexte!A$223","v":""},{"$f":"Übersetzungstexte!A$226","v":"Absenzen"},{"$f":"Übersetzungstexte!A$229","v":""},null,"Name,Vorname","Verdienst","Arbeitszeit",{"$f":"P$3","v":"3799-01-01"},{"$f":"P$4","v":"3798-01-01"},"Vorjahr","Vorjahr","Vorjahr","Vorvorjahr","Vorvorjahr","Vorvorjahr","Spalte"]
[{"$f":"O1209","v":""},null,null,null,null,{"$f":"R1209","v":""},null,{"$f":"O1209","v":""},null,null,null,null,{"$f":"S1209","v":""},null,{"$f":"'Stammdaten Mitarbeitende'!AA1209","v":""},{"$f":"IF($A1209=\"\",\"\",'Stammdaten Mitarbeitende'!L1209)","v":""},{"$f":"IF(OR($A1209=\"\",'Stammdaten Mitarbeitende'!J1209=\"\"),\"\",'Stammdaten Mitarbeitende'!J1209)","v":""},{"$f":"IF(OR($A1209=\"\",C1209=\"\",D1209=\"\",E1209=\"\"),\"\",MAX(C1209-D1209-E1209,0))","v":""},{"$f":"IF(OR($H1209=\"\",J1209=\"\",K1209=\"\",L1209=\"\"),\"\",MAX(J1209-K1209-L1209,0))","v":""},{"$f":"IF(OR(F1209=\"\"),0,C1209)","v":0},{"$f":"IF(OR(F1209=\"\"),0,E1209)","v":0},{"$f":"IF(OR(F1209<=0,F1209=\"\"),0,R1209)","v":0},{"$f":"IF(OR(M1209=\"\"),0,J1209)","v":0},{"$f":"IF(OR(M1209=\"\"),0,L1209)","v":0},{"$f":"IF(OR(M1209<=0,M1209=\"\"),0,S1209)","v":0},{"$f":"MAX(P1209:Y1209)","v":0}]
["",null,null,null,null,"",null,"",null,null,null,null,"",null,{"$f":"'Stammdaten Mitarbeitende'!AA1210","v":""},{"$f":"IF($A1210=\"\",\"\",'Stammdaten Mitarbeitende'!L1210)","v":""},{"$f":"IF(OR($A1210=\"\",'Stammdaten Mitarbeitende'!J1210=\"\"),\"\",'Stammdaten Mitarbeitende'!J1210)","v":""},"",{"$f":"IF(OR($H1210=\"\",J1210=\"\",K1210=\"\",L1210=\"\"),\"\",MAX(J1210-K1210-L1210,0))","v":""},0,0,0,0,0,0,{"$f":"MAX(P1210:Y1210)","v":0}]
["",null,null,null,null,"",null,"",null,null,null,null,"",null,{"$f":"'Stammdaten Mitarbeitende'!AA1211","v":""},{"$f":"IF($A1211=\"\",\"\",'Stammdaten Mitarbeitende'!L1211)","v":""},{"$f":"IF(OR($A1211=\"\",'Stammdaten Mitarbeitende'!J1211=\"\"),\"\",'Stammdaten Mitarbeitende'!J1211)","v":""},"","",0,0,0,0,0,0,0]
["",null,null,null,null,"",null,"",null,null,null,null,"",null,{"$f":"'Stammdaten Mitarbeitende'!AA1212","v":""},{"$f":"IF($A1212=\"\",\"\",'Stammdaten Mitarbeitende'!L1212)","v":""},{"$f":"IF(OR($A1212=\"\",'Stammdaten Mitarbeitende'!J1212=\"\"),\"\",'Stammdaten Mitarbeitende'!J1212)","v":""},"","",0,0,0,0,0,0,0]
["",null,null,null,null,"",null,"",null,null,null,null,"",null,{"$f":"'Stammdaten Mitarbeitende'!AA1213","v":""},{"$f":"IF($A1213=\"\",\"\",'Stammdaten Mitarbeitende'!L1213)","v":""},{"$f":"IF(OR($A1213=\"\",'Stammdaten Mitarbeitende'!J1213=\"\"),\"\",'Stammdaten Mitarbeitende'!J1213)","v":""},"","",0,0,0,0,0,0,0]
["",null,null,null,null,"",null,"",null,null,null,null,"",null,{"$f":"'Stammdaten Mitarbeitende'!AA1214","v":""},{"$f":"IF($A1214=\"\",\"\",'Stammdaten Mitarbeitende'!L1214)","v":""},{"$f":"IF(OR($A1214=\"\",'Stammdaten Mitarbeitende'!J1214=\"\"),\"\",'Stammdaten Mitarbeitende'!J1214)","v":""},"","",0,0,0,0,0,0,0]
["",null,null,null,null,"",null,"",null,null,null,null,"",null,{"$f":"'Stammdaten Mitarbeitende'!AA1215","v":""},{"$f":"IF($A1215=\"\",\"\",'Stammdaten Mitarbeitende'!L1215)","v":""},{"$f":"IF(OR($A1215=\"\",'Stammdaten Mitarbeitende'!J1215=\"\"),\"\",'Stammdaten Mitarbeitende'!J1215)","v":""},"","",0,0,0,0,0,0,0]
["",null,null,null,null,"",null,"",null,null,null,null,"",null,{"$f":"'Stammdaten Mitarbeitende'!AA1216","v":""},{"$f":"IF($A1216=\"\",\"\",'Stammdaten Mitarbeitende'!L1216)","v":""},{"$f":"IF(OR($A1216=\"\",'Stammdaten Mitarbeitende'!J1216=\"\"),\"\",'Stammdaten Mitarbeitende'!J1216)","v":""},"","",0,0,0,0,0,0,0]
["",null,null,null,null,"",null,"",null,null,null,null,"",null,{"$f":"'Stammdaten Mitarbeitende'!AA1217","v":""},{"$f":"IF($A1217=\"\",\"\",'Stammdaten Mitarbeitende'!L1217)","v":""},{"$f":"IF(OR($A1217=\"\",'Stammdaten Mitarbeitende'!J1217=\"\"),\"\",'Stammdaten Mitarbeitende'!J1217)","v":""},"","",0,0,0,0,0,0,0]
["",null,null,null,null,"",null,"",null,null,null,null,"",null,{"$f":"'Stammdaten Mitarbeitende'!AA1218","v":""},{"$f":"IF($A1218=\"\",\"\",'Stammdaten Mitarbeitende'!L1218)","v":""},{"$f":"IF(OR($A1218=\"\",'Stammdaten Mitarbeitende'!J1218=\"\"),\"\",'Stammdaten Mitarbeitende'!J1218)","v":""},"","",0,0,0,0,0,0,0]
["",null,null,null,null,"",null,"",null,null,null,null,"",null,{"$f":"'Stammdaten Mitarbeitende'!AA1219","v":""},{"$f":"IF($A1219=\"\",\"\",'Stammdaten Mitarbeitende'!L1219)","v":""},{"$f":"IF(OR($A1219=\"\",'Stammdaten Mitarbeitende'!J1219=\"\"),\"\",'Stammdaten Mitarbeitende'!J1219)","v":""},"","",0,0,0,0,0,0,0]
["",null,null,null,null,"",null,"",null,null,null,null,"",null,{"$f":"'Stammdaten Mitarbeitende'!AA1220","v":""},{"$f":"IF($A1220=\"\",\"\",'Stammdaten Mitarbeitende'!L1220)","v":""},{"$f":"IF(OR($A1220=\"\",'Stammdaten Mitarbeitende'!J1220=\"\"),\"\",'Stammdaten Mitarbeitende'!J1220)","v":""},"","",0,0,0,0,0,0,0]
["",null,null,null,null,"",null,"",null,null,null,null,"",null,{"$f":"'Stammdaten Mitarbeitende'!AA1221","v":""},{"$f":"IF($A1221=\"\",\"\",'Stammdaten Mitarbeitende'!L1221)","v":""},{"$f":"IF(OR($A1221=\"\",'Stammdaten Mitarbeitende'!J1221=\"\"),\"\",'Stammdaten Mitarbeitende'!J1221)","v":""},"","",0,0,0,0,0,0,0]
["",null,null,null,null,"",null,"",null,null,null,null,"",null,{"$f":"'Stammdaten Mitarbeitende'!AA1222","v":""},{"$f":"IF($A1222=\"\",\"\",'Stammdaten Mitarbeitende'!L1222)","v":""},{"$f":"IF(OR($A1222=\"\",'Stammdaten Mitarbeitende'!J1222=\"\"),\"\",'Stammdaten Mitarbeitende'!J1222)","v":""},"","",0,0,0,0,0,0,0]
["",null,null,null,null,"",null,"",null,null,null,null,"",null,{"$f":"'Stammdaten Mitarbeitende'!AA1223","v":""},{"$f":"IF($A1223=\"\",\"\",'Stammdaten Mitarbeitende'!L1223)","v":""},{"$f":"IF(OR($A1223=\"\",'Stammdaten Mitarbeitende'!J1223=\"\"),\"\",'Stammdaten Mitarbeitende'!J1223)","v":""},"","",0,0,0,0,0,0,0]
["",null,null,null,null,"",null,"",null,null,null,null,"",null,{"$f":"'Stammdaten Mitarbeitende'!AA1224","v":""},{"$f":"IF($A1224=\"\",\"\",'Stammdaten Mitarbeitende'!L1224)","v":""},{"$f":"IF(OR($A1224=\"\",'Stammdaten Mitarbeitende'!J1224=\"\"),\"\",'Stammdaten Mitarbeitende'!J1224)","v":""},"","",0,0,0,0,0,0,0]
["",null,null,null,null,"",null,"",null,null,null,null,"",null,{"$f":"'Stammdaten Mitarbeitende'!AA1225","v":""},{"$f":"IF($A1225=\"\",\"\",'Stammdaten Mitarbeitende'!L1225)","v":""},{"$f":"IF(OR($A1225=\"\",'Stammdaten Mitarbeitende'!J1225=\"\"),\"\",'Stammdaten Mitarbeitende'!J1225)","v":""},"","",0,0,0,0,0,0,0]
["",null,null,null,null,"",null,"",null,null,null,null,"",null,{"$f":"'Stammdaten Mitarbeitende'!AA1226","v":""},{"$f":"IF($A1226=\"\",\"\",'Stammdaten Mitarbeitende'!L1226)","v":""},{"$f":"IF(OR($A1226=\"\",'Stammdaten Mitarbeitende'!J1226=\"\"),\"\",'Stammdaten Mitarbeitende'!J1226)","v":""},"","",0,0,0,0,0,0,0]
["",null,null,null,null,"",null,"",null,null,null,null,"",null,{"$f":"'Stammdaten Mitarbeitende'!AA1227","v":""},{"$f":"IF($A1227=\"\",\"\",'Stammdaten Mitarbeitende'!L1227)","v":""},{"$f":"IF(OR($A1227=\"\",'Stammdaten Mitarbeitende'!J1227=\"\"),\"\",'Stammdaten Mitarbeitende'!J1227)","v":""},"","",0,0,0,0,0,0,0]
["",null,null,null,null,"",null,"",null,null,null,null,"",null,{"$f":"'Stammdaten Mitarbeitende'!AA1228","v":""},{"$f":"IF($A1228=\"\",\"\",'Stammdaten Mitarbeitende'!L1228)","v":""},{"$f":"IF(OR($A1228=\"\",'Stammdaten Mitarbeitende'!J1228=\"\"),\"\",'Stammdaten Mitarbeitende'!J1228)","v":""},"","",0,0,0,0,0,0,0]
["",null,null,null,null,"",null,"",null,null,null,null,"",null,{"$f":"'Stammdaten Mitarbeitende'!AA1229","v":""},{"$f":"IF($A1229=\"\",\"\",'Stammdaten Mitarbeitende'!L1229)","v":""},{"$f":"IF(OR($A1229=\"\",'Stammdaten Mitarbeitende'!J1229=\"\"),\"\",'Stammdaten Mitarbeitende'!J1229)","v":""},"","",0,0,0,0,0,0,0]
[{"$f":"Übersetzungstexte!A$230","v":"Seitentotal"},null,{"$f":"SUM(C1209:C1229)","v":0},null,{"$f":"SUM(E1209:E1229)","v":0},{"$f":"SUM(F1209:F1229)","v":0},null,{"$f":"Übersetzungstexte!A$230","v":"Seitentotal"},null,{"$f":"SUM(J1209:J1229)","v":0},null,{"$f":"SUM(L1209:L1229)","v":0},{"$f":"SUM(M1209:M1229)","v":0}]
[{"$f":"'Stammdaten Betrieb & Abteilung'!D$1","v":"  "},null,null,null,null,null,null,{"$f":"Übersetzungstexte!A$190","v":"Betrieb / Betriebsabteilung"},{"$f":"'Stammdaten Betrieb & Abteilung'!D$13","v":" "}]
[{"$f":"'Stammdaten Betrieb & Abteilung'!D$3","v":" "},null,null,null,null,null,null,{"$f":"Übersetzungstexte!A$191","v":"PLZ/Ort"},{"$f":"'Stammdaten Betrieb & Abteilung'!D$4","v":" "}]
[]
[null,null,null,null,null,{"$f":"CONCATENATE(Übersetzungstexte!A$192,\" \",TEXT(MONTH(P$3),\"00\"),\".\",YEAR(P$3))","v":"Zeitgleiche Periode des Vorjahres: 01.3799"},null,null,null,null,null,null,{"$f":"CONCATENATE(Übersetzungstexte!A$211,\" \",TEXT(MONTH(P$4),\"00\"),\".\",YEAR(P$4))","v":"Zeitgleiche Periode des vorletzten Jahres: 01.3798"}]
[1,2,3,4,5,6,null,1,2,3,4,5,6,null,null,null,null,"Regel 4","Regel 5","Sollstd.","Absenzen",null,"Sollstd.","Absenzen"]
[{"$f":"Übersetzungstexte!A$193","v":""},{"$f":"Übersetzungstexte!A$196","v":"vertragliche"},{"$f":"Übersetzungstexte!A$199","v":"Sollstd. zeitgl."},{"$f":"Übersetzungstexte!A$202","v":"Istzeit"},{"$f":"Übersetzungstexte!A$205","v":"Bezahlte/"},{"$f":"Übersetzungstexte!A$208","v":"Ausfallstunden"},null,{"$f":"Übersetzungstexte!A$212","v":""},{"$f":"Übersetzungstexte!A$215","v":"vertragliche"},{"$f":"Übersetzungstexte!A$218","v":"Sollstd. zeitgl."},{"$f":"Übersetzungstexte!A$221","v":"Istzeit"},{"$f":"Übersetzungstexte!A$224","v":"Bezahlte/"},{"$f":"Übersetzungstexte!A$227","v":"Ausfallstunden"},null,null,"anrechen-","vertragl.","Ausfall-","Ausfall-","betroffene","betroffene","Ausfall-","betroffene","betroffene","Ausfall-"]
[{"$f":"Übersetzungstexte!A$194","v":""},{"$f":"Übersetzungstexte!A$197","v":"wöchentliche"},{"$f":"Übersetzungstexte!A$200","v":"Periode inkl."},{"$f":"Übersetzungstexte!A$203","v":""},{"$f":"Übersetzungstexte!A$206","v":"Unbezahlte"},{"$f":"Übersetzungstexte!A$209","v":""},null,{"$f":"Übersetzungstexte!A$213","v":""},{"$f":"Übersetzungstexte!A$216","v":"wöchentliche"},{"$f":"Übersetzungstexte!A$219","v":"Periode inkl."},{"$f":"Übersetzungstexte!A$222","v":""},{"$f":"Übersetzungstexte!A$225","v":"Unbezahlte"},{"$f":"Übersetzungstexte!A$228","v":""},null,null,"barer Std.-","wöchentl.","stunden","stunden","Mitarbeiter","Mitarbeiter","stunden","Mitarbeiter","Mitarbeiter","stunden","Max. der"]
[{"$f":"Übersetzungstexte!A$195","v":"Name,Vorname"},{"$f":"Übersetzungstexte!A$198","v":"Arbeitszeit"},{"$f":"Übersetzungstexte!A$201","v":"Vorholzeit"},{"$f":"Übersetzungstexte!A$204","v":""},{"$f":"Übersetzungstexte!A$207","v":"Absenzen"},{"$f":"Übersetzungstexte!A$210","v":""},null,{"$f":"Übersetzungstexte!A$214","v":"Name,Vorname"},{"$f":"Übersetzungstexte!A$217","v":"Arbeitszeit"},{"$f":"Übersetzungstexte!A$220","v":"Vorholzeit"},{"$f":"Übersetzungstexte!A$223","v":""},{"$f":"Übersetzungstexte!A$226","v":"Absenzen"},{"$f":"Übersetzungstexte!A$229","v":""},null,"Name,Vorname","Verdienst","Arbeitszeit",{"$f":"P$3","v":"3799-01-01"},{"$f":"P$4","v":"3798-01-01"},"Vorjahr","Vorjahr","Vorjahr","Vorvorjahr","Vorvorjahr","Vorvorjahr","Spalte"]
[{"$f":"O1239","v":""},null,null,null,null,{"$f":"R1239","v":""},null,{"$f":"O1239","v":""},null,null,null,null,{"$f":"S1239","v":""},null,{"$f":"'Stammdaten Mitarbeitende'!AA1239","v":""},{"$f":"IF($A1239=\"\",\"\",'Stammdaten Mitarbeitende'!L1239)","v":""},{"$f":"IF(OR($A1239=\"\",'Stammdaten Mitarbeitende'!J1239=\"\"),\"\",'Stammdaten Mitarbeitende'!J1239)","v":""},{"$f":"IF(OR($A1239=\"\",C1239=\"\",D1239=\"\",E1239=\"\"),\"\",MAX(C1239-D1239-E1239,0))","v":""},{"$f":"IF(OR($H1239=\"\",J1239=\"\",K1239=\"\",L1239=\"\"),\"\",MAX(J1239-K1239-L1239,0))","v":""},{"$f":"IF(OR(F1239=\"\"),0,C1239)","v":0},{"$f":"IF(OR(F1239=\"\"),0,E1239)","v":0},{"$f":"IF(OR(F1239<=0,F1239=\"\"),0,R1239)","v":0},{"$f":"IF(OR(M1239=\"\"),0,J1239)","v":0},{"$f":"IF(OR(M1239=\"\"),0,L1239)","v":0},{"$f":"IF(OR(M1239<=0,M1239=\"\"),0,S1239)","v":0},{"$f":"MAX(P1239:Y1239)","v":0}]
["",null,null,null,null,"",null,"",null,null,null,null,"",null,{"$f":"'Stammdaten Mitarbeitende'!AA1240","v":""},{"$f":"IF($A1240=\"\",\"\",'Stammdaten Mitarbeitende'!L1240)","v":""},{"$f":"IF(OR($A1240=\"\",'Stammdaten Mitarbeitende'!J1240=\"\"),\"\",'Stammdaten Mitarbeitende'!J1240)","v":""},"",{"$f":"IF(OR($H1240=\"\",J1240=\"\",K1240=\"\",L1240=\"\"),\"\",MAX(J1240-K1240-L1240,0))","v":""},0,0,0,0,0,0,{"$f":"MAX(P1240:Y1240)","v":0}]
["",null,null,null,null,"",null,"",null,null,null,null,"",null,{"$f":"'Stammdaten Mitarbeitende'!AA1241","v":""},{"$f":"IF($A1241=\"\",\"\",'Stammdaten Mitarbeitende'!L1241)","v":""},{"$f":"IF(OR($A1241=\"\",'Stammdaten Mitarbeitende'!J1241=\"\"),\"\",'Stammdaten Mitarbeitende'!J1241)","v":""},"","",0,0,0,0,0,0,0]
["",null,null,null,null,"",null,"",null,null,null,null,"",null,{"$f":"'Stammdaten Mitarbeitende'!AA1242","v":""},{"$f":"IF($A1242=\"\",\"\",'Stammdaten Mitarbeitende'!L1242)","v":""},{"$f":"IF(OR($A1242=\"\",'Stammdaten Mitarbeitende'!J1242=\"\"),\"\",'Stammdaten Mitarbeitende'!J1242)","v":""},"","",0,0,0,0,0,0,0]
["",null,null,null,null,"",null,"",null,null,null,null,"",null,{"$f":"'Stammdaten Mitarbeitende'!AA1243","v":""},{"$f":"IF($A1243=\"\",\"\",'Stammdaten Mitarbeitende'!L1243)","v":""},{"$f":"IF(OR($A1243=\"\",'Stammdaten Mitarbeitende'!J1243=\"\"),\"\",'Stammdaten Mitarbeitende'!J1243)","v":""},"","",0,0,0,0,0,0,0]
["",null,null,null,null,"",null,"",null,null,null,null,"",null,{"$f":"'Stammdaten Mitarbeitende'!AA1244","v":""},{"$f":"IF($A1244=\"\",\"\",'Stammdaten Mitarbeitende'!L1244)","v":""},{"$f":"IF(OR($A1244=\"\",'Stammdaten Mitarbeitende'!J1244=\"\"),\"\",'Stammdaten Mitarbeitende'!J1244)","v":""},"","",0,0,0,0,0,0,0]
["",null,null,null,null,"",null,"",null,null,null,null,"",null,{"$f":"'Stammdaten Mitarbeitende'!AA1245","v":""},{"$f":"IF($A1245=\"\",\"\",'Stammdaten Mitarbeitende'!L1245)","v":""},{"$f":"IF(OR($A1245=\"\",'Stammdaten Mitarbeitende'!J1245=\"\"),\"\",'Stammdaten Mitarbeitende'!J1245)","v":""},"","",0,0,0,0,0,0,0]
["",null,null,null,null,"",null,"",null,null,null,null,"",null,{"$f":"'Stammdaten Mitarbeitende'!AA1246","v":""},{"$f":"IF($A1246=\"\",\"\",'Stammdaten Mitarbeitende'!L1246)","v":""},{"$f":"IF(OR($A1246=\"\",'Stammdaten Mitarbeitende'!J1246=\"\"),\"\",'Stammdaten Mitarbeitende'!J1246)","v":""},"","",0,0,0,0,0,0,0]
["",null,null,null,null,"",null,"",null,null,null,null,"",null,{"$f":"'Stammdaten Mitarbeitende'!AA1247","v":""},{"$f":"IF($A1247=\"\",\"\",'Stammdaten Mitarbeitende'!L1247)","v":""},{"$f":"IF(OR($A1247=\"\",'Stammdaten Mitarbeitende'!J1247=\"\"),\"\",'Stammdaten Mitarbeitende'!J1247)","v":""},"","",0,0,0,0,0,0,0]
["",null,null,null,null,"",null,"",null,null,null,null,"",null,{"$f":"'Stammdaten Mitarbeitende'!AA1248","v":""},{"$f":"IF($A1248=\"\",\"\",'Stammdaten Mitarbeitende'!L1248)","v":""},{"$f":"IF(OR($A1248=\"\",'Stammdaten Mitarbeitende'!J1248=\"\"),\"\",'Stammdaten Mitarbeitende'!J1248)","v":""},"","",0,0,0,0,0,0,0]
["",null,null,null,null,"",null,"",null,null,null,null,"",null,{"$f":"'Stammdaten Mitarbeitende'!AA1249","v":""},{"$f":"IF($A1249=\"\",\"\",'Stammdaten Mitarbeitende'!L1249)","v":""},{"$f":"IF(OR($A1249=\"\",'Stammdaten Mitarbeitende'!J1249=\"\"),\"\",'Stammdaten Mitarbeitende'!J1249)","v":""},"","",0,0,0,0,0,0,0]
["",null,null,null,null,"",null,"",null,null,null,null,"",null,{"$f":"'Stammdaten Mitarbeitende'!AA1250","v":""},{"$f":"IF($A1250=\"\",\"\",'Stammdaten Mitarbeitende'!L1250)","v":""},{"$f":"IF(OR($A1250=\"\",'Stammdaten Mitarbeitende'!J1250=\"\"),\"\",'Stammdaten Mitarbeitende'!J1250)","v":""},"","",0,0,0,0,0,0,0]
["",null,null,null,null,"",null,"",null,null,null,null,"",null,{"$f":"'Stammdaten Mitarbeitende'!AA1251","v":""},{"$f":"IF($A1251=\"\",\"\",'Stammdaten Mitarbeitende'!L1251)","v":""},{"$f":"IF(OR($A1251=\"\",'Stammdaten Mitarbeitende'!J1251=\"\"),\"\",'Stammdaten Mitarbeitende'!J1251)","v":""},"","",0,0,0,0,0,0,0]
["",null,null,null,null,"",null,"",null,null,null,null,"",null,{"$f":"'Stammdaten Mitarbeitende'!AA1252","v":""},{"$f":"IF($A1252=\"\",\"\",'Stammdaten Mitarbeitende'!L1252)","v":""},{"$f":"IF(OR($A1252=\"\",'Stammdaten Mitarbeitende'!J1252=\"\"),\"\",'Stammdaten Mitarbeitende'!J1252)","v":""},"","",0,0,0,0,0,0,0]
["",null,null,null,null,"",null,"",null,null,null,null,"",null,{"$f":"'Stammdaten Mitarbeitende'!AA1253","v":""},{"$f":"IF($A1253=\"\",\"\",'Stammdaten Mitarbeitende'!L1253)","v":""},{"$f":"IF(OR($A1253=\"\",'Stammdaten Mitarbeitende'!J1253=\"\"),\"\",'Stammdaten Mitarbeitende'!J1253)","v":""},"","",0,0,0,0,0,0,0]
["",null,null,null,null,"",null,"",null,null,null,null,"",null,{"$f":"'Stammdaten Mitarbeitende'!AA1254","v":""},{"$f":"IF($A1254=\"\",\"\",'Stammdaten Mitarbeitende'!L1254)","v":""},{"$f":"IF(OR($A1254=\"\",'Stammdaten Mitarbeitende'!J1254=\"\"),\"\",'Stammdaten Mitarbeitende'!J1254)","v":""},"","",0,0,0,0,0,0,0]
["",null,null,null,null,"",null,"",null,null,null,null,"",null,{"$f":"'Stammdaten Mitarbeitende'!AA1255","v":""},{"$f":"IF($A1255=\"\",\"\",'Stammdaten Mitarbeitende'!L1255)","v":""},{"$f":"IF(OR($A1255=\"\",'Stammdaten Mitarbeitende'!J1255=\"\"),\"\",'Stammdaten Mitarbeitende'!J1255)","v":""},"","",0,0,0,0,0,0,0]
["",null,null,null,null,"",null,"",null,null,null,null,"",null,{"$f":"'Stammdaten Mitarbeitende'!AA1256","v":""},{"$f":"IF($A1256=\"\",\"\",'Stammdaten Mitarbeitende'!L1256)","v":""},{"$f":"IF(OR($A1256=\"\",'Stammdaten Mitarbeitende'!J1256=\"\"),\"\",'Stammdaten Mitarbeitende'!J1256)","v":""},"","",0,0,0,0,0,0,0]
["",null,null,null,null,"",null,"",null,null,null,null,"",null,{"$f":"'Stammdaten Mitarbeitende'!AA1257","v":""},{"$f":"IF($A1257=\"\",\"\",'Stammdaten Mitarbeitende'!L1257)","v":""},{"$f":"IF(OR($A1257=\"\",'Stammdaten Mitarbeitende'!J1257=\"\"),\"\",'Stammdaten Mitarbeitende'!J1257)","v":""},"","",0,0,0,0,0,0,0]
["",null,null,null,null,"",null,"",null,null,null,null,"",null,{"$f":"'Stammdaten Mitarbeitende'!AA1258","v":""},{"$f":"IF($A1258=\"\",\"\",'Stammdaten Mitarbeitende'!L1258)","v":""},{"$f":"IF(OR($A1258=\"\",'Stammdaten Mitarbeitende'!J1258=\"\"),\"\",'Stammdaten Mitarbeitende'!J1258)","v":""},"","",0,0,0,0,0,0,0]
["",null,null,null,null,"",null,"",null,null,null,null,"",null,{"$f":"'Stammdaten Mitarbeitende'!AA1259","v":""},{"$f":"IF($A1259=\"\",\"\",'Stammdaten Mitarbeitende'!L1259)","v":""},{"$f":"IF(OR($A1259=\"\",'Stammdaten Mitarbeitende'!J1259=\"\"),\"\",'Stammdaten Mitarbeitende'!J1259)","v":""},"","",0,0,0,0,0,0,0]
[{"$f":"Übersetzungstexte!A$230","v":"Seitentotal"},null,{"$f":"SUM(C1239:C1259)","v":0},null,{"$f":"SUM(E1239:E1259)","v":0},{"$f":"SUM(F1239:F1259)","v":0},null,{"$f":"Übersetzungstexte!A$230","v":"Seitentotal"},null,{"$f":"SUM(J1239:J1259)","v":0},null,{"$f":"SUM(L1239:L1259)","v":0},{"$f":"SUM(M1239:M1259)","v":0}]
[{"$f":"'Stammdaten Betrieb & Abteilung'!D$1","v":"  "},null,null,null,null,null,null,{"$f":"Übersetzungstexte!A$190","v":"Betrieb / Betriebsabteilung"},{"$f":"'Stammdaten Betrieb & Abteilung'!D$13","v":" "}]
[{"$f":"'Stammdaten Betrieb & Abteilung'!D$3","v":" "},null,null,null,null,null,null,{"$f":"Übersetzungstexte!A$191","v":"PLZ/Ort"},{"$f":"'Stammdaten Betrieb & Abteilung'!D$4","v":" "}]
[]
[null,null,null,null,null,{"$f":"CONCATENATE(Übersetzungstexte!A$192,\" \",TEXT(MONTH(P$3),\"00\"),\".\",YEAR(P$3))","v":"Zeitgleiche Periode des Vorjahres: 01.3799"},null,null,null,null,null,null,{"$f":"CONCATENATE(Übersetzungstexte!A$211,\" \",TEXT(MONTH(P$4),\"00\"),\".\",YEAR(P$4))","v":"Zeitgleiche Periode des vorletzten Jahres: 01.3798"}]
[1,2,3,4,5,6,null,1,2,3,4,5,6,null,null,null,null,"Regel 4","Regel 5","Sollstd.","Absenzen",null,"Sollstd.","Absenzen"]
[{"$f":"Übersetzungstexte!A$193","v":""},{"$f":"Übersetzungstexte!A$196","v":"vertragliche"},{"$f":"Übersetzungstexte!A$199","v":"Sollstd. zeitgl."},{"$f":"Übersetzungstexte!A$202","v":"Istzeit"},{"$f":"Übersetzungstexte!A$205","v":"Bezahlte/"},{"$f":"Übersetzungstexte!A$208","v":"Ausfallstunden"},null,{"$f":"Übersetzungstexte!A$212","v":""},{"$f":"Übersetzungstexte!A$215","v":"vertragliche"},{"$f":"Übersetzungstexte!A$218","v":"Sollstd. zeitgl."},{"$f":"Übersetzungstexte!A$221","v":"Istzeit"},{"$f":"Übersetzungstexte!A$224","v":"Bezahlte/"},{"$f":"Übersetzungstexte!A$227","v":"Ausfallstunden"},null,null,"anrechen-","vertragl.","Ausfall-","Ausfall-","betroffene","betroffene","Ausfall-","betroffene","betroffene","Ausfall-"]
[{"$f":"Übersetzungstexte!A$194","v":""},{"$f":"Übersetzungstexte!A$197","v":"wöchentliche"},{"$f":"Übersetzungstexte!A$200","v":"Periode inkl."},{"$f":"Übersetzungstexte!A$203","v":""},{"$f":"Übersetzungstexte!A$206","v":"Unbezahlte"},{"$f":"Übersetzungstexte!A$209","v":""},null,{"$f":"Übersetzungstexte!A$213","v":""},{"$f":"Übersetzungstexte!A$216","v":"wöchentliche"},{"$f":"Übersetzungstexte!A$219","v":"Periode inkl."},{"$f":"Übersetzungstexte!A$222","v":""},{"$f":"Übersetzungstexte!A$225","v":"Unbezahlte"},{"$f":"Übersetzungstexte!A$228","v":""},null,null,"barer Std.-","wöchentl.","stunden","stunden","Mitarbeiter","Mitarbeiter","stunden","Mitarbeiter","Mitarbeiter","stunden","Max. der"]
[{"$f":"Übersetzungstexte!A$195","v":"Name,Vorname"},{"$f":"Übersetzungstexte!A$198","v":"Arbeitszeit"},{"$f":"Übersetzungstexte!A$201","v":"Vorholzeit"},{"$f":"Übersetzungstexte!A$204","v":""},{"$f":"Übersetzungstexte!A$207","v":"Absenzen"},{"$f":"Übersetzungstexte!A$210","v":""},null,{"$f":"Übersetzungstexte!A$214","v":"Name,Vorname"},{"$f":"Übersetzungstexte!A$217","v":"Arbeitszeit"},{"$f":"Übersetzungstexte!A$220","v":"Vorholzeit"},{"$f":"Übersetzungstexte!A$223","v":""},{"$f":"Übersetzungstexte!A$226","v":"Absenzen"},{"$f":"Übersetzungstexte!A$229","v":""},null,"Name,Vorname","Verdienst","Arbeitszeit",{"$f":"P$3","v":"3799-01-01"},{"$f":"P$4","v":"3798-01-01"},"Vorjahr","Vorjahr","Vorjahr","Vorvorjahr","Vorvorjahr","Vorvorjahr","Spalte"]
[{"$f":"O1269","v":""},null,null,null,null,{"$f":"R1269","v":""},null,{"$f":"O1269","v":""},null,null,null,null,{"$f":"S1269","v":""},null,{"$f":"'Stammdaten Mitarbeitende'!AA1269","v":""},{"$f":"IF($A1269=\"\",\"\",'Stammdaten Mitarbeitende'!L1269)","v":""},{"$f":"IF(OR($A1269=\"\",'Stammdaten Mitarbeitende'!J1269=\"\"),\"\",'Stammdaten Mitarbeitende'!J1269)","v":""},{"$f":"IF(OR($A1269=\"\",C1269=\"\",D1269=\"\",E1269=\"\"),\"\",MAX(C1269-D1269-E1269,0))","v":""},{"$f":"IF(OR($H1269=\"\",J1269=\"\",K1269=\"\",L1269=\"\"),\"\",MAX(J1269-K1269-L1269,0))","v":""},{"$f":"IF(OR(F1269=\"\"),0,C1269)","v":0},{"$f":"IF(OR(F1269=\"\"),0,E1269)","v":0},{"$f":"IF(OR(F1269<=0,F1269=\"\"),0,R1269)","v":0},{"$f":"IF(OR(M1269=\"\"),0,J1269)","v":0},{"$f":"IF(OR(M1269=\"\"),0,L1269)","v":0},{"$f":"IF(OR(M1269<=0,M1269=\"\"),0,S1269)","v":0},{"$f":"MAX(P1269:Y1269)","v":0}]
["",null,null,null,null,"",null,"",null,null,null,null,"",null,{"$f":"'Stammdaten Mitarbeitende'!AA1270","v":""},{"$f":"IF($A1270=\"\",\"\",'Stammdaten Mitarbeitende'!L1270)","v":""},{"$f":"IF(OR($A1270=\"\",'Stammdaten Mitarbeitende'!J1270=\"\"),\"\",'Stammdaten Mitarbeitende'!J1270)","v":""},"",{"$f":"IF(OR($H1270=\"\",J1270=\"\",K1270=\"\",L1270=\"\"),\"\",MAX(J1270-K1270-L1270,0))","v":""},0,0,0,0,0,0,{"$f":"MAX(P1270:Y1270)","v":0}]
["",null,null,null,null,"",null,"",null,null,null,null,"",null,{"$f":"'Stammdaten Mitarbeitende'!AA1271","v":""},{"$f":"IF($A1271=\"\",\"\",'Stammdaten Mitarbeitende'!L1271)","v":""},{"$f":"IF(OR($A1271=\"\",'Stammdaten Mitarbeitende'!J1271=\"\"),\"\",'Stammdaten Mitarbeitende'!J1271)","v":""},"","",0,0,0,0,0,0,0]
["",null,null,null,null,"",null,"",null,null,null,null,"",null,{"$f":"'Stammdaten Mitarbeitende'!AA1272","v":""},{"$f":"IF($A1272=\"\",\"\",'Stammdaten Mitarbeitende'!L1272)","v":""},{"$f":"IF(OR($A1272=\"\",'Stammdaten Mitarbeitende'!J1272=\"\"),\"\",'Stammdaten Mitarbeitende'!J1272)","v":""},"","",0,0,0,0,0,0,0]
["",null,null,null,null,"",null,"",null,null,null,null,"",null,{"$f":"'Stammdaten Mitarbeitende'!AA1273","v":""},{"$f":"IF($A1273=\"\",\"\",'Stammdaten Mitarbeitende'!L1273)","v":""},{"$f":"IF(OR($A1273=\"\",'Stammdaten Mitarbeitende'!J1273=\"\"),\"\",'Stammdaten Mitarbeitende'!J1273)","v":""},"","",0,0,0,0,0,0,0]
["",null,null,null,null,"",null,"",null,null,null,null,"",null,{"$f":"'Stammdaten Mitarbeitende'!AA1274","v":""},{"$f":"IF($A1274=\"\",\"\",'Stammdaten Mitarbeitende'!L1274)","v":""},{"$f":"IF(OR($A1274=\"\",'Stammdaten Mitarbeitende'!J1274=\"\"),\"\",'Stammdaten Mitarbeitende'!J1274)","v":""},"","",0,0,0,0,0,0,0]
["",null,null,null,null,"",null,"",null,null,null,null,"",null,{"$f":"'Stammdaten Mitarbeitende'!AA1275","v":""},{"$f":"IF($A1275=\"\",\"\",'Stammdaten Mitarbeitende'!L1275)","v":""},{"$f":"IF(OR($A1275=\"\",'Stammdaten Mitarbeitende'!J1275=\"\"),\"\",'Stammdaten Mitarbeitende'!J1275)","v":""},"","",0,0,0,0,0,0,0]
["",null,null,null,null,"",null,"",null,null,null,null,"",null,{"$f":"'Stammdaten Mitarbeitende'!AA1276","v":""},{"$f":"IF($A1276=\"\",\"\",'Stammdaten Mitarbeitende'!L1276)","v":""},{"$f":"IF(OR($A1276=\"\",'Stammdaten Mitarbeitende'!J1276=\"\"),\"\",'Stammdaten Mitarbeitende'!J1276)","v":""},"","",0,0,0,0,0,0,0]
["",null,null,null,null,"",null,"",null,null,null,null,"",null,{"$f":"'Stammdaten Mitarbeitende'!AA1277","v":""},{"$f":"IF($A1277=\"\",\"\",'Stammdaten Mitarbeitende'!L1277)","v":""},{"$f":"IF(OR($A1277=\"\",'Stammdaten Mitarbeitende'!J1277=\"\"),\"\",'Stammdaten Mitarbeitende'!J1277)","v":""},"","",0,0,0,0,0,0,0]
["",null,null,null,null,"",null,"",null,null,null,null,"",null,{"$f":"'Stammdaten Mitarbeitende'!AA1278","v":""},{"$f":"IF($A1278=\"\",\"\",'Stammdaten Mitarbeitende'!L1278)","v":""},{"$f":"IF(OR($A1278=\"\",'Stammdaten Mitarbeitende'!J1278=\"\"),\"\",'Stammdaten Mitarbeitende'!J1278)","v":""},"","",0,0,0,0,0,0,0]
["",null,null,null,null,"",null,"",null,null,null,null,"",null,{"$f":"'Stammdaten Mitarbeitende'!AA1279","v":""},{"$f":"IF($A1279=\"\",\"\",'Stammdaten Mitarbeitende'!L1279)","v":""},{"$f":"IF(OR($A1279=\"\",'Stammdaten Mitarbeitende'!J1279=\"\"),\"\",'Stammdaten Mitarbeitende'!J1279)","v":""},"","",0,0,0,0,0,0,0]
["",null,null,null,null,"",null,"",null,null,null,null,"",null,{"$f":"'Stammdaten Mitarbeitende'!AA1280","v":""},{"$f":"IF($A1280=\"\",\"\",'Stammdaten Mitarbeitende'!L1280)","v":""},{"$f":"IF(OR($A1280=\"\",'Stammdaten Mitarbeitende'!J1280=\"\"),\"\",'Stammdaten Mitarbeitende'!J1280)","v":""},"","",0,0,0,0,0,0,0]
["",null,null,null,null,"",null,"",null,null,null,null,"",null,{"$f":"'Stammdaten Mitarbeitende'!AA1281","v":""},{"$f":"IF($A1281=\"\",\"\",'Stammdaten Mitarbeitende'!L1281)","v":""},{"$f":"IF(OR($A1281=\"\",'Stammdaten Mitarbeitende'!J1281=\"\"),\"\",'Stammdaten Mitarbeitende'!J1281)","v":""},"","",0,0,0,0,0,0,0]
["",null,null,null,null,"",null,"",null,null,null,null,"",null,{"$f":"'Stammdaten Mitarbeitende'!AA1282","v":""},{"$f":"IF($A1282=\"\",\"\",'Stammdaten Mitarbeitende'!L1282)","v":""},{"$f":"IF(OR($A1282=\"\",'Stammdaten Mitarbeitende'!J1282=\"\"),\"\",'Stammdaten Mitarbeitende'!J1282)","v":""},"","",0,0,0,0,0,0,0]
["",null,null,null,null,"",null,"",null,null,null,null,"",null,{"$f":"'Stammdaten Mitarbeitende'!AA1283","v":""},{"$f":"IF($A1283=\"\",\"\",'Stammdaten Mitarbeitende'!L1283)","v":""},{"$f":"IF(OR($A1283=\"\",'Stammdaten Mitarbeitende'!J1283=\"\"),\"\",'Stammdaten Mitarbeitende'!J1283)","v":""},"","",0,0,0,0,0,0,0]
["",null,null,null,null,"",null,"",null,null,null,null,"",null,{"$f":"'Stammdaten Mitarbeitende'!AA1284","v":""},{"$f":"IF($A1284=\"\",\"\",'Stammdaten Mitarbeitende'!L1284)","v":""},{"$f":"IF(OR($A1284=\"\",'Stammdaten Mitarbeitende'!J1284=\"\"),\"\",'Stammdaten Mitarbeitende'!J1284)","v":""},"","",0,0,0,0,0,0,0]
["",null,null,null,null,"",null,"",null,null,null,null,"",null,{"$f":"'Stammdaten Mitarbeitende'!AA1285","v":""},{"$f":"IF($A1285=\"\",\"\",'Stammdaten Mitarbeitende'!L1285)","v":""},{"$f":"IF(OR($A1285=\"\",'Stammdaten Mitarbeitende'!J1285=\"\"),\"\",'Stammdaten Mitarbeitende'!J1285)","v":""},"","",0,0,0,0,0,0,0]
["",null,null,null,null,"",null,"",null,null,null,null,"",null,{"$f":"'Stammdaten Mitarbeitende'!AA1286","v":""},{"$f":"IF($A1286=\"\",\"\",'Stammdaten Mitarbeitende'!L1286)","v":""},{"$f":"IF(OR($A1286=\"\",'Stammdaten Mitarbeitende'!J1286=\"\"),\"\",'Stammdaten Mitarbeitende'!J1286)","v":""},"","",0,0,0,0,0,0,0]
["",null,null,null,null,"",null,"",null,null,null,null,"",null,{"$f":"'Stammdaten Mitarbeitende'!AA1287","v":""},{"$f":"IF($A1287=\"\",\"\",'Stammdaten Mitarbeitende'!L1287)","v":""},{"$f":"IF(OR($A1287=\"\",'Stammdaten Mitarbeitende'!J1287=\"\"),\"\",'Stammdaten Mitarbeitende'!J1287)","v":""},"","",0,0,0,0,0,0,0]
["",null,null,null,null,"",null,"",null,null,null,null,"",null,{"$f":"'Stammdaten Mitarbeitende'!AA1288","v":""},{"$f":"IF($A1288=\"\",\"\",'Stammdaten Mitarbeitende'!L1288)","v":""},{"$f":"IF(OR($A1288=\"\",'Stammdaten Mitarbeitende'!J1288=\"\"),\"\",'Stammdaten Mitarbeitende'!J1288)","v":""},"","",0,0,0,0,0,0,0]
["",null,null,null,null,"",null,"",null,null,null,null,"",null,{"$f":"'Stammdaten Mitarbeitende'!AA1289","v":""},{"$f":"IF($A1289=\"\",\"\",'Stammdaten Mitarbeitende'!L1289)","v":""},{"$f":"IF(OR($A1289=\"\",'Stammdaten Mitarbeitende'!J1289=\"\"),\"\",'Stammdaten Mitarbeitende'!J1289)","v":""},"","",0,0,0,0,0,0,0]
[{"$f":"Übersetzungstexte!A$230","v":"Seitentotal"},null,{"$f":"SUM(C1269:C1289)","v":0},null,{"$f":"SUM(E1269:E1289)","v":0},{"$f":"SUM(F1269:F1289)","v":0},null,{"$f":"Übersetzungstexte!A$230","v":"Seitentotal"},null,{"$f":"SUM(J1269:J1289)","v":0},null,{"$f":"SUM(L1269:L1289)","v":0},{"$f":"SUM(M1269:M1289)","v":0}]
[{"$f":"'Stammdaten Betrieb & Abteilung'!D$1","v":"  "},null,null,null,null,null,null,{"$f":"Übersetzungstexte!A$190","v":"Betrieb / Betriebsabteilung"},{"$f":"'Stammdaten Betrieb & Abteilung'!D$13","v":" "}]
[{"$f":"'Stammdaten Betrieb & Abteilung'!D$3","v":" "},null,null,null,null,null,null,{"$f":"Übersetzungstexte!A$191","v":"PLZ/Ort"},{"$f":"'Stammdaten Betrieb & Abteilung'!D$4","v":" "}]
[]
[null,null,null,null,null,{"$f":"CONCATENATE(Übersetzungstexte!A$192,\" \",TEXT(MONTH(P$3),\"00\"),\".\",YEAR(P$3))","v":"Zeitgleiche Periode des Vorjahres: 01.3799"},null,null,null,null,null,null,{"$f":"CONCATENATE(Übersetzungstexte!A$211,\" \",TEXT(MONTH(P$4),\"00\"),\".\",YEAR(P$4))","v":"Zeitgleiche Periode des vorletzten Jahres: 01.3798"}]
[1,2,3,4,5,6,null,1,2,3,4,5,6,null,null,null,null,"Regel 4","Regel 5","Sollstd.","Absenzen",null,"Sollstd.","Absenzen"]
[{"$f":"Übersetzungstexte!A$193","v":""},{"$f":"Übersetzungstexte!A$196","v":"vertragliche"},{"$f":"Übersetzungstexte!A$199","v":"Sollstd. zeitgl."},{"$f":"Übersetzungstexte!A$202","v":"Istzeit"},{"$f":"Übersetzungstexte!A$205","v":"Bezahlte/"},{"$f":"Übersetzungstexte!A$208","v":"Ausfallstunden"},null,{"$f":"Übersetzungstexte!A$212","v":""},{"$f":"Übersetzungstexte!A$215","v":"vertragliche"},{"$f":"Übersetzungstexte!A$218","v":"Sollstd. zeitgl."},{"$f":"Übersetzungstexte!A$221","v":"Istzeit"},{"$f":"Übersetzungstexte!A$224","v":"Bezahlte/"},{"$f":"Übersetzungstexte!A$227","v":"Ausfallstunden"},null,null,"anrechen-","vertragl.","Ausfall-","Ausfall-","betroffene","betroffene","Ausfall-","betroffene","betroffene","Ausfall-"]
[{"$f":"Übersetzungstexte!A$194","v":""},{"$f":"Übersetzungstexte!A$197","v":"wöchentliche"},{"$f":"Übersetzungstexte!A$200","v":"Periode inkl."},{"$f":"Übersetzungstexte!A$203","v":""},{"$f":"Übersetzungstexte!A$206","v":"Unbezahlte"},{"$f":"Übersetzungstexte!A$209","v":""},null,{"$f":"Übersetzungstexte!A$213","v":""},{"$f":"Übersetzungstexte!A$216","v":"wöchentliche"},{"$f":"Übersetzungstexte!A$219","v":"Periode inkl."},{"$f":"Übersetzungstexte!A$222","v":""},{"$f":"Übersetzungstexte!A$225","v":"Unbezahlte"},{"$f":"Übersetzungstexte!A$228","v":""},null,null,"barer Std.-","wöchentl.","stunden","stunden","Mitarbeiter","Mitarbeiter","stunden","Mitarbeiter","Mitarbeiter","stunden","Max. der"]
[{"$f":"Übersetzungstexte!A$195","v":"Name,Vorname"},{"$f":"Übersetzungstexte!A$198","v":"Arbeitszeit"},{"$f":"Übersetzungstexte!A$201","v":"Vorholzeit"},{"$f":"Übersetzungstexte!A$204","v":""},{"$f":"Übersetzungstexte!A$207","v":"Absenzen"},{"$f":"Übersetzungstexte!A$210","v":""},null,{"$f":"Übersetzungstexte!A$214","v":"Name,Vorname"},{"$f":"Übersetzungstexte!A$217","v":"Arbeitszeit"},{"$f":"Übersetzungstexte!A$220","v":"Vorholzeit"},{"$f":"Übersetzungstexte!A$223","v":""},{"$f":"Übersetzungstexte!A$226","v":"Absenzen"},{"$f":"Übersetzungstexte!A$229","v":""},null,"Name,Vorname","Verdienst","Arbeitszeit",{"$f":"P$3","v":"3799-01-01"},{"$f":"P$4","v":"3798-01-01"},"Vorjahr","Vorjahr","Vorjahr","Vorvorjahr","Vorvorjahr","Vorvorjahr","Spalte"]
[{"$f":"O1299","v":""},null,null,null,null,{"$f":"R1299","v":""},null,{"$f":"O1299","v":""},null,null,null,null,{"$f":"S1299","v":""},null,{"$f":"'Stammdaten Mitarbeitende'!AA1299","v":""},{"$f":"IF($A1299=\"\",\"\",'Stammdaten Mitarbeitende'!L1299)","v":""},{"$f":"IF(OR($A1299=\"\",'Stammdaten Mitarbeitende'!J1299=\"\"),\"\",'Stammdaten Mitarbeitende'!J1299)","v":""},{"$f":"IF(OR($A1299=\"\",C1299=\"\",D1299=\"\",E1299=\"\"),\"\",MAX(C1299-D1299-E1299,0))","v":""},{"$f":"IF(OR($H1299=\"\",J1299=\"\",K1299=\"\",L1299=\"\"),\"\",MAX(J1299-K1299-L1299,0))","v":""},{"$f":"IF(OR(F1299=\"\"),0,C1299)","v":0},{"$f":"IF(OR(F1299=\"\"),0,E1299)","v":0},{"$f":"IF(OR(F1299<=0,F1299=\"\"),0,R1299)","v":0},{"$f":"IF(OR(M1299=\"\"),0,J1299)","v":0},{"$f":"IF(OR(M1299=\"\"),0,L1299)","v":0},{"$f":"IF(OR(M1299<=0,M1299=\"\"),0,S1299)","v":0},{"$f":"MAX(P1299:Y1299)","v":0}]
["",null,null,null,null,"",null,"",null,null,null,null,"",null,{"$f":"'Stammdaten Mitarbeitende'!AA1300","v":""},{"$f":"IF($A1300=\"\",\"\",'Stammdaten Mitarbeitende'!L1300)","v":""},{"$f":"IF(OR($A1300=\"\",'Stammdaten Mitarbeitende'!J1300=\"\"),\"\",'Stammdaten Mitarbeitende'!J1300)","v":""},"",{"$f":"IF(OR($H1300=\"\",J1300=\"\",K1300=\"\",L1300=\"\"),\"\",MAX(J1300-K1300-L1300,0))","v":""},0,0,0,0,0,0,{"$f":"MAX(P1300:Y1300)","v":0}]
["",null,null,null,null,"",null,"",null,null,null,null,"",null,{"$f":"'Stammdaten Mitarbeitende'!AA1301","v":""},{"$f":"IF($A1301=\"\",\"\",'Stammdaten Mitarbeitende'!L1301)","v":""},{"$f":"IF(OR($A1301=\"\",'Stammdaten Mitarbeitende'!J1301=\"\"),\"\",'Stammdaten Mitarbeitende'!J1301)","v":""},"","",0,0,0,0,0,0,0]
["",null,null,null,null,"",null,"",null,null,null,null,"",null,{"$f":"'Stammdaten Mitarbeitende'!AA1302","v":""},{"$f":"IF($A1302=\"\",\"\",'Stammdaten Mitarbeitende'!L1302)","v":""},{"$f":"IF(OR($A1302=\"\",'Stammdaten Mitarbeitende'!J1302=\"\"),\"\",'Stammdaten Mitarbeitende'!J1302)","v":""},"","",0,0,0,0,0,0,0]
["",null,null,null,null,"",null,"",null,null,null,null,"",null,{"$f":"'Stammdaten Mitarbeitende'!AA1303","v":""},{"$f":"IF($A1303=\"\",\"\",'Stammdaten Mitarbeitende'!L1303)","v":""},{"$f":"IF(OR($A1303=\"\",'Stammdaten Mitarbeitende'!J1303=\"\"),\"\",'Stammdaten Mitarbeitende'!J1303)","v":""},"","",0,0,0,0,0,0,0]
["",null,null,null,null,"",null,"",null,null,null,null,"",null,{"$f":"'Stammdaten Mitarbeitende'!AA1304","v":""},{"$f":"IF($A1304=\"\",\"\",'Stammdaten Mitarbeitende'!L1304)","v":""},{"$f":"IF(OR($A1304=\"\",'Stammdaten Mitarbeitende'!J1304=\"\"),\"\",'Stammdaten Mitarbeitende'!J1304)","v":""},"","",0,0,0,0,0,0,0]
["",null,null,null,null,"",null,"",null,null,null,null,"",null,{"$f":"'Stammdaten Mitarbeitende'!AA1305","v":""},{"$f":"IF($A1305=\"\",\"\",'Stammdaten Mitarbeitende'!L1305)","v":""},{"$f":"IF(OR($A1305=\"\",'Stammdaten Mitarbeitende'!J1305=\"\"),\"\",'Stammdaten Mitarbeitende'!J1305)","v":""},"","",0,0,0,0,0,0,0]
["",null,null,null,null,"",null,"",null,null,null,null,"",null,{"$f":"'Stammdaten Mitarbeitende'!AA1306","v":""},{"$f":"IF($A1306=\"\",\"\",'Stammdaten Mitarbeitende'!L1306)","v":""},{"$f":"IF(OR($A1306=\"\",'Stammdaten Mitarbeitende'!J1306=\"\"),\"\",'Stammdaten Mitarbeitende'!J1306)","v":""},"","",0,0,0,0,0,0,0]
["",null,null,null,null,"",null,"",null,null,null,null,"",null,{"$f":"'Stammdaten Mitarbeitende'!AA1307","v":""},{"$f":"IF($A1307=\"\",\"\",'Stammdaten Mitarbeitende'!L1307)","v":""},{"$f":"IF(OR($A1307=\"\",'Stammdaten Mitarbeitende'!J1307=\"\"),\"\",'Stammdaten Mitarbeitende'!J1307)","v":""},"","",0,0,0,0,0,0,0]
["",null,null,null,null,"",null,"",null,null,null,null,"",null,{"$f":"'Stammdaten Mitarbeitende'!AA1308","v":""},{"$f":"IF($A1308=\"\",\"\",'Stammdaten Mitarbeitende'!L1308)","v":""},{"$f":"IF(OR($A1308=\"\",'Stammdaten Mitarbeitende'!J1308=\"\"),\"\",'Stammdaten Mitarbeitende'!J1308)","v":""},"","",0,0,0,0,0,0,0]
["",null,null,null,null,"",null,"",null,null,null,null,"",null,{"$f":"'Stammdaten Mitarbeitende'!AA1309","v":""},{"$f":"IF($A1309=\"\",\"\",'Stammdaten Mitarbeitende'!L1309)","v":""},{"$f":"IF(OR($A1309=\"\",'Stammdaten Mitarbeitende'!J1309=\"\"),\"\",'Stammdaten Mitarbeitende'!J1309)","v":""},"","",0,0,0,0,0,0,0]
["",null,null,null,null,"",null,"",null,null,null,null,"",null,{"$f":"'Stammdaten Mitarbeitende'!AA1310","v":""},{"$f":"IF($A1310=\"\",\"\",'Stammdaten Mitarbeitende'!L1310)","v":""},{"$f":"IF(OR($A1310=\"\",'Stammdaten Mitarbeitende'!J1310=\"\"),\"\",'Stammdaten Mitarbeitende'!J1310)","v":""},"","",0,0,0,0,0,0,0]
["",null,null,null,null,"",null,"",null,null,null,null,"",null,{"$f":"'Stammdaten Mitarbeitende'!AA1311","v":""},{"$f":"IF($A1311=\"\",\"\",'Stammdaten Mitarbeitende'!L1311)","v":""},{"$f":"IF(OR($A1311=\"\",'Stammdaten Mitarbeitende'!J1311=\"\"),\"\",'Stammdaten Mitarbeitende'!J1311)","v":""},"","",0,0,0,0,0,0,0]
["",null,null,null,null,"",null,"",null,null,null,null,"",null,{"$f":"'Stammdaten Mitarbeitende'!AA1312","v":""},{"$f":"IF($A1312=\"\",\"\",'Stammdaten Mitarbeitende'!L1312)","v":""},{"$f":"IF(OR($A1312=\"\",'Stammdaten Mitarbeitende'!J1312=\"\"),\"\",'Stammdaten Mitarbeitende'!J1312)","v":""},"","",0,0,0,0,0,0,0]
["",null,null,null,null,"",null,"",null,null,null,null,"",null,{"$f":"'Stammdaten Mitarbeitende'!AA1313","v":""},{"$f":"IF($A1313=\"\",\"\",'Stammdaten Mitarbeitende'!L1313)","v":""},{"$f":"IF(OR($A1313=\"\",'Stammdaten Mitarbeitende'!J1313=\"\"),\"\",'Stammdaten Mitarbeitende'!J1313)","v":""},"","",0,0,0,0,0,0,0]
["",null,null,null,null,"",null,"",null,null,null,null,"",null,{"$f":"'Stammdaten Mitarbeitende'!AA1314","v":""},{"$f":"IF($A1314=\"\",\"\",'Stammdaten Mitarbeitende'!L1314)","v":""},{"$f":"IF(OR($A1314=\"\",'Stammdaten Mitarbeitende'!J1314=\"\"),\"\",'Stammdaten Mitarbeitende'!J1314)","v":""},"","",0,0,0,0,0,0,0]
["",null,null,null,null,"",null,"",null,null,null,null,"",null,{"$f":"'Stammdaten Mitarbeitende'!AA1315","v":""},{"$f":"IF($A1315=\"\",\"\",'Stammdaten Mitarbeitende'!L1315)","v":""},{"$f":"IF(OR($A1315=\"\",'Stammdaten Mitarbeitende'!J1315=\"\"),\"\",'Stammdaten Mitarbeitende'!J1315)","v":""},"","",0,0,0,0,0,0,0]
["",null,null,null,null,"",null,"",null,null,null,null,"",null,{"$f":"'Stammdaten Mitarbeitende'!AA1316","v":""},{"$f":"IF($A1316=\"\",\"\",'Stammdaten Mitarbeitende'!L1316)","v":""},{"$f":"IF(OR($A1316=\"\",'Stammdaten Mitarbeitende'!J1316=\"\"),\"\",'Stammdaten Mitarbeitende'!J1316)","v":""},"","",0,0,0,0,0,0,0]
["",null,null,null,null,"",null,"",null,null,null,null,"",null,{"$f":"'Stammdaten Mitarbeitende'!AA1317","v":""},{"$f":"IF($A1317=\"\",\"\",'Stammdaten Mitarbeitende'!L1317)","v":""},{"$f":"IF(OR($A1317=\"\",'Stammdaten Mitarbeitende'!J1317=\"\"),\"\",'Stammdaten Mitarbeitende'!J1317)","v":""},"","",0,0,0,0,0,0,0]
["",null,null,null,null,"",null,"",null,null,null,null,"",null,{"$f":"'Stammdaten Mitarbeitende'!AA1318","v":""},{"$f":"IF($A1318=\"\",\"\",'Stammdaten Mitarbeitende'!L1318)","v":""},{"$f":"IF(OR($A1318=\"\",'Stammdaten Mitarbeitende'!J1318=\"\"),\"\",'Stammdaten Mitarbeitende'!J1318)","v":""},"","",0,0,0,0,0,0,0]
["",null,null,null,null,"",null,"",null,null,null,null,"",null,{"$f":"'Stammdaten Mitarbeitende'!AA1319","v":""},{"$f":"IF($A1319=\"\",\"\",'Stammdaten Mitarbeitende'!L1319)","v":""},{"$f":"IF(OR($A1319=\"\",'Stammdaten Mitarbeitende'!J1319=\"\"),\"\",'Stammdaten Mitarbeitende'!J1319)","v":""},"","",0,0,0,0,0,0,0]
[{"$f":"Übersetzungstexte!A$230","v":"Seitentotal"},null,{"$f":"SUM(C1299:C1319)","v":0},null,{"$f":"SUM(E1299:E1319)","v":0},{"$f":"SUM(F1299:F1319)","v":0},null,{"$f":"Übersetzungstexte!A$230","v":"Seitentotal"},null,{"$f":"SUM(J1299:J1319)","v":0},null,{"$f":"SUM(L1299:L1319)","v":0},{"$f":"SUM(M1299:M1319)","v":0}]
[{"$f":"'Stammdaten Betrieb & Abteilung'!D$1","v":"  "},null,null,null,null,null,null,{"$f":"Übersetzungstexte!A$190","v":"Betrieb / Betriebsabteilung"},{"$f":"'Stammdaten Betrieb & Abteilung'!D$13","v":" "}]
[{"$f":"'Stammdaten Betrieb & Abteilung'!D$3","v":" "},null,null,null,null,null,null,{"$f":"Übersetzungstexte!A$191","v":"PLZ/Ort"},{"$f":"'Stammdaten Betrieb & Abteilung'!D$4","v":" "}]
[]
[null,null,null,null,null,{"$f":"CONCATENATE(Übersetzungstexte!A$192,\" \",TEXT(MONTH(P$3),\"00\"),\".\",YEAR(P$3))","v":"Zeitgleiche Periode des Vorjahres: 01.3799"},null,null,null,null,null,null,{"$f":"CONCATENATE(Übersetzungstexte!A$211,\" \",TEXT(MONTH(P$4),\"00\"),\".\",YEAR(P$4))","v":"Zeitgleiche Periode des vorletzten Jahres: 01.3798"}]
[1,2,3,4,5,6,null,1,2,3,4,5,6,null,null,null,null,"Regel 4","Regel 5","Sollstd.","Absenzen",null,"Sollstd.","Absenzen"]
[{"$f":"Übersetzungstexte!A$193","v":""},{"$f":"Übersetzungstexte!A$196","v":"vertragliche"},{"$f":"Übersetzungstexte!A$199","v":"Sollstd. zeitgl."},{"$f":"Übersetzungstexte!A$202","v":"Istzeit"},{"$f":"Übersetzungstexte!A$205","v":"Bezahlte/"},{"$f":"Übersetzungstexte!A$208","v":"Ausfallstunden"},null,{"$f":"Übersetzungstexte!A$212","v":""},{"$f":"Übersetzungstexte!A$215","v":"vertragliche"},{"$f":"Übersetzungstexte!A$218","v":"Sollstd. zeitgl."},{"$f":"Übersetzungstexte!A$221","v":"Istzeit"},{"$f":"Übersetzungstexte!A$224","v":"Bezahlte/"},{"$f":"Übersetzungstexte!A$227","v":"Ausfallstunden"},null,null,"anrechen-","vertragl.","Ausfall-","Ausfall-","betroffene","betroffene","Ausfall-","betroffene","betroffene","Ausfall-"]
[{"$f":"Übersetzungstexte!A$194","v":""},{"$f":"Übersetzungstexte!A$197","v":"wöchentliche"},{"$f":"Übersetzungstexte!A$200","v":"Periode inkl."},{"$f":"Übersetzungstexte!A$203","v":""},{"$f":"Übersetzungstexte!A$206","v":"Unbezahlte"},{"$f":"Übersetzungstexte!A$209","v":""},null,{"$f":"Übersetzungstexte!A$213","v":""},{"$f":"Übersetzungstexte!A$216","v":"wöchentliche"},{"$f":"Übersetzungstexte!A$219","v":"Periode inkl."},{"$f":"Übersetzungstexte!A$222","v":""},{"$f":"Übersetzungstexte!A$225","v":"Unbezahlte"},{"$f":"Übersetzungstexte!A$228","v":""},null,null,"barer Std.-","wöchentl.","stunden","stunden","Mitarbeiter","Mitarbeiter","stunden","Mitarbeiter","Mitarbeiter","stunden","Max. der"]
[{"$f":"Übersetzungstexte!A$195","v":"Name,Vorname"},{"$f":"Übersetzungstexte!A$198","v":"Arbeitszeit"},{"$f":"Übersetzungstexte!A$201","v":"Vorholzeit"},{"$f":"Übersetzungstexte!A$204","v":""},{"$f":"Übersetzungstexte!A$207","v":"Absenzen"},{"$f":"Übersetzungstexte!A$210","v":""},null,{"$f":"Übersetzungstexte!A$214","v":"Name,Vorname"},{"$f":"Übersetzungstexte!A$217","v":"Arbeitszeit"},{"$f":"Übersetzungstexte!A$220","v":"Vorholzeit"},{"$f":"Übersetzungstexte!A$223","v":""},{"$f":"Übersetzungstexte!A$226","v":"Absenzen"},{"$f":"Übersetzungstexte!A$229","v":""},null,"Name,Vorname","Verdienst","Arbeitszeit",{"$f":"P$3","v":"3799-01-01"},{"$f":"P$4","v":"3798-01-01"},"Vorjahr","Vorjahr","Vorjahr","Vorvorjahr","Vorvorjahr","Vorvorjahr","Spalte"]
[{"$f":"O1329","v":""},null,null,null,null,{"$f":"R1329","v":""},null,{"$f":"O1329","v":""},null,null,null,null,{"$f":"S1329","v":""},null,{"$f":"'Stammdaten Mitarbeitende'!AA1329","v":""},{"$f":"IF($A1329=\"\",\"\",'Stammdaten Mitarbeitende'!L1329)","v":""},{"$f":"IF(OR($A1329=\"\",'Stammdaten Mitarbeitende'!J1329=\"\"),\"\",'Stammdaten Mitarbeitende'!J1329)","v":""},{"$f":"IF(OR($A1329=\"\",C1329=\"\",D1329=\"\",E1329=\"\"),\"\",MAX(C1329-D1329-E1329,0))","v":""},{"$f":"IF(OR($H1329=\"\",J1329=\"\",K1329=\"\",L1329=\"\"),\"\",MAX(J1329-K1329-L1329,0))","v":""},{"$f":"IF(OR(F1329=\"\"),0,C1329)","v":0},{"$f":"IF(OR(F1329=\"\"),0,E1329)","v":0},{"$f":"IF(OR(F1329<=0,F1329=\"\"),0,R1329)","v":0},{"$f":"IF(OR(M1329=\"\"),0,J1329)","v":0},{"$f":"IF(OR(M1329=\"\"),0,L1329)","v":0},{"$f":"IF(OR(M1329<=0,M1329=\"\"),0,S1329)","v":0},{"$f":"MAX(P1329:Y1329)","v":0}]
["",null,null,null,null,"",null,"",null,null,null,null,"",null,{"$f":"'Stammdaten Mitarbeitende'!AA1330","v":""},{"$f":"IF($A1330=\"\",\"\",'Stammdaten Mitarbeitende'!L1330)","v":""},{"$f":"IF(OR($A1330=\"\",'Stammdaten Mitarbeitende'!J1330=\"\"),\"\",'Stammdaten Mitarbeitende'!J1330)","v":""},"",{"$f":"IF(OR($H1330=\"\",J1330=\"\",K1330=\"\",L1330=\"\"),\"\",MAX(J1330-K1330-L1330,0))","v":""},0,0,0,0,0,0,{"$f":"MAX(P1330:Y1330)","v":0}]
["",null,null,null,null,"",null,"",null,null,null,null,"",null,{"$f":"'Stammdaten Mitarbeitende'!AA1331","v":""},{"$f":"IF($A1331=\"\",\"\",'Stammdaten Mitarbeitende'!L1331)","v":""},{"$f":"IF(OR($A1331=\"\",'Stammdaten Mitarbeitende'!J1331=\"\"),\"\",'Stammdaten Mitarbeitende'!J1331)","v":""},"","",0,0,0,0,0,0,0]
["",null,null,null,null,"",null,"",null,null,null,null,"",null,{"$f":"'Stammdaten Mitarbeitende'!AA1332","v":""},{"$f":"IF($A1332=\"\",\"\",'Stammdaten Mitarbeitende'!L1332)","v":""},{"$f":"IF(OR($A1332=\"\",'Stammdaten Mitarbeitende'!J1332=\"\"),\"\",'Stammdaten Mitarbeitende'!J1332)","v":""},"","",0,0,0,0,0,0,0]
["",null,null,null,null,"",null,"",null,null,null,null,"",null,{"$f":"'Stammdaten Mitarbeitende'!AA1333","v":""},{"$f":"IF($A1333=\"\",\"\",'Stammdaten Mitarbeitende'!L1333)","v":""},{"$f":"IF(OR($A1333=\"\",'Stammdaten Mitarbeitende'!J1333=\"\"),\"\",'Stammdaten Mitarbeitende'!J1333)","v":""},"","",0,0,0,0,0,0,0]
["",null,null,null,null,"",null,"",null,null,null,null,"",null,{"$f":"'Stammdaten Mitarbeitende'!AA1334","v":""},{"$f":"IF($A1334=\"\",\"\",'Stammdaten Mitarbeitende'!L1334)","v":""},{"$f":"IF(OR($A1334=\"\",'Stammdaten Mitarbeitende'!J1334=\"\"),\"\",'Stammdaten Mitarbeitende'!J1334)","v":""},"","",0,0,0,0,0,0,0]
["",null,null,null,null,"",null,"",null,null,null,null,"",null,{"$f":"'Stammdaten Mitarbeitende'!AA1335","v":""},{"$f":"IF($A1335=\"\",\"\",'Stammdaten Mitarbeitende'!L1335)","v":""},{"$f":"IF(OR($A1335=\"\",'Stammdaten Mitarbeitende'!J1335=\"\"),\"\",'Stammdaten Mitarbeitende'!J1335)","v":""},"","",0,0,0,0,0,0,0]
["",null,null,null,null,"",null,"",null,null,null,null,"",null,{"$f":"'Stammdaten Mitarbeitende'!AA1336","v":""},{"$f":"IF($A1336=\"\",\"\",'Stammdaten Mitarbeitende'!L1336)","v":""},{"$f":"IF(OR($A1336=\"\",'Stammdaten Mitarbeitende'!J1336=\"\"),\"\",'Stammdaten Mitarbeitende'!J1336)","v":""},"","",0,0,0,0,0,0,0]
["",null,null,null,null,"",null,"",null,null,null,null,"",null,{"$f":"'Stammdaten Mitarbeitende'!AA1337","v":""},{"$f":"IF($A1337=\"\",\"\",'Stammdaten Mitarbeitende'!L1337)","v":""},{"$f":"IF(OR($A1337=\"\",'Stammdaten Mitarbeitende'!J1337=\"\"),\"\",'Stammdaten Mitarbeitende'!J1337)","v":""},"","",0,0,0,0,0,0,0]
["",null,null,null,null,"",null,"",null,null,null,null,"",null,{"$f":"'Stammdaten Mitarbeitende'!AA1338","v":""},{"$f":"IF($A1338=\"\",\"\",'Stammdaten Mitarbeitende'!L1338)","v":""},{"$f":"IF(OR($A1338=\"\",'Stammdaten Mitarbeitende'!J1338=\"\"),\"\",'Stammdaten Mitarbeitende'!J1338)","v":""},"","",0,0,0,0,0,0,0]
["",null,null,null,null,"",null,"",null,null,null,null,"",null,{"$f":"'Stammdaten Mitarbeitende'!AA1339","v":""},{"$f":"IF($A1339=\"\",\"\",'Stammdaten Mitarbeitende'!L1339)","v":""},{"$f":"IF(OR($A1339=\"\",'Stammdaten Mitarbeitende'!J1339=\"\"),\"\",'Stammdaten Mitarbeitende'!J1339)","v":""},"","",0,0,0,0,0,0,0]
["",null,null,null,null,"",null,"",null,null,null,null,"",null,{"$f":"'Stammdaten Mitarbeitende'!AA1340","v":""},{"$f":"IF($A1340=\"\",\"\",'Stammdaten Mitarbeitende'!L1340)","v":""},{"$f":"IF(OR($A1340=\"\",'Stammdaten Mitarbeitende'!J1340=\"\"),\"\",'Stammdaten Mitarbeitende'!J1340)","v":""},"","",0,0,0,0,0,0,0]
["",null,null,null,null,"",null,"",null,null,null,null,"",null,{"$f":"'Stammdaten Mitarbeitende'!AA1341","v":""},{"$f":"IF($A1341=\"\",\"\",'Stammdaten Mitarbeitende'!L1341)","v":""},{"$f":"IF(OR($A1341=\"\",'Stammdaten Mitarbeitende'!J1341=\"\"),\"\",'Stammdaten Mitarbeitende'!J1341)","v":""},"","",0,0,0,0,0,0,0]
["",null,null,null,null,"",null,"",null,null,null,null,"",null,{"$f":"'Stammdaten Mitarbeitende'!AA1342","v":""},{"$f":"IF($A1342=\"\",\"\",'Stammdaten Mitarbeitende'!L1342)","v":""},{"$f":"IF(OR($A1342=\"\",'Stammdaten Mitarbeitende'!J1342=\"\"),\"\",'Stammdaten Mitarbeitende'!J1342)","v":""},"","",0,0,0,0,0,0,0]
["",null,null,null,null,"",null,"",null,null,null,null,"",null,{"$f":"'Stammdaten Mitarbeitende'!AA1343","v":""},{"$f":"IF($A1343=\"\",\"\",'Stammdaten Mitarbeitende'!L1343)","v":""},{"$f":"IF(OR($A1343=\"\",'Stammdaten Mitarbeitende'!J1343=\"\"),\"\",'Stammdaten Mitarbeitende'!J1343)","v":""},"","",0,0,0,0,0,0,0]
["",null,null,null,null,"",null,"",null,null,null,null,"",null,{"$f":"'Stammdaten Mitarbeitende'!AA1344","v":""},{"$f":"IF($A1344=\"\",\"\",'Stammdaten Mitarbeitende'!L1344)","v":""},{"$f":"IF(OR($A1344=\"\",'Stammdaten Mitarbeitende'!J1344=\"\"),\"\",'Stammdaten Mitarbeitende'!J1344)","v":""},"","",0,0,0,0,0,0,0]
["",null,null,null,null,"",null,"",null,null,null,null,"",null,{"$f":"'Stammdaten Mitarbeitende'!AA1345","v":""},{"$f":"IF($A1345=\"\",\"\",'Stammdaten Mitarbeitende'!L1345)","v":""},{"$f":"IF(OR($A1345=\"\",'Stammdaten Mitarbeitende'!J1345=\"\"),\"\",'Stammdaten Mitarbeitende'!J1345)","v":""},"","",0,0,0,0,0,0,0]
["",null,null,null,null,"",null,"",null,null,null,null,"",null,{"$f":"'Stammdaten Mitarbeitende'!AA1346","v":""},{"$f":"IF($A1346=\"\",\"\",'Stammdaten Mitarbeitende'!L1346)","v":""},{"$f":"IF(OR($A1346=\"\",'Stammdaten Mitarbeitende'!J1346=\"\"),\"\",'Stammdaten Mitarbeitende'!J1346)","v":""},"","",0,0,0,0,0,0,0]
["",null,null,null,null,"",null,"",null,null,null,null,"",null,{"$f":"'Stammdaten Mitarbeitende'!AA1347","v":""},{"$f":"IF($A1347=\"\",\"\",'Stammdaten Mitarbeitende'!L1347)","v":""},{"$f":"IF(OR($A1347=\"\",'Stammdaten Mitarbeitende'!J1347=\"\"),\"\",'Stammdaten Mitarbeitende'!J1347)","v":""},"","",0,0,0,0,0,0,0]
["",null,null,null,null,"",null,"",null,null,null,null,"",null,{"$f":"'Stammdaten Mitarbeitende'!AA1348","v":""},{"$f":"IF($A1348=\"\",\"\",'Stammdaten Mitarbeitende'!L1348)","v":""},{"$f":"IF(OR($A1348=\"\",'Stammdaten Mitarbeitende'!J1348=\"\"),\"\",'Stammdaten Mitarbeitende'!J1348)","v":""},"","",0,0,0,0,0,0,0]
["",null,null,null,null,"",null,"",null,null,null,null,"",null,{"$f":"'Stammdaten Mitarbeitende'!AA1349","v":""},{"$f":"IF($A1349=\"\",\"\",'Stammdaten Mitarbeitende'!L1349)","v":""},{"$f":"IF(OR($A1349=\"\",'Stammdaten Mitarbeitende'!J1349=\"\"),\"\",'Stammdaten Mitarbeitende'!J1349)","v":""},"","",0,0,0,0,0,0,0]
[{"$f":"Übersetzungstexte!A$230","v":"Seitentotal"},null,{"$f":"SUM(C1329:C1349)","v":0},null,{"$f":"SUM(E1329:E1349)","v":0},{"$f":"SUM(F1329:F1349)","v":0},null,{"$f":"Übersetzungstexte!A$230","v":"Seitentotal"},null,{"$f":"SUM(J1329:J1349)","v":0},null,{"$f":"SUM(L1329:L1349)","v":0},{"$f":"SUM(M1329:M1349)","v":0}]
[{"$f":"'Stammdaten Betrieb & Abteilung'!D$1","v":"  "},null,null,null,null,null,null,{"$f":"Übersetzungstexte!A$190","v":"Betrieb / Betriebsabteilung"},{"$f":"'Stammdaten Betrieb & Abteilung'!D$13","v":" "}]
[{"$f":"'Stammdaten Betrieb & Abteilung'!D$3","v":" "},null,null,null,null,null,null,{"$f":"Übersetzungstexte!A$191","v":"PLZ/Ort"},{"$f":"'Stammdaten Betrieb & Abteilung'!D$4","v":" "}]
[]
[null,null,null,null,null,{"$f":"CONCATENATE(Übersetzungstexte!A$192,\" \",TEXT(MONTH(P$3),\"00\"),\".\",YEAR(P$3))","v":"Zeitgleiche Periode des Vorjahres: 01.3799"},null,null,null,null,null,null,{"$f":"CONCATENATE(Übersetzungstexte!A$211,\" \",TEXT(MONTH(P$4),\"00\"),\".\",YEAR(P$4))","v":"Zeitgleiche Periode des vorletzten Jahres: 01.3798"}]
[1,2,3,4,5,6,null,1,2,3,4,5,6,null,null,null,null,"Regel 4","Regel 5","Sollstd.","Absenzen",null,"Sollstd.","Absenzen"]
[{"$f":"Übersetzungstexte!A$193","v":""},{"$f":"Übersetzungstexte!A$196","v":"vertragliche"},{"$f":"Übersetzungstexte!A$199","v":"Sollstd. zeitgl."},{"$f":"Übersetzungstexte!A$202","v":"Istzeit"},{"$f":"Übersetzungstexte!A$205","v":"Bezahlte/"},{"$f":"Übersetzungstexte!A$208","v":"Ausfallstunden"},null,{"$f":"Übersetzungstexte!A$212","v":""},{"$f":"Übersetzungstexte!A$215","v":"vertragliche"},{"$f":"Übersetzungstexte!A$218","v":"Sollstd. zeitgl."},{"$f":"Übersetzungstexte!A$221","v":"Istzeit"},{"$f":"Übersetzungstexte!A$224","v":"Bezahlte/"},{"$f":"Übersetzungstexte!A$227","v":"Ausfallstunden"},null,null,"anrechen-","vertragl.","Ausfall-","Ausfall-","betroffene","betroffene","Ausfall-","betroffene","betroffene","Ausfall-"]
[{"$f":"Übersetzungstexte!A$194","v":""},{"$f":"Übersetzungstexte!A$197","v":"wöchentliche"},{"$f":"Übersetzungstexte!A$200","v":"Periode inkl."},{"$f":"Übersetzungstexte!A$203","v":""},{"$f":"Übersetzungstexte!A$206","v":"Unbezahlte"},{"$f":"Übersetzungstexte!A$209","v":""},null,{"$f":"Übersetzungstexte!A$213","v":""},{"$f":"Übersetzungstexte!A$216","v":"wöchentliche"},{"$f":"Übersetzungstexte!A$219","v":"Periode inkl."},{"$f":"Übersetzungstexte!A$222","v":""},{"$f":"Übersetzungstexte!A$225","v":"Unbezahlte"},{"$f":"Übersetzungstexte!A$228","v":""},null,null,"barer Std.-","wöchentl.","stunden","stunden","Mitarbeiter","Mitarbeiter","stunden","Mitarbeiter","Mitarbeiter","stunden","Max. der"]
[{"$f":"Übersetzungstexte!A$195","v":"Name,Vorname"},{"$f":"Übersetzungstexte!A$198","v":"Arbeitszeit"},{"$f":"Übersetzungstexte!A$201","v":"Vorholzeit"},{"$f":"Übersetzungstexte!A$204","v":""},{"$f":"Übersetzungstexte!A$207","v":"Absenzen"},{"$f":"Übersetzungstexte!A$210","v":""},null,{"$f":"Übersetzungstexte!A$214","v":"Name,Vorname"},{"$f":"Übersetzungstexte!A$217","v":"Arbeitszeit"},{"$f":"Übersetzungstexte!A$220","v":"Vorholzeit"},{"$f":"Übersetzungstexte!A$223","v":""},{"$f":"Übersetzungstexte!A$226","v":"Absenzen"},{"$f":"Übersetzungstexte!A$229","v":""},null,"Name,Vorname","Verdienst","Arbeitszeit",{"$f":"P$3","v":"3799-01-01"},{"$f":"P$4","v":"3798-01-01"},"Vorjahr","Vorjahr","Vorjahr","Vorvorjahr","Vorvorjahr","Vorvorjahr","Spalte"]
[{"$f":"O1359","v":""},null,null,null,null,{"$f":"R1359","v":""},null,{"$f":"O1359","v":""},null,null,null,null,{"$f":"S1359","v":""},null,{"$f":"'Stammdaten Mitarbeitende'!AA1359","v":""},{"$f":"IF($A1359=\"\",\"\",'Stammdaten Mitarbeitende'!L1359)","v":""},{"$f":"IF(OR($A1359=\"\",'Stammdaten Mitarbeitende'!J1359=\"\"),\"\",'Stammdaten Mitarbeitende'!J1359)","v":""},{"$f":"IF(OR($A1359=\"\",C1359=\"\",D1359=\"\",E1359=\"\"),\"\",MAX(C1359-D1359-E1359,0))","v":""},{"$f":"IF(OR($H1359=\"\",J1359=\"\",K1359=\"\",L1359=\"\"),\"\",MAX(J1359-K1359-L1359,0))","v":""},{"$f":"IF(OR(F1359=\"\"),0,C1359)","v":0},{"$f":"IF(OR(F1359=\"\"),0,E1359)","v":0},{"$f":"IF(OR(F1359<=0,F1359=\"\"),0,R1359)","v":0},{"$f":"IF(OR(M1359=\"\"),0,J1359)","v":0},{"$f":"IF(OR(M1359=\"\"),0,L1359)","v":0},{"$f":"IF(OR(M1359<=0,M1359=\"\"),0,S1359)","v":0},{"$f":"MAX(P1359:Y1359)","v":0}]
["",null,null,null,null,"",null,"",null,null,null,null,"",null,{"$f":"'Stammdaten Mitarbeitende'!AA1360","v":""},{"$f":"IF($A1360=\"\",\"\",'Stammdaten Mitarbeitende'!L1360)","v":""},{"$f":"IF(OR($A1360=\"\",'Stammdaten Mitarbeitende'!J1360=\"\"),\"\",'Stammdaten Mitarbeitende'!J1360)","v":""},"",{"$f":"IF(OR($H1360=\"\",J1360=\"\",K1360=\"\",L1360=\"\"),\"\",MAX(J1360-K1360-L1360,0))","v":""},0,0,0,0,0,0,{"$f":"MAX(P1360:Y1360)","v":0}]
["",null,null,null,null,"",null,"",null,null,null,null,"",null,{"$f":"'Stammdaten Mitarbeitende'!AA1361","v":""},{"$f":"IF($A1361=\"\",\"\",'Stammdaten Mitarbeitende'!L1361)","v":""},{"$f":"IF(OR($A1361=\"\",'Stammdaten Mitarbeitende'!J1361=\"\"),\"\",'Stammdaten Mitarbeitende'!J1361)","v":""},"","",0,0,0,0,0,0,0]
["",null,null,null,null,"",null,"",null,null,null,null,"",null,{"$f":"'Stammdaten Mitarbeitende'!AA1362","v":""},{"$f":"IF($A1362=\"\",\"\",'Stammdaten Mitarbeitende'!L1362)","v":""},{"$f":"IF(OR($A1362=\"\",'Stammdaten Mitarbeitende'!J1362=\"\"),\"\",'Stammdaten Mitarbeitende'!J1362)","v":""},"","",0,0,0,0,0,0,0]
["",null,null,null,null,"",null,"",null,null,null,null,"",null,{"$f":"'Stammdaten Mitarbeitende'!AA1363","v":""},{"$f":"IF($A1363=\"\",\"\",'Stammdaten Mitarbeitende'!L1363)","v":""},{"$f":"IF(OR($A1363=\"\",'Stammdaten Mitarbeitende'!J1363=\"\"),\"\",'Stammdaten Mitarbeitende'!J1363)","v":""},"","",0,0,0,0,0,0,0]
["",null,null,null,null,"",null,"",null,null,null,null,"",null,{"$f":"'Stammdaten Mitarbeitende'!AA1364","v":""},{"$f":"IF($A1364=\"\",\"\",'Stammdaten Mitarbeitende'!L1364)","v":""},{"$f":"IF(OR($A1364=\"\",'Stammdaten Mitarbeitende'!J1364=\"\"),\"\",'Stammdaten Mitarbeitende'!J1364)","v":""},"","",0,0,0,0,0,0,0]
["",null,null,null,null,"",null,"",null,null,null,null,"",null,{"$f":"'Stammdaten Mitarbeitende'!AA1365","v":""},{"$f":"IF($A1365=\"\",\"\",'Stammdaten Mitarbeitende'!L1365)","v":""},{"$f":"IF(OR($A1365=\"\",'Stammdaten Mitarbeitende'!J1365=\"\"),\"\",'Stammdaten Mitarbeitende'!J1365)","v":""},"","",0,0,0,0,0,0,0]
["",null,null,null,null,"",null,"",null,null,null,null,"",null,{"$f":"'Stammdaten Mitarbeitende'!AA1366","v":""},{"$f":"IF($A1366=\"\",\"\",'Stammdaten Mitarbeitende'!L1366)","v":""},{"$f":"IF(OR($A1366=\"\",'Stammdaten Mitarbeitende'!J1366=\"\"),\"\",'Stammdaten Mitarbeitende'!J1366)","v":""},"","",0,0,0,0,0,0,0]
["",null,null,null,null,"",null,"",null,null,null,null,"",null,{"$f":"'Stammdaten Mitarbeitende'!AA1367","v":""},{"$f":"IF($A1367=\"\",\"\",'Stammdaten Mitarbeitende'!L1367)","v":""},{"$f":"IF(OR($A1367=\"\",'Stammdaten Mitarbeitende'!J1367=\"\"),\"\",'Stammdaten Mitarbeitende'!J1367)","v":""},"","",0,0,0,0,0,0,0]
["",null,null,null,null,"",null,"",null,null,null,null,"",null,{"$f":"'Stammdaten Mitarbeitende'!AA1368","v":""},{"$f":"IF($A1368=\"\",\"\",'Stammdaten Mitarbeitende'!L1368)","v":""},{"$f":"IF(OR($A1368=\"\",'Stammdaten Mitarbeitende'!J1368=\"\"),\"\",'Stammdaten Mitarbeitende'!J1368)","v":""},"","",0,0,0,0,0,0,0]
["",null,null,null,null,"",null,"",null,null,null,null,"",null,{"$f":"'Stammdaten Mitarbeitende'!AA1369","v":""},{"$f":"IF($A1369=\"\",\"\",'Stammdaten Mitarbeitende'!L1369)","v":""},{"$f":"IF(OR($A1369=\"\",'Stammdaten Mitarbeitende'!J1369=\"\"),\"\",'Stammdaten Mitarbeitende'!J1369)","v":""},"","",0,0,0,0,0,0,0]
["",null,null,null,null,"",null,"",null,null,null,null,"",null,{"$f":"'Stammdaten Mitarbeitende'!AA1370","v":""},{"$f":"IF($A1370=\"\",\"\",'Stammdaten Mitarbeitende'!L1370)","v":""},{"$f":"IF(OR($A1370=\"\",'Stammdaten Mitarbeitende'!J1370=\"\"),\"\",'Stammdaten Mitarbeitende'!J1370)","v":""},"","",0,0,0,0,0,0,0]
["",null,null,null,null,"",null,"",null,null,null,null,"",null,{"$f":"'Stammdaten Mitarbeitende'!AA1371","v":""},{"$f":"IF($A1371=\"\",\"\",'Stammdaten Mitarbeitende'!L1371)","v":""},{"$f":"IF(OR($A1371=\"\",'Stammdaten Mitarbeitende'!J1371=\"\"),\"\",'Stammdaten Mitarbeitende'!J1371)","v":""},"","",0,0,0,0,0,0,0]
["",null,null,null,null,"",null,"",null,null,null,null,"",null,{"$f":"'Stammdaten Mitarbeitende'!AA1372","v":""},{"$f":"IF($A1372=\"\",\"\",'Stammdaten Mitarbeitende'!L1372)","v":""},{"$f":"IF(OR($A1372=\"\",'Stammdaten Mitarbeitende'!J1372=\"\"),\"\",'Stammdaten Mitarbeitende'!J1372)","v":""},"","",0,0,0,0,0,0,0]
["",null,null,null,null,"",null,"",null,null,null,null,"",null,{"$f":"'Stammdaten Mitarbeitende'!AA1373","v":""},{"$f":"IF($A1373=\"\",\"\",'Stammdaten Mitarbeitende'!L1373)","v":""},{"$f":"IF(OR($A1373=\"\",'Stammdaten Mitarbeitende'!J1373=\"\"),\"\",'Stammdaten Mitarbeitende'!J1373)","v":""},"","",0,0,0,0,0,0,0]
["",null,null,null,null,"",null,"",null,null,null,null,"",null,{"$f":"'Stammdaten Mitarbeitende'!AA1374","v":""},{"$f":"IF($A1374=\"\",\"\",'Stammdaten Mitarbeitende'!L1374)","v":""},{"$f":"IF(OR($A1374=\"\",'Stammdaten Mitarbeitende'!J1374=\"\"),\"\",'Stammdaten Mitarbeitende'!J1374)","v":""},"","",0,0,0,0,0,0,0]
["",null,null,null,null,"",null,"",null,null,null,null,"",null,{"$f":"'Stammdaten Mitarbeitende'!AA1375","v":""},{"$f":"IF($A1375=\"\",\"\",'Stammdaten Mitarbeitende'!L1375)","v":""},{"$f":"IF(OR($A1375=\"\",'Stammdaten Mitarbeitende'!J1375=\"\"),\"\",'Stammdaten Mitarbeitende'!J1375)","v":""},"","",0,0,0,0,0,0,0]
["",null,null,null,null,"",null,"",null,null,null,null,"",null,{"$f":"'Stammdaten Mitarbeitende'!AA1376","v":""},{"$f":"IF($A1376=\"\",\"\",'Stammdaten Mitarbeitende'!L1376)","v":""},{"$f":"IF(OR($A1376=\"\",'Stammdaten Mitarbeitende'!J1376=\"\"),\"\",'Stammdaten Mitarbeitende'!J1376)","v":""},"","",0,0,0,0,0,0,0]
["",null,null,null,null,"",null,"",null,null,null,null,"",null,{"$f":"'Stammdaten Mitarbeitende'!AA1377","v":""},{"$f":"IF($A1377=\"\",\"\",'Stammdaten Mitarbeitende'!L1377)","v":""},{"$f":"IF(OR($A1377=\"\",'Stammdaten Mitarbeitende'!J1377=\"\"),\"\",'Stammdaten Mitarbeitende'!J1377)","v":""},"","",0,0,0,0,0,0,0]
["",null,null,null,null,"",null,"",null,null,null,null,"",null,{"$f":"'Stammdaten Mitarbeitende'!AA1378","v":""},{"$f":"IF($A1378=\"\",\"\",'Stammdaten Mitarbeitende'!L1378)","v":""},{"$f":"IF(OR($A1378=\"\",'Stammdaten Mitarbeitende'!J1378=\"\"),\"\",'Stammdaten Mitarbeitende'!J1378)","v":""},"","",0,0,0,0,0,0,0]
["",null,null,null,null,"",null,"",null,null,null,null,"",null,{"$f":"'Stammdaten Mitarbeitende'!AA1379","v":""},{"$f":"IF($A1379=\"\",\"\",'Stammdaten Mitarbeitende'!L1379)","v":""},{"$f":"IF(OR($A1379=\"\",'Stammdaten Mitarbeitende'!J1379=\"\"),\"\",'Stammdaten Mitarbeitende'!J1379)","v":""},"","",0,0,0,0,0,0,0]
[{"$f":"Übersetzungstexte!A$230","v":"Seitentotal"},null,{"$f":"SUM(C1359:C1379)","v":0},null,{"$f":"SUM(E1359:E1379)","v":0},{"$f":"SUM(F1359:F1379)","v":0},null,{"$f":"Übersetzungstexte!A$230","v":"Seitentotal"},null,{"$f":"SUM(J1359:J1379)","v":0},null,{"$f":"SUM(L1359:L1379)","v":0},{"$f":"SUM(M1359:M1379)","v":0}]
[{"$f":"'Stammdaten Betrieb & Abteilung'!D$1","v":"  "},null,null,null,null,null,null,{"$f":"Übersetzungstexte!A$190","v":"Betrieb / Betriebsabteilung"},{"$f":"'Stammdaten Betrieb & Abteilung'!D$13","v":" "}]
[{"$f":"'Stammdaten Betrieb & Abteilung'!D$3","v":" "},null,null,null,null,null,null,{"$f":"Übersetzungstexte!A$191","v":"PLZ/Ort"},{"$f":"'Stammdaten Betrieb & Abteilung'!D$4","v":" "}]
[]
[null,null,null,null,null,{"$f":"CONCATENATE(Übersetzungstexte!A$192,\" \",TEXT(MONTH(P$3),\"00\"),\".\",YEAR(P$3))","v":"Zeitgleiche Periode des Vorjahres: 01.3799"},null,null,null,null,null,null,{"$f":"CONCATENATE(Übersetzungstexte!A$211,\" \",TEXT(MONTH(P$4),\"00\"),\".\",YEAR(P$4))","v":"Zeitgleiche Periode des vorletzten Jahres: 01.3798"}]
[1,2,3,4,5,6,null,1,2,3,4,5,6,null,null,null,null,"Regel 4","Regel 5","Sollstd.","Absenzen",null,"Sollstd.","Absenzen"]
[{"$f":"Übersetzungstexte!A$193","v":""},{"$f":"Übersetzungstexte!A$196","v":"vertragliche"},{"$f":"Übersetzungstexte!A$199","v":"Sollstd. zeitgl."},{"$f":"Übersetzungstexte!A$202","v":"Istzeit"},{"$f":"Übersetzungstexte!A$205","v":"Bezahlte/"},{"$f":"Übersetzungstexte!A$208","v":"Ausfallstunden"},null,{"$f":"Übersetzungstexte!A$212","v":""},{"$f":"Übersetzungstexte!A$215","v":"vertragliche"},{"$f":"Übersetzungstexte!A$218","v":"Sollstd. zeitgl."},{"$f":"Übersetzungstexte!A$221","v":"Istzeit"},{"$f":"Übersetzungstexte!A$224","v":"Bezahlte/"},{"$f":"Übersetzungstexte!A$227","v":"Ausfallstunden"},null,null,"anrechen-","vertragl.","Ausfall-","Ausfall-","betroffene","betroffene","Ausfall-","betroffene","betroffene","Ausfall-"]
[{"$f":"Übersetzungstexte!A$194","v":""},{"$f":"Übersetzungstexte!A$197","v":"wöchentliche"},{"$f":"Übersetzungstexte!A$200","v":"Periode inkl."},{"$f":"Übersetzungstexte!A$203","v":""},{"$f":"Übersetzungstexte!A$206","v":"Unbezahlte"},{"$f":"Übersetzungstexte!A$209","v":""},null,{"$f":"Übersetzungstexte!A$213","v":""},{"$f":"Übersetzungstexte!A$216","v":"wöchentliche"},{"$f":"Übersetzungstexte!A$219","v":"Periode inkl."},{"$f":"Übersetzungstexte!A$222","v":""},{"$f":"Übersetzungstexte!A$225","v":"Unbezahlte"},{"$f":"Übersetzungstexte!A$228","v":""},null,null,"barer Std.-","wöchentl.","stunden","stunden","Mitarbeiter","Mitarbeiter","stunden","Mitarbeiter","Mitarbeiter","stunden","Max. der"]
[{"$f":"Übersetzungstexte!A$195","v":"Name,Vorname"},{"$f":"Übersetzungstexte!A$198","v":"Arbeitszeit"},{"$f":"Übersetzungstexte!A$201","v":"Vorholzeit"},{"$f":"Übersetzungstexte!A$204","v":""},{"$f":"Übersetzungstexte!A$207","v":"Absenzen"},{"$f":"Übersetzungstexte!A$210","v":""},null,{"$f":"Übersetzungstexte!A$214","v":"Name,Vorname"},{"$f":"Übersetzungstexte!A$217","v":"Arbeitszeit"},{"$f":"Übersetzungstexte!A$220","v":"Vorholzeit"},{"$f":"Übersetzungstexte!A$223","v":""},{"$f":"Übersetzungstexte!A$226","v":"Absenzen"},{"$f":"Übersetzungstexte!A$229","v":""},null,"Name,Vorname","Verdienst","Arbeitszeit",{"$f":"P$3","v":"3799-01-01"},{"$f":"P$4","v":"3798-01-01"},"Vorjahr","Vorjahr","Vorjahr","Vorvorjahr","Vorvorjahr","Vorvorjahr","Spalte"]
[{"$f":"O1389","v":""},null,null,null,null,{"$f":"R1389","v":""},null,{"$f":"O1389","v":""},null,null,null,null,{"$f":"S1389","v":""},null,{"$f":"'Stammdaten Mitarbeitende'!AA1389","v":""},{"$f":"IF($A1389=\"\",\"\",'Stammdaten Mitarbeitende'!L1389)","v":""},{"$f":"IF(OR($A1389=\"\",'Stammdaten Mitarbeitende'!J1389=\"\"),\"\",'Stammdaten Mitarbeitende'!J1389)","v":""},{"$f":"IF(OR($A1389=\"\",C1389=\"\",D1389=\"\",E1389=\"\"),\"\",MAX(C1389-D1389-E1389,0))","v":""},{"$f":"IF(OR($H1389=\"\",J1389=\"\",K1389=\"\",L1389=\"\"),\"\",MAX(J1389-K1389-L1389,0))","v":""},{"$f":"IF(OR(F1389=\"\"),0,C1389)","v":0},{"$f":"IF(OR(F1389=\"\"),0,E1389)","v":0},{"$f":"IF(OR(F1389<=0,F1389=\"\"),0,R1389)","v":0},{"$f":"IF(OR(M1389=\"\"),0,J1389)","v":0},{"$f":"IF(OR(M1389=\"\"),0,L1389)","v":0},{"$f":"IF(OR(M1389<=0,M1389=\"\"),0,S1389)","v":0},{"$f":"MAX(P1389:Y1389)","v":0}]
["",null,null,null,null,"",null,"",null,null,null,null,"",null,{"$f":"'Stammdaten Mitarbeitende'!AA1390","v":""},{"$f":"IF($A1390=\"\",\"\",'Stammdaten Mitarbeitende'!L1390)","v":""},{"$f":"IF(OR($A1390=\"\",'Stammdaten Mitarbeitende'!J1390=\"\"),\"\",'Stammdaten Mitarbeitende'!J1390)","v":""},"",{"$f":"IF(OR($H1390=\"\",J1390=\"\",K1390=\"\",L1390=\"\"),\"\",MAX(J1390-K1390-L1390,0))","v":""},0,0,0,0,0,0,{"$f":"MAX(P1390:Y1390)","v":0}]
["",null,null,null,null,"",null,"",null,null,null,null,"",null,{"$f":"'Stammdaten Mitarbeitende'!AA1391","v":""},{"$f":"IF($A1391=\"\",\"\",'Stammdaten Mitarbeitende'!L1391)","v":""},{"$f":"IF(OR($A1391=\"\",'Stammdaten Mitarbeitende'!J1391=\"\"),\"\",'Stammdaten Mitarbeitende'!J1391)","v":""},"","",0,0,0,0,0,0,0]
["",null,null,null,null,"",null,"",null,null,null,null,"",null,{"$f":"'Stammdaten Mitarbeitende'!AA1392","v":""},{"$f":"IF($A1392=\"\",\"\",'Stammdaten Mitarbeitende'!L1392)","v":""},{"$f":"IF(OR($A1392=\"\",'Stammdaten Mitarbeitende'!J1392=\"\"),\"\",'Stammdaten Mitarbeitende'!J1392)","v":""},"","",0,0,0,0,0,0,0]
["",null,null,null,null,"",null,"",null,null,null,null,"",null,{"$f":"'Stammdaten Mitarbeitende'!AA1393","v":""},{"$f":"IF($A1393=\"\",\"\",'Stammdaten Mitarbeitende'!L1393)","v":""},{"$f":"IF(OR($A1393=\"\",'Stammdaten Mitarbeitende'!J1393=\"\"),\"\",'Stammdaten Mitarbeitende'!J1393)","v":""},"","",0,0,0,0,0,0,0]
["",null,null,null,null,"",null,"",null,null,null,null,"",null,{"$f":"'Stammdaten Mitarbeitende'!AA1394","v":""},{"$f":"IF($A1394=\"\",\"\",'Stammdaten Mitarbeitende'!L1394)","v":""},{"$f":"IF(OR($A1394=\"\",'Stammdaten Mitarbeitende'!J1394=\"\"),\"\",'Stammdaten Mitarbeitende'!J1394)","v":""},"","",0,0,0,0,0,0,0]
["",null,null,null,null,"",null,"",null,null,null,null,"",null,{"$f":"'Stammdaten Mitarbeitende'!AA1395","v":""},{"$f":"IF($A1395=\"\",\"\",'Stammdaten Mitarbeitende'!L1395)","v":""},{"$f":"IF(OR($A1395=\"\",'Stammdaten Mitarbeitende'!J1395=\"\"),\"\",'Stammdaten Mitarbeitende'!J1395)","v":""},"","",0,0,0,0,0,0,0]
["",null,null,null,null,"",null,"",null,null,null,null,"",null,{"$f":"'Stammdaten Mitarbeitende'!AA1396","v":""},{"$f":"IF($A1396=\"\",\"\",'Stammdaten Mitarbeitende'!L1396)","v":""},{"$f":"IF(OR($A1396=\"\",'Stammdaten Mitarbeitende'!J1396=\"\"),\"\",'Stammdaten Mitarbeitende'!J1396)","v":""},"","",0,0,0,0,0,0,0]
["",null,null,null,null,"",null,"",null,null,null,null,"",null,{"$f":"'Stammdaten Mitarbeitende'!AA1397","v":""},{"$f":"IF($A1397=\"\",\"\",'Stammdaten Mitarbeitende'!L1397)","v":""},{"$f":"IF(OR($A1397=\"\",'Stammdaten Mitarbeitende'!J1397=\"\"),\"\",'Stammdaten Mitarbeitende'!J1397)","v":""},"","",0,0,0,0,0,0,0]
["",null,null,null,null,"",null,"",null,null,null,null,"",null,{"$f":"'Stammdaten Mitarbeitende'!AA1398","v":""},{"$f":"IF($A1398=\"\",\"\",'Stammdaten Mitarbeitende'!L1398)","v":""},{"$f":"IF(OR($A1398=\"\",'Stammdaten Mitarbeitende'!J1398=\"\"),\"\",'Stammdaten Mitarbeitende'!J1398)","v":""},"","",0,0,0,0,0,0,0]
["",null,null,null,null,"",null,"",null,null,null,null,"",null,{"$f":"'Stammdaten Mitarbeitende'!AA1399","v":""},{"$f":"IF($A1399=\"\",\"\",'Stammdaten Mitarbeitende'!L1399)","v":""},{"$f":"IF(OR($A1399=\"\",'Stammdaten Mitarbeitende'!J1399=\"\"),\"\",'Stammdaten Mitarbeitende'!J1399)","v":""},"","",0,0,0,0,0,0,0]
["",null,null,null,null,"",null,"",null,null,null,null,"",null,{"$f":"'Stammdaten Mitarbeitende'!AA1400","v":""},{"$f":"IF($A1400=\"\",\"\",'Stammdaten Mitarbeitende'!L1400)","v":""},{"$f":"IF(OR($A1400=\"\",'Stammdaten Mitarbeitende'!J1400=\"\"),\"\",'Stammdaten Mitarbeitende'!J1400)","v":""},"","",0,0,0,0,0,0,0]
["",null,null,null,null,"",null,"",null,null,null,null,"",null,{"$f":"'Stammdaten Mitarbeitende'!AA1401","v":""},{"$f":"IF($A1401=\"\",\"\",'Stammdaten Mitarbeitende'!L1401)","v":""},{"$f":"IF(OR($A1401=\"\",'Stammdaten Mitarbeitende'!J1401=\"\"),\"\",'Stammdaten Mitarbeitende'!J1401)","v":""},"","",0,0,0,0,0,0,0]
["",null,null,null,null,"",null,"",null,null,null,null,"",null,{"$f":"'Stammdaten Mitarbeitende'!AA1402","v":""},{"$f":"IF($A1402=\"\",\"\",'Stammdaten Mitarbeitende'!L1402)","v":""},{"$f":"IF(OR($A1402=\"\",'Stammdaten Mitarbeitende'!J1402=\"\"),\"\",'Stammdaten Mitarbeitende'!J1402)","v":""},"","",0,0,0,0,0,0,0]
["",null,null,null,null,"",null,"",null,null,null,null,"",null,{"$f":"'Stammdaten Mitarbeitende'!AA1403","v":""},{"$f":"IF($A1403=\"\",\"\",'Stammdaten Mitarbeitende'!L1403)","v":""},{"$f":"IF(OR($A1403=\"\",'Stammdaten Mitarbeitende'!J1403=\"\"),\"\",'Stammdaten Mitarbeitende'!J1403)","v":""},"","",0,0,0,0,0,0,0]
["",null,null,null,null,"",null,"",null,null,null,null,"",null,{"$f":"'Stammdaten Mitarbeitende'!AA1404","v":""},{"$f":"IF($A1404=\"\",\"\",'Stammdaten Mitarbeitende'!L1404)","v":""},{"$f":"IF(OR($A1404=\"\",'Stammdaten Mitarbeitende'!J1404=\"\"),\"\",'Stammdaten Mitarbeitende'!J1404)","v":""},"","",0,0,0,0,0,0,0]
["",null,null,null,null,"",null,"",null,null,null,null,"",null,{"$f":"'Stammdaten Mitarbeitende'!AA1405","v":""},{"$f":"IF($A1405=\"\",\"\",'Stammdaten Mitarbeitende'!L1405)","v":""},{"$f":"IF(OR($A1405=\"\",'Stammdaten Mitarbeitende'!J1405=\"\"),\"\",'Stammdaten Mitarbeitende'!J1405)","v":""},"","",0,0,0,0,0,0,0]
["",null,null,null,null,"",null,"",null,null,null,null,"",null,{"$f":"'Stammdaten Mitarbeitende'!AA1406","v":""},{"$f":"IF($A1406=\"\",\"\",'Stammdaten Mitarbeitende'!L1406)","v":""},{"$f":"IF(OR($A1406=\"\",'Stammdaten Mitarbeitende'!J1406=\"\"),\"\",'Stammdaten Mitarbeitende'!J1406)","v":""},"","",0,0,0,0,0,0,0]
["",null,null,null,null,"",null,"",null,null,null,null,"",null,{"$f":"'Stammdaten Mitarbeitende'!AA1407","v":""},{"$f":"IF($A1407=\"\",\"\",'Stammdaten Mitarbeitende'!L1407)","v":""},{"$f":"IF(OR($A1407=\"\",'Stammdaten Mitarbeitende'!J1407=\"\"),\"\",'Stammdaten Mitarbeitende'!J1407)","v":""},"","",0,0,0,0,0,0,0]
["",null,null,null,null,"",null,"",null,null,null,null,"",null,{"$f":"'Stammdaten Mitarbeitende'!AA1408","v":""},{"$f":"IF($A1408=\"\",\"\",'Stammdaten Mitarbeitende'!L1408)","v":""},{"$f":"IF(OR($A1408=\"\",'Stammdaten Mitarbeitende'!J1408=\"\"),\"\",'Stammdaten Mitarbeitende'!J1408)","v":""},"","",0,0,0,0,0,0,0]
["",null,null,null,null,"",null,"",null,null,null,null,"",null,{"$f":"'Stammdaten Mitarbeitende'!AA1409","v":""},{"$f":"IF($A1409=\"\",\"\",'Stammdaten Mitarbeitende'!L1409)","v":""},{"$f":"IF(OR($A1409=\"\",'Stammdaten Mitarbeitende'!J1409=\"\"),\"\",'Stammdaten Mitarbeitende'!J1409)","v":""},"","",0,0,0,0,0,0,0]
[{"$f":"Übersetzungstexte!A$230","v":"Seitentotal"},null,{"$f":"SUM(C1389:C1409)","v":0},null,{"$f":"SUM(E1389:E1409)","v":0},{"$f":"SUM(F1389:F1409)","v":0},null,{"$f":"Übersetzungstexte!A$230","v":"Seitentotal"},null,{"$f":"SUM(J1389:J1409)","v":0},null,{"$f":"SUM(L1389:L1409)","v":0},{"$f":"SUM(M1389:M1409)","v":0}]
[{"$f":"'Stammdaten Betrieb & Abteilung'!D$1","v":"  "},null,null,null,null,null,null,{"$f":"Übersetzungstexte!A$190","v":"Betrieb / Betriebsabteilung"},{"$f":"'Stammdaten Betrieb & Abteilung'!D$13","v":" "}]
[{"$f":"'Stammdaten Betrieb & Abteilung'!D$3","v":" "},null,null,null,null,null,null,{"$f":"Übersetzungstexte!A$191","v":"PLZ/Ort"},{"$f":"'Stammdaten Betrieb & Abteilung'!D$4","v":" "}]
[]
[null,null,null,null,null,{"$f":"CONCATENATE(Übersetzungstexte!A$192,\" \",TEXT(MONTH(P$3),\"00\"),\".\",YEAR(P$3))","v":"Zeitgleiche Periode des Vorjahres: 01.3799"},null,null,null,null,null,null,{"$f":"CONCATENATE(Übersetzungstexte!A$211,\" \",TEXT(MONTH(P$4),\"00\"),\".\",YEAR(P$4))","v":"Zeitgleiche Periode des vorletzten Jahres: 01.3798"}]
[1,2,3,4,5,6,null,1,2,3,4,5,6,null,null,null,null,"Regel 4","Regel 5","Sollstd.","Absenzen",null,"Sollstd.","Absenzen"]
[{"$f":"Übersetzungstexte!A$193","v":""},{"$f":"Übersetzungstexte!A$196","v":"vertragliche"},{"$f":"Übersetzungstexte!A$199","v":"Sollstd. zeitgl."},{"$f":"Übersetzungstexte!A$202","v":"Istzeit"},{"$f":"Übersetzungstexte!A$205","v":"Bezahlte/"},{"$f":"Übersetzungstexte!A$208","v":"Ausfallstunden"},null,{"$f":"Übersetzungstexte!A$212","v":""},{"$f":"Übersetzungstexte!A$215","v":"vertragliche"},{"$f":"Übersetzungstexte!A$218","v":"Sollstd. zeitgl."},{"$f":"Übersetzungstexte!A$221","v":"Istzeit"},{"$f":"Übersetzungstexte!A$224","v":"Bezahlte/"},{"$f":"Übersetzungstexte!A$227","v":"Ausfallstunden"},null,null,"anrechen-","vertragl.","Ausfall-","Ausfall-","betroffene","betroffene","Ausfall-","betroffene","betroffene","Ausfall-"]
[{"$f":"Übersetzungstexte!A$194","v":""},{"$f":"Übersetzungstexte!A$197","v":"wöchentliche"},{"$f":"Übersetzungstexte!A$200","v":"Periode inkl."},{"$f":"Übersetzungstexte!A$203","v":""},{"$f":"Übersetzungstexte!A$206","v":"Unbezahlte"},{"$f":"Übersetzungstexte!A$209","v":""},null,{"$f":"Übersetzungstexte!A$213","v":""},{"$f":"Übersetzungstexte!A$216","v":"wöchentliche"},{"$f":"Übersetzungstexte!A$219","v":"Periode inkl."},{"$f":"Übersetzungstexte!A$222","v":""},{"$f":"Übersetzungstexte!A$225","v":"Unbezahlte"},{"$f":"Übersetzungstexte!A$228","v":""},null,null,"barer Std.-","wöchentl.","stunden","stunden","Mitarbeiter","Mitarbeiter","stunden","Mitarbeiter","Mitarbeiter","stunden","Max. der"]
[{"$f":"Übersetzungstexte!A$195","v":"Name,Vorname"},{"$f":"Übersetzungstexte!A$198","v":"Arbeitszeit"},{"$f":"Übersetzungstexte!A$201","v":"Vorholzeit"},{"$f":"Übersetzungstexte!A$204","v":""},{"$f":"Übersetzungstexte!A$207","v":"Absenzen"},{"$f":"Übersetzungstexte!A$210","v":""},null,{"$f":"Übersetzungstexte!A$214","v":"Name,Vorname"},{"$f":"Übersetzungstexte!A$217","v":"Arbeitszeit"},{"$f":"Übersetzungstexte!A$220","v":"Vorholzeit"},{"$f":"Übersetzungstexte!A$223","v":""},{"$f":"Übersetzungstexte!A$226","v":"Absenzen"},{"$f":"Übersetzungstexte!A$229","v":""},null,"Name,Vorname","Verdienst","Arbeitszeit",{"$f":"P$3","v":"3799-01-01"},{"$f":"P$4","v":"3798-01-01"},"Vorjahr","Vorjahr","Vorjahr","Vorvorjahr","Vorvorjahr","Vorvorjahr","Spalte"]
[{"$f":"O1419","v":""},null,null,null,null,{"$f":"R1419","v":""},null,{"$f":"O1419","v":""},null,null,null,null,{"$f":"S1419","v":""},null,{"$f":"'Stammdaten Mitarbeitende'!AA1419","v":""},{"$f":"IF($A1419=\"\",\"\",'Stammdaten Mitarbeitende'!L1419)","v":""},{"$f":"IF(OR($A1419=\"\",'Stammdaten Mitarbeitende'!J1419=\"\"),\"\",'Stammdaten Mitarbeitende'!J1419)","v":""},{"$f":"IF(OR($A1419=\"\",C1419=\"\",D1419=\"\",E1419=\"\"),\"\",MAX(C1419-D1419-E1419,0))","v":""},{"$f":"IF(OR($H1419=\"\",J1419=\"\",K1419=\"\",L1419=\"\"),\"\",MAX(J1419-K1419-L1419,0))","v":""},{"$f":"IF(OR(F1419=\"\"),0,C1419)","v":0},{"$f":"IF(OR(F1419=\"\"),0,E1419)","v":0},{"$f":"IF(OR(F1419<=0,F1419=\"\"),0,R1419)","v":0},{"$f":"IF(OR(M1419=\"\"),0,J1419)","v":0},{"$f":"IF(OR(M1419=\"\"),0,L1419)","v":0},{"$f":"IF(OR(M1419<=0,M1419=\"\"),0,S1419)","v":0},{"$f":"MAX(P1419:Y1419)","v":0}]
["",null,null,null,null,"",null,"",null,null,null,null,"",null,{"$f":"'Stammdaten Mitarbeitende'!AA1420","v":""},{"$f":"IF($A1420=\"\",\"\",'Stammdaten Mitarbeitende'!L1420)","v":""},{"$f":"IF(OR($A1420=\"\",'Stammdaten Mitarbeitende'!J1420=\"\"),\"\",'Stammdaten Mitarbeitende'!J1420)","v":""},"",{"$f":"IF(OR($H1420=\"\",J1420=\"\",K1420=\"\",L1420=\"\"),\"\",MAX(J1420-K1420-L1420,0))","v":""},0,0,0,0,0,0,{"$f":"MAX(P1420:Y1420)","v":0}]
["",null,null,null,null,"",null,"",null,null,null,null,"",null,{"$f":"'Stammdaten Mitarbeitende'!AA1421","v":""},{"$f":"IF($A1421=\"\",\"\",'Stammdaten Mitarbeitende'!L1421)","v":""},{"$f":"IF(OR($A1421=\"\",'Stammdaten Mitarbeitende'!J1421=\"\"),\"\",'Stammdaten Mitarbeitende'!J1421)","v":""},"","",0,0,0,0,0,0,0]
["",null,null,null,null,"",null,"",null,null,null,null,"",null,{"$f":"'Stammdaten Mitarbeitende'!AA1422","v":""},{"$f":"IF($A1422=\"\",\"\",'Stammdaten Mitarbeitende'!L1422)","v":""},{"$f":"IF(OR($A1422=\"\",'Stammdaten Mitarbeitende'!J1422=\"\"),\"\",'Stammdaten Mitarbeitende'!J1422)","v":""},"","",0,0,0,0,0,0,0]
["",null,null,null,null,"",null,"",null,null,null,null,"",null,{"$f":"'Stammdaten Mitarbeitende'!AA1423","v":""},{"$f":"IF($A1423=\"\",\"\",'Stammdaten Mitarbeitende'!L1423)","v":""},{"$f":"IF(OR($A1423=\"\",'Stammdaten Mitarbeitende'!J1423=\"\"),\"\",'Stammdaten Mitarbeitende'!J1423)","v":""},"","",0,0,0,0,0,0,0]
["",null,null,null,null,"",null,"",null,null,null,null,"",null,{"$f":"'Stammdaten Mitarbeitende'!AA1424","v":""},{"$f":"IF($A1424=\"\",\"\",'Stammdaten Mitarbeitende'!L1424)","v":""},{"$f":"IF(OR($A1424=\"\",'Stammdaten Mitarbeitende'!J1424=\"\"),\"\",'Stammdaten Mitarbeitende'!J1424)","v":""},"","",0,0,0,0,0,0,0]
["",null,null,null,null,"",null,"",null,null,null,null,"",null,{"$f":"'Stammdaten Mitarbeitende'!AA1425","v":""},{"$f":"IF($A1425=\"\",\"\",'Stammdaten Mitarbeitende'!L1425)","v":""},{"$f":"IF(OR($A1425=\"\",'Stammdaten Mitarbeitende'!J1425=\"\"),\"\",'Stammdaten Mitarbeitende'!J1425)","v":""},"","",0,0,0,0,0,0,0]
["",null,null,null,null,"",null,"",null,null,null,null,"",null,{"$f":"'Stammdaten Mitarbeitende'!AA1426","v":""},{"$f":"IF($A1426=\"\",\"\",'Stammdaten Mitarbeitende'!L1426)","v":""},{"$f":"IF(OR($A1426=\"\",'Stammdaten Mitarbeitende'!J1426=\"\"),\"\",'Stammdaten Mitarbeitende'!J1426)","v":""},{"$f":"IF(OR($A1426=\"\",C1426=\"\",D1426=\"\",E1426=\"\"),\"\",MAX(C1426-D1426-E1426,0))","v":""},"",{"$f":"IF(OR(F1426=\"\"),0,C1426)","v":0},{"$f":"IF(OR(F1426=\"\"),0,E1426)","v":0},{"$f":"IF(OR(F1426<=0,F1426=\"\"),0,R1426)","v":0},{"$f":"IF(OR(M1426=\"\"),0,J1426)","v":0},{"$f":"IF(OR(M1426=\"\"),0,L1426)","v":0},{"$f":"IF(OR(M1426<=0,M1426=\"\"),0,S1426)","v":0},{"$f":"MAX(P1426:Y1426)","v":0}]
["",null,null,null,null,"",null,"",null,null,null,null,"",null,{"$f":"'Stammdaten Mitarbeitende'!AA1427","v":""},{"$f":"IF($A1427=\"\",\"\",'Stammdaten Mitarbeitende'!L1427)","v":""},{"$f":"IF(OR($A1427=\"\",'Stammdaten Mitarbeitende'!J1427=\"\"),\"\",'Stammdaten Mitarbeitende'!J1427)","v":""},"","",0,0,0,0,0,0,0]
[{"$f":"O1428","v":""},null,null,null,null,{"$f":"R1428","v":""},null,{"$f":"O1428","v":""},null,null,null,null,{"$f":"S1428","v":""},null,{"$f":"'Stammdaten Mitarbeitende'!AA1428","v":""},{"$f":"IF($A1428=\"\",\"\",'Stammdaten Mitarbeitende'!L1428)","v":""},{"$f":"IF(OR($A1428=\"\",'Stammdaten Mitarbeitende'!J1428=\"\"),\"\",'Stammdaten Mitarbeitende'!J1428)","v":""},"","",0,0,0,0,0,0,0]
["",null,null,null,null,"",null,"",null,null,null,null,"",null,{"$f":"'Stammdaten Mitarbeitende'!AA1429","v":""},{"$f":"IF($A1429=\"\",\"\",'Stammdaten Mitarbeitende'!L1429)","v":""},{"$f":"IF(OR($A1429=\"\",'Stammdaten Mitarbeitende'!J1429=\"\"),\"\",'Stammdaten Mitarbeitende'!J1429)","v":""},"","",0,0,0,0,0,0,0]
["",null,null,null,null,"",null,"",null,null,null,null,"",null,{"$f":"'Stammdaten Mitarbeitende'!AA1430","v":""},{"$f":"IF($A1430=\"\",\"\",'Stammdaten Mitarbeitende'!L1430)","v":""},{"$f":"IF(OR($A1430=\"\",'Stammdaten Mitarbeitende'!J1430=\"\"),\"\",'Stammdaten Mitarbeitende'!J1430)","v":""},"","",0,0,0,0,0,0,0]
["",null,null,null,null,"",null,"",null,null,null,null,"",null,{"$f":"'Stammdaten Mitarbeitende'!AA1431","v":""},{"$f":"IF($A1431=\"\",\"\",'Stammdaten Mitarbeitende'!L1431)","v":""},{"$f":"IF(OR($A1431=\"\",'Stammdaten Mitarbeitende'!J1431=\"\"),\"\",'Stammdaten Mitarbeitende'!J1431)","v":""},"","",0,0,0,0,0,0,0]
["",null,null,null,null,"",null,"",null,null,null,null,"",null,{"$f":"'Stammdaten Mitarbeitende'!AA1432","v":""},{"$f":"IF($A1432=\"\",\"\",'Stammdaten Mitarbeitende'!L1432)","v":""},{"$f":"IF(OR($A1432=\"\",'Stammdaten Mitarbeitende'!J1432=\"\"),\"\",'Stammdaten Mitarbeitende'!J1432)","v":""},"","",0,0,0,0,0,0,0]
["",null,null,null,null,"",null,"",null,null,null,null,"",null,{"$f":"'Stammdaten Mitarbeitende'!AA1433","v":""},{"$f":"IF($A1433=\"\",\"\",'Stammdaten Mitarbeitende'!L1433)","v":""},{"$f":"IF(OR($A1433=\"\",'Stammdaten Mitarbeitende'!J1433=\"\"),\"\",'Stammdaten Mitarbeitende'!J1433)","v":""},"","",0,0,0,0,0,0,0]
["",null,null,null,null,"",null,"",null,null,null,null,"",null,{"$f":"'Stammdaten Mitarbeitende'!AA1434","v":""},{"$f":"IF($A1434=\"\",\"\",'Stammdaten Mitarbeitende'!L1434)","v":""},{"$f":"IF(OR($A1434=\"\",'Stammdaten Mitarbeitende'!J1434=\"\"),\"\",'Stammdaten Mitarbeitende'!J1434)","v":""},"","",0,0,0,0,0,0,0]
["",null,null,null,null,"",null,"",null,null,null,null,"",null,{"$f":"'Stammdaten Mitarbeitende'!AA1435","v":""},{"$f":"IF($A1435=\"\",\"\",'Stammdaten Mitarbeitende'!L1435)","v":""},{"$f":"IF(OR($A1435=\"\",'Stammdaten Mitarbeitende'!J1435=\"\"),\"\",'Stammdaten Mitarbeitende'!J1435)","v":""},"","",0,0,0,0,0,0,0]
["",null,null,null,null,"",null,"",null,null,null,null,"",null,{"$f":"'Stammdaten Mitarbeitende'!AA1436","v":""},{"$f":"IF($A1436=\"\",\"\",'Stammdaten Mitarbeitende'!L1436)","v":""},{"$f":"IF(OR($A1436=\"\",'Stammdaten Mitarbeitende'!J1436=\"\"),\"\",'Stammdaten Mitarbeitende'!J1436)","v":""},"","",0,0,0,0,0,0,0]
["",null,null,null,null,"",null,"",null,null,null,null,"",null,{"$f":"'Stammdaten Mitarbeitende'!AA1437","v":""},{"$f":"IF($A1437=\"\",\"\",'Stammdaten Mitarbeitende'!L1437)","v":""},{"$f":"IF(OR($A1437=\"\",'Stammdaten Mitarbeitende'!J1437=\"\"),\"\",'Stammdaten Mitarbeitende'!J1437)","v":""},"","",0,0,0,0,0,0,0]
[{"$f":"CONCATENATE(Übersetzungstexte!A$231,\" \",TEXT(MONTH(P$3),\"00\"),\".\",YEAR(P$3))","v":"Total Periode 01.3799"},null,{"$f":"T1438","v":0},null,{"$f":"U1438","v":0},{"$f":"V1438","v":0},null,{"$f":"CONCATENATE(Übersetzungstexte!A$232,\" \",TEXT(MONTH(P$4),\"00\"),\".\",YEAR(P$4))","v":"Total Periode 01.3798"},null,{"$f":"W1438","v":0},null,{"$f":"X1438","v":0},{"$f":"Y1438","v":0},null,null,null,null,null,null,{"$f":"SUM(T10:T1437)","v":0},0,0,0,0,0]
[null,null,null,null,{"$f":"CONCATENATE(Übersetzungstexte!A$233,\" \",TEXT(MONTH(P$3),\"00\"),\".\",YEAR(P$3),\":\")","v":"Prozentualer Ausfall in der Periode 01.3799:"},{"$f":"T1439","v":0},null,null,null,null,null,{"$f":"CONCATENATE(Übersetzungstexte!A$234,\" \",TEXT(MONTH(P$4),\"00\"),\".\",YEAR(P$4),\":\")","v":"Prozentualer Ausfall in der Periode 01.3798:"},{"$f":"W1439","v":0},null,null,null,null,null,"AusfallVJ",{"$f":"IF(V1438=0,0,ROUND(V1438/(T1438-U1438),4))","v":0},null,"AusfallVVJ",{"$f":"IF(Y1438=0,0,ROUND(Y1438/(W1438-X1438),4))","v":0}]
[null,null,null,null,null,null,null,null,null,null,null,{"$f":"Übersetzungstexte!A$235","v":"Durchschnittlicher Arbeitsausfall der beiden Vergleichsperioden:"},{"$f":"W1440","v":0},null,null,null,null,null,null,null,null,"Durchschnitt",{"$f":"ROUND((T1439+W1439)/2,4)","v":0}]

{"sheet":"Abrechnung von Kurzarbeit","index":3,"n_rows":1440,"n_cols":43,"rows_kept":1440,"cut":false,"hidden":false,"merged":[[3,0,3,17]]}
[{"$f":"'Stammdaten Betrieb & Abteilung'!D$1","v":"  "},null,null,null,null,null,null,null,null,null,null,null,{"$f":"Übersetzungstexte!A$239","v":"Betrieb / Betriebsabteilung"},{"$f":"'Stammdaten Betrieb & Abteilung'!D$13","v":" "}]
[{"$f":"'Stammdaten Betrieb & Abteilung'!D$3","v":" "},null,null,null,null,null,null,null,null,null,null,null,{"$f":"Übersetzungstexte!A$240","v":"Abrechnungsperiode"},{"$f":"'Stammdaten Betrieb & Abteilung'!D$14","v":""},null,{"$f":"'Stammdaten Betrieb & Abteilung'!D$12","v":{"$error":"#VALUE!"}}]
[{"$f":"'Stammdaten Betrieb & Abteilung'!D$4","v":" "},null,null,null,null,null,null,null,null,null,null,null,{"$f":"Übersetzungstexte!A$241","v":"Beginn / Ende der Kurzarbeit"},{"$f":"'Stammdaten Betrieb & Abteilung'!D$16","v":""},null,null,null,null,null,null,null,null,"Original",null,{"$f":"IF(OR($A10=\"\",J10=\"\"),\"\",IF(D10=F10,0,MAX(ROUND(J10/(D10-F10)*100,2),0)))","v":""},{"$f":"IF(OR($A10=\"\",J10=\"\"),\"\",IF(Y10=0,0,J10*100*'Stammdaten Betrieb & Abteilung'!B$23/Y10))","v":""},{"$f":"IF(OR($A10=\"\",Y10=\"\"),\"\",MAX(Y10-'Stammdaten Betrieb & Abteilung'!B$23*100,0))","v":""},{"$f":"IF(OR($A10=\"\",J10=\"\"),\"\",ROUND((D10-F10)*AA10/100 - MAX(K10-L10,0),2))","v":""},null,null,{"$f":"'Stammdaten Betrieb & Abteilung'!B$24","v":""}]
[{"$f":"Übersetzungstexte!A123","v":"Formular anwendbar bei Kurzarbeit (ordentliches Verfahren) - Gültig von Januar bis März 2023 "},null,null,null,null,null,null,null,null,null,null,null,null,null,null,null,null,null,null,null,null,null,null,null,{"$f":"C1440*100","v":0},{"$f":"IF(Y4=0,0,100*'Stammdaten Betrieb & Abteilung'!B$23/Y4)","v":0},{"$f":"IF(Y4=\"\",\"\",MAX(Y4-'Stammdaten Betrieb & Abteilung'!B$23*100,0))","v":0},{"$f":"IF(Y4=0,0,AA4/Y4)","v":0},null,null,{"$f":"CONCATENATE(Übersetzungstexte!A290,\" \",TEXT(AE$3,\"0.0\"))","v":"Abzug "}]
[1,2,3,4,5,6,null,7,null,8,9,10,11,12,13,null,14,15,null,null,null,"Regel 7","Regel 8",null,"Regel 9","Regel 10","Regel 11","Regel 12","Regel 13","Regel 14","Regel 15","Regel 17",null,"Regel 19/20",null,null,null,null,"AHV-pflichtiger","AHV-pflichtiger",null,null,"AHV-pflichtige"]
[{"$f":"Übersetzungstexte!A$242","v":""},{"$f":"Übersetzungstexte!A$245","v":"anrechen-"},{"$f":"Übersetzungstexte!A$248","v":"Wöchentl."},{"$f":"Übersetzungstexte!A$251","v":"Sollstd. Abr.-"},{"$f":"Übersetzungstexte!A$254","v":""},{"$f":"Übersetzungstexte!A$257","v":"Bezahlte/"},null,{"$f":"Übersetzungstexte!A$263","v":"(nur für Gleitzeit)"},null,{"$f":"Übersetzungstexte!A$269","v":"Ausfall-"},{"$f":"Übersetzungstexte!A$272","v":"Saldo"},{"$f":"Übersetzungstexte!A$275","v":"Saisonale"},{"$f":"Übersetzungstexte!A$278","v":"Anrechen-"},{"$f":"Übersetzungstexte!A$281","v":"Verdienst-"},{"$f":"Übersetzungstexte!A$284","v":"Verdienst-"},{"$f":"Übersetzungstexte!A$287","v":"Verdienst"},{"$f":"AE$4","v":"Abzug "},{"$f":"Übersetzungstexte!A$293","v":""},null,null,"anrechen-","Gleitzeit","Ausfall-","Max(D12,0)","Prozentualer","Saisonale","Proz. Wirts. Bed.","Anrechen-","Verdienst-","Verdienst-","Abzug","Abzug","Verdienst",null,"Anzahl","Anzahl","Sollstd.","Absenzen","Verdienst-","Verdienst","Sollstd.","bezahlte/","Abzugsbasis"]
[{"$f":"Übersetzungstexte!A$243","v":""},{"$f":"Übersetzungstexte!A$246","v":"barer Std.-"},{"$f":"Übersetzungstexte!A$249","v":"Arbeitszeit"},{"$f":"Übersetzungstexte!A$252","v":"Periode Inkl."},{"$f":"Übersetzungstexte!A$255","v":""},{"$f":"Übersetzungstexte!A$258","v":"Unbezahlte"},{"$f":"Übersetzungstexte!A$261","v":"Saldo Ende Per."},null,null,{"$f":"Übersetzungstexte!A$270","v":"stunden"},{"$f":"Übersetzungstexte!A$273","v":"Mehrstd."},{"$f":"Übersetzungstexte!A$276","v":"Ausfall-"},{"$f":"Übersetzungstexte!A$279","v":"bare Aus-"},{"$f":"Übersetzungstexte!A$282","v":"ausfall"},{"$f":"Übersetzungstexte!A$285","v":"ausfall"},{"$f":"Übersetzungstexte!A$288","v":"Zwischen-"},{"$f":"Übersetzungstexte!A$291","v":"Karenztage"},{"$f":"Übersetzungstexte!A$294","v":"Beantragte"},null,null,"barer Std.-","c","stunden",null,"Arbeitsausfall","Ausfall-","Arbeitsausfall","bare ","ausfall","ausfall","Karenztage","Zwischen-","Zwischen-","Beantragte","bezugsber.","betroffene","bezugsber.","bezugsber.","ausfall","Zwischen-","inkl","unbezahlte"]
[{"$f":"Übersetzungstexte!A$244","v":"Name,Vorname"},{"$f":"Übersetzungstexte!A$247","v":"Verdienst"},{"$f":"Übersetzungstexte!A$250","v":"in der AP"},{"$f":"Übersetzungstexte!A$253","v":"Vorholzeit"},{"$f":"Übersetzungstexte!A$256","v":"Istzeit"},{"$f":"Übersetzungstexte!A$259","v":"Absenzen"},{"$f":"Übersetzungstexte!A$262","v":"vorherg."},{"$f":"Übersetzungstexte!A$265","v":"laufend"},{"$f":"Übersetzungstexte!A$268","v":"Diff."},{"$f":"Übersetzungstexte!A$271","v":"total"},{"$f":"Übersetzungstexte!A$274","v":"Vormonate"},{"$f":"Übersetzungstexte!A$277","v":"stunden"},{"$f":"Übersetzungstexte!A$280","v":"fall-Std."},{"$f":"Übersetzungstexte!A$283","v":"100%"},{"$f":"Übersetzungstexte!A$286","v":"80%"},{"$f":"Übersetzungstexte!A$289","v":"Beschäftigung"},{"$f":"Übersetzungstexte!A$292","v":"80%"},{"$f":"Übersetzungstexte!A$295","v":"Vergütung"},null,null,"Verdienst",null,"Total",null,"pAA","stunden","pwAA","Ausfall-Std.","100%","80%","80%","beschäftigung","beschäftigung","Vergütung","Mitarbeiter","Mitarbeiter","Mitarbeiter","Mitarbeiter","100%","beschäftigung","Vorholzeit","Ansenzen"]
[{"$f":"'Stammdaten Mitarbeitende'!AA9","v":"Mustermann,Hans"},{"$f":"U9","v":{"$error":"#VALUE!"}},40,168,128,21,0,11,{"$f":"V9","v":-11},30,8,{"$f":"Z9","v":0},{"$f":"AB9","v":-8},{"$error":"#VALUE!"},{"$error":"#VALUE!"},200,{"$f":"AE9","v":{"$error":"#VALUE!"}},{"$f":"AH9","v":{"$error":"#VALUE!"}},null,null,{"$f":"IF($A9=\"\",\"\",'Stammdaten Mitarbeitende'!L9)","v":{"$error":"#VALUE!"}},{"$f":"IF(AND(G9=\"\",H9=\"\"),0,G9-H9)","v":-11},{"$f":"IF(OR($A9=\"\",D9=\"\",E9=\"\",F9=\"\",V9=\"\"),\"\",D9-(E9+F9+V9))","v":30},{"$f":"IF(W9=\"\",\"\",MAX(W9,0))","v":30},{"$f":"IF(J9=\"\",\"\",Y$4)","v":0},{"$f":"IF(J9=\"\",\"\",J9*Z$4)","v":0},{"$f":"IF(Y9=\"\",\"\",AA$4)","v":0},{"$f":"IF(J9=\"\",\"\",ROUND(J9*AB$4 - MAX(K9-L9,0),2))","v":-8},{"$f":"IF(OR($A9=\"\",J9=\"\",B9=\"\",M9<0),\"\",MAX(ROUND(M9*B9*2,1)/2,0))","v":{"$error":"#VALUE!"}},{"$f":"IF(OR($A9=\"\",N9=\"\"),\"\",ROUND(N9*8/5,1)/2)","v":{"$error":"#VALUE!"}},{"$f":"IF(OR($A9=\"\",B9=\"\",N9=\"\"),\"\",ROUND(AE$3*C9*B9*16/50,1)/2)","v":{"$error":"#VALUE!"}},{"$f":"IF(OR($A9=\"\",J9=\"\",N9=\"\"),\"\",MAX(O9+P9-N9,0))","v":{"$error":"#VALUE!"}},{"$f":"P9","v":200},{"$f":"IF(OR($A9=\"\",N9=\"\"),\"\",ROUND((MAX(O9-Q9-AF9,0))*2,1)/2)","v":{"$error":"#VALUE!"}},{"$f":"IF(D9=\"\",0,1)","v":1},{"$f":"IF(J9=\"\",0,IF(ROUND(J9,2)<=0,0,1))","v":1},{"$f":"IF(D9=\"\",0,D9)","v":168},{"$f":"IF(D9=\"\",0,F9)","v":21},{"$f":"IF('Stammdaten Mitarbeitende'!N9>0,AC9,0)","v":0},{"$f":"IF('Stammdaten Mitarbeitende'!N9>0,P9,0)","v":0},{"$f":"D9","v":168},{"$f":"F9","v":21},{"$f":"IF(AM9=\"\",0,MAX(AM9-AN9,0))","v":0}]
[{"$f":"'Stammdaten Mitarbeitende'!AA10","v":""},{"$f":"U10","v":""},null,null,null,null,null,null,0,"",null,{"$f":"Z10","v":""},"","","",null,{"$f":"AE10","v":""},{"$f":"AH10","v":""},null,null,{"$f":"IF($A10=\"\",\"\",'Stammdaten Mitarbeitende'!L10)","v":""},{"$f":"IF(AND(G10=\"\",H10=\"\"),0,G10-H10)","v":0},{"$f":"IF(OR($A10=\"\",D10=\"\",E10=\"\",F10=\"\",V10=\"\"),\"\",D10-(E10+F10+V10))","v":""},{"$f":"IF(W10=\"\",\"\",MAX(W10,0))","v":""},{"$f":"IF(J10=\"\",\"\",Y$4)","v":""},{"$f":"IF(J10=\"\",\"\",J10*Z$4)","v":""},{"$f":"IF(Y10=\"\",\"\",AA$4)","v":""},{"$f":"IF(J10=\"\",\"\",ROUND(J10*AB$4 - MAX(K10-L10,0),2))","v":""},{"$f":"IF(OR($A10=\"\",J10=\"\",B10=\"\",M10<0),\"\",MAX(ROUND(M10*B10*2,1)/2,0))","v":""},{"$f":"IF(OR($A10=\"\",N10=\"\"),\"\",ROUND(N10*8/5,1)/2)","v":""},{"$f":"IF(OR($A10=\"\",B10=\"\",N10=\"\"),\"\",ROUND(AE$3*C10*B10*16/50,1)/2)","v":""},{"$f":"IF(OR($A10=\"\",J10=\"\",N10=\"\"),\"\",MAX(O10+P10-N10,0))","v":""},{"$f":"P10","v":0},{"$f":"IF(OR($A10=\"\",N10=\"\"),\"\",ROUND((MAX(O10-Q10-AF10,0))*2,1)/2)","v":""},{"$f":"IF(D10=\"\",0,1)","v":0},{"$f":"IF(J10=\"\",0,IF(ROUND(J10,2)<=0,0,1))","v":0},{"$f":"IF(D10=\"\",0,D10)","v":0},{"$f":"IF(D10=\"\",0,F10)","v":0},{"$f":"IF('Stammdaten Mitarbeitende'!N10>0,AC10,0)","v":0},{"$f":"IF('Stammdaten Mitarbeitende'!N10>0,P10,0)","v":0},{"$f":"D10","v":0},{"$f":"F10","v":0},{"$f":"IF(AM10=\"\",0,MAX(AM10-AN10,0))","v":0}]
[{"$f":"'Stammdaten Mitarbeitende'!AA11","v":""},{"$f":"U11","v":""},null,null,null,null,null,null,0,"",null,{"$f":"Z11","v":""},"","","",null,{"$f":"AE11","v":""},{"$f":"AH11","v":""},null,null,{"$f":"IF($A11=\"\",\"\",'Stammdaten Mitarbeitende'!L11)","v":""},{"$f":"IF(AND(G11=\"\",H11=\"\"),0,G11-H11)","v":0},"","",{"$f":"IF(J11=\"\",\"\",Y$4)","v":""},{"$f":"IF(J11=\"\",\"\",J11*Z$4)","v":""},{"$f":"IF(Y11=\"\",\"\",AA$4)","v":""},{"$f":"IF(J11=\"\",\"\",ROUND(J11*AB$4 - MAX(K11-L11,0),2))","v":""},{"$f":"IF(OR($A11=\"\",J11=\"\",B11=\"\",M11<0),\"\",MAX(ROUND(M11*B11*2,1)/2,0))","v":""},{"$f":"IF(OR($A11=\"\",N11=\"\"),\"\",ROUND(N11*8/5,1)/2)","v":""},{"$f":"IF(OR($A11=\"\",B11=\"\",N11=\"\"),\"\",ROUND(AE$3*C11*B11*16/50,1)/2)","v":""},{"$f":"IF(OR($A11=\"\",J11=\"\",N11=\"\"),\"\",MAX(O11+P11-N11,0))","v":""},{"$f":"P11","v":0},{"$f":"IF(OR($A11=\"\",N11=\"\"),\"\",ROUND((MAX(O11-Q11-AF11,0))*2,1)/2)","v":""},0,0,0,0,{"$f":"IF('Stammdaten Mitarbeitende'!N11>0,AC11,0)","v":0},{"$f":"IF('Stammdaten Mitarbeitende'!N11>0,P11,0)","v":0},{"$f":"D11","v":0},{"$f":"F11","v":0},0]
[{"$f":"'Stammdaten Mitarbeitende'!AA12","v":""},{"$f":"U12","v":""},null,null,null,null,null,null,0,"",null,{"$f":"Z12","v":""},"","","",null,{"$f":"AE12","v":""},{"$f":"AH12","v":""},null,null,{"$f":"IF($A12=\"\",\"\",'Stammdaten Mitarbeitende'!L12)","v":""},0,"","","","","","","","","","",0,"",0,0,0,0,{"$f":"IF('Stammdaten Mitarbeitende'!N12>0,AC12,0)","v":0},{"$f":"IF('Stammdaten Mitarbeitende'!N12>0,P12,0)","v":0},0,0,0]
[{"$f":"'Stammdaten Mitarbeitende'!AA13","v":""},{"$f":"U13","v":""},null,null,null,null,null,null,0,"",null,{"$f":"Z13","v":""},{"$f":"AB13","v":""},{"$f":"AC13","v":""},{"$f":"AD13","v":""},null,{"$f":"AE13","v":""},{"$f":"AH13","v":""},null,null,{"$f":"IF($A13=\"\",\"\",'Stammdaten Mitarbeitende'!L13)","v":""},0,"","","","","","","","","","",0,"",0,0,0,0,{"$f":"IF('Stammdaten Mitarbeitende'!N13>0,AC13,0)","v":0},{"$f":"IF('Stammdaten Mitarbeitende'!N13>0,P13,0)","v":0},0,0,0]
[{"$f":"'Stammdaten Mitarbeitende'!AA14","v":""},{"$f":"U14","v":""},null,null,null,null,null,null,{"$f":"V14","v":0},{"$f":"W14","v":""},null,{"$f":"Z14","v":""},{"$f":"AB14","v":""},{"$f":"AC14","v":""},{"$f":"AD14","v":""},null,{"$f":"AE14","v":""},{"$f":"AH14","v":""},null,null,{"$f":"IF($A14=\"\",\"\",'Stammdaten Mitarbeitende'!L14)","v":""},0,"","","","","","","","","","",0,"",0,0,0,0,{"$f":"IF('Stammdaten Mitarbeitende'!N14>0,AC14,0)","v":0},{"$f":"IF('Stammdaten Mitarbeitende'!N14>0,P14,0)","v":0},0,0,0]
[{"$f":"'Stammdaten Mitarbeitende'!AA15","v":""},"",null,null,null,null,null,null,0,"",null,"","","","",null,"","",null,null,{"$f":"IF($A15=\"\",\"\",'Stammdaten Mitarbeitende'!L15)","v":""},0,"","","","","","","","","","",0,"",0,0,0,0,{"$f":"IF('Stammdaten Mitarbeitende'!N15>0,AC15,0)","v":0},{"$f":"IF('Stammdaten Mitarbeitende'!N15>0,P15,0)","v":0},0,0,0]
[{"$f":"'Stammdaten Mitarbeitende'!AA16","v":""},"",null,null,null,null,null,null,0,"",null,"","","","",null,"","",null,null,{"$f":"IF($A16=\"\",\"\",'Stammdaten Mitarbeitende'!L16)","v":""},0,"","","","","","","","","","",0,"",0,0,0,0,{"$f":"IF('Stammdaten Mitarbeitende'!N16>0,AC16,0)","v":0},{"$f":"IF('Stammdaten Mitarbeitende'!N16>0,P16,0)","v":0},0,0,0]
[{"$f":"'Stammdaten Mitarbeitende'!AA17","v":""},"",null,null,null,null,null,null,0,"",null,"","","","",null,"","",null,null,{"$f":"IF($A17=\"\",\"\",'Stammdaten Mitarbeitende'!L17)","v":""},0,"","","","","","","","","","",0,"",0,0,0,0,{"$f":"IF('Stammdaten Mitarbeitende'!N17>0,AC17,0)","v":0},{"$f":"IF('Stammdaten Mitarbeitende'!N17>0,P17,0)","v":0},0,0,0]
[{"$f":"'Stammdaten Mitarbeitende'!AA18","v":""},"",null,null,null,null,null,null,0,"",null,"","","","",null,"","",null,null,{"$f":"IF($A18=\"\",\"\",'Stammdaten Mitarbeitende'!L18)","v":""},0,"","","","","","","","","","",0,"",0,0,0,0,{"$f":"IF('Stammdaten Mitarbeitende'!N18>0,AC18,0)","v":0},{"$f":"IF('Stammdaten Mitarbeitende'!N18>0,P18,0)","v":0},0,0,0]
[{"$f":"'Stammdaten Mitarbeitende'!AA19","v":""},"",null,null,null,null,null,null,0,"",null,"","","","",null,"","",null,null,{"$f":"IF($A19=\"\",\"\",'Stammdaten Mitarbeitende'!L19)","v":""},0,"","","","","","","","","","",0,"",0,0,0,0,{"$f":"IF('Stammdaten Mitarbeitende'!N19>0,AC19,0)","v":0},{"$f":"IF('Stammdaten Mitarbeitende'!N19>0,P19,0)","v":0},0,0,0]
[{"$f":"'Stammdaten Mitarbeitende'!AA20","v":""},"",null,null,null,null,null,null,0,"",null,"","","","",null,"","",null,null,{"$f":"IF($A20=\"\",\"\",'Stammdaten Mitarbeitende'!L20)","v":""},0,"","","","","","","","","","",0,"",0,0,0,0,{"$f":"IF('Stammdaten Mitarbeitende'!N20>0,AC20,0)","v":0},{"$f":"IF('Stammdaten Mitarbeitende'!N20>0,P20,0)","v":0},0,0,0]
[{"$f":"'Stammdaten Mitarbeitende'!AA21","v":""},"",null,null,null,null,null,null,0,"",null,"","","","",null,"","",null,null,{"$f":"IF($A21=\"\",\"\",'Stammdaten Mitarbeitende'!L21)","v":""},0,"","","","","","","","","","",0,"",0,0,0,0,{"$f":"IF('Stammdaten Mitarbeitende'!N21>0,AC21,0)","v":0},{"$f":"IF('Stammdaten Mitarbeitende'!N21>0,P21,0)","v":0},0,0,0]
[{"$f":"'Stammdaten Mitarbeitende'!AA22","v":""},"",null,null,null,null,null,null,0,"",null,"","","","",null,"","",null,null,{"$f":"IF($A22=\"\",\"\",'Stammdaten Mitarbeitende'!L22)","v":""},0,"","","","","","","","","","",0,"",0,0,0,0,{"$f":"IF('Stammdaten Mitarbeitende'!N22>0,AC22,0)","v":0},{"$f":"IF('Stammdaten Mitarbeitende'!N22>0,P22,0)","v":0},0,0,0]
[{"$f":"'Stammdaten Mitarbeitende'!AA23","v":""},"",null,null,null,null,null,null,0,"",null,"","","","",null,"","",null,null,{"$f":"IF($A23=\"\",\"\",'Stammdaten Mitarbeitende'!L23)","v":""},0,"","","","","","","","","","",0,"",0,0,0,0,{"$f":"IF('Stammdaten Mitarbeitende'!N23>0,AC23,0)","v":0},{"$f":"IF('Stammdaten Mitarbeitende'!N23>0,P23,0)","v":0},0,0,0]
[{"$f":"'Stammdaten Mitarbeitende'!AA24","v":""},"",null,null,null,null,null,null,0,"",null,"","","","",null,"","",null,null,{"$f":"IF($A24=\"\",\"\",'Stammdaten Mitarbeitende'!L24)","v":""},0,"","","","","","","","","","",0,"",0,0,0,0,{"$f":"IF('Stammdaten Mitarbeitende'!N24>0,AC24,0)","v":0},{"$f":"IF('Stammdaten Mitarbeitende'!N24>0,P24,0)","v":0},0,0,0]
[{"$f":"'Stammdaten Mitarbeitende'!AA25","v":""},"",null,null,null,null,null,null,0,"",null,"","","","",null,"","",null,null,{"$f":"IF($A25=\"\",\"\",'Stammdaten Mitarbeitende'!L25)","v":""},0,"","","","","","","","","","",0,"",0,0,0,0,{"$f":"IF('Stammdaten Mitarbeitende'!N25>0,AC25,0)","v":0},{"$f":"IF('Stammdaten Mitarbeitende'!N25>0,P25,0)","v":0},0,0,0]
[{"$f":"'Stammdaten Mitarbeitende'!AA26","v":""},"",null,null,null,null,null,null,0,"",null,"","","","",null,"","",null,null,{"$f":"IF($A26=\"\",\"\",'Stammdaten Mitarbeitende'!L26)","v":""},0,"","","","","","","","","","",0,"",0,0,0,0,{"$f":"IF('Stammdaten Mitarbeitende'!N26>0,AC26,0)","v":0},{"$f":"IF('Stammdaten Mitarbeitende'!N26>0,P26,0)","v":0},0,0,0]
[{"$f":"'Stammdaten Mitarbeitende'!AA27","v":""},"",null,null,null,null,null,null,0,"",null,"","","","",null,"","",null,null,{"$f":"IF($A27=\"\",\"\",'Stammdaten Mitarbeitende'!L27)","v":""},0,"","","","","","","","","","",0,"",0,0,0,0,{"$f":"IF('Stammdaten Mitarbeitende'!N27>0,AC27,0)","v":0},{"$f":"IF('Stammdaten Mitarbeitende'!N27>0,P27,0)","v":0},0,0,0]
[{"$f":"'Stammdaten Mitarbeitende'!AA28","v":""},"",null,null,null,null,null,null,0,"",null,"","","","",null,"","",null,null,{"$f":"IF($A28=\"\",\"\",'Stammdaten Mitarbeitende'!L28)","v":""},0,"","","","","","","","","","",0,"",0,0,0,0,{"$f":"IF('Stammdaten Mitarbeitende'!N28>0,AC28,0)","v":0},{"$f":"IF('Stammdaten Mitarbeitende'!N28>0,P28,0)","v":0},0,0,0]
[{"$f":"'Stammdaten Mitarbeitende'!AA29","v":""},"",null,null,null,null,null,null,0,"",null,"","","","",null,"","",null,null,{"$f":"IF($A29=\"\",\"\",'Stammdaten Mitarbeitende'!L29)","v":""},0,"","","","","","","","","","",0,"",0,0,0,0,{"$f":"IF('Stammdaten Mitarbeitende'!N29>0,AC29,0)","v":0},{"$f":"IF('Stammdaten Mitarbeitende'!N29>0,P29,0)","v":0},0,0,0]
[{"$f":"Übersetzungstexte!A$296","v":"Seitentotal"},null,null,{"$f":"SUM(D10:D29)","v":0},null,{"$f":"SUM(F10:F29)","v":0},null,null,null,{"$f":"SUM(J10:J29)","v":0},null,null,null,{"$f":"SUM(N10:N29)","v":0},null,{"$f":"SUM(P10:P29)","v":0},null,{"$f":"SUM(R10:R29)","v":0}]
[{"$f":"'Stammdaten Betrieb & Abteilung'!D$1","v":"  "},null,null,null,null,null,null,null,null,null,null,null,{"$f":"Übersetzungstexte!A$239","v":"Betrieb / Betriebsabteilung"},{"$f":"'Stammdaten Betrieb & Abteilung'!D$13","v":" "}]
[{"$f":"'Stammdaten Betrieb & Abteilung'!D$3","v":" "},null,null,null,null,null,null,null,null,null,null,null,{"$f":"Übersetzungstexte!A$240","v":"Abrechnungsperiode"},{"$f":"'Stammdaten Betrieb & Abteilung'!D$14","v":""},null,{"$f":"'Stammdaten Betrieb & Abteilung'!D$12","v":{"$error":"#VALUE!"}}]
[{"$f":"'Stammdaten Betrieb & Abteilung'!D$4","v":" "},null,null,null,null,null,null,null,null,null,null,null,{"$f":"Übersetzungstexte!A$241","v":"Beginn / Ende der Kurzarbeit"},{"$f":"'Stammdaten Betrieb & Abteilung'!D$16","v":""}]
[]
[1,2,3,4,5,6,null,7,null,8,9,10,11,12,13,null,14,15,null,null,null,"Regel 7","Regel 8",null,"Regel 9","Regel 10","Regel 11","Regel 12","Regel 13","Regel 14","Regel 15","Regel 17",null,"Regel 19/20",null,null,null,null,"AHV-pflichtiger","AHV-pflichtiger",null,null,"AHV-pflichtige"]
[{"$f":"Übersetzungstexte!A$242","v":""},{"$f":"Übersetzungstexte!A$245","v":"anrechen-"},{"$f":"Übersetzungstexte!A$248","v":"Wöchentl."},{"$f":"Übersetzungstexte!A$251","v":"Sollstd. Abr.-"},{"$f":"Übersetzungstexte!A$254","v":""},{"$f":"Übersetzungstexte!A$257","v":"Bezahlte/"},null,{"$f":"Übersetzungstexte!A$263","v":"(nur für Gleitzeit)"},null,{"$f":"Übersetzungstexte!A$269","v":"Ausfall-"},{"$f":"Übersetzungstexte!A$272","v":"Saldo"},{"$f":"Übersetzungstexte!A$275","v":"Saisonale"},{"$f":"Übersetzungstexte!A$278","v":"Anrechen-"},{"$f":"Übersetzungstexte!A$281","v":"Verdienst-"},{"$f":"Übersetzungstexte!A$284","v":"Verdienst-"},{"$f":"Übersetzungstexte!A$287","v":"Verdienst"},{"$f":"AE$4","v":"Abzug "},{"$f":"Übersetzungstexte!A$293","v":""},null,null,"anrechen-","Gleitzeit","Ausfall-","Max(D12,0)","Prozentualer","Saisonale","Proz. Wirts. Bed.","Anrechen-","Verdienst-","Verdienst-","Abzug","Abzug","Verdienst",null,"Anzahl","Anzahl","Sollstd.","Absenzen","Verdienst-","Verdienst","Sollstd.","bezahlte/","Abzugsbasis"]
[{"$f":"Übersetzungstexte!A$243","v":""},{"$f":"Übersetzungstexte!A$246","v":"barer Std.-"},{"$f":"Übersetzungstexte!A$249","v":"Arbeitszeit"},{"$f":"Übersetzungstexte!A$252","v":"Periode Inkl."},{"$f":"Übersetzungstexte!A$255","v":""},{"$f":"Übersetzungstexte!A$258","v":"Unbezahlte"},{"$f":"Übersetzungstexte!A$261","v":"Saldo Ende Per."},null,null,{"$f":"Übersetzungstexte!A$270","v":"stunden"},{"$f":"Übersetzungstexte!A$273","v":"Mehrstd."},{"$f":"Übersetzungstexte!A$276","v":"Ausfall-"},{"$f":"Übersetzungstexte!A$279","v":"bare Aus-"},{"$f":"Übersetzungstexte!A$282","v":"ausfall"},{"$f":"Übersetzungstexte!A$285","v":"ausfall"},{"$f":"Übersetzungstexte!A$288","v":"Zwischen-"},{"$f":"Übersetzungstexte!A$291","v":"Karenztage"},{"$f":"Übersetzungstexte!A$294","v":"Beantragte"},null,null,"barer Std.-","c","stunden",null,"Arbeitsausfall","Ausfall-","Arbeitsausfall","bare ","ausfall","ausfall","Karenztage","Zwischen-","Zwischen-","Beantragte","bezugsber.","betroffene","bezugsber.","bezugsber.","ausfall","Zwischen-","inkl","unbezahlte"]
[{"$f":"Übersetzungstexte!A$244","v":"Name,Vorname"},{"$f":"Übersetzungstexte!A$247","v":"Verdienst"},{"$f":"Übersetzungstexte!A$250","v":"in der AP"},{"$f":"Übersetzungstexte!A$253","v":"Vorholzeit"},{"$f":"Übersetzungstexte!A$256","v":"Istzeit"},{"$f":"Übersetzungstexte!A$259","v":"Absenzen"},{"$f":"Übersetzungstexte!A$262","v":"vorherg."},{"$f":"Übersetzungstexte!A$265","v":"laufend"},{"$f":"Übersetzungstexte!A$268","v":"Diff."},{"$f":"Übersetzungstexte!A$271","v":"total"},{"$f":"Übersetzungstexte!A$274","v":"Vormonate"},{"$f":"Übersetzungstexte!A$277","v":"stunden"},{"$f":"Übersetzungstexte!A$280","v":"fall-Std."},{"$f":"Übersetzungstexte!A$283","v":"100%"},{"$f":"Übersetzungstexte!A$286","v":"80%"},{"$f":"Übersetzungstexte!A$289","v":"Beschäftigung"},{"$f":"Übersetzungstexte!A$292","v":"80%"},{"$f":"Übersetzungstexte!A$295","v":"Vergütung"},null,null,"Verdienst",null,"Total",null,"pAA","stunden","pwAA","Ausfall-Std.","100%","80%","80%","beschäftigung","beschäftigung","Vergütung","Mitarbeiter","Mitarbeiter","Mitarbeiter","Mitarbeiter","100%","beschäftigung","Vorholzeit","Ansenzen"]
[{"$f":"'Stammdaten Mitarbeitende'!AA39","v":""},{"$f":"U39","v":""},null,null,null,null,null,null,{"$f":"V39","v":0},{"$f":"W39","v":""},null,{"$f":"Z39","v":""},{"$f":"AB39","v":""},{"$f":"AC39","v":""},{"$f":"AD39","v":""},null,{"$f":"AE39","v":""},{"$f":"AH39","v":""},null,null,{"$f":"IF($A39=\"\",\"\",'Stammdaten Mitarbeitende'!L39)","v":""},{"$f":"IF(AND(G39=\"\",H39=\"\"),0,G39-H39)","v":0},{"$f":"IF(OR($A39=\"\",D39=\"\",E39=\"\",F39=\"\",V39=\"\"),\"\",D39-(E39+F39+V39))","v":""},{"$f":"IF(W39=\"\",\"\",MAX(W39,0))","v":""},{"$f":"IF(J39=\"\",\"\",Y$4)","v":""},{"$f":"IF(J39=\"\",\"\",J39*Z$4)","v":""},{"$f":"IF(Y39=\"\",\"\",AA$4)","v":""},{"$f":"IF(J39=\"\",\"\",ROUND(J39*AB$4 - MAX(K39-L39,0),2))","v":""},{"$f":"IF(OR($A39=\"\",J39=\"\",B39=\"\",M39<0),\"\",MAX(ROUND(M39*B39*2,1)/2,0))","v":""},{"$f":"IF(OR($A39=\"\",N39=\"\"),\"\",ROUND(N39*8/5,1)/2)","v":""},{"$f":"IF(OR($A39=\"\",B39=\"\",N39=\"\"),\"\",ROUND(AE$3*C39*B39*16/50,1)/2)","v":""},{"$f":"IF(OR($A39=\"\",J39=\"\",N39=\"\"),\"\",MAX(O39+P39-N39,0))","v":""},{"$f":"P39","v":0},{"$f":"IF(OR($A39=\"\",N39=\"\"),\"\",ROUND((MAX(O39-Q39-AF39,0))*2,1)/2)","v":""},{"$f":"IF(D39=\"\",0,1)","v":0},{"$f":"IF(J39=\"\",0,IF(ROUND(J39,2)<=0,0,1))","v":0},{"$f":"IF(D39=\"\",0,D39)","v":0},{"$f":"IF(D39=\"\",0,F39)","v":0},{"$f":"IF('Stammdaten Mitarbeitende'!N39>0,AC39,0)","v":0},{"$f":"IF('Stammdaten Mitarbeitende'!N39>0,P39,0)","v":0},{"$f":"D39","v":0},{"$f":"F39","v":0},{"$f":"IF(AM39=\"\",0,MAX(AM39-AN39,0))","v":0}]
[{"$f":"'Stammdaten Mitarbeitende'!AA40","v":""},"",null,null,null,null,null,null,0,"",null,"","","","",null,"","",null,null,{"$f":"IF($A40=\"\",\"\",'Stammdaten Mitarbeitende'!L40)","v":""},0,"","","","","","","","","","",0,"",0,{"$f":"IF(J40=\"\",0,IF(ROUND(J40,2)<=0,0,1))","v":0},0,0,{"$f":"IF('Stammdaten Mitarbeitende'!N40>0,AC40,0)","v":0},{"$f":"IF('Stammdaten Mitarbeitende'!N40>0,P40,0)","v":0},0,0,0]
[{"$f":"'Stammdaten Mitarbeitende'!AA41","v":""},"",null,null,null,null,null,null,0,"",null,"","","","",null,"","",null,null,{"$f":"IF($A41=\"\",\"\",'Stammdaten Mitarbeitende'!L41)","v":""},0,"","","","","","","","","","",0,"",0,0,0,0,{"$f":"IF('Stammdaten Mitarbeitende'!N41>0,AC41,0)","v":0},{"$f":"IF('Stammdaten Mitarbeitende'!N41>0,P41,0)","v":0},0,0,0]
[{"$f":"'Stammdaten Mitarbeitende'!AA42","v":""},"",null,null,null,null,null,null,0,"",null,"","","","",null,"","",null,null,{"$f":"IF($A42=\"\",\"\",'Stammdaten Mitarbeitende'!L42)","v":""},0,"","","","","","","","","","",0,"",0,0,0,0,{"$f":"IF('Stammdaten Mitarbeitende'!N42>0,AC42,0)","v":0},{"$f":"IF('Stammdaten Mitarbeitende'!N42>0,P42,0)","v":0},0,0,0]
[{"$f":"'Stammdaten Mitarbeitende'!AA43","v":""},"",null,null,null,null,null,null,0,"",null,"","","","",null,"","",null,null,{"$f":"IF($A43=\"\",\"\",'Stammdaten Mitarbeitende'!L43)","v":""},0,"","","","","","","","","","",0,"",0,0,0,0,{"$f":"IF('Stammdaten Mitarbeitende'!N43>0,AC43,0)","v":0},{"$f":"IF('Stammdaten Mitarbeitende'!N43>0,P43,0)","v":0},0,0,0]
[{"$f":"'Stammdaten Mitarbeitende'!AA44","v":""},"",null,null,null,null,null,null,0,"",null,"","","","",null,"","",null,null,{"$f":"IF($A44=\"\",\"\",'Stammdaten Mitarbeitende'!L44)","v":""},0,"","","","","","","","","","",0,"",0,0,0,0,{"$f":"IF('Stammdaten Mitarbeitende'!N44>0,AC44,0)","v":0},{"$f":"IF('Stammdaten Mitarbeitende'!N44>0,P44,0)","v":0},0,0,0]
[{"$f":"'Stammdaten Mitarbeitende'!AA45","v":""},"",null,null,null,null,null,null,0,"",null,"","","","",null,"","",null,null,{"$f":"IF($A45=\"\",\"\",'Stammdaten Mitarbeitende'!L45)","v":""},0,"","","","","","","","","","",0,"",0,0,0,0,{"$f":"IF('Stammdaten Mitarbeitende'!N45>0,AC45,0)","v":0},{"$f":"IF('Stammdaten Mitarbeitende'!N45>0,P45,0)","v":0},0,0,0]
[{"$f":"'Stammdaten Mitarbeitende'!AA46","v":""},"",null,null,null,null,null,null,0,"",null,"","","","",null,"","",null,null,{"$f":"IF($A46=\"\",\"\",'Stammdaten Mitarbeitende'!L46)","v":""},0,"","","","","","","","","","",0,"",0,0,0,0,{"$f":"IF('Stammdaten Mitarbeitende'!N46>0,AC46,0)","v":0},{"$f":"IF('Stammdaten Mitarbeitende'!N46>0,P46,0)","v":0},0,0,0]
[{"$f":"'Stammdaten Mitarbeitende'!AA47","v":""},"",null,null,null,null,null,null,0,"",null,"","","","",null,"","",null,null,{"$f":"IF($A47=\"\",\"\",'Stammdaten Mitarbeitende'!L47)","v":""},0,"","","","","","","","","","",0,"",0,0,0,0,{"$f":"IF('Stammdaten Mitarbeitende'!N47>0,AC47,0)","v":0},{"$f":"IF('Stammdaten Mitarbeitende'!N47>0,P47,0)","v":0},0,0,0]
[{"$f":"'Stammdaten Mitarbeitende'!AA48","v":""},"",null,null,null,null,null,null,0,"",null,"","","","",null,"","",null,null,{"$f":"IF($A48=\"\",\"\",'Stammdaten Mitarbeitende'!L48)","v":""},0,"","","","","","","","","","",0,"",0,0,0,0,{"$f":"IF('Stammdaten Mitarbeitende'!N48>0,AC48,0)","v":0},{"$f":"IF('Stammdaten Mitarbeitende'!N48>0,P48,0)","v":0},0,0,0]
[{"$f":"'Stammdaten Mitarbeitende'!AA49","v":""},"",null,null,null,null,null,null,0,"",null,"","","","",null,"","",null,null,{"$f":"IF($A49=\"\",\"\",'Stammdaten Mitarbeitende'!L49)","v":""},0,"","","","","","","","","","",0,"",0,0,0,0,{"$f":"IF('Stammdaten Mitarbeitende'!N49>0,AC49,0)","v":0},{"$f":"IF('Stammdaten Mitarbeitende'!N49>0,P49,0)","v":0},0,0,0]
[{"$f":"'Stammdaten Mitarbeitende'!AA50","v":""},"",null,null,null,null,null,null,0,"",null,"","","","",null,"","",null,null,{"$f":"IF($A50=\"\",\"\",'Stammdaten Mitarbeitende'!L50)","v":""},0,"","","","","","","","","","",0,"",0,0,0,0,{"$f":"IF('Stammdaten Mitarbeitende'!N50>0,AC50,0)","v":0},{"$f":"IF('Stammdaten Mitarbeitende'!N50>0,P50,0)","v":0},0,0,0]
[{"$f":"'Stammdaten Mitarbeitende'!AA51","v":""},"",null,null,null,null,null,null,0,"",null,"","","","",null,"","",null,null,{"$f":"IF($A51=\"\",\"\",'Stammdaten Mitarbeitende'!L51)","v":""},0,"","","","","","","","","","",0,"",0,0,0,0,{"$f":"IF('Stammdaten Mitarbeitende'!N51>0,AC51,0)","v":0},{"$f":"IF('Stammdaten Mitarbeitende'!N51>0,P51,0)","v":0},0,0,0]
[{"$f":"'Stammdaten Mitarbeitende'!AA52","v":""},"",null,null,null,null,null,null,0,"",null,"","","","",null,"","",null,null,{"$f":"IF($A52=\"\",\"\",'Stammdaten Mitarbeitende'!L52)","v":""},0,"","","","","","","","","","",0,"",0,0,0,0,{"$f":"IF('Stammdaten Mitarbeitende'!N52>0,AC52,0)","v":0},{"$f":"IF('Stammdaten Mitarbeitende'!N52>0,P52,0)","v":0},0,0,0]
[{"$f":"'Stammdaten Mitarbeitende'!AA53","v":""},"",null,null,null,null,null,null,0,"",null,"","","","",null,"","",null,null,{"$f":"IF($A53=\"\",\"\",'Stammdaten Mitarbeitende'!L53)","v":""},0,"","","","","","","","","","",0,"",0,0,0,0,{"$f":"IF('Stammdaten Mitarbeitende'!N53>0,AC53,0)","v":0},{"$f":"IF('Stammdaten Mitarbeitende'!N53>0,P53,0)","v":0},0,0,0]
[{"$f":"'Stammdaten Mitarbeitende'!AA54","v":""},"",null,null,null,null,null,null,0,"",null,"","","","",null,"","",null,null,{"$f":"IF($A54=\"\",\"\",'Stammdaten Mitarbeitende'!L54)","v":""},0,"","","","","","","","","","",0,"",0,0,0,0,{"$f":"IF('Stammdaten Mitarbeitende'!N54>0,AC54,0)","v":0},{"$f":"IF('Stammdaten Mitarbeitende'!N54>0,P54,0)","v":0},0,0,0]
[{"$f":"'Stammdaten Mitarbeitende'!AA55","v":""},"",null,null,null,null,null,null,0,"",null,"","","","",null,"","",null,null,{"$f":"IF($A55=\"\",\"\",'Stammdaten Mitarbeitende'!L55)","v":""},0,"","","","","","","","","","",0,"",0,0,0,0,{"$f":"IF('Stammdaten Mitarbeitende'!N55>0,AC55,0)","v":0},{"$f":"IF('Stammdaten Mitarbeitende'!N55>0,P55,0)","v":0},0,0,0]
[{"$f":"'Stammdaten Mitarbeitende'!AA56","v":""},"",null,null,null,null,null,null,0,"",null,"","","","",null,"","",null,null,{"$f":"IF($A56=\"\",\"\",'Stammdaten Mitarbeitende'!L56)","v":""},0,"","","","","","","","","","",0,"",0,0,0,0,{"$f":"IF('Stammdaten Mitarbeitende'!N56>0,AC56,0)","v":0},{"$f":"IF('Stammdaten Mitarbeitende'!N56>0,P56,0)","v":0},0,0,0]
[{"$f":"'Stammdaten Mitarbeitende'!AA57","v":""},"",null,null,null,null,null,null,0,"",null,"","","","",null,"","",null,null,{"$f":"IF($A57=\"\",\"\",'Stammdaten Mitarbeitende'!L57)","v":""},0,"","","","","","","","","","",0,"",0,0,0,0,{"$f":"IF('Stammdaten Mitarbeitende'!N57>0,AC57,0)","v":0},{"$f":"IF('Stammdaten Mitarbeitende'!N57>0,P57,0)","v":0},0,0,0]
[{"$f":"'Stammdaten Mitarbeitende'!AA58","v":""},"",null,null,null,null,null,null,0,"",null,"","","","",null,"","",null,null,{"$f":"IF($A58=\"\",\"\",'Stammdaten Mitarbeitende'!L58)","v":""},0,"","","","","","","","","","",0,"",0,0,0,0,{"$f":"IF('Stammdaten Mitarbeitende'!N58>0,AC58,0)","v":0},{"$f":"IF('Stammdaten Mitarbeitende'!N58>0,P58,0)","v":0},0,0,0]
[{"$f":"'Stammdaten Mitarbeitende'!AA59","v":""},"",null,null,null,null,null,null,0,"",null,"","","","",null,"","",null,null,{"$f":"IF($A59=\"\",\"\",'Stammdaten Mitarbeitende'!L59)","v":""},0,"","","","","","","","","","",0,"",0,0,0,0,{"$f":"IF('Stammdaten Mitarbeitende'!N59>0,AC59,0)","v":0},{"$f":"IF('Stammdaten Mitarbeitende'!N59>0,P59,0)","v":0},0,0,0]
[{"$f":"Übersetzungstexte!A$296","v":"Seitentotal"},null,null,{"$f":"SUM(D39:D59)","v":0},null,{"$f":"SUM(F39:F59)","v":0},null,null,null,{"$f":"SUM(J39:J59)","v":0},null,null,null,{"$f":"SUM(N39:N59)","v":0},null,{"$f":"SUM(P39:P59)","v":0},null,{"$f":"SUM(R39:R59)","v":0}]
[{"$f":"'Stammdaten Betrieb & Abteilung'!D$1","v":"  "},null,null,null,null,null,null,null,null,null,null,null,{"$f":"Übersetzungstexte!A$239","v":"Betrieb / Betriebsabteilung"},{"$f":"'Stammdaten Betrieb & Abteilung'!D$13","v":" "}]
[{"$f":"'Stammdaten Betrieb & Abteilung'!D$3","v":" "},null,null,null,null,null,null,null,null,null,null,null,{"$f":"Übersetzungstexte!A$240","v":"Abrechnungsperiode"},{"$f":"'Stammdaten Betrieb & Abteilung'!D$14","v":""},null,{"$f":"'Stammdaten Betrieb & Abteilung'!D$12","v":{"$error":"#VALUE!"}}]
[{"$f":"'Stammdaten Betrieb & Abteilung'!D$4","v":" "},null,null,null,null,null,null,null,null,null,null,null,{"$f":"Übersetzungstexte!A$241","v":"Beginn / Ende der Kurzarbeit"},{"$f":"'Stammdaten Betrieb & Abteilung'!D$16","v":""}]
[]
[1,2,3,4,5,6,null,7,null,8,9,10,11,12,13,null,14,15,null,null,null,"Regel 7","Regel 8",null,"Regel 9","Regel 10","Regel 11","Regel 12","Regel 13","Regel 14","Regel 15","Regel 17",null,"Regel 19/20",null,null,null,null,"AHV-pflichtiger","AHV-pflichtiger",null,null,"AHV-pflichtige"]
[{"$f":"Übersetzungstexte!A$242","v":""},{"$f":"Übersetzungstexte!A$245","v":"anrechen-"},{"$f":"Übersetzungstexte!A$248","v":"Wöchentl."},{"$f":"Übersetzungstexte!A$251","v":"Sollstd. Abr.-"},{"$f":"Übersetzungstexte!A$254","v":""},{"$f":"Übersetzungstexte!A$257","v":"Bezahlte/"},null,{"$f":"Übersetzungstexte!A$263","v":"(nur für Gleitzeit)"},null,{"$f":"Übersetzungstexte!A$269","v":"Ausfall-"},{"$f":"Übersetzungstexte!A$272","v":"Saldo"},{"$f":"Übersetzungstexte!A$275","v":"Saisonale"},{"$f":"Übersetzungstexte!A$278","v":"Anrechen-"},{"$f":"Übersetzungstexte!A$281","v":"Verdienst-"},{"$f":"Übersetzungstexte!A$284","v":"Verdienst-"},{"$f":"Übersetzungstexte!A$287","v":"Verdienst"},{"$f":"AE$4","v":"Abzug "},{"$f":"Übersetzungstexte!A$293","v":""},null,null,"anrechen-","Gleitzeit","Ausfall-","Max(D12,0)","Prozentualer","Saisonale","Proz. Wirts. Bed.","Anrechen-","Verdienst-","Verdienst-","Abzug","Abzug","Verdienst",null,"Anzahl","Anzahl","Sollstd.","Absenzen","Verdienst-","Verdienst","Sollstd.","bezahlte/","Abzugsbasis"]
[{"$f":"Übersetzungstexte!A$243","v":""},{"$f":"Übersetzungstexte!A$246","v":"barer Std.-"},{"$f":"Übersetzungstexte!A$249","v":"Arbeitszeit"},{"$f":"Übersetzungstexte!A$252","v":"Periode Inkl."},{"$f":"Übersetzungstexte!A$255","v":""},{"$f":"Übersetzungstexte!A$258","v":"Unbezahlte"},{"$f":"Übersetzungstexte!A$261","v":"Saldo Ende Per."},null,null,{"$f":"Übersetzungstexte!A$270","v":"stunden"},{"$f":"Übersetzungstexte!A$273","v":"Mehrstd."},{"$f":"Übersetzungstexte!A$276","v":"Ausfall-"},{"$f":"Übersetzungstexte!A$279","v":"bare Aus-"},{"$f":"Übersetzungstexte!A$282","v":"ausfall"},{"$f":"Übersetzungstexte!A$285","v":"ausfall"},{"$f":"Übersetzungstexte!A$288","v":"Zwischen-"},{"$f":"Übersetzungstexte!A$291","v":"Karenztage"},{"$f":"Übersetzungstexte!A$294","v":"Beantragte"},null,null,"barer Std.-","c","stunden",null,"Arbeitsausfall","Ausfall-","Arbeitsausfall","bare ","ausfall","ausfall","Karenztage","Zwischen-","Zwischen-","Beantragte","bezugsber.","betroffene","bezugsber.","bezugsber.","ausfall","Zwischen-","inkl","unbezahlte"]
[{"$f":"Übersetzungstexte!A$244","v":"Name,Vorname"},{"$f":"Übersetzungstexte!A$247","v":"Verdienst"},{"$f":"Übersetzungstexte!A$250","v":"in der AP"},{"$f":"Übersetzungstexte!A$253","v":"Vorholzeit"},{"$f":"Übersetzungstexte!A$256","v":"Istzeit"},{"$f":"Übersetzungstexte!A$259","v":"Absenzen"},{"$f":"Übersetzungstexte!A$262","v":"vorherg."},{"$f":"Übersetzungstexte!A$265","v":"laufend"},{"$f":"Übersetzungstexte!A$268","v":"Diff."},{"$f":"Übersetzungstexte!A$271","v":"total"},{"$f":"Übersetzungstexte!A$274","v":"Vormonate"},{"$f":"Übersetzungstexte!A$277","v":"stunden"},{"$f":"Übersetzungstexte!A$280","v":"fall-Std."},{"$f":"Übersetzungstexte!A$283","v":"100%"},{"$f":"Übersetzungstexte!A$286","v":"80%"},{"$f":"Übersetzungstexte!A$289","v":"Beschäftigung"},{"$f":"Übersetzungstexte!A$292","v":"80%"},{"$f":"Übersetzungstexte!A$295","v":"Vergütung"},null,null,"Verdienst",null,"Total",null,"pAA","stunden","pwAA","Ausfall-Std.","100%","80%","80%","beschäftigung","beschäftigung","Vergütung","Mitarbeiter","Mitarbeiter","Mitarbeiter","Mitarbeiter","100%","beschäftigung","Vorholzeit","Ansenzen"]
[{"$f":"'Stammdaten Mitarbeitende'!AA69","v":""},{"$f":"U69","v":""},null,null,null,null,null,null,{"$f":"V69","v":0},{"$f":"W69","v":""},null,{"$f":"Z69","v":""},{"$f":"AB69","v":""},{"$f":"AC69","v":""},{"$f":"AD69","v":""},null,{"$f":"AE69","v":""},{"$f":"AH69","v":""},null,null,{"$f":"IF($A69=\"\",\"\",'Stammdaten Mitarbeitende'!L69)","v":""},{"$f":"IF(AND(G69=\"\",H69=\"\"),0,G69-H69)","v":0},{"$f":"IF(OR($A69=\"\",D69=\"\",E69=\"\",F69=\"\",V69=\"\"),\"\",D69-(E69+F69+V69))","v":""},{"$f":"IF(W69=\"\",\"\",MAX(W69,0))","v":""},{"$f":"IF(J69=\"\",\"\",Y$4)","v":""},{"$f":"IF(J69=\"\",\"\",J69*Z$4)","v":""},{"$f":"IF(Y69=\"\",\"\",AA$4)","v":""},{"$f":"IF(J69=\"\",\"\",ROUND(J69*AB$4 - MAX(K69-L69,0),2))","v":""},{"$f":"IF(OR($A69=\"\",J69=\"\",B69=\"\",M69<0),\"\",MAX(ROUND(M69*B69*2,1)/2,0))","v":""},{"$f":"IF(OR($A69=\"\",N69=\"\"),\"\",ROUND(N69*8/5,1)/2)","v":""},{"$f":"IF(OR($A69=\"\",B69=\"\",N69=\"\"),\"\",ROUND(AE$3*C69*B69*16/50,1)/2)","v":""},{"$f":"IF(OR($A69=\"\",J69=\"\",N69=\"\"),\"\",MAX(O69+P69-N69,0))","v":""},{"$f":"P69","v":0},{"$f":"IF(OR($A69=\"\",N69=\"\"),\"\",ROUND((MAX(O69-Q69-AF69,0))*2,1)/2)","v":""},{"$f":"IF(D69=\"\",0,1)","v":0},{"$f":"IF(J69=\"\",0,IF(ROUND(J69,2)<=0,0,1))","v":0},{"$f":"IF(D69=\"\",0,D69)","v":0},{"$f":"IF(D69=\"\",0,F69)","v":0},{"$f":"IF('Stammdaten Mitarbeitende'!N69>0,AC69,0)","v":0},{"$f":"IF('Stammdaten Mitarbeitende'!N69>0,P69,0)","v":0},{"$f":"D69","v":0},{"$f":"F69","v":0},{"$f":"IF(AM69=\"\",0,MAX(AM69-AN69,0))","v":0}]
[{"$f":"'Stammdaten Mitarbeitende'!AA70","v":""},"",null,null,null,null,null,null,0,"",null,"","","","",null,"","",null,null,{"$f":"IF($A70=\"\",\"\",'Stammdaten Mitarbeitende'!L70)","v":""},0,"","","","","","","","","","",0,"",0,{"$f":"IF(J70=\"\",0,IF(ROUND(J70,2)<=0,0,1))","v":0},0,0,{"$f":"IF('Stammdaten Mitarbeitende'!N70>0,AC70,0)","v":0},{"$f":"IF('Stammdaten Mitarbeitende'!N70>0,P70,0)","v":0},0,0,0]
[{"$f":"'Stammdaten Mitarbeitende'!AA71","v":""},"",null,null,null,null,null,null,0,"",null,"","","","",null,"","",null,null,{"$f":"IF($A71=\"\",\"\",'Stammdaten Mitarbeitende'!L71)","v":""},0,"","","","","","","","","","",0,"",0,0,0,0,{"$f":"IF('Stammdaten Mitarbeitende'!N71>0,AC71,0)","v":0},{"$f":"IF('Stammdaten Mitarbeitende'!N71>0,P71,0)","v":0},0,0,0]
[{"$f":"'Stammdaten Mitarbeitende'!AA72","v":""},"",null,null,null,null,null,null,0,"",null,"","","","",null,"","",null,null,{"$f":"IF($A72=\"\",\"\",'Stammdaten Mitarbeitende'!L72)","v":""},0,"","","","","","","","","","",0,"",0,0,0,0,{"$f":"IF('Stammdaten Mitarbeitende'!N72>0,AC72,0)","v":0},{"$f":"IF('Stammdaten Mitarbeitende'!N72>0,P72,0)","v":0},0,0,0]
[{"$f":"'Stammdaten Mitarbeitende'!AA73","v":""},"",null,null,null,null,null,null,0,"",null,"","","","",null,"","",null,null,{"$f":"IF($A73=\"\",\"\",'Stammdaten Mitarbeitende'!L73)","v":""},0,"","","","","","","","","","",0,"",0,0,0,0,{"$f":"IF('Stammdaten Mitarbeitende'!N73>0,AC73,0)","v":0},{"$f":"IF('Stammdaten Mitarbeitende'!N73>0,P73,0)","v":0},0,0,0]
[{"$f":"'Stammdaten Mitarbeitende'!AA74","v":""},"",null,null,null,null,null,null,0,"",null,"","","","",null,"","",null,null,{"$f":"IF($A74=\"\",\"\",'Stammdaten Mitarbeitende'!L74)","v":""},0,"","","","","","","","","","",0,"",0,0,0,0,{"$f":"IF('Stammdaten Mitarbeitende'!N74>0,AC74,0)","v":0},{"$f":"IF('Stammdaten Mitarbeitende'!N74>0,P74,0)","v":0},0,0,0]
[{"$f":"'Stammdaten Mitarbeitende'!AA75","v":""},"",null,null,null,null,null,null,0,"",null,"","","","",null,"","",null,null,{"$f":"IF($A75=\"\",\"\",'Stammdaten Mitarbeitende'!L75)","v":""},0,"","","","","","","","","","",0,"",0,0,0,0,{"$f":"IF('Stammdaten Mitarbeitende'!N75>0,AC75,0)","v":0},{"$f":"IF('Stammdaten Mitarbeitende'!N75>0,P75,0)","v":0},0,0,0]
[{"$f":"'Stammdaten Mitarbeitende'!AA76","v":""},"",null,null,null,null,null,null,0,"",null,"","","","",null,"","",null,null,{"$f":"IF($A76=\"\",\"\",'Stammdaten Mitarbeitende'!L76)","v":""},0,"","","","","","","","","","",0,"",0,0,0,0,{"$f":"IF('Stammdaten Mitarbeitende'!N76>0,AC76,0)","v":0},{"$f":"IF('Stammdaten Mitarbeitende'!N76>0,P76,0)","v":0},0,0,0]
[{"$f":"'Stammdaten Mitarbeitende'!AA77","v":""},"",null,null,null,null,null,null,0,"",null,"","","","",null,"","",null,null,{"$f":"IF($A77=\"\",\"\",'Stammdaten Mitarbeitende'!L77)","v":""},0,"","","","","","","","","","",0,"",0,0,0,0,{"$f":"IF('Stammdaten Mitarbeitende'!N77>0,AC77,0)","v":0},{"$f":"IF('Stammdaten Mitarbeitende'!N77>0,P77,0)","v":0},0,0,0]
[{"$f":"'Stammdaten Mitarbeitende'!AA78","v":""},"",null,null,null,null,null,null,0,"",null,"","","","",null,"","",null,null,{"$f":"IF($A78=\"\",\"\",'Stammdaten Mitarbeitende'!L78)","v":""},0,"","","","","","","","","","",0,"",0,0,0,0,{"$f":"IF('Stammdaten Mitarbeitende'!N78>0,AC78,0)","v":0},{"$f":"IF('Stammdaten Mitarbeitende'!N78>0,P78,0)","v":0},0,0,0]
[{"$f":"'Stammdaten Mitarbeitende'!AA79","v":""},"",null,null,null,null,null,null,0,"",null,"","","","",null,"","",null,null,{"$f":"IF($A79=\"\",\"\",'Stammdaten Mitarbeitende'!L79)","v":""},0,"","","","","","","","","","",0,"",0,0,0,0,{"$f":"IF('Stammdaten Mitarbeitende'!N79>0,AC79,0)","v":0},{"$f":"IF('Stammdaten Mitarbeitende'!N79>0,P79,0)","v":0},0,0,0]
[{"$f":"'Stammdaten Mitarbeitende'!AA80","v":""},"",null,null,null,null,null,null,0,"",null,"","","","",null,"","",null,null,{"$f":"IF($A80=\"\",\"\",'Stammdaten Mitarbeitende'!L80)","v":""},0,"","","","","","","","","","",0,"",0,0,0,0,{"$f":"IF('Stammdaten Mitarbeitende'!N80>0,AC80,0)","v":0},{"$f":"IF('Stammdaten Mitarbeitende'!N80>0,P80,0)","v":0},0,0,0]
[{"$f":"'Stammdaten Mitarbeitende'!AA81","v":""},"",null,null,null,null,null,null,0,"",null,"","","","",null,"","",null,null,{"$f":"IF($A81=\"\",\"\",'Stammdaten Mitarbeitende'!L81)","v":""},0,"","","","","","","","","","",0,"",0,0,0,0,{"$f":"IF('Stammdaten Mitarbeitende'!N81>0,AC81,0)","v":0},{"$f":"IF('Stammdaten Mitarbeitende'!N81>0,P81,0)","v":0},0,0,0]
[{"$f":"'Stammdaten Mitarbeitende'!AA82","v":""},"",null,null,null,null,null,null,0,"",null,"","","","",null,"","",null,null,{"$f":"IF($A82=\"\",\"\",'Stammdaten Mitarbeitende'!L82)","v":""},0,"","","","","","","","","","",0,"",0,0,0,0,{"$f":"IF('Stammdaten Mitarbeitende'!N82>0,AC82,0)","v":0},{"$f":"IF('Stammdaten Mitarbeitende'!N82>0,P82,0)","v":0},0,0,0]
[{"$f":"'Stammdaten Mitarbeitende'!AA83","v":""},"",null,null,null,null,null,null,0,"",null,"","","","",null,"","",null,null,{"$f":"IF($A83=\"\",\"\",'Stammdaten Mitarbeitende'!L83)","v":""},0,"","","","","","","","","","",0,"",0,0,0,0,{"$f":"IF('Stammdaten Mitarbeitende'!N83>0,AC83,0)","v":0},{"$f":"IF('Stammdaten Mitarbeitende'!N83>0,P83,0)","v":0},0,0,0]
[{"$f":"'Stammdaten Mitarbeitende'!AA84","v":""},"",null,null,null,null,null,null,0,"",null,"","","","",null,"","",null,null,{"$f":"IF($A84=\"\",\"\",'Stammdaten Mitarbeitende'!L84)","v":""},0,"","","","","","","","","","",0,"",0,0,0,0,{"$f":"IF('Stammdaten Mitarbeitende'!N84>0,AC84,0)","v":0},{"$f":"IF('Stammdaten Mitarbeitende'!N84>0,P84,0)","v":0},0,0,0]
[{"$f":"'Stammdaten Mitarbeitende'!AA85","v":""},"",null,null,null,null,null,null,0,"",null,"","","","",null,"","",null,null,{"$f":"IF($A85=\"\",\"\",'Stammdaten Mitarbeitende'!L85)","v":""},0,"","","","","","","","","","",0,"",0,0,0,0,{"$f":"IF('Stammdaten Mitarbeitende'!N85>0,AC85,0)","v":0},{"$f":"IF('Stammdaten Mitarbeitende'!N85>0,P85,0)","v":0},0,0,0]
[{"$f":"'Stammdaten Mitarbeitende'!AA86","v":""},"",null,null,null,null,null,null,0,"",null,"","","","",null,"","",null,null,{"$f":"IF($A86=\"\",\"\",'Stammdaten Mitarbeitende'!L86)","v":""},0,"","","","","","","","","","",0,"",0,0,0,0,{"$f":"IF('Stammdaten Mitarbeitende'!N86>0,AC86,0)","v":0},{"$f":"IF('Stammdaten Mitarbeitende'!N86>0,P86,0)","v":0},0,0,0]
[{"$f":"'Stammdaten Mitarbeitende'!AA87","v":""},"",null,null,null,null,null,null,0,"",null,"","","","",null,"","",null,null,{"$f":"IF($A87=\"\",\"\",'Stammdaten Mitarbeitende'!L87)","v":""},0,"","","","","","","","","","",0,"",0,0,0,0,{"$f":"IF('Stammdaten Mitarbeitende'!N87>0,AC87,0)","v":0},{"$f":"IF('Stammdaten Mitarbeitende'!N87>0,P87,0)","v":0},0,0,0]
[{"$f":"'Stammdaten Mitarbeitende'!AA88","v":""},"",null,null,null,null,null,null,0,"",null,"","","","",null,"","",null,null,{"$f":"IF($A88=\"\",\"\",'Stammdaten Mitarbeitende'!L88)","v":""},0,"","","","","","","","","","",0,"",0,0,0,0,{"$f":"IF('Stammdaten Mitarbeitende'!N88>0,AC88,0)","v":0},{"$f":"IF('Stammdaten Mitarbeitende'!N88>0,P88,0)","v":0},0,0,0]
[{"$f":"'Stammdaten Mitarbeitende'!AA89","v":""},"",null,null,null,null,null,null,0,"",null,"","","","",null,"","",null,null,{"$f":"IF($A89=\"\",\"\",'Stammdaten Mitarbeitende'!L89)","v":""},0,"","","","","","","","","","",0,"",0,0,0,0,{"$f":"IF('Stammdaten Mitarbeitende'!N89>0,AC89,0)","v":0},{"$f":"IF('Stammdaten Mitarbeitende'!N89>0,P89,0)","v":0},0,0,0]
[{"$f":"Übersetzungstexte!A$296","v":"Seitentotal"},null,null,{"$f":"SUM(D69:D89)","v":0},null,{"$f":"SUM(F69:F89)","v":0},null,null,null,{"$f":"SUM(J69:J89)","v":0},null,null,null,{"$f":"SUM(N69:N89)","v":0},null,{"$f":"SUM(P69:P89)","v":0},null,{"$f":"SUM(R69:R89)","v":0}]
[{"$f":"'Stammdaten Betrieb & Abteilung'!D$1","v":"  "},null,null,null,null,null,null,null,null,null,null,null,{"$f":"Übersetzungstexte!A$239","v":"Betrieb / Betriebsabteilung"},{"$f":"'Stammdaten Betrieb & Abteilung'!D$13","v":" "}]
[{"$f":"'Stammdaten Betrieb & Abteilung'!D$3","v":" "},null,null,null,null,null,null,null,null,null,null,null,{"$f":"Übersetzungstexte!A$240","v":"Abrechnungsperiode"},{"$f":"'Stammdaten Betrieb & Abteilung'!D$14","v":""},null,{"$f":"'Stammdaten Betrieb & Abteilung'!D$12","v":{"$error":"#VALUE!"}}]
[{"$f":"'Stammdaten Betrieb & Abteilung'!D$4","v":" "},null,null,null,null,null,null,null,null,null,null,null,{"$f":"Übersetzungstexte!A$241","v":"Beginn / Ende der Kurzarbeit"},{"$f":"'Stammdaten Betrieb & Abteilung'!D$16","v":""}]
[]
[1,2,3,4,5,6,null,7,null,8,9,10,11,12,13,null,14,15,null,null,null,"Regel 7","Regel 8",null,"Regel 9","Regel 10","Regel 11","Regel 12","Regel 13","Regel 14","Regel 15","Regel 17",null,"Regel 19/20",null,null,null,null,"AHV-pflichtiger","AHV-pflichtiger",null,null,"AHV-pflichtige"]
[{"$f":"Übersetzungstexte!A$242","v":""},{"$f":"Übersetzungstexte!A$245","v":"anrechen-"},{"$f":"Übersetzungstexte!A$248","v":"Wöchentl."},{"$f":"Übersetzungstexte!A$251","v":"Sollstd. Abr.-"},{"$f":"Übersetzungstexte!A$254","v":""},{"$f":"Übersetzungstexte!A$257","v":"Bezahlte/"},null,{"$f":"Übersetzungstexte!A$263","v":"(nur für Gleitzeit)"},null,{"$f":"Übersetzungstexte!A$269","v":"Ausfall-"},{"$f":"Übersetzungstexte!A$272","v":"Saldo"},{"$f":"Übersetzungstexte!A$275","v":"Saisonale"},{"$f":"Übersetzungstexte!A$278","v":"Anrechen-"},{"$f":"Übersetzungstexte!A$281","v":"Verdienst-"},{"$f":"Übersetzungstexte!A$284","v":"Verdienst-"},{"$f":"Übersetzungstexte!A$287","v":"Verdienst"},{"$f":"AE$4","v":"Abzug "},{"$f":"Übersetzungstexte!A$293","v":""},null,null,"anrechen-","Gleitzeit","Ausfall-","Max(D12,0)","Prozentualer","Saisonale","Proz. Wirts. Bed.","Anrechen-","Verdienst-","Verdienst-","Abzug","Abzug","Verdienst",null,"Anzahl","Anzahl","Sollstd.","Absenzen","Verdienst-","Verdienst","Sollstd.","bezahlte/","Abzugsbasis"]
[{"$f":"Übersetzungstexte!A$243","v":""},{"$f":"Übersetzungstexte!A$246","v":"barer Std.-"},{"$f":"Übersetzungstexte!A$249","v":"Arbeitszeit"},{"$f":"Übersetzungstexte!A$252","v":"Periode Inkl."},{"$f":"Übersetzungstexte!A$255","v":""},{"$f":"Übersetzungstexte!A$258","v":"Unbezahlte"},{"$f":"Übersetzungstexte!A$261","v":"Saldo Ende Per."},null,null,{"$f":"Übersetzungstexte!A$270","v":"stunden"},{"$f":"Übersetzungstexte!A$273","v":"Mehrstd."},{"$f":"Übersetzungstexte!A$276","v":"Ausfall-"},{"$f":"Übersetzungstexte!A$279","v":"bare Aus-"},{"$f":"Übersetzungstexte!A$282","v":"ausfall"},{"$f":"Übersetzungstexte!A$285","v":"ausfall"},{"$f":"Übersetzungstexte!A$288","v":"Zwischen-"},{"$f":"Übersetzungstexte!A$291","v":"Karenztage"},{"$f":"Übersetzungstexte!A$294","v":"Beantragte"},null,null,"barer Std.-","c","stunden",null,"Arbeitsausfall","Ausfall-","Arbeitsausfall","bare ","ausfall","ausfall","Karenztage","Zwischen-","Zwischen-","Beantragte","bezugsber.","betroffene","bezugsber.","bezugsber.","ausfall","Zwischen-","inkl","unbezahlte"]
[{"$f":"Übersetzungstexte!A$244","v":"Name,Vorname"},{"$f":"Übersetzungstexte!A$247","v":"Verdienst"},{"$f":"Übersetzungstexte!A$250","v":"in der AP"},{"$f":"Übersetzungstexte!A$253","v":"Vorholzeit"},{"$f":"Übersetzungstexte!A$256","v":"Istzeit"},{"$f":"Übersetzungstexte!A$259","v":"Absenzen"},{"$f":"Übersetzungstexte!A$262","v":"vorherg."},{"$f":"Übersetzungstexte!A$265","v":"laufend"},{"$f":"Übersetzungstexte!A$268","v":"Diff."},{"$f":"Übersetzungstexte!A$271","v":"total"},{"$f":"Übersetzungstexte!A$274","v":"Vormonate"},{"$f":"Übersetzungstexte!A$277","v":"stunden"},{"$f":"Übersetzungstexte!A$280","v":"fall-Std."},{"$f":"Übersetzungstexte!A$283","v":"100%"},{"$f":"Übersetzungstexte!A$286","v":"80%"},{"$f":"Übersetzungstexte!A$289","v":"Beschäftigung"},{"$f":"Übersetzungstexte!A$292","v":"80%"},{"$f":"Übersetzungstexte!A$295","v":"Vergütung"},null,null,"Verdienst",null,"Total",null,"pAA","stunden","pwAA","Ausfall-Std.","100%","80%","80%","beschäftigung","beschäftigung","Vergütung","Mitarbeiter","Mitarbeiter","Mitarbeiter","Mitarbeiter","100%","beschäftigung","Vorholzeit","Ansenzen"]
[{"$f":"'Stammdaten Mitarbeitende'!AA99","v":""},{"$f":"U99","v":""},null,null,null,null,null,null,{"$f":"V99","v":0},{"$f":"W99","v":""},null,{"$f":"Z99","v":""},{"$f":"AB99","v":""},{"$f":"AC99","v":""},{"$f":"AD99","v":""},null,{"$f":"AE99","v":""},{"$f":"AH99","v":""},null,null,{"$f":"IF($A99=\"\",\"\",'Stammdaten Mitarbeitende'!L99)","v":""},{"$f":"IF(AND(G99=\"\",H99=\"\"),0,G99-H99)","v":0},{"$f":"IF(OR($A99=\"\",D99=\"\",E99=\"\",F99=\"\",V99=\"\"),\"\",D99-(E99+F99+V99))","v":""},{"$f":"IF(W99=\"\",\"\",MAX(W99,0))","v":""},{"$f":"IF(J99=\"\",\"\",Y$4)","v":""},{"$f":"IF(J99=\"\",\"\",J99*Z$4)","v":""},{"$f":"IF(Y99=\"\",\"\",AA$4)","v":""},{"$f":"IF(J99=\"\",\"\",ROUND(J99*AB$4 - MAX(K99-L99,0),2))","v":""},{"$f":"IF(OR($A99=\"\",J99=\"\",B99=\"\",M99<0),\"\",MAX(ROUND(M99*B99*2,1)/2,0))","v":""},{"$f":"IF(OR($A99=\"\",N99=\"\"),\"\",ROUND(N99*8/5,1)/2)","v":""},{"$f":"IF(OR($A99=\"\",B99=\"\",N99=\"\"),\"\",ROUND(AE$3*C99*B99*16/50,1)/2)","v":""},{"$f":"IF(OR($A99=\"\",J99=\"\",N99=\"\"),\"\",MAX(O99+P99-N99,0))","v":""},{"$f":"P99","v":0},{"$f":"IF(OR($A99=\"\",N99=\"\"),\"\",ROUND((MAX(O99-Q99-AF99,0))*2,1)/2)","v":""},{"$f":"IF(D99=\"\",0,1)","v":0},{"$f":"IF(J99=\"\",0,IF(ROUND(J99,2)<=0,0,1))","v":0},{"$f":"IF(D99=\"\",0,D99)","v":0},{"$f":"IF(D99=\"\",0,F99)","v":0},{"$f":"IF('Stammdaten Mitarbeitende'!N99>0,AC99,0)","v":0},{"$f":"IF('Stammdaten Mitarbeitende'!N99>0,P99,0)","v":0},{"$f":"D99","v":0},{"$f":"F99","v":0},{"$f":"IF(AM99=\"\",0,MAX(AM99-AN99,0))","v":0}]
[{"$f":"'Stammdaten Mitarbeitende'!AA100","v":""},"",null,null,null,null,null,null,0,"",null,"","","","",null,"","",null,null,{"$f":"IF($A100=\"\",\"\",'Stammdaten Mitarbeitende'!L100)","v":""},0,"","","","","","","","","","",0,"",0,{"$f":"IF(J100=\"\",0,IF(ROUND(J100,2)<=0,0,1))","v":0},0,0,{"$f":"IF('Stammdaten Mitarbeitende'!N100>0,AC100,0)","v":0},{"$f":"IF('Stammdaten Mitarbeitende'!N100>0,P100,0)","v":0},0,0,0]
[{"$f":"'Stammdaten Mitarbeitende'!AA101","v":""},"",null,null,null,null,null,null,0,"",null,"","","","",null,"","",null,null,{"$f":"IF($A101=\"\",\"\",'Stammdaten Mitarbeitende'!L101)","v":""},0,"","","","","","","","","","",0,"",0,0,0,0,{"$f":"IF('Stammdaten Mitarbeitende'!N101>0,AC101,0)","v":0},{"$f":"IF('Stammdaten Mitarbeitende'!N101>0,P101,0)","v":0},0,0,0]
[{"$f":"'Stammdaten Mitarbeitende'!AA102","v":""},"",null,null,null,null,null,null,0,"",null,"","","","",null,"","",null,null,{"$f":"IF($A102=\"\",\"\",'Stammdaten Mitarbeitende'!L102)","v":""},0,"","","","","","","","","","",0,"",0,0,0,0,{"$f":"IF('Stammdaten Mitarbeitende'!N102>0,AC102,0)","v":0},{"$f":"IF('Stammdaten Mitarbeitende'!N102>0,P102,0)","v":0},0,0,0]
[{"$f":"'Stammdaten Mitarbeitende'!AA103","v":""},"",null,null,null,null,null,null,0,"",null,"","","","",null,"","",null,null,{"$f":"IF($A103=\"\",\"\",'Stammdaten Mitarbeitende'!L103)","v":""},0,"","","","","","","","","","",0,"",0,0,0,0,{"$f":"IF('Stammdaten Mitarbeitende'!N103>0,AC103,0)","v":0},{"$f":"IF('Stammdaten Mitarbeitende'!N103>0,P103,0)","v":0},0,0,0]
[{"$f":"'Stammdaten Mitarbeitende'!AA104","v":""},"",null,null,null,null,null,null,0,"",null,"","","","",null,"","",null,null,{"$f":"IF($A104=\"\",\"\",'Stammdaten Mitarbeitende'!L104)","v":""},0,"","","","","","","","","","",0,"",0,0,0,0,{"$f":"IF('Stammdaten Mitarbeitende'!N104>0,AC104,0)","v":0},{"$f":"IF('Stammdaten Mitarbeitende'!N104>0,P104,0)","v":0},0,0,0]
[{"$f":"'Stammdaten Mitarbeitende'!AA105","v":""},"",null,null,null,null,null,null,0,"",null,"","","","",null,"","",null,null,{"$f":"IF($A105=\"\",\"\",'Stammdaten Mitarbeitende'!L105)","v":""},0,"","","","","","","","","","",0,"",0,0,0,0,{"$f":"IF('Stammdaten Mitarbeitende'!N105>0,AC105,0)","v":0},{"$f":"IF('Stammdaten Mitarbeitende'!N105>0,P105,0)","v":0},0,0,0]
[{"$f":"'Stammdaten Mitarbeitende'!AA106","v":""},"",null,null,null,null,null,null,0,"",null,"","","","",null,"","",null,null,{"$f":"IF($A106=\"\",\"\",'Stammdaten Mitarbeitende'!L106)","v":""},0,"","","","","","","","","","",0,"",0,0,0,0,{"$f":"IF('Stammdaten Mitarbeitende'!N106>0,AC106,0)","v":0},{"$f":"IF('Stammdaten Mitarbeitende'!N106>0,P106,0)","v":0},0,0,0]
[{"$f":"'Stammdaten Mitarbeitende'!AA107","v":""},"",null,null,null,null,null,null,0,"",null,"","","","",null,"","",null,null,{"$f":"IF($A107=\"\",\"\",'Stammdaten Mitarbeitende'!L107)","v":""},0,"","","","","","","","","","",0,"",0,0,0,0,{"$f":"IF('Stammdaten Mitarbeitende'!N107>0,AC107,0)","v":0},{"$f":"IF('Stammdaten Mitarbeitende'!N107>0,P107,0)","v":0},0,0,0]
[{"$f":"'Stammdaten Mitarbeitende'!AA108","v":""},"",null,null,null,null,null,null,0,"",null,"","","","",null,"","",null,null,{"$f":"IF($A108=\"\",\"\",'Stammdaten Mitarbeitende'!L108)","v":""},0,"","","","","","","","","","",0,"",0,0,0,0,{"$f":"IF('Stammdaten Mitarbeitende'!N108>0,AC108,0)","v":0},{"$f":"IF('Stammdaten Mitarbeitende'!N108>0,P108,0)","v":0},0,0,0]
[{"$f":"'Stammdaten Mitarbeitende'!AA109","v":""},"",null,null,null,null,null,null,0,"",null,"","","","",null,"","",null,null,{"$f":"IF($A109=\"\",\"\",'Stammdaten Mitarbeitende'!L109)","v":""},0,"","","","","","","","","","",0,"",0,0,0,0,{"$f":"IF('Stammdaten Mitarbeitende'!N109>0,AC109,0)","v":0},{"$f":"IF('Stammdaten Mitarbeitende'!N109>0,P109,0)","v":0},0,0,0]
[{"$f":"'Stammdaten Mitarbeitende'!AA110","v":""},"",null,null,null,null,null,null,0,"",null,"","","","",null,"","",null,null,{"$f":"IF($A110=\"\",\"\",'Stammdaten Mitarbeitende'!L110)","v":""},0,"","","","","","","","","","",0,"",0,0,0,0,{"$f":"IF('Stammdaten Mitarbeitende'!N110>0,AC110,0)","v":0},{"$f":"IF('Stammdaten Mitarbeitende'!N110>0,P110,0)","v":0},0,0,0]
[{"$f":"'Stammdaten Mitarbeitende'!AA111","v":""},"",null,null,null,null,null,null,0,"",null,"","","","",null,"","",null,null,{"$f":"IF($A111=\"\",\"\",'Stammdaten Mitarbeitende'!L111)","v":""},0,"","","","","","","","","","",0,"",0,0,0,0,{"$f":"IF('Stammdaten Mitarbeitende'!N111>0,AC111,0)","v":0},{"$f":"IF('Stammdaten Mitarbeitende'!N111>0,P111,0)","v":0},0,0,0]
[{"$f":"'Stammdaten Mitarbeitende'!AA112","v":""},"",null,null,null,null,null,null,0,"",null,"","","","",null,"","",null,null,{"$f":"IF($A112=\"\",\"\",'Stammdaten Mitarbeitende'!L112)","v":""},0,"","","","","","","","","","",0,"",0,0,0,0,{"$f":"IF('Stammdaten Mitarbeitende'!N112>0,AC112,0)","v":0},{"$f":"IF('Stammdaten Mitarbeitende'!N112>0,P112,0)","v":0},0,0,0]
[{"$f":"'Stammdaten Mitarbeitende'!AA113","v":""},"",null,null,null,null,null,null,0,"",null,"","","","",null,"","",null,null,{"$f":"IF($A113=\"\",\"\",'Stammdaten Mitarbeitende'!L113)","v":""},0,"","","","","","","","","","",0,"",0,0,0,0,{"$f":"IF('Stammdaten Mitarbeitende'!N113>0,AC113,0)","v":0},{"$f":"IF('Stammdaten Mitarbeitende'!N113>0,P113,0)","v":0},0,0,0]
[{"$f":"'Stammdaten Mitarbeitende'!AA114","v":""},"",null,null,null,null,null,null,0,"",null,"","","","",null,"","",null,null,{"$f":"IF($A114=\"\",\"\",'Stammdaten Mitarbeitende'!L114)","v":""},0,"","","","","","","","","","",0,"",0,0,0,0,{"$f":"IF('Stammdaten Mitarbeitende'!N114>0,AC114,0)","v":0},{"$f":"IF('Stammdaten Mitarbeitende'!N114>0,P114,0)","v":0},0,0,0]
[{"$f":"'Stammdaten Mitarbeitende'!AA115","v":""},"",null,null,null,null,null,null,0,"",null,"","","","",null,"","",null,null,{"$f":"IF($A115=\"\",\"\",'Stammdaten Mitarbeitende'!L115)","v":""},0,"","","","","","","","","","",0,"",0,0,0,0,{"$f":"IF('Stammdaten Mitarbeitende'!N115>0,AC115,0)","v":0},{"$f":"IF('Stammdaten Mitarbeitende'!N115>0,P115,0)","v":0},0,0,0]
[{"$f":"'Stammdaten Mitarbeitende'!AA116","v":""},"",null,null,null,null,null,null,0,"",null,"","","","",null,"","",null,null,{"$f":"IF($A116=\"\",\"\",'Stammdaten Mitarbeitende'!L116)","v":""},0,"","","","","","","","","","",0,"",0,0,0,0,{"$f":"IF('Stammdaten Mitarbeitende'!N116>0,AC116,0)","v":0},{"$f":"IF('Stammdaten Mitarbeitende'!N116>0,P116,0)","v":0},0,0,0]
[{"$f":"'Stammdaten Mitarbeitende'!AA117","v":""},"",null,null,null,null,null,null,0,"",null,"","","","",null,"","",null,null,{"$f":"IF($A117=\"\",\"\",'Stammdaten Mitarbeitende'!L117)","v":""},0,"","","","","","","","","","",0,"",0,0,0,0,{"$f":"IF('Stammdaten Mitarbeitende'!N117>0,AC117,0)","v":0},{"$f":"IF('Stammdaten Mitarbeitende'!N117>0,P117,0)","v":0},0,0,0]
[{"$f":"'Stammdaten Mitarbeitende'!AA118","v":""},"",null,null,null,null,null,null,0,"",null,"","","","",null,"","",null,null,{"$f":"IF($A118=\"\",\"\",'Stammdaten Mitarbeitende'!L118)","v":""},0,"","","","","","","","","","",0,"",0,0,0,0,{"$f":"IF('Stammdaten Mitarbeitende'!N118>0,AC118,0)","v":0},{"$f":"IF('Stammdaten Mitarbeitende'!N118>0,P118,0)","v":0},0,0,0]
[{"$f":"'Stammdaten Mitarbeitende'!AA119","v":""},"",null,null,null,null,null,null,0,"",null,"","","","",null,"","",null,null,{"$f":"IF($A119=\"\",\"\",'Stammdaten Mitarbeitende'!L119)","v":""},0,"","","","","","","","","","",0,"",0,0,0,0,{"$f":"IF('Stammdaten Mitarbeitende'!N119>0,AC119,0)","v":0},{"$f":"IF('Stammdaten Mitarbeitende'!N119>0,P119,0)","v":0},0,0,0]
[{"$f":"Übersetzungstexte!A$296","v":"Seitentotal"},null,null,{"$f":"SUM(D99:D119)","v":0},null,{"$f":"SUM(F99:F119)","v":0},null,null,null,{"$f":"SUM(J99:J119)","v":0},null,null,null,{"$f":"SUM(N99:N119)","v":0},null,{"$f":"SUM(P99:P119)","v":0},null,{"$f":"SUM(R99:R119)","v":0}]
[{"$f":"'Stammdaten Betrieb & Abteilung'!D$1","v":"  "},null,null,null,null,null,null,null,null,null,null,null,{"$f":"Übersetzungstexte!A$239","v":"Betrieb / Betriebsabteilung"},{"$f":"'Stammdaten Betrieb & Abteilung'!D$13","v":" "}]
[{"$f":"'Stammdaten Betrieb & Abteilung'!D$3","v":" "},null,null,null,null,null,null,null,null,null,null,null,{"$f":"Übersetzungstexte!A$240","v":"Abrechnungsperiode"},{"$f":"'Stammdaten Betrieb & Abteilung'!D$14","v":""},null,{"$f":"'Stammdaten Betrieb & Abteilung'!D$12","v":{"$error":"#VALUE!"}}]
[{"$f":"'Stammdaten Betrieb & Abteilung'!D$4","v":" "},null,null,null,null,null,null,null,null,null,null,null,{"$f":"Übersetzungstexte!A$241","v":"Beginn / Ende der Kurzarbeit"},{"$f":"'Stammdaten Betrieb & Abteilung'!D$16","v":""}]
[]
[1,2,3,4,5,6,null,7,null,8,9,10,11,12,13,null,14,15,null,null,null,"Regel 7","Regel 8",null,"Regel 9","Regel 10","Regel 11","Regel 12","Regel 13","Regel 14","Regel 15","Regel 17",null,"Regel 19/20",null,null,null,null,"AHV-pflichtiger","AHV-pflichtiger",null,null,"AHV-pflichtige"]
[{"$f":"Übersetzungstexte!A$242","v":""},{"$f":"Übersetzungstexte!A$245","v":"anrechen-"},{"$f":"Übersetzungstexte!A$248","v":"Wöchentl."},{"$f":"Übersetzungstexte!A$251","v":"Sollstd. Abr.-"},{"$f":"Übersetzungstexte!A$254","v":""},{"$f":"Übersetzungstexte!A$257","v":"Bezahlte/"},null,{"$f":"Übersetzungstexte!A$263","v":"(nur für Gleitzeit)"},null,{"$f":"Übersetzungstexte!A$269","v":"Ausfall-"},{"$f":"Übersetzungstexte!A$272","v":"Saldo"},{"$f":"Übersetzungstexte!A$275","v":"Saisonale"},{"$f":"Übersetzungstexte!A$278","v":"Anrechen-"},{"$f":"Übersetzungstexte!A$281","v":"Verdienst-"},{"$f":"Übersetzungstexte!A$284","v":"Verdienst-"},{"$f":"Übersetzungstexte!A$287","v":"Verdienst"},{"$f":"AE$4","v":"Abzug "},{"$f":"Übersetzungstexte!A$293","v":""},null,null,"anrechen-","Gleitzeit","Ausfall-","Max(D12,0)","Prozentualer","Saisonale","Proz. Wirts. Bed.","Anrechen-","Verdienst-","Verdienst-","Abzug","Abzug","Verdienst",null,"Anzahl","Anzahl","Sollstd.","Absenzen","Verdienst-","Verdienst","Sollstd.","bezahlte/","Abzugsbasis"]
[{"$f":"Übersetzungstexte!A$243","v":""},{"$f":"Übersetzungstexte!A$246","v":"barer Std.-"},{"$f":"Übersetzungstexte!A$249","v":"Arbeitszeit"},{"$f":"Übersetzungstexte!A$252","v":"Periode Inkl."},{"$f":"Übersetzungstexte!A$255","v":""},{"$f":"Übersetzungstexte!A$258","v":"Unbezahlte"},{"$f":"Übersetzungstexte!A$261","v":"Saldo Ende Per."},null,null,{"$f":"Übersetzungstexte!A$270","v":"stunden"},{"$f":"Übersetzungstexte!A$273","v":"Mehrstd."},{"$f":"Übersetzungstexte!A$276","v":"Ausfall-"},{"$f":"Übersetzungstexte!A$279","v":"bare Aus-"},{"$f":"Übersetzungstexte!A$282","v":"ausfall"},{"$f":"Übersetzungstexte!A$285","v":"ausfall"},{"$f":"Übersetzungstexte!A$288","v":"Zwischen-"},{"$f":"Übersetzungstexte!A$291","v":"Karenztage"},{"$f":"Übersetzungstexte!A$294","v":"Beantragte"},null,null,"barer Std.-","c","stunden",null,"Arbeitsausfall","Ausfall-","Arbeitsausfall","bare ","ausfall","ausfall","Karenztage","Zwischen-","Zwischen-","Beantragte","bezugsber.","betroffene","bezugsber.","bezugsber.","ausfall","Zwischen-","inkl","unbezahlte"]
[{"$f":"Übersetzungstexte!A$244","v":"Name,Vorname"},{"$f":"Übersetzungstexte!A$247","v":"Verdienst"},{"$f":"Übersetzungstexte!A$250","v":"in der AP"},{"$f":"Übersetzungstexte!A$253","v":"Vorholzeit"},{"$f":"Übersetzungstexte!A$256","v":"Istzeit"},{"$f":"Übersetzungstexte!A$259","v":"Absenzen"},{"$f":"Übersetzungstexte!A$262","v":"vorherg."},{"$f":"Übersetzungstexte!A$265","v":"laufend"},{"$f":"Übersetzungstexte!A$268","v":"Diff."},{"$f":"Übersetzungstexte!A$271","v":"total"},{"$f":"Übersetzungstexte!A$274","v":"Vormonate"},{"$f":"Übersetzungstexte!A$277","v":"stunden"},{"$f":"Übersetzungstexte!A$280","v":"fall-Std."},{"$f":"Übersetzungstexte!A$283","v":"100%"},{"$f":"Übersetzungstexte!A$286","v":"80%"},{"$f":"Übersetzungstexte!A$289","v":"Beschäftigung"},{"$f":"Übersetzungstexte!A$292","v":"80%"},{"$f":"Übersetzungstexte!A$295","v":"Vergütung"},null,null,"Verdienst",null,"Total",null,"pAA","stunden","pwAA","Ausfall-Std.","100%","80%","80%","beschäftigung","beschäftigung","Vergütung","Mitarbeiter","Mitarbeiter","Mitarbeiter","Mitarbeiter","100%","beschäftigung","Vorholzeit","Ansenzen"]
[{"$f":"'Stammdaten Mitarbeitende'!AA129","v":""},{"$f":"U129","v":""},null,null,null,null,null,null,{"$f":"V129","v":0},{"$f":"W129","v":""},null,{"$f":"Z129","v":""},{"$f":"AB129","v":""},{"$f":"AC129","v":""},{"$f":"AD129","v":""},null,{"$f":"AE129","v":""},{"$f":"AH129","v":""},null,null,{"$f":"IF($A129=\"\",\"\",'Stammdaten Mitarbeitende'!L129)","v":""},{"$f":"IF(AND(G129=\"\",H129=\"\"),0,G129-H129)","v":0},{"$f":"IF(OR($A129=\"\",D129=\"\",E129=\"\",F129=\"\",V129=\"\"),\"\",D129-(E129+F129+V129))","v":""},{"$f":"IF(W129=\"\",\"\",MAX(W129,0))","v":""},{"$f":"IF(J129=\"\",\"\",Y$4)","v":""},{"$f":"IF(J129=\"\",\"\",J129*Z$4)","v":""},{"$f":"IF(Y129=\"\",\"\",AA$4)","v":""},{"$f":"IF(J129=\"\",\"\",ROUND(J129*AB$4 - MAX(K129-L129,0),2))","v":""},{"$f":"IF(OR($A129=\"\",J129=\"\",B129=\"\",M129<0),\"\",MAX(ROUND(M129*B129*2,1)/2,0))","v":""},{"$f":"IF(OR($A129=\"\",N129=\"\"),\"\",ROUND(N129*8/5,1)/2)","v":""},{"$f":"IF(OR($A129=\"\",B129=\"\",N129=\"\"),\"\",ROUND(AE$3*C129*B129*16/50,1)/2)","v":""},{"$f":"IF(OR($A129=\"\",J129=\"\",N129=\"\"),\"\",MAX(O129+P129-N129,0))","v":""},{"$f":"P129","v":0},{"$f":"IF(OR($A129=\"\",N129=\"\"),\"\",ROUND((MAX(O129-Q129-AF129,0))*2,1)/2)","v":""},{"$f":"IF(D129=\"\",0,1)","v":0},{"$f":"IF(J129=\"\",0,IF(ROUND(J129,2)<=0,0,1))","v":0},{"$f":"IF(D129=\"\",0,D129)","v":0},{"$f":"IF(D129=\"\",0,F129)","v":0},{"$f":"IF('Stammdaten Mitarbeitende'!N129>0,AC129,0)","v":0},{"$f":"IF('Stammdaten Mitarbeitende'!N129>0,P129,0)","v":0},{"$f":"D129","v":0},{"$f":"F129","v":0},{"$f":"IF(AM129=\"\",0,MAX(AM129-AN129,0))","v":0}]
[{"$f":"'Stammdaten Mitarbeitende'!AA130","v":""},"",null,null,null,null,null,null,0,"",null,"","","","",null,"","",null,null,{"$f":"IF($A130=\"\",\"\",'Stammdaten Mitarbeitende'!L130)","v":""},0,"","","","","","","","","","",0,"",0,{"$f":"IF(J130=\"\",0,IF(ROUND(J130,2)<=0,0,1))","v":0},0,0,{"$f":"IF('Stammdaten Mitarbeitende'!N130>0,AC130,0)","v":0},{"$f":"IF('Stammdaten Mitarbeitende'!N130>0,P130,0)","v":0},0,0,0]
[{"$f":"'Stammdaten Mitarbeitende'!AA131","v":""},"",null,null,null,null,null,null,0,"",null,"","","","",null,"","",null,null,{"$f":"IF($A131=\"\",\"\",'Stammdaten Mitarbeitende'!L131)","v":""},0,"","","","","","","","","","",0,"",0,0,0,0,{"$f":"IF('Stammdaten Mitarbeitende'!N131>0,AC131,0)","v":0},{"$f":"IF('Stammdaten Mitarbeitende'!N131>0,P131,0)","v":0},0,0,0]
[{"$f":"'Stammdaten Mitarbeitende'!AA132","v":""},"",null,null,null,null,null,null,0,"",null,"","","","",null,"","",null,null,{"$f":"IF($A132=\"\",\"\",'Stammdaten Mitarbeitende'!L132)","v":""},0,"","","","","","","","","","",0,"",0,0,0,0,{"$f":"IF('Stammdaten Mitarbeitende'!N132>0,AC132,0)","v":0},{"$f":"IF('Stammdaten Mitarbeitende'!N132>0,P132,0)","v":0},0,0,0]
[{"$f":"'Stammdaten Mitarbeitende'!AA133","v":""},"",null,null,null,null,null,null,0,"",null,"","","","",null,"","",null,null,{"$f":"IF($A133=\"\",\"\",'Stammdaten Mitarbeitende'!L133)","v":""},0,"","","","","","","","","","",0,"",0,0,0,0,{"$f":"IF('Stammdaten Mitarbeitende'!N133>0,AC133,0)","v":0},{"$f":"IF('Stammdaten Mitarbeitende'!N133>0,P133,0)","v":0},0,0,0]
[{"$f":"'Stammdaten Mitarbeitende'!AA134","v":""},"",null,null,null,null,null,null,0,"",null,"","","","",null,"","",null,null,{"$f":"IF($A134=\"\",\"\",'Stammdaten Mitarbeitende'!L134)","v":""},0,"","","","","","","","","","",0,"",0,0,0,0,{"$f":"IF('Stammdaten Mitarbeitende'!N134>0,AC134,0)","v":0},{"$f":"IF('Stammdaten Mitarbeitende'!N134>0,P134,0)","v":0},0,0,0]
[{"$f":"'Stammdaten Mitarbeitende'!AA135","v":""},"",null,null,null,null,null,null,0,"",null,"","","","",null,"","",null,null,{"$f":"IF($A135=\"\",\"\",'Stammdaten Mitarbeitende'!L135)","v":""},0,"","","","","","","","","","",0,"",0,0,0,0,{"$f":"IF('Stammdaten Mitarbeitende'!N135>0,AC135,0)","v":0},{"$f":"IF('Stammdaten Mitarbeitende'!N135>0,P135,0)","v":0},0,0,0]
[{"$f":"'Stammdaten Mitarbeitende'!AA136","v":""},"",null,null,null,null,null,null,0,"",null,"","","","",null,"","",null,null,{"$f":"IF($A136=\"\",\"\",'Stammdaten Mitarbeitende'!L136)","v":""},0,"","","","","","","","","","",0,"",0,0,0,0,{"$f":"IF('Stammdaten Mitarbeitende'!N136>0,AC136,0)","v":0},{"$f":"IF('Stammdaten Mitarbeitende'!N136>0,P136,0)","v":0},0,0,0]
[{"$f":"'Stammdaten Mitarbeitende'!AA137","v":""},"",null,null,null,null,null,null,0,"",null,"","","","",null,"","",null,null,{"$f":"IF($A137=\"\",\"\",'Stammdaten Mitarbeitende'!L137)","v":""},0,"","","","","","","","","","",0,"",0,0,0,0,{"$f":"IF('Stammdaten Mitarbeitende'!N137>0,AC137,0)","v":0},{"$f":"IF('Stammdaten Mitarbeitende'!N137>0,P137,0)","v":0},0,0,0]
[{"$f":"'Stammdaten Mitarbeitende'!AA138","v":""},"",null,null,null,null,null,null,0,"",null,"","","","",null,"","",null,null,{"$f":"IF($A138=\"\",\"\",'Stammdaten Mitarbeitende'!L138)","v":""},0,"","","","","","","","","","",0,"",0,0,0,0,{"$f":"IF('Stammdaten Mitarbeitende'!N138>0,AC138,0)","v":0},{"$f":"IF('Stammdaten Mitarbeitende'!N138>0,P138,0)","v":0},0,0,0]
[{"$f":"'Stammdaten Mitarbeitende'!AA139","v":""},"",null,null,null,null,null,null,0,"",null,"","","","",null,"","",null,null,{"$f":"IF($A139=\"\",\"\",'Stammdaten Mitarbeitende'!L139)","v":""},0,"","","","","","","","","","",0,"",0,0,0,0,{"$f":"IF('Stammdaten Mitarbeitende'!N139>0,AC139,0)","v":0},{"$f":"IF('Stammdaten Mitarbeitende'!N139>0,P139,0)","v":0},0,0,0]
[{"$f":"'Stammdaten Mitarbeitende'!AA140","v":""},"",null,null,null,null,null,null,0,"",null,"","","","",null,"","",null,null,{"$f":"IF($A140=\"\",\"\",'Stammdaten Mitarbeitende'!L140)","v":""},0,"","","","","","","","","","",0,"",0,0,0,0,{"$f":"IF('Stammdaten Mitarbeitende'!N140>0,AC140,0)","v":0},{"$f":"IF('Stammdaten Mitarbeitende'!N140>0,P140,0)","v":0},0,0,0]
[{"$f":"'Stammdaten Mitarbeitende'!AA141","v":""},"",null,null,null,null,null,null,0,"",null,"","","","",null,"","",null,null,{"$f":"IF($A141=\"\",\"\",'Stammdaten Mitarbeitende'!L141)","v":""},0,"","","","","","","","","","",0,"",0,0,0,0,{"$f":"IF('Stammdaten Mitarbeitende'!N141>0,AC141,0)","v":0},{"$f":"IF('Stammdaten Mitarbeitende'!N141>0,P141,0)","v":0},0,0,0]
[{"$f":"'Stammdaten Mitarbeitende'!AA142","v":""},"",null,null,null,null,null,null,0,"",null,"","","","",null,"","",null,null,{"$f":"IF($A142=\"\",\"\",'Stammdaten Mitarbeitende'!L142)","v":""},0,"","","","","","","","","","",0,"",0,0,0,0,{"$f":"IF('Stammdaten Mitarbeitende'!N142>0,AC142,0)","v":0},{"$f":"IF('Stammdaten Mitarbeitende'!N142>0,P142,0)","v":0},0,0,0]
[{"$f":"'Stammdaten Mitarbeitende'!AA143","v":""},"",null,null,null,null,null,null,0,"",null,"","","","",null,"","",null,null,{"$f":"IF($A143=\"\",\"\",'Stammdaten Mitarbeitende'!L143)","v":""},0,"","","","","","","","","","",0,"",0,0,0,0,{"$f":"IF('Stammdaten Mitarbeitende'!N143>0,AC143,0)","v":0},{"$f":"IF('Stammdaten Mitarbeitende'!N143>0,P143,0)","v":0},0,0,0]
[{"$f":"'Stammdaten Mitarbeitende'!AA144","v":""},"",null,null,null,null,null,null,0,"",null,"","","","",null,"","",null,null,{"$f":"IF($A144=\"\",\"\",'Stammdaten Mitarbeitende'!L144)","v":""},0,"","","","","","","","","","",0,"",0,0,0,0,{"$f":"IF('Stammdaten Mitarbeitende'!N144>0,AC144,0)","v":0},{"$f":"IF('Stammdaten Mitarbeitende'!N144>0,P144,0)","v":0},0,0,0]
[{"$f":"'Stammdaten Mitarbeitende'!AA145","v":""},"",null,null,null,null,null,null,0,"",null,"","","","",null,"","",null,null,{"$f":"IF($A145=\"\",\"\",'Stammdaten Mitarbeitende'!L145)","v":""},0,"","","","","","","","","","",0,"",0,0,0,0,{"$f":"IF('Stammdaten Mitarbeitende'!N145>0,AC145,0)","v":0},{"$f":"IF('Stammdaten Mitarbeitende'!N145>0,P145,0)","v":0},0,0,0]
[{"$f":"'Stammdaten Mitarbeitende'!AA146","v":""},"",null,null,null,null,null,null,0,"",null,"","","","",null,"","",null,null,{"$f":"IF($A146=\"\",\"\",'Stammdaten Mitarbeitende'!L146)","v":""},0,"","","","","","","","","","",0,"",0,0,0,0,{"$f":"IF('Stammdaten Mitarbeitende'!N146>0,AC146,0)","v":0},{"$f":"IF('Stammdaten Mitarbeitende'!N146>0,P146,0)","v":0},0,0,0]
[{"$f":"'Stammdaten Mitarbeitende'!AA147","v":""},"",null,null,null,null,null,null,0,"",null,"","","","",null,"","",null,null,{"$f":"IF($A147=\"\",\"\",'Stammdaten Mitarbeitende'!L147)","v":""},0,"","","","","","","","","","",0,"",0,0,0,0,{"$f":"IF('Stammdaten Mitarbeitende'!N147>0,AC147,0)","v":0},{"$f":"IF('Stammdaten Mitarbeitende'!N147>0,P147,0)","v":0},0,0,0]
[{"$f":"'Stammdaten Mitarbeitende'!AA148","v":""},"",null,null,null,null,null,null,0,"",null,"","","","",null,"","",null,null,{"$f":"IF($A148=\"\",\"\",'Stammdaten Mitarbeitende'!L148)","v":""},0,"","","","","","","","","","",0,"",0,0,0,0,{"$f":"IF('Stammdaten Mitarbeitende'!N148>0,AC148,0)","v":0},{"$f":"IF('Stammdaten Mitarbeitende'!N148>0,P148,0)","v":0},0,0,0]
[{"$f":"'Stammdaten Mitarbeitende'!AA149","v":""},"",null,null,null,null,null,null,0,"",null,"","","","",null,"","",null,null,{"$f":"IF($A149=\"\",\"\",'Stammdaten Mitarbeitende'!L149)","v":""},0,"","","","","","","","","","",0,"",0,0,0,0,{"$f":"IF('Stammdaten Mitarbeitende'!N149>0,AC149,0)","v":0},{"$f":"IF('Stammdaten Mitarbeitende'!N149>0,P149,0)","v":0},0,0,0]
[{"$f":"Übersetzungstexte!A$296","v":"Seitentotal"},null,null,{"$f":"SUM(D129:D149)","v":0},null,{"$f":"SUM(F129:F149)","v":0},null,null,null,{"$f":"SUM(J129:J149)","v":0},null,null,null,{"$f":"SUM(N129:N149)","v":0},null,{"$f":"SUM(P129:P149)","v":0},null,{"$f":"SUM(R129:R149)","v":0}]
[{"$f":"'Stammdaten Betrieb & Abteilung'!D$1","v":"  "},null,null,null,null,null,null,null,null,null,null,null,{"$f":"Übersetzungstexte!A$239","v":"Betrieb / Betriebsabteilung"},{"$f":"'Stammdaten Betrieb & Abteilung'!D$13","v":" "}]
[{"$f":"'Stammdaten Betrieb & Abteilung'!D$3","v":" "},null,null,null,null,null,null,null,null,null,null,null,{"$f":"Übersetzungstexte!A$240","v":"Abrechnungsperiode"},{"$f":"'Stammdaten Betrieb & Abteilung'!D$14","v":""},null,{"$f":"'Stammdaten Betrieb & Abteilung'!D$12","v":{"$error":"#VALUE!"}}]
[{"$f":"'Stammdaten Betrieb & Abteilung'!D$4","v":" "},null,null,null,null,null,null,null,null,null,null,null,{"$f":"Übersetzungstexte!A$241","v":"Beginn / Ende der Kurzarbeit"},{"$f":"'Stammdaten Betrieb & Abteilung'!D$16","v":""}]
[]
[1,2,3,4,5,6,null,7,null,8,9,10,11,12,13,null,14,15,null,null,null,"Regel 7","Regel 8",null,"Regel 9","Regel 10","Regel 11","Regel 12","Regel 13","Regel 14","Regel 15","Regel 17",null,"Regel 19/20",null,null,null,null,"AHV-pflichtiger","AHV-pflichtiger",null,null,"AHV-pflichtige"]
[{"$f":"Übersetzungstexte!A$242","v":""},{"$f":"Übersetzungstexte!A$245","v":"anrechen-"},{"$f":"Übersetzungstexte!A$248","v":"Wöchentl."},{"$f":"Übersetzungstexte!A$251","v":"Sollstd. Abr.-"},{"$f":"Übersetzungstexte!A$254","v":""},{"$f":"Übersetzungstexte!A$257","v":"Bezahlte/"},null,{"$f":"Übersetzungstexte!A$263","v":"(nur für Gleitzeit)"},null,{"$f":"Übersetzungstexte!A$269","v":"Ausfall-"},{"$f":"Übersetzungstexte!A$272","v":"Saldo"},{"$f":"Übersetzungstexte!A$275","v":"Saisonale"},{"$f":"Übersetzungstexte!A$278","v":"Anrechen-"},{"$f":"Übersetzungstexte!A$281","v":"Verdienst-"},{"$f":"Übersetzungstexte!A$284","v":"Verdienst-"},{"$f":"Übersetzungstexte!A$287","v":"Verdienst"},{"$f":"AE$4","v":"Abzug "},{"$f":"Übersetzungstexte!A$293","v":""},null,null,"anrechen-","Gleitzeit","Ausfall-","Max(D12,0)","Prozentualer","Saisonale","Proz. Wirts. Bed.","Anrechen-","Verdienst-","Verdienst-","Abzug","Abzug","Verdienst",null,"Anzahl","Anzahl","Sollstd.","Absenzen","Verdienst-","Verdienst","Sollstd.","bezahlte/","Abzugsbasis"]
[{"$f":"Übersetzungstexte!A$243","v":""},{"$f":"Übersetzungstexte!A$246","v":"barer Std.-"},{"$f":"Übersetzungstexte!A$249","v":"Arbeitszeit"},{"$f":"Übersetzungstexte!A$252","v":"Periode Inkl."},{"$f":"Übersetzungstexte!A$255","v":""},{"$f":"Übersetzungstexte!A$258","v":"Unbezahlte"},{"$f":"Übersetzungstexte!A$261","v":"Saldo Ende Per."},null,null,{"$f":"Übersetzungstexte!A$270","v":"stunden"},{"$f":"Übersetzungstexte!A$273","v":"Mehrstd."},{"$f":"Übersetzungstexte!A$276","v":"Ausfall-"},{"$f":"Übersetzungstexte!A$279","v":"bare Aus-"},{"$f":"Übersetzungstexte!A$282","v":"ausfall"},{"$f":"Übersetzungstexte!A$285","v":"ausfall"},{"$f":"Übersetzungstexte!A$288","v":"Zwischen-"},{"$f":"Übersetzungstexte!A$291","v":"Karenztage"},{"$f":"Übersetzungstexte!A$294","v":"Beantragte"},null,null,"barer Std.-","c","stunden",null,"Arbeitsausfall","Ausfall-","Arbeitsausfall","bare ","ausfall","ausfall","Karenztage","Zwischen-","Zwischen-","Beantragte","bezugsber.","betroffene","bezugsber.","bezugsber.","ausfall","Zwischen-","inkl","unbezahlte"]
[{"$f":"Übersetzungstexte!A$244","v":"Name,Vorname"},{"$f":"Übersetzungstexte!A$247","v":"Verdienst"},{"$f":"Übersetzungstexte!A$250","v":"in der AP"},{"$f":"Übersetzungstexte!A$253","v":"Vorholzeit"},{"$f":"Übersetzungstexte!A$256","v":"Istzeit"},{"$f":"Übersetzungstexte!A$259","v":"Absenzen"},{"$f":"Übersetzungstexte!A$262","v":"vorherg."},{"$f":"Übersetzungstexte!A$265","v":"laufend"},{"$f":"Übersetzungstexte!A$268","v":"Diff."},{"$f":"Übersetzungstexte!A$271","v":"total"},{"$f":"Übersetzungstexte!A$274","v":"Vormonate"},{"$f":"Übersetzungstexte!A$277","v":"stunden"},{"$f":"Übersetzungstexte!A$280","v":"fall-Std."},{"$f":"Übersetzungstexte!A$283","v":"100%"},{"$f":"Übersetzungstexte!A$286","v":"80%"},{"$f":"Übersetzungstexte!A$289","v":"Beschäftigung"},{"$f":"Übersetzungstexte!A$292","v":"80%"},{"$f":"Übersetzungstexte!A$295","v":"Vergütung"},null,null,"Verdienst",null,"Total",null,"pAA","stunden","pwAA","Ausfall-Std.","100%","80%","80%","beschäftigung","beschäftigung","Vergütung","Mitarbeiter","Mitarbeiter","Mitarbeiter","Mitarbeiter","100%","beschäftigung","Vorholzeit","Ansenzen"]
[{"$f":"'Stammdaten Mitarbeitende'!AA159","v":""},{"$f":"U159","v":""},null,null,null,null,null,null,{"$f":"V159","v":0},{"$f":"W159","v":""},null,{"$f":"Z159","v":""},{"$f":"AB159","v":""},{"$f":"AC159","v":""},{"$f":"AD159","v":""},null,{"$f":"AE159","v":""},{"$f":"AH159","v":""},null,null,{"$f":"IF($A159=\"\",\"\",'Stammdaten Mitarbeitende'!L159)","v":""},{"$f":"IF(AND(G159=\"\",H159=\"\"),0,G159-H159)","v":0},{"$f":"IF(OR($A159=\"\",D159=\"\",E159=\"\",F159=\"\",V159=\"\"),\"\",D159-(E159+F159+V159))","v":""},{"$f":"IF(W159=\"\",\"\",MAX(W159,0))","v":""},{"$f":"IF(J159=\"\",\"\",Y$4)","v":""},{"$f":"IF(J159=\"\",\"\",J159*Z$4)","v":""},{"$f":"IF(Y159=\"\",\"\",AA$4)","v":""},{"$f":"IF(J159=\"\",\"\",ROUND(J159*AB$4 - MAX(K159-L159,0),2))","v":""},{"$f":"IF(OR($A159=\"\",J159=\"\",B159=\"\",M159<0),\"\",MAX(ROUND(M159*B159*2,1)/2,0))","v":""},{"$f":"IF(OR($A159=\"\",N159=\"\"),\"\",ROUND(N159*8/5,1)/2)","v":""},{"$f":"IF(OR($A159=\"\",B159=\"\",N159=\"\"),\"\",ROUND(AE$3*C159*B159*16/50,1)/2)","v":""},{"$f":"IF(OR($A159=\"\",J159=\"\",N159=\"\"),\"\",MAX(O159+P159-N159,0))","v":""},{"$f":"P159","v":0},{"$f":"IF(OR($A159=\"\",N159=\"\"),\"\",ROUND((MAX(O159-Q159-AF159,0))*2,1)/2)","v":""},{"$f":"IF(D159=\"\",0,1)","v":0},{"$f":"IF(J159=\"\",0,IF(ROUND(J159,2)<=0,0,1))","v":0},{"$f":"IF(D159=\"\",0,D159)","v":0},{"$f":"IF(D159=\"\",0,F159)","v":0},{"$f":"IF('Stammdaten Mitarbeitende'!N159>0,AC159,0)","v":0},{"$f":"IF('Stammdaten Mitarbeitende'!N159>0,P159,0)","v":0},{"$f":"D159","v":0},{"$f":"F159","v":0},{"$f":"IF(AM159=\"\",0,MAX(AM159-AN159,0))","v":0}]
[{"$f":"'Stammdaten Mitarbeitende'!AA160","v":""},"",null,null,null,null,null,null,0,"",null,"","","","",null,"","",null,null,{"$f":"IF($A160=\"\",\"\",'Stammdaten Mitarbeitende'!L160)","v":""},0,"","","","","","","","","","",0,"",0,{"$f":"IF(J160=\"\",0,IF(ROUND(J160,2)<=0,0,1))","v":0},0,0,{"$f":"IF('Stammdaten Mitarbeitende'!N160>0,AC160,0)","v":0},{"$f":"IF('Stammdaten Mitarbeitende'!N160>0,P160,0)","v":0},0,0,0]
[{"$f":"'Stammdaten Mitarbeitende'!AA161","v":""},"",null,null,null,null,null,null,0,"",null,"","","","",null,"","",null,null,{"$f":"IF($A161=\"\",\"\",'Stammdaten Mitarbeitende'!L161)","v":""},0,"","","","","","","","","","",0,"",0,0,0,0,{"$f":"IF('Stammdaten Mitarbeitende'!N161>0,AC161,0)","v":0},{"$f":"IF('Stammdaten Mitarbeitende'!N161>0,P161,0)","v":0},0,0,0]
[{"$f":"'Stammdaten Mitarbeitende'!AA162","v":""},"",null,null,null,null,null,null,0,"",null,"","","","",null,"","",null,null,{"$f":"IF($A162=\"\",\"\",'Stammdaten Mitarbeitende'!L162)","v":""},0,"","","","","","","","","","",0,"",0,0,0,0,{"$f":"IF('Stammdaten Mitarbeitende'!N162>0,AC162,0)","v":0},{"$f":"IF('Stammdaten Mitarbeitende'!N162>0,P162,0)","v":0},0,0,0]
[{"$f":"'Stammdaten Mitarbeitende'!AA163","v":""},"",null,null,null,null,null,null,0,"",null,"","","","",null,"","",null,null,{"$f":"IF($A163=\"\",\"\",'Stammdaten Mitarbeitende'!L163)","v":""},0,"","","","","","","","","","",0,"",0,0,0,0,{"$f":"IF('Stammdaten Mitarbeitende'!N163>0,AC163,0)","v":0},{"$f":"IF('Stammdaten Mitarbeitende'!N163>0,P163,0)","v":0},0,0,0]
[{"$f":"'Stammdaten Mitarbeitende'!AA164","v":""},"",null,null,null,null,null,null,0,"",null,"","","","",null,"","",null,null,{"$f":"IF($A164=\"\",\"\",'Stammdaten Mitarbeitende'!L164)","v":""},0,"","","","","","","","","","",0,"",0,0,0,0,{"$f":"IF('Stammdaten Mitarbeitende'!N164>0,AC164,0)","v":0},{"$f":"IF('Stammdaten Mitarbeitende'!N164>0,P164,0)","v":0},0,0,0]
[{"$f":"'Stammdaten Mitarbeitende'!AA165","v":""},"",null,null,null,null,null,null,0,"",null,"","","","",null,"","",null,null,{"$f":"IF($A165=\"\",\"\",'Stammdaten Mitarbeitende'!L165)","v":""},0,"","","","","","","","","","",0,"",0,0,0,0,{"$f":"IF('Stammdaten Mitarbeitende'!N165>0,AC165,0)","v":0},{"$f":"IF('Stammdaten Mitarbeitende'!N165>0,P165,0)","v":0},0,0,0]
[{"$f":"'Stammdaten Mitarbeitende'!AA166","v":""},"",null,null,null,null,null,null,0,"",null,"","","","",null,"","",null,null,{"$f":"IF($A166=\"\",\"\",'Stammdaten Mitarbeitende'!L166)","v":""},0,"","","","","","","","","","",0,"",0,0,0,0,{"$f":"IF('Stammdaten Mitarbeitende'!N166>0,AC166,0)","v":0},{"$f":"IF('Stammdaten Mitarbeitende'!N166>0,P166,0)","v":0},0,0,0]
[{"$f":"'Stammdaten Mitarbeitende'!AA167","v":""},"",null,null,null,null,null,null,0,"",null,"","","","",null,"","",null,null,{"$f":"IF($A167=\"\",\"\",'Stammdaten Mitarbeitende'!L167)","v":""},0,"","","","","","","","","","",0,"",0,0,0,0,{"$f":"IF('Stammdaten Mitarbeitende'!N167>0,AC167,0)","v":0},{"$f":"IF('Stammdaten Mitarbeitende'!N167>0,P167,0)","v":0},0,0,0]
[{"$f":"'Stammdaten Mitarbeitende'!AA168","v":""},"",null,null,null,null,null,null,0,"",null,"","","","",null,"","",null,null,{"$f":"IF($A168=\"\",\"\",'Stammdaten Mitarbeitende'!L168)","v":""},0,"","","","","","","","","","",0,"",0,0,0,0,{"$f":"IF('Stammdaten Mitarbeitende'!N168>0,AC168,0)","v":0},{"$f":"IF('Stammdaten Mitarbeitende'!N168>0,P168,0)","v":0},0,0,0]
[{"$f":"'Stammdaten Mitarbeitende'!AA169","v":""},"",null,null,null,null,null,null,0,"",null,"","","","",null,"","",null,null,{"$f":"IF($A169=\"\",\"\",'Stammdaten Mitarbeitende'!L169)","v":""},0,"","","","","","","","","","",0,"",0,0,0,0,{"$f":"IF('Stammdaten Mitarbeitende'!N169>0,AC169,0)","v":0},{"$f":"IF('Stammdaten Mitarbeitende'!N169>0,P169,0)","v":0},0,0,0]
[{"$f":"'Stammdaten Mitarbeitende'!AA170","v":""},"",null,null,null,null,null,null,0,"",null,"","","","",null,"","",null,null,{"$f":"IF($A170=\"\",\"\",'Stammdaten Mitarbeitende'!L170)","v":""},0,"","","","","","","","","","",0,"",0,0,0,0,{"$f":"IF('Stammdaten Mitarbeitende'!N170>0,AC170,0)","v":0},{"$f":"IF('Stammdaten Mitarbeitende'!N170>0,P170,0)","v":0},0,0,0]
[{"$f":"'Stammdaten Mitarbeitende'!AA171","v":""},"",null,null,null,null,null,null,0,"",null,"","","","",null,"","",null,null,{"$f":"IF($A171=\"\",\"\",'Stammdaten Mitarbeitende'!L171)","v":""},0,"","","","","","","","","","",0,"",0,0,0,0,{"$f":"IF('Stammdaten Mitarbeitende'!N171>0,AC171,0)","v":0},{"$f":"IF('Stammdaten Mitarbeitende'!N171>0,P171,0)","v":0},0,0,0]
[{"$f":"'Stammdaten Mitarbeitende'!AA172","v":""},"",null,null,null,null,null,null,0,"",null,"","","","",null,"","",null,null,{"$f":"IF($A172=\"\",\"\",'Stammdaten Mitarbeitende'!L172)","v":""},0,"","","","","","","","","","",0,"",0,0,0,0,{"$f":"IF('Stammdaten Mitarbeitende'!N172>0,AC172,0)","v":0},{"$f":"IF('Stammdaten Mitarbeitende'!N172>0,P172,0)","v":0},0,0,0]
[{"$f":"'Stammdaten Mitarbeitende'!AA173","v":""},"",null,null,null,null,null,null,0,"",null,"","","","",null,"","",null,null,{"$f":"IF($A173=\"\",\"\",'Stammdaten Mitarbeitende'!L173)","v":""},0,"","","","","","","","","","",0,"",0,0,0,0,{"$f":"IF('Stammdaten Mitarbeitende'!N173>0,AC173,0)","v":0},{"$f":"IF('Stammdaten Mitarbeitende'!N173>0,P173,0)","v":0},0,0,0]
[{"$f":"'Stammdaten Mitarbeitende'!AA174","v":""},"",null,null,null,null,null,null,0,"",null,"","","","",null,"","",null,null,{"$f":"IF($A174=\"\",\"\",'Stammdaten Mitarbeitende'!L174)","v":""},0,"","","","","","","","","","",0,"",0,0,0,0,{"$f":"IF('Stammdaten Mitarbeitende'!N174>0,AC174,0)","v":0},{"$f":"IF('Stammdaten Mitarbeitende'!N174>0,P174,0)","v":0},0,0,0]
[{"$f":"'Stammdaten Mitarbeitende'!AA175","v":""},"",null,null,null,null,null,null,0,"",null,"","","","",null,"","",null,null,{"$f":"IF($A175=\"\",\"\",'Stammdaten Mitarbeitende'!L175)","v":""},0,"","","","","","","","","","",0,"",0,0,0,0,{"$f":"IF('Stammdaten Mitarbeitende'!N175>0,AC175,0)","v":0},{"$f":"IF('Stammdaten Mitarbeitende'!N175>0,P175,0)","v":0},0,0,0]
[{"$f":"'Stammdaten Mitarbeitende'!AA176","v":""},"",null,null,null,null,null,null,0,"",null,"","","","",null,"","",null,null,{"$f":"IF($A176=\"\",\"\",'Stammdaten Mitarbeitende'!L176)","v":""},0,"","","","","","","","","","",0,"",0,0,0,0,{"$f":"IF('Stammdaten Mitarbeitende'!N176>0,AC176,0)","v":0},{"$f":"IF('Stammdaten Mitarbeitende'!N176>0,P176,0)","v":0},0,0,0]
[{"$f":"'Stammdaten Mitarbeitende'!AA177","v":""},"",null,null,null,null,null,null,0,"",null,"","","","",null,"","",null,null,{"$f":"IF($A177=\"\",\"\",'Stammdaten Mitarbeitende'!L177)","v":""},0,"","","","","","","","","","",0,"",0,0,0,0,{"$f":"IF('Stammdaten Mitarbeitende'!N177>0,AC177,0)","v":0},{"$f":"IF('Stammdaten Mitarbeitende'!N177>0,P177,0)","v":0},0,0,0]
[{"$f":"'Stammdaten Mitarbeitende'!AA178","v":""},"",null,null,null,null,null,null,0,"",null,"","","","",null,"","",null,null,{"$f":"IF($A178=\"\",\"\",'Stammdaten Mitarbeitende'!L178)","v":""},0,"","","","","","","","","","",0,"",0,0,0,0,{"$f":"IF('Stammdaten Mitarbeitende'!N178>0,AC178,0)","v":0},{"$f":"IF('Stammdaten Mitarbeitende'!N178>0,P178,0)","v":0},0,0,0]
[{"$f":"'Stammdaten Mitarbeitende'!AA179","v":""},"",null,null,null,null,null,null,0,"",null,"","","","",null,"","",null,null,{"$f":"IF($A179=\"\",\"\",'Stammdaten Mitarbeitende'!L179)","v":""},0,"","","","","","","","","","",0,"",0,0,0,0,{"$f":"IF('Stammdaten Mitarbeitende'!N179>0,AC179,0)","v":0},{"$f":"IF('Stammdaten Mitarbeitende'!N179>0,P179,0)","v":0},0,0,0]
[{"$f":"Übersetzungstexte!A$296","v":"Seitentotal"},null,null,{"$f":"SUM(D159:D179)","v":0},null,{"$f":"SUM(F159:F179)","v":0},null,null,null,{"$f":"SUM(J159:J179)","v":0},null,null,null,{"$f":"SUM(N159:N179)","v":0},null,{"$f":"SUM(P159:P179)","v":0},null,{"$f":"SUM(R159:R179)","v":0}]
[{"$f":"'Stammdaten Betrieb & Abteilung'!D$1","v":"  "},null,null,null,null,null,null,null,null,null,null,null,{"$f":"Übersetzungstexte!A$239","v":"Betrieb / Betriebsabteilung"},{"$f":"'Stammdaten Betrieb & Abteilung'!D$13","v":" "}]
[{"$f":"'Stammdaten Betrieb & Abteilung'!D$3","v":" "},null,null,null,null,null,null,null,null,null,null,null,{"$f":"Übersetzungstexte!A$240","v":"Abrechnungsperiode"},{"$f":"'Stammdaten Betrieb & Abteilung'!D$14","v":""},null,{"$f":"'Stammdaten Betrieb & Abteilung'!D$12","v":{"$error":"#VALUE!"}}]
[{"$f":"'Stammdaten Betrieb & Abteilung'!D$4","v":" "},null,null,null,null,null,null,null,null,null,null,null,{"$f":"Übersetzungstexte!A$241","v":"Beginn / Ende der Kurzarbeit"},{"$f":"'Stammdaten Betrieb & Abteilung'!D$16","v":""}]
[]
[1,2,3,4,5,6,null,7,null,8,9,10,11,12,13,null,14,15,null,null,null,"Regel 7","Regel 8",null,"Regel 9","Regel 10","Regel 11","Regel 12","Regel 13","Regel 14","Regel 15","Regel 17",null,"Regel 19/20",null,null,null,null,"AHV-pflichtiger","AHV-pflichtiger",null,null,"AHV-pflichtige"]
[{"$f":"Übersetzungstexte!A$242","v":""},{"$f":"Übersetzungstexte!A$245","v":"anrechen-"},{"$f":"Übersetzungstexte!A$248","v":"Wöchentl."},{"$f":"Übersetzungstexte!A$251","v":"Sollstd. Abr.-"},{"$f":"Übersetzungstexte!A$254","v":""},{"$f":"Übersetzungstexte!A$257","v":"Bezahlte/"},null,{"$f":"Übersetzungstexte!A$263","v":"(nur für Gleitzeit)"},null,{"$f":"Übersetzungstexte!A$269","v":"Ausfall-"},{"$f":"Übersetzungstexte!A$272","v":"Saldo"},{"$f":"Übersetzungstexte!A$275","v":"Saisonale"},{"$f":"Übersetzungstexte!A$278","v":"Anrechen-"},{"$f":"Übersetzungstexte!A$281","v":"Verdienst-"},{"$f":"Übersetzungstexte!A$284","v":"Verdienst-"},{"$f":"Übersetzungstexte!A$287","v":"Verdienst"},{"$f":"AE$4","v":"Abzug "},{"$f":"Übersetzungstexte!A$293","v":""},null,null,"anrechen-","Gleitzeit","Ausfall-","Max(D12,0)","Prozentualer","Saisonale","Proz. Wirts. Bed.","Anrechen-","Verdienst-","Verdienst-","Abzug","Abzug","Verdienst",null,"Anzahl","Anzahl","Sollstd.","Absenzen","Verdienst-","Verdienst","Sollstd.","bezahlte/","Abzugsbasis"]
[{"$f":"Übersetzungstexte!A$243","v":""},{"$f":"Übersetzungstexte!A$246","v":"barer Std.-"},{"$f":"Übersetzungstexte!A$249","v":"Arbeitszeit"},{"$f":"Übersetzungstexte!A$252","v":"Periode Inkl."},{"$f":"Übersetzungstexte!A$255","v":""},{"$f":"Übersetzungstexte!A$258","v":"Unbezahlte"},{"$f":"Übersetzungstexte!A$261","v":"Saldo Ende Per."},null,null,{"$f":"Übersetzungstexte!A$270","v":"stunden"},{"$f":"Übersetzungstexte!A$273","v":"Mehrstd."},{"$f":"Übersetzungstexte!A$276","v":"Ausfall-"},{"$f":"Übersetzungstexte!A$279","v":"bare Aus-"},{"$f":"Übersetzungstexte!A$282","v":"ausfall"},{"$f":"Übersetzungstexte!A$285","v":"ausfall"},{"$f":"Übersetzungstexte!A$288","v":"Zwischen-"},{"$f":"Übersetzungstexte!A$291","v":"Karenztage"},{"$f":"Übersetzungstexte!A$294","v":"Beantragte"},null,null,"barer Std.-","c","stunden",null,"Arbeitsausfall","Ausfall-","Arbeitsausfall","bare ","ausfall","ausfall","Karenztage","Zwischen-","Zwischen-","Beantragte","bezugsber.","betroffene","bezugsber.","bezugsber.","ausfall","Zwischen-","inkl","unbezahlte"]
[{"$f":"Übersetzungstexte!A$244","v":"Name,Vorname"},{"$f":"Übersetzungstexte!A$247","v":"Verdienst"},{"$f":"Übersetzungstexte!A$250","v":"in der AP"},{"$f":"Übersetzungstexte!A$253","v":"Vorholzeit"},{"$f":"Übersetzungstexte!A$256","v":"Istzeit"},{"$f":"Übersetzungstexte!A$259","v":"Absenzen"},{"$f":"Übersetzungstexte!A$262","v":"vorherg."},{"$f":"Übersetzungstexte!A$265","v":"laufend"},{"$f":"Übersetzungstexte!A$268","v":"Diff."},{"$f":"Übersetzungstexte!A$271","v":"total"},{"$f":"Übersetzungstexte!A$274","v":"Vormonate"},{"$f":"Übersetzungstexte!A$277","v":"stunden"},{"$f":"Übersetzungstexte!A$280","v":"fall-Std."},{"$f":"Übersetzungstexte!A$283","v":"100%"},{"$f":"Übersetzungstexte!A$286","v":"80%"},{"$f":"Übersetzungstexte!A$289","v":"Beschäftigung"},{"$f":"Übersetzungstexte!A$292","v":"80%"},{"$f":"Übersetzungstexte!A$295","v":"Vergütung"},null,null,"Verdienst",null,"Total",null,"pAA","stunden","pwAA","Ausfall-Std.","100%","80%","80%","beschäftigung","beschäftigung","Vergütung","Mitarbeiter","Mitarbeiter","Mitarbeiter","Mitarbeiter","100%","beschäftigung","Vorholzeit","Ansenzen"]
[{"$f":"'Stammdaten Mitarbeitende'!AA189","v":""},{"$f":"U189","v":""},null,null,null,null,null,null,{"$f":"V189","v":0},{"$f":"W189","v":""},null,{"$f":"Z189","v":""},{"$f":"AB189","v":""},{"$f":"AC189","v":""},{"$f":"AD189","v":""},null,{"$f":"AE189","v":""},{"$f":"AH189","v":""},null,null,{"$f":"IF($A189=\"\",\"\",'Stammdaten Mitarbeitende'!L189)","v":""},{"$f":"IF(AND(G189=\"\",H189=\"\"),0,G189-H189)","v":0},{"$f":"IF(OR($A189=\"\",D189=\"\",E189=\"\",F189=\"\",V189=\"\"),\"\",D189-(E189+F189+V189))","v":""},{"$f":"IF(W189=\"\",\"\",MAX(W189,0))","v":""},{"$f":"IF(J189=\"\",\"\",Y$4)","v":""},{"$f":"IF(J189=\"\",\"\",J189*Z$4)","v":""},{"$f":"IF(Y189=\"\",\"\",AA$4)","v":""},{"$f":"IF(J189=\"\",\"\",ROUND(J189*AB$4 - MAX(K189-L189,0),2))","v":""},{"$f":"IF(OR($A189=\"\",J189=\"\",B189=\"\",M189<0),\"\",MAX(ROUND(M189*B189*2,1)/2,0))","v":""},{"$f":"IF(OR($A189=\"\",N189=\"\"),\"\",ROUND(N189*8/5,1)/2)","v":""},{"$f":"IF(OR($A189=\"\",B189=\"\",N189=\"\"),\"\",ROUND(AE$3*C189*B189*16/50,1)/2)","v":""},{"$f":"IF(OR($A189=\"\",J189=\"\",N189=\"\"),\"\",MAX(O189+P189-N189,0))","v":""},{"$f":"P189","v":0},{"$f":"IF(OR($A189=\"\",N189=\"\"),\"\",ROUND((MAX(O189-Q189-AF189,0))*2,1)/2)","v":""},{"$f":"IF(D189=\"\",0,1)","v":0},{"$f":"IF(J189=\"\",0,IF(ROUND(J189,2)<=0,0,1))","v":0},{"$f":"IF(D189=\"\",0,D189)","v":0},{"$f":"IF(D189=\"\",0,F189)","v":0},{"$f":"IF('Stammdaten Mitarbeitende'!N189>0,AC189,0)","v":0},{"$f":"IF('Stammdaten Mitarbeitende'!N189>0,P189,0)","v":0},{"$f":"D189","v":0},{"$f":"F189","v":0},{"$f":"IF(AM189=\"\",0,MAX(AM189-AN189,0))","v":0}]
[{"$f":"'Stammdaten Mitarbeitende'!AA190","v":""},"",null,null,null,null,null,null,0,"",null,"","","","",null,"","",null,null,{"$f":"IF($A190=\"\",\"\",'Stammdaten Mitarbeitende'!L190)","v":""},0,"","","","","","","","","","",0,"",0,{"$f":"IF(J190=\"\",0,IF(ROUND(J190,2)<=0,0,1))","v":0},0,0,{"$f":"IF('Stammdaten Mitarbeitende'!N190>0,AC190,0)","v":0},{"$f":"IF('Stammdaten Mitarbeitende'!N190>0,P190,0)","v":0},0,0,0]
[{"$f":"'Stammdaten Mitarbeitende'!AA191","v":""},"",null,null,null,null,null,null,0,"",null,"","","","",null,"","",null,null,{"$f":"IF($A191=\"\",\"\",'Stammdaten Mitarbeitende'!L191)","v":""},0,"","","","","","","","","","",0,"",0,0,0,0,{"$f":"IF('Stammdaten Mitarbeitende'!N191>0,AC191,0)","v":0},{"$f":"IF('Stammdaten Mitarbeitende'!N191>0,P191,0)","v":0},0,0,0]
[{"$f":"'Stammdaten Mitarbeitende'!AA192","v":""},"",null,null,null,null,null,null,0,"",null,"","","","",null,"","",null,null,{"$f":"IF($A192=\"\",\"\",'Stammdaten Mitarbeitende'!L192)","v":""},0,"","","","","","","","","","",0,"",0,0,0,0,{"$f":"IF('Stammdaten Mitarbeitende'!N192>0,AC192,0)","v":0},{"$f":"IF('Stammdaten Mitarbeitende'!N192>0,P192,0)","v":0},0,0,0]
[{"$f":"'Stammdaten Mitarbeitende'!AA193","v":""},"",null,null,null,null,null,null,0,"",null,"","","","",null,"","",null,null,{"$f":"IF($A193=\"\",\"\",'Stammdaten Mitarbeitende'!L193)","v":""},0,"","","","","","","","","","",0,"",0,0,0,0,{"$f":"IF('Stammdaten Mitarbeitende'!N193>0,AC193,0)","v":0},{"$f":"IF('Stammdaten Mitarbeitende'!N193>0,P193,0)","v":0},0,0,0]
[{"$f":"'Stammdaten Mitarbeitende'!AA194","v":""},"",null,null,null,null,null,null,0,"",null,"","","","",null,"","",null,null,{"$f":"IF($A194=\"\",\"\",'Stammdaten Mitarbeitende'!L194)","v":""},0,"","","","","","","","","","",0,"",0,0,0,0,{"$f":"IF('Stammdaten Mitarbeitende'!N194>0,AC194,0)","v":0},{"$f":"IF('Stammdaten Mitarbeitende'!N194>0,P194,0)","v":0},0,0,0]
[{"$f":"'Stammdaten Mitarbeitende'!AA195","v":""},"",null,null,null,null,null,null,0,"",null,"","","","",null,"","",null,null,{"$f":"IF($A195=\"\",\"\",'Stammdaten Mitarbeitende'!L195)","v":""},0,"","","","","","","","","","",0,"",0,0,0,0,{"$f":"IF('Stammdaten Mitarbeitende'!N195>0,AC195,0)","v":0},{"$f":"IF('Stammdaten Mitarbeitende'!N195>0,P195,0)","v":0},0,0,0]
[{"$f":"'Stammdaten Mitarbeitende'!AA196","v":""},"",null,null,null,null,null,null,0,"",null,"","","","",null,"","",null,null,{"$f":"IF($A196=\"\",\"\",'Stammdaten Mitarbeitende'!L196)","v":""},0,"","","","","","","","","","",0,"",0,0,0,0,{"$f":"IF('Stammdaten Mitarbeitende'!N196>0,AC196,0)","v":0},{"$f":"IF('Stammdaten Mitarbeitende'!N196>0,P196,0)","v":0},0,0,0]
[{"$f":"'Stammdaten Mitarbeitende'!AA197","v":""},"",null,null,null,null,null,null,0,"",null,"","","","",null,"","",null,null,{"$f":"IF($A197=\"\",\"\",'Stammdaten Mitarbeitende'!L197)","v":""},0,"","","","","","","","","","",0,"",0,0,0,0,{"$f":"IF('Stammdaten Mitarbeitende'!N197>0,AC197,0)","v":0},{"$f":"IF('Stammdaten Mitarbeitende'!N197>0,P197,0)","v":0},0,0,0]
[{"$f":"'Stammdaten Mitarbeitende'!AA198","v":""},"",null,null,null,null,null,null,0,"",null,"","","","",null,"","",null,null,{"$f":"IF($A198=\"\",\"\",'Stammdaten Mitarbeitende'!L198)","v":""},0,"","","","","","","","","","",0,"",0,0,0,0,{"$f":"IF('Stammdaten Mitarbeitende'!N198>0,AC198,0)","v":0},{"$f":"IF('Stammdaten Mitarbeitende'!N198>0,P198,0)","v":0},0,0,0]
[{"$f":"'Stammdaten Mitarbeitende'!AA199","v":""},"",null,null,null,null,null,null,0,"",null,"","","","",null,"","",null,null,{"$f":"IF($A199=\"\",\"\",'Stammdaten Mitarbeitende'!L199)","v":""},0,"","","","","","","","","","",0,"",0,0,0,0,{"$f":"IF('Stammdaten Mitarbeitende'!N199>0,AC199,0)","v":0},{"$f":"IF('Stammdaten Mitarbeitende'!N199>0,P199,0)","v":0},0,0,0]
[{"$f":"'Stammdaten Mitarbeitende'!AA200","v":""},"",null,null,null,null,null,null,0,"",null,"","","","",null,"","",null,null,{"$f":"IF($A200=\"\",\"\",'Stammdaten Mitarbeitende'!L200)","v":""},0,"","","","","","","","","","",0,"",0,0,0,0,{"$f":"IF('Stammdaten Mitarbeitende'!N200>0,AC200,0)","v":0},{"$f":"IF('Stammdaten Mitarbeitende'!N200>0,P200,0)","v":0},0,0,0]
[{"$f":"'Stammdaten Mitarbeitende'!AA201","v":""},"",null,null,null,null,null,null,0,"",null,"","","","",null,"","",null,null,{"$f":"IF($A201=\"\",\"\",'Stammdaten Mitarbeitende'!L201)","v":""},0,"","","","","","","","","","",0,"",0,0,0,0,{"$f":"IF('Stammdaten Mitarbeitende'!N201>0,AC201,0)","v":0},{"$f":"IF('Stammdaten Mitarbeitende'!N201>0,P201,0)","v":0},0,0,0]
[{"$f":"'Stammdaten Mitarbeitende'!AA202","v":""},"",null,null,null,null,null,null,0,"",null,"","","","",null,"","",null,null,{"$f":"IF($A202=\"\",\"\",'Stammdaten Mitarbeitende'!L202)","v":""},0,"","","","","","","","","","",0,"",0,0,0,0,{"$f":"IF('Stammdaten Mitarbeitende'!N202>0,AC202,0)","v":0},{"$f":"IF('Stammdaten Mitarbeitende'!N202>0,P202,0)","v":0},0,0,0]
[{"$f":"'Stammdaten Mitarbeitende'!AA203","v":""},"",null,null,null,null,null,null,0,"",null,"","","","",null,"","",null,null,{"$f":"IF($A203=\"\",\"\",'Stammdaten Mitarbeitende'!L203)","v":""},0,"","","","","","","","","","",0,"",0,0,0,0,{"$f":"IF('Stammdaten Mitarbeitende'!N203>0,AC203,0)","v":0},{"$f":"IF('Stammdaten Mitarbeitende'!N203>0,P203,0)","v":0},0,0,0]
[{"$f":"'Stammdaten Mitarbeitende'!AA204","v":""},"",null,null,null,null,null,null,0,"",null,"","","","",null,"","",null,null,{"$f":"IF($A204=\"\",\"\",'Stammdaten Mitarbeitende'!L204)","v":""},0,"","","","","","","","","","",0,"",0,0,0,0,{"$f":"IF('Stammdaten Mitarbeitende'!N204>0,AC204,0)","v":0},{"$f":"IF('Stammdaten Mitarbeitende'!N204>0,P204,0)","v":0},0,0,0]
[{"$f":"'Stammdaten Mitarbeitende'!AA205","v":""},"",null,null,null,null,null,null,0,"",null,"","","","",null,"","",null,null,{"$f":"IF($A205=\"\",\"\",'Stammdaten Mitarbeitende'!L205)","v":""},0,"","","","","","","","","","",0,"",0,0,0,0,{"$f":"IF('Stammdaten Mitarbeitende'!N205>0,AC205,0)","v":0},{"$f":"IF('Stammdaten Mitarbeitende'!N205>0,P205,0)","v":0},0,0,0]
[{"$f":"'Stammdaten Mitarbeitende'!AA206","v":""},"",null,null,null,null,null,null,0,"",null,"","","","",null,"","",null,null,{"$f":"IF($A206=\"\",\"\",'Stammdaten Mitarbeitende'!L206)","v":""},0,"","","","","","","","","","",0,"",0,0,0,0,{"$f":"IF('Stammdaten Mitarbeitende'!N206>0,AC206,0)","v":0},{"$f":"IF('Stammdaten Mitarbeitende'!N206>0,P206,0)","v":0},0,0,0]
[{"$f":"'Stammdaten Mitarbeitende'!AA207","v":""},"",null,null,null,null,null,null,0,"",null,"","","","",null,"","",null,null,{"$f":"IF($A207=\"\",\"\",'Stammdaten Mitarbeitende'!L207)","v":""},0,"","","","","","","","","","",0,"",0,0,0,0,{"$f":"IF('Stammdaten Mitarbeitende'!N207>0,AC207,0)","v":0},{"$f":"IF('Stammdaten Mitarbeitende'!N207>0,P207,0)","v":0},0,0,0]
[{"$f":"'Stammdaten Mitarbeitende'!AA208","v":""},"",null,null,null,null,null,null,0,"",null,"","","","",null,"","",null,null,{"$f":"IF($A208=\"\",\"\",'Stammdaten Mitarbeitende'!L208)","v":""},0,"","","","","","","","","","",0,"",0,0,0,0,{"$f":"IF('Stammdaten Mitarbeitende'!N208>0,AC208,0)","v":0},{"$f":"IF('Stammdaten Mitarbeitende'!N208>0,P208,0)","v":0},0,0,0]
[{"$f":"'Stammdaten Mitarbeitende'!AA209","v":""},"",null,null,null,null,null,null,0,"",null,"","","","",null,"","",null,null,{"$f":"IF($A209=\"\",\"\",'Stammdaten Mitarbeitende'!L209)","v":""},0,"","","","","","","","","","",0,"",0,0,0,0,{"$f":"IF('Stammdaten Mitarbeitende'!N209>0,AC209,0)","v":0},{"$f":"IF('Stammdaten Mitarbeitende'!N209>0,P209,0)","v":0},0,0,0]
[{"$f":"Übersetzungstexte!A$296","v":"Seitentotal"},null,null,{"$f":"SUM(D189:D209)","v":0},null,{"$f":"SUM(F189:F209)","v":0},null,null,null,{"$f":"SUM(J189:J209)","v":0},null,null,null,{"$f":"SUM(N189:N209)","v":0},null,{"$f":"SUM(P189:P209)","v":0},null,{"$f":"SUM(R189:R209)","v":0}]
[{"$f":"'Stammdaten Betrieb & Abteilung'!D$1","v":"  "},null,null,null,null,null,null,null,null,null,null,null,{"$f":"Übersetzungstexte!A$239","v":"Betrieb / Betriebsabteilung"},{"$f":"'Stammdaten Betrieb & Abteilung'!D$13","v":" "}]
[{"$f":"'Stammdaten Betrieb & Abteilung'!D$3","v":" "},null,null,null,null,null,null,null,null,null,null,null,{"$f":"Übersetzungstexte!A$240","v":"Abrechnungsperiode"},{"$f":"'Stammdaten Betrieb & Abteilung'!D$14","v":""},null,{"$f":"'Stammdaten Betrieb & Abteilung'!D$12","v":{"$error":"#VALUE!"}}]
[{"$f":"'Stammdaten Betrieb & Abteilung'!D$4","v":" "},null,null,null,null,null,null,null,null,null,null,null,{"$f":"Übersetzungstexte!A$241","v":"Beginn / Ende der Kurzarbeit"},{"$f":"'Stammdaten Betrieb & Abteilung'!D$16","v":""}]
[]
[1,2,3,4,5,6,null,7,null,8,9,10,11,12,13,null,14,15,null,null,null,"Regel 7","Regel 8",null,"Regel 9","Regel 10","Regel 11","Regel 12","Regel 13","Regel 14","Regel 15","Regel 17",null,"Regel 19/20",null,null,null,null,"AHV-pflichtiger","AHV-pflichtiger",null,null,"AHV-pflichtige"]
[{"$f":"Übersetzungstexte!A$242","v":""},{"$f":"Übersetzungstexte!A$245","v":"anrechen-"},{"$f":"Übersetzungstexte!A$248","v":"Wöchentl."},{"$f":"Übersetzungstexte!A$251","v":"Sollstd. Abr.-"},{"$f":"Übersetzungstexte!A$254","v":""},{"$f":"Übersetzungstexte!A$257","v":"Bezahlte/"},null,{"$f":"Übersetzungstexte!A$263","v":"(nur für Gleitzeit)"},null,{"$f":"Übersetzungstexte!A$269","v":"Ausfall-"},{"$f":"Übersetzungstexte!A$272","v":"Saldo"},{"$f":"Übersetzungstexte!A$275","v":"Saisonale"},{"$f":"Übersetzungstexte!A$278","v":"Anrechen-"},{"$f":"Übersetzungstexte!A$281","v":"Verdienst-"},{"$f":"Übersetzungstexte!A$284","v":"Verdienst-"},{"$f":"Übersetzungstexte!A$287","v":"Verdienst"},{"$f":"AE$4","v":"Abzug "},{"$f":"Übersetzungstexte!A$293","v":""},null,null,"anrechen-","Gleitzeit","Ausfall-","Max(D12,0)","Prozentualer","Saisonale","Proz. Wirts. Bed.","Anrechen-","Verdienst-","Verdienst-","Abzug","Abzug","Verdienst",null,"Anzahl","Anzahl","Sollstd.","Absenzen","Verdienst-","Verdienst","Sollstd.","bezahlte/","Abzugsbasis"]
[{"$f":"Übersetzungstexte!A$243","v":""},{"$f":"Übersetzungstexte!A$246","v":"barer Std.-"},{"$f":"Übersetzungstexte!A$249","v":"Arbeitszeit"},{"$f":"Übersetzungstexte!A$252","v":"Periode Inkl."},{"$f":"Übersetzungstexte!A$255","v":""},{"$f":"Übersetzungstexte!A$258","v":"Unbezahlte"},{"$f":"Übersetzungstexte!A$261","v":"Saldo Ende Per."},null,null,{"$f":"Übersetzungstexte!A$270","v":"stunden"},{"$f":"Übersetzungstexte!A$273","v":"Mehrstd."},{"$f":"Übersetzungstexte!A$276","v":"Ausfall-"},{"$f":"Übersetzungstexte!A$279","v":"bare Aus-"},{"$f":"Übersetzungstexte!A$282","v":"ausfall"},{"$f":"Übersetzungstexte!A$285","v":"ausfall"},{"$f":"Übersetzungstexte!A$288","v":"Zwischen-"},{"$f":"Übersetzungstexte!A$291","v":"Karenztage"},{"$f":"Übersetzungstexte!A$294","v":"Beantragte"},null,null,"barer Std.-","c","stunden",null,"Arbeitsausfall","Ausfall-","Arbeitsausfall","bare ","ausfall","ausfall","Karenztage","Zwischen-","Zwischen-","Beantragte","bezugsber.","betroffene","bezugsber.","bezugsber.","ausfall","Zwischen-","inkl","unbezahlte"]
[{"$f":"Übersetzungstexte!A$244","v":"Name,Vorname"},{"$f":"Übersetzungstexte!A$247","v":"Verdienst"},{"$f":"Übersetzungstexte!A$250","v":"in der AP"},{"$f":"Übersetzungstexte!A$253","v":"Vorholzeit"},{"$f":"Übersetzungstexte!A$256","v":"Istzeit"},{"$f":"Übersetzungstexte!A$259","v":"Absenzen"},{"$f":"Übersetzungstexte!A$262","v":"vorherg."},{"$f":"Übersetzungstexte!A$265","v":"laufend"},{"$f":"Übersetzungstexte!A$268","v":"Diff."},{"$f":"Übersetzungstexte!A$271","v":"total"},{"$f":"Übersetzungstexte!A$274","v":"Vormonate"},{"$f":"Übersetzungstexte!A$277","v":"stunden"},{"$f":"Übersetzungstexte!A$280","v":"fall-Std."},{"$f":"Übersetzungstexte!A$283","v":"100%"},{"$f":"Übersetzungstexte!A$286","v":"80%"},{"$f":"Übersetzungstexte!A$289","v":"Beschäftigung"},{"$f":"Übersetzungstexte!A$292","v":"80%"},{"$f":"Übersetzungstexte!A$295","v":"Vergütung"},null,null,"Verdienst",null,"Total",null,"pAA","stunden","pwAA","Ausfall-Std.","100%","80%","80%","beschäftigung","beschäftigung","Vergütung","Mitarbeiter","Mitarbeiter","Mitarbeiter","Mitarbeiter","100%","beschäftigung","Vorholzeit","Ansenzen"]
[{"$f":"'Stammdaten Mitarbeitende'!AA219","v":""},{"$f":"U219","v":""},null,null,null,null,null,null,{"$f":"V219","v":0},{"$f":"W219","v":""},null,{"$f":"Z219","v":""},{"$f":"AB219","v":""},{"$f":"AC219","v":""},{"$f":"AD219","v":""},null,{"$f":"AE219","v":""},{"$f":"AH219","v":""},null,null,{"$f":"IF($A219=\"\",\"\",'Stammdaten Mitarbeitende'!L219)","v":""},{"$f":"IF(AND(G219=\"\",H219=\"\"),0,G219-H219)","v":0},{"$f":"IF(OR($A219=\"\",D219=\"\",E219=\"\",F219=\"\",V219=\"\"),\"\",D219-(E219+F219+V219))","v":""},{"$f":"IF(W219=\"\",\"\",MAX(W219,0))","v":""},{"$f":"IF(J219=\"\",\"\",Y$4)","v":""},{"$f":"IF(J219=\"\",\"\",J219*Z$4)","v":""},{"$f":"IF(Y219=\"\",\"\",AA$4)","v":""},{"$f":"IF(J219=\"\",\"\",ROUND(J219*AB$4 - MAX(K219-L219,0),2))","v":""},{"$f":"IF(OR($A219=\"\",J219=\"\",B219=\"\",M219<0),\"\",MAX(ROUND(M219*B219*2,1)/2,0))","v":""},{"$f":"IF(OR($A219=\"\",N219=\"\"),\"\",ROUND(N219*8/5,1)/2)","v":""},{"$f":"IF(OR($A219=\"\",B219=\"\",N219=\"\"),\"\",ROUND(AE$3*C219*B219*16/50,1)/2)","v":""},{"$f":"IF(OR($A219=\"\",J219=\"\",N219=\"\"),\"\",MAX(O219+P219-N219,0))","v":""},{"$f":"P219","v":0},{"$f":"IF(OR($A219=\"\",N219=\"\"),\"\",ROUND((MAX(O219-Q219-AF219,0))*2,1)/2)","v":""},{"$f":"IF(D219=\"\",0,1)","v":0},{"$f":"IF(J219=\"\",0,IF(ROUND(J219,2)<=0,0,1))","v":0},{"$f":"IF(D219=\"\",0,D219)","v":0},{"$f":"IF(D219=\"\",0,F219)","v":0},{"$f":"IF('Stammdaten Mitarbeitende'!N219>0,AC219,0)","v":0},{"$f":"IF('Stammdaten Mitarbeitende'!N219>0,P219,0)","v":0},{"$f":"D219","v":0},{"$f":"F219","v":0},{"$f":"IF(AM219=\"\",0,MAX(AM219-AN219,0))","v":0}]
[{"$f":"'Stammdaten Mitarbeitende'!AA220","v":""},"",null,null,null,null,null,null,0,"",null,"","","","",null,"","",null,null,{"$f":"IF($A220=\"\",\"\",'Stammdaten Mitarbeitende'!L220)","v":""},0,"","","","","","","","","","",0,"",0,{"$f":"IF(J220=\"\",0,IF(ROUND(J220,2)<=0,0,1))","v":0},0,0,{"$f":"IF('Stammdaten Mitarbeitende'!N220>0,AC220,0)","v":0},{"$f":"IF('Stammdaten Mitarbeitende'!N220>0,P220,0)","v":0},0,0,0]
[{"$f":"'Stammdaten Mitarbeitende'!AA221","v":""},"",null,null,null,null,null,null,0,"",null,"","","","",null,"","",null,null,{"$f":"IF($A221=\"\",\"\",'Stammdaten Mitarbeitende'!L221)","v":""},0,"","","","","","","","","","",0,"",0,0,0,0,{"$f":"IF('Stammdaten Mitarbeitende'!N221>0,AC221,0)","v":0},{"$f":"IF('Stammdaten Mitarbeitende'!N221>0,P221,0)","v":0},0,0,0]
[{"$f":"'Stammdaten Mitarbeitende'!AA222","v":""},"",null,null,null,null,null,null,0,"",null,"","","","",null,"","",null,null,{"$f":"IF($A222=\"\",\"\",'Stammdaten Mitarbeitende'!L222)","v":""},0,"","","","","","","","","","",0,"",0,0,0,0,{"$f":"IF('Stammdaten Mitarbeitende'!N222>0,AC222,0)","v":0},{"$f":"IF('Stammdaten Mitarbeitende'!N222>0,P222,0)","v":0},0,0,0]
[{"$f":"'Stammdaten Mitarbeitende'!AA223","v":""},"",null,null,null,null,null,null,0,"",null,"","","","",null,"","",null,null,{"$f":"IF($A223=\"\",\"\",'Stammdaten Mitarbeitende'!L223)","v":""},0,"","","","","","","","","","",0,"",0,0,0,0,{"$f":"IF('Stammdaten Mitarbeitende'!N223>0,AC223,0)","v":0},{"$f":"IF('Stammdaten Mitarbeitende'!N223>0,P223,0)","v":0},0,0,0]
[{"$f":"'Stammdaten Mitarbeitende'!AA224","v":""},"",null,null,null,null,null,null,0,"",null,"","","","",null,"","",null,null,{"$f":"IF($A224=\"\",\"\",'Stammdaten Mitarbeitende'!L224)","v":""},0,"","","","","","","","","","",0,"",0,0,0,0,{"$f":"IF('Stammdaten Mitarbeitende'!N224>0,AC224,0)","v":0},{"$f":"IF('Stammdaten Mitarbeitende'!N224>0,P224,0)","v":0},0,0,0]
[{"$f":"'Stammdaten Mitarbeitende'!AA225","v":""},"",null,null,null,null,null,null,0,"",null,"","","","",null,"","",null,null,{"$f":"IF($A225=\"\",\"\",'Stammdaten Mitarbeitende'!L225)","v":""},0,"","","","","","","","","","",0,"",0,0,0,0,{"$f":"IF('Stammdaten Mitarbeitende'!N225>0,AC225,0)","v":0},{"$f":"IF('Stammdaten Mitarbeitende'!N225>0,P225,0)","v":0},0,0,0]
[{"$f":"'Stammdaten Mitarbeitende'!AA226","v":""},"",null,null,null,null,null,null,0,"",null,"","","","",null,"","",null,null,{"$f":"IF($A226=\"\",\"\",'Stammdaten Mitarbeitende'!L226)","v":""},0,"","","","","","","","","","",0,"",0,0,0,0,{"$f":"IF('Stammdaten Mitarbeitende'!N226>0,AC226,0)","v":0},{"$f":"IF('Stammdaten Mitarbeitende'!N226>0,P226,0)","v":0},0,0,0]
[{"$f":"'Stammdaten Mitarbeitende'!AA227","v":""},"",null,null,null,null,null,null,0,"",null,"","","","",null,"","",null,null,{"$f":"IF($A227=\"\",\"\",'Stammdaten Mitarbeitende'!L227)","v":""},0,"","","","","","","","","","",0,"",0,0,0,0,{"$f":"IF('Stammdaten Mitarbeitende'!N227>0,AC227,0)","v":0},{"$f":"IF('Stammdaten Mitarbeitende'!N227>0,P227,0)","v":0},0,0,0]
[{"$f":"'Stammdaten Mitarbeitende'!AA228","v":""},"",null,null,null,null,null,null,0,"",null,"","","","",null,"","",null,null,{"$f":"IF($A228=\"\",\"\",'Stammdaten Mitarbeitende'!L228)","v":""},0,"","","","","","","","","","",0,"",0,0,0,0,{"$f":"IF('Stammdaten Mitarbeitende'!N228>0,AC228,0)","v":0},{"$f":"IF('Stammdaten Mitarbeitende'!N228>0,P228,0)","v":0},0,0,0]
[{"$f":"'Stammdaten Mitarbeitende'!AA229","v":""},"",null,null,null,null,null,null,0,"",null,"","","","",null,"","",null,null,{"$f":"IF($A229=\"\",\"\",'Stammdaten Mitarbeitende'!L229)","v":""},0,"","","","","","","","","","",0,"",0,0,0,0,{"$f":"IF('Stammdaten Mitarbeitende'!N229>0,AC229,0)","v":0},{"$f":"IF('Stammdaten Mitarbeitende'!N229>0,P229,0)","v":0},0,0,0]
[{"$f":"'Stammdaten Mitarbeitende'!AA230","v":""},"",null,null,null,null,null,null,0,"",null,"","","","",null,"","",null,null,{"$f":"IF($A230=\"\",\"\",'Stammdaten Mitarbeitende'!L230)","v":""},0,"","","","","","","","","","",0,"",0,0,0,0,{"$f":"IF('Stammdaten Mitarbeitende'!N230>0,AC230,0)","v":0},{"$f":"IF('Stammdaten Mitarbeitende'!N230>0,P230,0)","v":0},0,0,0]
[{"$f":"'Stammdaten Mitarbeitende'!AA231","v":""},"",null,null,null,null,null,null,0,"",null,"","","","",null,"","",null,null,{"$f":"IF($A231=\"\",\"\",'Stammdaten Mitarbeitende'!L231)","v":""},0,"","","","","","","","","","",0,"",0,0,0,0,{"$f":"IF('Stammdaten Mitarbeitende'!N231>0,AC231,0)","v":0},{"$f":"IF('Stammdaten Mitarbeitende'!N231>0,P231,0)","v":0},0,0,0]
[{"$f":"'Stammdaten Mitarbeitende'!AA232","v":""},"",null,null,null,null,null,null,0,"",null,"","","","",null,"","",null,null,{"$f":"IF($A232=\"\",\"\",'Stammdaten Mitarbeitende'!L232)","v":""},0,"","","","","","","","","","",0,"",0,0,0,0,{"$f":"IF('Stammdaten Mitarbeitende'!N232>0,AC232,0)","v":0},{"$f":"IF('Stammdaten Mitarbeitende'!N232>0,P232,0)","v":0},0,0,0]
[{"$f":"'Stammdaten Mitarbeitende'!AA233","v":""},"",null,null,null,null,null,null,0,"",null,"","","","",null,"","",null,null,{"$f":"IF($A233=\"\",\"\",'Stammdaten Mitarbeitende'!L233)","v":""},0,"","","","","","","","","","",0,"",0,0,0,0,{"$f":"IF('Stammdaten Mitarbeitende'!N233>0,AC233,0)","v":0},{"$f":"IF('Stammdaten Mitarbeitende'!N233>0,P233,0)","v":0},0,0,0]
[{"$f":"'Stammdaten Mitarbeitende'!AA234","v":""},"",null,null,null,null,null,null,0,"",null,"","","","",null,"","",null,null,{"$f":"IF($A234=\"\",\"\",'Stammdaten Mitarbeitende'!L234)","v":""},0,"","","","","","","","","","",0,"",0,0,0,0,{"$f":"IF('Stammdaten Mitarbeitende'!N234>0,AC234,0)","v":0},{"$f":"IF('Stammdaten Mitarbeitende'!N234>0,P234,0)","v":0},0,0,0]
[{"$f":"'Stammdaten Mitarbeitende'!AA235","v":""},"",null,null,null,null,null,null,0,"",null,"","","","",null,"","",null,null,{"$f":"IF($A235=\"\",\"\",'Stammdaten Mitarbeitende'!L235)","v":""},0,"","","","","","","","","","",0,"",0,0,0,0,{"$f":"IF('Stammdaten Mitarbeitende'!N235>0,AC235,0)","v":0},{"$f":"IF('Stammdaten Mitarbeitende'!N235>0,P235,0)","v":0},0,0,0]
[{"$f":"'Stammdaten Mitarbeitende'!AA236","v":""},"",null,null,null,null,null,null,0,"",null,"","","","",null,"","",null,null,{"$f":"IF($A236=\"\",\"\",'Stammdaten Mitarbeitende'!L236)","v":""},0,"","","","","","","","","","",0,"",0,0,0,0,{"$f":"IF('Stammdaten Mitarbeitende'!N236>0,AC236,0)","v":0},{"$f":"IF('Stammdaten Mitarbeitende'!N236>0,P236,0)","v":0},0,0,0]
[{"$f":"'Stammdaten Mitarbeitende'!AA237","v":""},"",null,null,null,null,null,null,0,"",null,"","","","",null,"","",null,null,{"$f":"IF($A237=\"\",\"\",'Stammdaten Mitarbeitende'!L237)","v":""},0,"","","","","","","","","","",0,"",0,0,0,0,{"$f":"IF('Stammdaten Mitarbeitende'!N237>0,AC237,0)","v":0},{"$f":"IF('Stammdaten Mitarbeitende'!N237>0,P237,0)","v":0},0,0,0]
[{"$f":"'Stammdaten Mitarbeitende'!AA238","v":""},"",null,null,null,null,null,null,0,"",null,"","","","",null,"","",null,null,{"$f":"IF($A238=\"\",\"\",'Stammdaten Mitarbeitende'!L238)","v":""},0,"","","","","","","","","","",0,"",0,0,0,0,{"$f":"IF('Stammdaten Mitarbeitende'!N238>0,AC238,0)","v":0},{"$f":"IF('Stammdaten Mitarbeitende'!N238>0,P238,0)","v":0},0,0,0]
[{"$f":"'Stammdaten Mitarbeitende'!AA239","v":""},"",null,null,null,null,null,null,0,"",null,"","","","",null,"","",null,null,{"$f":"IF($A239=\"\",\"\",'Stammdaten Mitarbeitende'!L239)","v":""},0,"","","","","","","","","","",0,"",0,0,0,0,{"$f":"IF('Stammdaten Mitarbeitende'!N239>0,AC239,0)","v":0},{"$f":"IF('Stammdaten Mitarbeitende'!N239>0,P239,0)","v":0},0,0,0]
[{"$f":"Übersetzungstexte!A$296","v":"Seitentotal"},null,null,{"$f":"SUM(D219:D239)","v":0},null,{"$f":"SUM(F219:F239)","v":0},null,null,null,{"$f":"SUM(J219:J239)","v":0},null,null,null,{"$f":"SUM(N219:N239)","v":0},null,{"$f":"SUM(P219:P239)","v":0},null,{"$f":"SUM(R219:R239)","v":0}]
[{"$f":"'Stammdaten Betrieb & Abteilung'!D$1","v":"  "},null,null,null,null,null,null,null,null,null,null,null,{"$f":"Übersetzungstexte!A$239","v":"Betrieb / Betriebsabteilung"},{"$f":"'Stammdaten Betrieb & Abteilung'!D$13","v":" "}]
[{"$f":"'Stammdaten Betrieb & Abteilung'!D$3","v":" "},null,null,null,null,null,null,null,null,null,null,null,{"$f":"Übersetzungstexte!A$240","v":"Abrechnungsperiode"},{"$f":"'Stammdaten Betrieb & Abteilung'!D$14","v":""},null,{"$f":"'Stammdaten Betrieb & Abteilung'!D$12","v":{"$error":"#VALUE!"}}]
[{"$f":"'Stammdaten Betrieb & Abteilung'!D$4","v":" "},null,null,null,null,null,null,null,null,null,null,null,{"$f":"Übersetzungstexte!A$241","v":"Beginn / Ende der Kurzarbeit"},{"$f":"'Stammdaten Betrieb & Abteilung'!D$16","v":""}]
[]
[1,2,3,4,5,6,null,7,null,8,9,10,11,12,13,null,14,15,null,null,null,"Regel 7","Regel 8",null,"Regel 9","Regel 10","Regel 11","Regel 12","Regel 13","Regel 14","Regel 15","Regel 17",null,"Regel 19/20",null,null,null,null,"AHV-pflichtiger","AHV-pflichtiger",null,null,"AHV-pflichtige"]
[{"$f":"Übersetzungstexte!A$242","v":""},{"$f":"Übersetzungstexte!A$245","v":"anrechen-"},{"$f":"Übersetzungstexte!A$248","v":"Wöchentl."},{"$f":"Übersetzungstexte!A$251","v":"Sollstd. Abr.-"},{"$f":"Übersetzungstexte!A$254","v":""},{"$f":"Übersetzungstexte!A$257","v":"Bezahlte/"},null,{"$f":"Übersetzungstexte!A$263","v":"(nur für Gleitzeit)"},null,{"$f":"Übersetzungstexte!A$269","v":"Ausfall-"},{"$f":"Übersetzungstexte!A$272","v":"Saldo"},{"$f":"Übersetzungstexte!A$275","v":"Saisonale"},{"$f":"Übersetzungstexte!A$278","v":"Anrechen-"},{"$f":"Übersetzungstexte!A$281","v":"Verdienst-"},{"$f":"Übersetzungstexte!A$284","v":"Verdienst-"},{"$f":"Übersetzungstexte!A$287","v":"Verdienst"},{"$f":"AE$4","v":"Abzug "},{"$f":"Übersetzungstexte!A$293","v":""},null,null,"anrechen-","Gleitzeit","Ausfall-","Max(D12,0)","Prozentualer","Saisonale","Proz. Wirts. Bed.","Anrechen-","Verdienst-","Verdienst-","Abzug","Abzug","Verdienst",null,"Anzahl","Anzahl","Sollstd.","Absenzen","Verdienst-","Verdienst","Sollstd.","bezahlte/","Abzugsbasis"]
[{"$f":"Übersetzungstexte!A$243","v":""},{"$f":"Übersetzungstexte!A$246","v":"barer Std.-"},{"$f":"Übersetzungstexte!A$249","v":"Arbeitszeit"},{"$f":"Übersetzungstexte!A$252","v":"Periode Inkl."},{"$f":"Übersetzungstexte!A$255","v":""},{"$f":"Übersetzungstexte!A$258","v":"Unbezahlte"},{"$f":"Übersetzungstexte!A$261","v":"Saldo Ende Per."},null,null,{"$f":"Übersetzungstexte!A$270","v":"stunden"},{"$f":"Übersetzungstexte!A$273","v":"Mehrstd."},{"$f":"Übersetzungstexte!A$276","v":"Ausfall-"},{"$f":"Übersetzungstexte!A$279","v":"bare Aus-"},{"$f":"Übersetzungstexte!A$282","v":"ausfall"},{"$f":"Übersetzungstexte!A$285","v":"ausfall"},{"$f":"Übersetzungstexte!A$288","v":"Zwischen-"},{"$f":"Übersetzungstexte!A$291","v":"Karenztage"},{"$f":"Übersetzungstexte!A$294","v":"Beantragte"},null,null,"barer Std.-","c","stunden",null,"Arbeitsausfall","Ausfall-","Arbeitsausfall","bare ","ausfall","ausfall","Karenztage","Zwischen-","Zwischen-","Beantragte","bezugsber.","betroffene","bezugsber.","bezugsber.","ausfall","Zwischen-","inkl","unbezahlte"]
[{"$f":"Übersetzungstexte!A$244","v":"Name,Vorname"},{"$f":"Übersetzungstexte!A$247","v":"Verdienst"},{"$f":"Übersetzungstexte!A$250","v":"in der AP"},{"$f":"Übersetzungstexte!A$253","v":"Vorholzeit"},{"$f":"Übersetzungstexte!A$256","v":"Istzeit"},{"$f":"Übersetzungstexte!A$259","v":"Absenzen"},{"$f":"Übersetzungstexte!A$262","v":"vorherg."},{"$f":"Übersetzungstexte!A$265","v":"laufend"},{"$f":"Übersetzungstexte!A$268","v":"Diff."},{"$f":"Übersetzungstexte!A$271","v":"total"},{"$f":"Übersetzungstexte!A$274","v":"Vormonate"},{"$f":"Übersetzungstexte!A$277","v":"stunden"},{"$f":"Übersetzungstexte!A$280","v":"fall-Std."},{"$f":"Übersetzungstexte!A$283","v":"100%"},{"$f":"Übersetzungstexte!A$286","v":"80%"},{"$f":"Übersetzungstexte!A$289","v":"Beschäftigung"},{"$f":"Übersetzungstexte!A$292","v":"80%"},{"$f":"Übersetzungstexte!A$295","v":"Vergütung"},null,null,"Verdienst",null,"Total",null,"pAA","stunden","pwAA","Ausfall-Std.","100%","80%","80%","beschäftigung","beschäftigung","Vergütung","Mitarbeiter","Mitarbeiter","Mitarbeiter","Mitarbeiter","100%","beschäftigung","Vorholzeit","Ansenzen"]
[{"$f":"'Stammdaten Mitarbeitende'!AA249","v":""},{"$f":"U249","v":""},null,null,null,null,null,null,{"$f":"V249","v":0},{"$f":"W249","v":""},null,{"$f":"Z249","v":""},{"$f":"AB249","v":""},{"$f":"AC249","v":""},{"$f":"AD249","v":""},null,{"$f":"AE249","v":""},{"$f":"AH249","v":""},null,null,{"$f":"IF($A249=\"\",\"\",'Stammdaten Mitarbeitende'!L249)","v":""},{"$f":"IF(AND(G249=\"\",H249=\"\"),0,G249-H249)","v":0},{"$f":"IF(OR($A249=\"\",D249=\"\",E249=\"\",F249=\"\",V249=\"\"),\"\",D249-(E249+F249+V249))","v":""},{"$f":"IF(W249=\"\",\"\",MAX(W249,0))","v":""},{"$f":"IF(J249=\"\",\"\",Y$4)","v":""},{"$f":"IF(J249=\"\",\"\",J249*Z$4)","v":""},{"$f":"IF(Y249=\"\",\"\",AA$4)","v":""},{"$f":"IF(J249=\"\",\"\",ROUND(J249*AB$4 - MAX(K249-L249,0),2))","v":""},{"$f":"IF(OR($A249=\"\",J249=\"\",B249=\"\",M249<0),\"\",MAX(ROUND(M249*B249*2,1)/2,0))","v":""},{"$f":"IF(OR($A249=\"\",N249=\"\"),\"\",ROUND(N249*8/5,1)/2)","v":""},{"$f":"IF(OR($A249=\"\",B249=\"\",N249=\"\"),\"\",ROUND(AE$3*C249*B249*16/50,1)/2)","v":""},{"$f":"IF(OR($A249=\"\",J249=\"\",N249=\"\"),\"\",MAX(O249+P249-N249,0))","v":""},{"$f":"P249","v":0},{"$f":"IF(OR($A249=\"\",N249=\"\"),\"\",ROUND((MAX(O249-Q249-AF249,0))*2,1)/2)","v":""},{"$f":"IF(D249=\"\",0,1)","v":0},{"$f":"IF(J249=\"\",0,IF(ROUND(J249,2)<=0,0,1))","v":0},{"$f":"IF(D249=\"\",0,D249)","v":0},{"$f":"IF(D249=\"\",0,F249)","v":0},{"$f":"IF('Stammdaten Mitarbeitende'!N249>0,AC249,0)","v":0},{"$f":"IF('Stammdaten Mitarbeitende'!N249>0,P249,0)","v":0},{"$f":"D249","v":0},{"$f":"F249","v":0},{"$f":"IF(AM249=\"\",0,MAX(AM249-AN249,0))","v":0}]
[{"$f":"'Stammdaten Mitarbeitende'!AA250","v":""},"",null,null,null,null,null,null,0,"",null,"","","","",null,"","",null,null,{"$f":"IF($A250=\"\",\"\",'Stammdaten Mitarbeitende'!L250)","v":""},0,"","","","","","","","","","",0,"",0,{"$f":"IF(J250=\"\",0,IF(ROUND(J250,2)<=0,0,1))","v":0},0,0,{"$f":"IF('Stammdaten Mitarbeitende'!N250>0,AC250,0)","v":0},{"$f":"IF('Stammdaten Mitarbeitende'!N250>0,P250,0)","v":0},0,0,0]
[{"$f":"'Stammdaten Mitarbeitende'!AA251","v":""},"",null,null,null,null,null,null,0,"",null,"","","","",null,"","",null,null,{"$f":"IF($A251=\"\",\"\",'Stammdaten Mitarbeitende'!L251)","v":""},0,"","","","","","","","","","",0,"",0,0,0,0,{"$f":"IF('Stammdaten Mitarbeitende'!N251>0,AC251,0)","v":0},{"$f":"IF('Stammdaten Mitarbeitende'!N251>0,P251,0)","v":0},0,0,0]
[{"$f":"'Stammdaten Mitarbeitende'!AA252","v":""},"",null,null,null,null,null,null,0,"",null,"","","","",null,"","",null,null,{"$f":"IF($A252=\"\",\"\",'Stammdaten Mitarbeitende'!L252)","v":""},0,"","","","","","","","","","",0,"",0,0,0,0,{"$f":"IF('Stammdaten Mitarbeitende'!N252>0,AC252,0)","v":0},{"$f":"IF('Stammdaten Mitarbeitende'!N252>0,P252,0)","v":0},0,0,0]
[{"$f":"'Stammdaten Mitarbeitende'!AA253","v":""},"",null,null,null,null,null,null,0,"",null,"","","","",null,"","",null,null,{"$f":"IF($A253=\"\",\"\",'Stammdaten Mitarbeitende'!L253)","v":""},0,"","","","","","","","","","",0,"",0,0,0,0,{"$f":"IF('Stammdaten Mitarbeitende'!N253>0,AC253,0)","v":0},{"$f":"IF('Stammdaten Mitarbeitende'!N253>0,P253,0)","v":0},0,0,0]
[{"$f":"'Stammdaten Mitarbeitende'!AA254","v":""},"",null,null,null,null,null,null,0,"",null,"","","","",null,"","",null,null,{"$f":"IF($A254=\"\",\"\",'Stammdaten Mitarbeitende'!L254)","v":""},0,"","","","","","","","","","",0,"",0,0,0,0,{"$f":"IF('Stammdaten Mitarbeitende'!N254>0,AC254,0)","v":0},{"$f":"IF('Stammdaten Mitarbeitende'!N254>0,P254,0)","v":0},0,0,0]
[{"$f":"'Stammdaten Mitarbeitende'!AA255","v":""},"",null,null,null,null,null,null,0,"",null,"","","","",null,"","",null,null,{"$f":"IF($A255=\"\",\"\",'Stammdaten Mitarbeitende'!L255)","v":""},0,"","","","","","","","","","",0,"",0,0,0,0,{"$f":"IF('Stammdaten Mitarbeitende'!N255>0,AC255,0)","v":0},{"$f":"IF('Stammdaten Mitarbeitende'!N255>0,P255,0)","v":0},0,0,0]
[{"$f":"'Stammdaten Mitarbeitende'!AA256","v":""},"",null,null,null,null,null,null,0,"",null,"","","","",null,"","",null,null,{"$f":"IF($A256=\"\",\"\",'Stammdaten Mitarbeitende'!L256)","v":""},0,"","","","","","","","","","",0,"",0,0,0,0,{"$f":"IF('Stammdaten Mitarbeitende'!N256>0,AC256,0)","v":0},{"$f":"IF('Stammdaten Mitarbeitende'!N256>0,P256,0)","v":0},0,0,0]
[{"$f":"'Stammdaten Mitarbeitende'!AA257","v":""},"",null,null,null,null,null,null,0,"",null,"","","","",null,"","",null,null,{"$f":"IF($A257=\"\",\"\",'Stammdaten Mitarbeitende'!L257)","v":""},0,"","","","","","","","","","",0,"",0,0,0,0,{"$f":"IF('Stammdaten Mitarbeitende'!N257>0,AC257,0)","v":0},{"$f":"IF('Stammdaten Mitarbeitende'!N257>0,P257,0)","v":0},0,0,0]
[{"$f":"'Stammdaten Mitarbeitende'!AA258","v":""},"",null,null,null,null,null,null,0,"",null,"","","","",null,"","",null,null,{"$f":"IF($A258=\"\",\"\",'Stammdaten Mitarbeitende'!L258)","v":""},0,"","","","","","","","","","",0,"",0,0,0,0,{"$f":"IF('Stammdaten Mitarbeitende'!N258>0,AC258,0)","v":0},{"$f":"IF('Stammdaten Mitarbeitende'!N258>0,P258,0)","v":0},0,0,0]
[{"$f":"'Stammdaten Mitarbeitende'!AA259","v":""},"",null,null,null,null,null,null,0,"",null,"","","","",null,"","",null,null,{"$f":"IF($A259=\"\",\"\",'Stammdaten Mitarbeitende'!L259)","v":""},0,"","","","","","","","","","",0,"",0,0,0,0,{"$f":"IF('Stammdaten Mitarbeitende'!N259>0,AC259,0)","v":0},{"$f":"IF('Stammdaten Mitarbeitende'!N259>0,P259,0)","v":0},0,0,0]
[{"$f":"'Stammdaten Mitarbeitende'!AA260","v":""},"",null,null,null,null,null,null,0,"",null,"","","","",null,"","",null,null,{"$f":"IF($A260=\"\",\"\",'Stammdaten Mitarbeitende'!L260)","v":""},0,"","","","","","","","","","",0,"",0,0,0,0,{"$f":"IF('Stammdaten Mitarbeitende'!N260>0,AC260,0)","v":0},{"$f":"IF('Stammdaten Mitarbeitende'!N260>0,P260,0)","v":0},0,0,0]
[{"$f":"'Stammdaten Mitarbeitende'!AA261","v":""},"",null,null,null,null,null,null,0,"",null,"","","","",null,"","",null,null,{"$f":"IF($A261=\"\",\"\",'Stammdaten Mitarbeitende'!L261)","v":""},0,"","","","","","","","","","",0,"",0,0,0,0,{"$f":"IF('Stammdaten Mitarbeitende'!N261>0,AC261,0)","v":0},{"$f":"IF('Stammdaten Mitarbeitende'!N261>0,P261,0)","v":0},0,0,0]
[{"$f":"'Stammdaten Mitarbeitende'!AA262","v":""},"",null,null,null,null,null,null,0,"",null,"","","","",null,"","",null,null,{"$f":"IF($A262=\"\",\"\",'Stammdaten Mitarbeitende'!L262)","v":""},0,"","","","","","","","","","",0,"",0,0,0,0,{"$f":"IF('Stammdaten Mitarbeitende'!N262>0,AC262,0)","v":0},{"$f":"IF('Stammdaten Mitarbeitende'!N262>0,P262,0)","v":0},0,0,0]
[{"$f":"'Stammdaten Mitarbeitende'!AA263","v":""},"",null,null,null,null,null,null,0,"",null,"","","","",null,"","",null,null,{"$f":"IF($A263=\"\",\"\",'Stammdaten Mitarbeitende'!L263)","v":""},0,"","","","","","","","","","",0,"",0,0,0,0,{"$f":"IF('Stammdaten Mitarbeitende'!N263>0,AC263,0)","v":0},{"$f":"IF('Stammdaten Mitarbeitende'!N263>0,P263,0)","v":0},0,0,0]
[{"$f":"'Stammdaten Mitarbeitende'!AA264","v":""},"",null,null,null,null,null,null,0,"",null,"","","","",null,"","",null,null,{"$f":"IF($A264=\"\",\"\",'Stammdaten Mitarbeitende'!L264)","v":""},0,"","","","","","","","","","",0,"",0,0,0,0,{"$f":"IF('Stammdaten Mitarbeitende'!N264>0,AC264,0)","v":0},{"$f":"IF('Stammdaten Mitarbeitende'!N264>0,P264,0)","v":0},0,0,0]
[{"$f":"'Stammdaten Mitarbeitende'!AA265","v":""},"",null,null,null,null,null,null,0,"",null,"","","","",null,"","",null,null,{"$f":"IF($A265=\"\",\"\",'Stammdaten Mitarbeitende'!L265)","v":""},0,"","","","","","","","","","",0,"",0,0,0,0,{"$f":"IF('Stammdaten Mitarbeitende'!N265>0,AC265,0)","v":0},{"$f":"IF('Stammdaten Mitarbeitende'!N265>0,P265,0)","v":0},0,0,0]
[{"$f":"'Stammdaten Mitarbeitende'!AA266","v":""},"",null,null,null,null,null,null,0,"",null,"","","","",null,"","",null,null,{"$f":"IF($A266=\"\",\"\",'Stammdaten Mitarbeitende'!L266)","v":""},0,"","","","","","","","","","",0,"",0,0,0,0,{"$f":"IF('Stammdaten Mitarbeitende'!N266>0,AC266,0)","v":0},{"$f":"IF('Stammdaten Mitarbeitende'!N266>0,P266,0)","v":0},0,0,0]
[{"$f":"'Stammdaten Mitarbeitende'!AA267","v":""},"",null,null,null,null,null,null,0,"",null,"","","","",null,"","",null,null,{"$f":"IF($A267=\"\",\"\",'Stammdaten Mitarbeitende'!L267)","v":""},0,"","","","","","","","","","",0,"",0,0,0,0,{"$f":"IF('Stammdaten Mitarbeitende'!N267>0,AC267,0)","v":0},{"$f":"IF('Stammdaten Mitarbeitende'!N267>0,P267,0)","v":0},0,0,0]
[{"$f":"'Stammdaten Mitarbeitende'!AA268","v":""},"",null,null,null,null,null,null,0,"",null,"","","","",null,"","",null,null,{"$f":"IF($A268=\"\",\"\",'Stammdaten Mitarbeitende'!L268)","v":""},0,"","","","","","","","","","",0,"",0,0,0,0,{"$f":"IF('Stammdaten Mitarbeitende'!N268>0,AC268,0)","v":0},{"$f":"IF('Stammdaten Mitarbeitende'!N268>0,P268,0)","v":0},0,0,0]
[{"$f":"'Stammdaten Mitarbeitende'!AA269","v":""},"",null,null,null,null,null,null,0,"",null,"","","","",null,"","",null,null,{"$f":"IF($A269=\"\",\"\",'Stammdaten Mitarbeitende'!L269)","v":""},0,"","","","","","","","","","",0,"",0,0,0,0,{"$f":"IF('Stammdaten Mitarbeitende'!N269>0,AC269,0)","v":0},{"$f":"IF('Stammdaten Mitarbeitende'!N269>0,P269,0)","v":0},0,0,0]
[{"$f":"Übersetzungstexte!A$296","v":"Seitentotal"},null,null,{"$f":"SUM(D249:D269)","v":0},null,{"$f":"SUM(F249:F269)","v":0},null,null,null,{"$f":"SUM(J249:J269)","v":0},null,null,null,{"$f":"SUM(N249:N269)","v":0},null,{"$f":"SUM(P249:P269)","v":0},null,{"$f":"SUM(R249:R269)","v":0}]
[{"$f":"'Stammdaten Betrieb & Abteilung'!D$1","v":"  "},null,null,null,null,null,null,null,null,null,null,null,{"$f":"Übersetzungstexte!A$239","v":"Betrieb / Betriebsabteilung"},{"$f":"'Stammdaten Betrieb & Abteilung'!D$13","v":" "}]
[{"$f":"'Stammdaten Betrieb & Abteilung'!D$3","v":" "},null,null,null,null,null,null,null,null,null,null,null,{"$f":"Übersetzungstexte!A$240","v":"Abrechnungsperiode"},{"$f":"'Stammdaten Betrieb & Abteilung'!D$14","v":""},null,{"$f":"'Stammdaten Betrieb & Abteilung'!D$12","v":{"$error":"#VALUE!"}}]
[{"$f":"'Stammdaten Betrieb & Abteilung'!D$4","v":" "},null,null,null,null,null,null,null,null,null,null,null,{"$f":"Übersetzungstexte!A$241","v":"Beginn / Ende der Kurzarbeit"},{"$f":"'Stammdaten Betrieb & Abteilung'!D$16","v":""}]
[]
[1,2,3,4,5,6,null,7,null,8,9,10,11,12,13,null,14,15,null,null,null,"Regel 7","Regel 8",null,"Regel 9","Regel 10","Regel 11","Regel 12","Regel 13","Regel 14","Regel 15","Regel 17",null,"Regel 19/20",null,null,null,null,"AHV-pflichtiger","AHV-pflichtiger",null,null,"AHV-pflichtige"]
[{"$f":"Übersetzungstexte!A$242","v":""},{"$f":"Übersetzungstexte!A$245","v":"anrechen-"},{"$f":"Übersetzungstexte!A$248","v":"Wöchentl."},{"$f":"Übersetzungstexte!A$251","v":"Sollstd. Abr.-"},{"$f":"Übersetzungstexte!A$254","v":""},{"$f":"Übersetzungstexte!A$257","v":"Bezahlte/"},null,{"$f":"Übersetzungstexte!A$263","v":"(nur für Gleitzeit)"},null,{"$f":"Übersetzungstexte!A$269","v":"Ausfall-"},{"$f":"Übersetzungstexte!A$272","v":"Saldo"},{"$f":"Übersetzungstexte!A$275","v":"Saisonale"},{"$f":"Übersetzungstexte!A$278","v":"Anrechen-"},{"$f":"Übersetzungstexte!A$281","v":"Verdienst-"},{"$f":"Übersetzungstexte!A$284","v":"Verdienst-"},{"$f":"Übersetzungstexte!A$287","v":"Verdienst"},{"$f":"AE$4","v":"Abzug "},{"$f":"Übersetzungstexte!A$293","v":""},null,null,"anrechen-","Gleitzeit","Ausfall-","Max(D12,0)","Prozentualer","Saisonale","Proz. Wirts. Bed.","Anrechen-","Verdienst-","Verdienst-","Abzug","Abzug","Verdienst",null,"Anzahl","Anzahl","Sollstd.","Absenzen","Verdienst-","Verdienst","Sollstd.","bezahlte/","Abzugsbasis"]
[{"$f":"Übersetzungstexte!A$243","v":""},{"$f":"Übersetzungstexte!A$246","v":"barer Std.-"},{"$f":"Übersetzungstexte!A$249","v":"Arbeitszeit"},{"$f":"Übersetzungstexte!A$252","v":"Periode Inkl."},{"$f":"Übersetzungstexte!A$255","v":""},{"$f":"Übersetzungstexte!A$258","v":"Unbezahlte"},{"$f":"Übersetzungstexte!A$261","v":"Saldo Ende Per."},null,null,{"$f":"Übersetzungstexte!A$270","v":"stunden"},{"$f":"Übersetzungstexte!A$273","v":"Mehrstd."},{"$f":"Übersetzungstexte!A$276","v":"Ausfall-"},{"$f":"Übersetzungstexte!A$279","v":"bare Aus-"},{"$f":"Übersetzungstexte!A$282","v":"ausfall"},{"$f":"Übersetzungstexte!A$285","v":"ausfall"},{"$f":"Übersetzungstexte!A$288","v":"Zwischen-"},{"$f":"Übersetzungstexte!A$291","v":"Karenztage"},{"$f":"Übersetzungstexte!A$294","v":"Beantragte"},null,null,"barer Std.-","c","stunden",null,"Arbeitsausfall","Ausfall-","Arbeitsausfall","bare ","ausfall","ausfall","Karenztage","Zwischen-","Zwischen-","Beantragte","bezugsber.","betroffene","bezugsber.","bezugsber.","ausfall","Zwischen-","inkl","unbezahlte"]
[{"$f":"Übersetzungstexte!A$244","v":"Name,Vorname"},{"$f":"Übersetzungstexte!A$247","v":"Verdienst"},{"$f":"Übersetzungstexte!A$250","v":"in der AP"},{"$f":"Übersetzungstexte!A$253","v":"Vorholzeit"},{"$f":"Übersetzungstexte!A$256","v":"Istzeit"},{"$f":"Übersetzungstexte!A$259","v":"Absenzen"},{"$f":"Übersetzungstexte!A$262","v":"vorherg."},{"$f":"Übersetzungstexte!A$265","v":"laufend"},{"$f":"Übersetzungstexte!A$268","v":"Diff."},{"$f":"Übersetzungstexte!A$271","v":"total"},{"$f":"Übersetzungstexte!A$274","v":"Vormonate"},{"$f":"Übersetzungstexte!A$277","v":"stunden"},{"$f":"Übersetzungstexte!A$280","v":"fall-Std."},{"$f":"Übersetzungstexte!A$283","v":"100%"},{"$f":"Übersetzungstexte!A$286","v":"80%"},{"$f":"Übersetzungstexte!A$289","v":"Beschäftigung"},{"$f":"Übersetzungstexte!A$292","v":"80%"},{"$f":"Übersetzungstexte!A$295","v":"Vergütung"},null,null,"Verdienst",null,"Total",null,"pAA","stunden","pwAA","Ausfall-Std.","100%","80%","80%","beschäftigung","beschäftigung","Vergütung","Mitarbeiter","Mitarbeiter","Mitarbeiter","Mitarbeiter","100%","beschäftigung","Vorholzeit","Ansenzen"]
[{"$f":"'Stammdaten Mitarbeitende'!AA279","v":""},{"$f":"U279","v":""},null,null,null,null,null,null,{"$f":"V279","v":0},{"$f":"W279","v":""},null,{"$f":"Z279","v":""},{"$f":"AB279","v":""},{"$f":"AC279","v":""},{"$f":"AD279","v":""},null,{"$f":"AE279","v":""},{"$f":"AH279","v":""},null,null,{"$f":"IF($A279=\"\",\"\",'Stammdaten Mitarbeitende'!L279)","v":""},{"$f":"IF(AND(G279=\"\",H279=\"\"),0,G279-H279)","v":0},{"$f":"IF(OR($A279=\"\",D279=\"\",E279=\"\",F279=\"\",V279=\"\"),\"\",D279-(E279+F279+V279))","v":""},{"$f":"IF(W279=\"\",\"\",MAX(W279,0))","v":""},{"$f":"IF(J279=\"\",\"\",Y$4)","v":""},{"$f":"IF(J279=\"\",\"\",J279*Z$4)","v":""},{"$f":"IF(Y279=\"\",\"\",AA$4)","v":""},{"$f":"IF(J279=\"\",\"\",ROUND(J279*AB$4 - MAX(K279-L279,0),2))","v":""},{"$f":"IF(OR($A279=\"\",J279=\"\",B279=\"\",M279<0),\"\",MAX(ROUND(M279*B279*2,1)/2,0))","v":""},{"$f":"IF(OR($A279=\"\",N279=\"\"),\"\",ROUND(N279*8/5,1)/2)","v":""},{"$f":"IF(OR($A279=\"\",B279=\"\",N279=\"\"),\"\",ROUND(AE$3*C279*B279*16/50,1)/2)","v":""},{"$f":"IF(OR($A279=\"\",J279=\"\",N279=\"\"),\"\",MAX(O279+P279-N279,0))","v":""},{"$f":"P279","v":0},{"$f":"IF(OR($A279=\"\",N279=\"\"),\"\",ROUND((MAX(O279-Q279-AF279,0))*2,1)/2)","v":""},{"$f":"IF(D279=\"\",0,1)","v":0},{"$f":"IF(J279=\"\",0,IF(ROUND(J279,2)<=0,0,1))","v":0},{"$f":"IF(D279=\"\",0,D279)","v":0},{"$f":"IF(D279=\"\",0,F279)","v":0},{"$f":"IF('Stammdaten Mitarbeitende'!N279>0,AC279,0)","v":0},{"$f":"IF('Stammdaten Mitarbeitende'!N279>0,P279,0)","v":0},{"$f":"D279","v":0},{"$f":"F279","v":0},{"$f":"IF(AM279=\"\",0,MAX(AM279-AN279,0))","v":0}]
[{"$f":"'Stammdaten Mitarbeitende'!AA280","v":""},"",null,null,null,null,null,null,0,"",null,"","","","",null,"","",null,null,{"$f":"IF($A280=\"\",\"\",'Stammdaten Mitarbeitende'!L280)","v":""},0,"","","","","","","","","","",0,"",0,{"$f":"IF(J280=\"\",0,IF(ROUND(J280,2)<=0,0,1))","v":0},0,0,{"$f":"IF('Stammdaten Mitarbeitende'!N280>0,AC280,0)","v":0},{"$f":"IF('Stammdaten Mitarbeitende'!N280>0,P280,0)","v":0},0,0,0]
[{"$f":"'Stammdaten Mitarbeitende'!AA281","v":""},"",null,null,null,null,null,null,0,"",null,"","","","",null,"","",null,null,{"$f":"IF($A281=\"\",\"\",'Stammdaten Mitarbeitende'!L281)","v":""},0,"","","","","","","","","","",0,"",0,0,0,0,{"$f":"IF('Stammdaten Mitarbeitende'!N281>0,AC281,0)","v":0},{"$f":"IF('Stammdaten Mitarbeitende'!N281>0,P281,0)","v":0},0,0,0]
[{"$f":"'Stammdaten Mitarbeitende'!AA282","v":""},"",null,null,null,null,null,null,0,"",null,"","","","",null,"","",null,null,{"$f":"IF($A282=\"\",\"\",'Stammdaten Mitarbeitende'!L282)","v":""},0,"","","","","","","","","","",0,"",0,0,0,0,{"$f":"IF('Stammdaten Mitarbeitende'!N282>0,AC282,0)","v":0},{"$f":"IF('Stammdaten Mitarbeitende'!N282>0,P282,0)","v":0},0,0,0]
[{"$f":"'Stammdaten Mitarbeitende'!AA283","v":""},"",null,null,null,null,null,null,0,"",null,"","","","",null,"","",null,null,{"$f":"IF($A283=\"\",\"\",'Stammdaten Mitarbeitende'!L283)","v":""},0,"","","","","","","","","","",0,"",0,0,0,0,{"$f":"IF('Stammdaten Mitarbeitende'!N283>0,AC283,0)","v":0},{"$f":"IF('Stammdaten Mitarbeitende'!N283>0,P283,0)","v":0},0,0,0]
[{"$f":"'Stammdaten Mitarbeitende'!AA284","v":""},"",null,null,null,null,null,null,0,"",null,"","","","",null,"","",null,null,{"$f":"IF($A284=\"\",\"\",'Stammdaten Mitarbeitende'!L284)","v":""},0,"","","","","","","","","","",0,"",0,0,0,0,{"$f":"IF('Stammdaten Mitarbeitende'!N284>0,AC284,0)","v":0},{"$f":"IF('Stammdaten Mitarbeitende'!N284>0,P284,0)","v":0},0,0,0]
[{"$f":"'Stammdaten Mitarbeitende'!AA285","v":""},"",null,null,null,null,null,null,0,"",null,"","","","",null,"","",null,null,{"$f":"IF($A285=\"\",\"\",'Stammdaten Mitarbeitende'!L285)","v":""},0,"","","","","","","","","","",0,"",0,0,0,0,{"$f":"IF('Stammdaten Mitarbeitende'!N285>0,AC285,0)","v":0},{"$f":"IF('Stammdaten Mitarbeitende'!N285>0,P285,0)","v":0},0,0,0]
[{"$f":"'Stammdaten Mitarbeitende'!AA286","v":""},"",null,null,null,null,null,null,0,"",null,"","","","",null,"","",null,null,{"$f":"IF($A286=\"\",\"\",'Stammdaten Mitarbeitende'!L286)","v":""},0,"","","","","","","","","","",0,"",0,0,0,0,{"$f":"IF('Stammdaten Mitarbeitende'!N286>0,AC286,0)","v":0},{"$f":"IF('Stammdaten Mitarbeitende'!N286>0,P286,0)","v":0},0,0,0]
[{"$f":"'Stammdaten Mitarbeitende'!AA287","v":""},"",null,null,null,null,null,null,0,"",null,"","","","",null,"","",null,null,{"$f":"IF($A287=\"\",\"\",'Stammdaten Mitarbeitende'!L287)","v":""},0,"","","","","","","","","","",0,"",0,0,0,0,{"$f":"IF('Stammdaten Mitarbeitende'!N287>0,AC287,0)","v":0},{"$f":"IF('Stammdaten Mitarbeitende'!N287>0,P287,0)","v":0},0,0,0]
[{"$f":"'Stammdaten Mitarbeitende'!AA288","v":""},"",null,null,null,null,null,null,0,"",null,"","","","",null,"","",null,null,{"$f":"IF($A288=\"\",\"\",'Stammdaten Mitarbeitende'!L288)","v":""},0,"","","","","","","","","","",0,"",0,0,0,0,{"$f":"IF('Stammdaten Mitarbeitende'!N288>0,AC288,0)","v":0},{"$f":"IF('Stammdaten Mitarbeitende'!N288>0,P288,0)","v":0},0,0,0]
[{"$f":"'Stammdaten Mitarbeitende'!AA289","v":""},"",null,null,null,null,null,null,0,"",null,"","","","",null,"","",null,null,{"$f":"IF($A289=\"\",\"\",'Stammdaten Mitarbeitende'!L289)","v":""},0,"","","","","","","","","","",0,"",0,0,0,0,{"$f":"IF('Stammdaten Mitarbeitende'!N289>0,AC289,0)","v":0},{"$f":"IF('Stammdaten Mitarbeitende'!N289>0,P289,0)","v":0},0,0,0]
[{"$f":"'Stammdaten Mitarbeitende'!AA290","v":""},"",null,null,null,null,null,null,0,"",null,"","","","",null,"","",null,null,{"$f":"IF($A290=\"\",\"\",'Stammdaten Mitarbeitende'!L290)","v":""},0,"","","","","","","","","","",0,"",0,0,0,0,{"$f":"IF('Stammdaten Mitarbeitende'!N290>0,AC290,0)","v":0},{"$f":"IF('Stammdaten Mitarbeitende'!N290>0,P290,0)","v":0},0,0,0]
[{"$f":"'Stammdaten Mitarbeitende'!AA291","v":""},"",null,null,null,null,null,null,0,"",null,"","","","",null,"","",null,null,{"$f":"IF($A291=\"\",\"\",'Stammdaten Mitarbeitende'!L291)","v":""},0,"","","","","","","","","","",0,"",0,0,0,0,{"$f":"IF('Stammdaten Mitarbeitende'!N291>0,AC291,0)","v":0},{"$f":"IF('Stammdaten Mitarbeitende'!N291>0,P291,0)","v":0},0,0,0]
[{"$f":"'Stammdaten Mitarbeitende'!AA292","v":""},"",null,null,null,null,null,null,0,"",null,"","","","",null,"","",null,null,{"$f":"IF($A292=\"\",\"\",'Stammdaten Mitarbeitende'!L292)","v":""},0,"","","","","","","","","","",0,"",0,0,0,0,{"$f":"IF('Stammdaten Mitarbeitende'!N292>0,AC292,0)","v":0},{"$f":"IF('Stammdaten Mitarbeitende'!N292>0,P292,0)","v":0},0,0,0]
[{"$f":"'Stammdaten Mitarbeitende'!AA293","v":""},"",null,null,null,null,null,null,0,"",null,"","","","",null,"","",null,null,{"$f":"IF($A293=\"\",\"\",'Stammdaten Mitarbeitende'!L293)","v":""},0,"","","","","","","","","","",0,"",0,0,0,0,{"$f":"IF('Stammdaten Mitarbeitende'!N293>0,AC293,0)","v":0},{"$f":"IF('Stammdaten Mitarbeitende'!N293>0,P293,0)","v":0},0,0,0]
[{"$f":"'Stammdaten Mitarbeitende'!AA294","v":""},"",null,null,null,null,null,null,0,"",null,"","","","",null,"","",null,null,{"$f":"IF($A294=\"\",\"\",'Stammdaten Mitarbeitende'!L294)","v":""},0,"","","","","","","","","","",0,"",0,0,0,0,{"$f":"IF('Stammdaten Mitarbeitende'!N294>0,AC294,0)","v":0},{"$f":"IF('Stammdaten Mitarbeitende'!N294>0,P294,0)","v":0},0,0,0]
[{"$f":"'Stammdaten Mitarbeitende'!AA295","v":""},"",null,null,null,null,null,null,0,"",null,"","","","",null,"","",null,null,{"$f":"IF($A295=\"\",\"\",'Stammdaten Mitarbeitende'!L295)","v":""},0,"","","","","","","","","","",0,"",0,0,0,0,{"$f":"IF('Stammdaten Mitarbeitende'!N295>0,AC295,0)","v":0},{"$f":"IF('Stammdaten Mitarbeitende'!N295>0,P295,0)","v":0},0,0,0]
[{"$f":"'Stammdaten Mitarbeitende'!AA296","v":""},"",null,null,null,null,null,null,0,"",null,"","","","",null,"","",null,null,{"$f":"IF($A296=\"\",\"\",'Stammdaten Mitarbeitende'!L296)","v":""},0,"","","","","","","","","","",0,"",0,0,0,0,{"$f":"IF('Stammdaten Mitarbeitende'!N296>0,AC296,0)","v":0},{"$f":"IF('Stammdaten Mitarbeitende'!N296>0,P296,0)","v":0},0,0,0]
[{"$f":"'Stammdaten Mitarbeitende'!AA297","v":""},"",null,null,null,null,null,null,0,"",null,"","","","",null,"","",null,null,{"$f":"IF($A297=\"\",\"\",'Stammdaten Mitarbeitende'!L297)","v":""},0,"","","","","","","","","","",0,"",0,0,0,0,{"$f":"IF('Stammdaten Mitarbeitende'!N297>0,AC297,0)","v":0},{"$f":"IF('Stammdaten Mitarbeitende'!N297>0,P297,0)","v":0},0,0,0]
[{"$f":"'Stammdaten Mitarbeitende'!AA298","v":""},"",null,null,null,null,null,null,0,"",null,"","","","",null,"","",null,null,{"$f":"IF($A298=\"\",\"\",'Stammdaten Mitarbeitende'!L298)","v":""},0,"","","","","","","","","","",0,"",0,0,0,0,{"$f":"IF('Stammdaten Mitarbeitende'!N298>0,AC298,0)","v":0},{"$f":"IF('Stammdaten Mitarbeitende'!N298>0,P298,0)","v":0},0,0,0]
[{"$f":"'Stammdaten Mitarbeitende'!AA299","v":""},"",null,null,null,null,null,null,0,"",null,"","","","",null,"","",null,null,{"$f":"IF($A299=\"\",\"\",'Stammdaten Mitarbeitende'!L299)","v":""},0,"","","","","","","","","","",0,"",0,0,0,0,{"$f":"IF('Stammdaten Mitarbeitende'!N299>0,AC299,0)","v":0},{"$f":"IF('Stammdaten Mitarbeitende'!N299>0,P299,0)","v":0},0,0,0]
[{"$f":"Übersetzungstexte!A$296","v":"Seitentotal"},null,null,{"$f":"SUM(D279:D299)","v":0},null,{"$f":"SUM(F279:F299)","v":0},null,null,null,{"$f":"SUM(J279:J299)","v":0},null,null,null,{"$f":"SUM(N279:N299)","v":0},null,{"$f":"SUM(P279:P299)","v":0},null,{"$f":"SUM(R279:R299)","v":0}]
[{"$f":"'Stammdaten Betrieb & Abteilung'!D$1","v":"  "},null,null,null,null,null,null,null,null,null,null,null,{"$f":"Übersetzungstexte!A$239","v":"Betrieb / Betriebsabteilung"},{"$f":"'Stammdaten Betrieb & Abteilung'!D$13","v":" "}]
[{"$f":"'Stammdaten Betrieb & Abteilung'!D$3","v":" "},null,null,null,null,null,null,null,null,null,null,null,{"$f":"Übersetzungstexte!A$240","v":"Abrechnungsperiode"},{"$f":"'Stammdaten Betrieb & Abteilung'!D$14","v":""},null,{"$f":"'Stammdaten Betrieb & Abteilung'!D$12","v":{"$error":"#VALUE!"}}]
[{"$f":"'Stammdaten Betrieb & Abteilung'!D$4","v":" "},null,null,null,null,null,null,null,null,null,null,null,{"$f":"Übersetzungstexte!A$241","v":"Beginn / Ende der Kurzarbeit"},{"$f":"'Stammdaten Betrieb & Abteilung'!D$16","v":""}]
[]
[1,2,3,4,5,6,null,7,null,8,9,10,11,12,13,null,14,15,null,null,null,"Regel 7","Regel 8",null,"Regel 9","Regel 10","Regel 11","Regel 12","Regel 13","Regel 14","Regel 15","Regel 17",null,"Regel 19/20",null,null,null,null,"AHV-pflichtiger","AHV-pflichtiger",null,null,"AHV-pflichtige"]
[{"$f":"Übersetzungstexte!A$242","v":""},{"$f":"Übersetzungstexte!A$245","v":"anrechen-"},{"$f":"Übersetzungstexte!A$248","v":"Wöchentl."},{"$f":"Übersetzungstexte!A$251","v":"Sollstd. Abr.-"},{"$f":"Übersetzungstexte!A$254","v":""},{"$f":"Übersetzungstexte!A$257","v":"Bezahlte/"},null,{"$f":"Übersetzungstexte!A$263","v":"(nur für Gleitzeit)"},null,{"$f":"Übersetzungstexte!A$269","v":"Ausfall-"},{"$f":"Übersetzungstexte!A$272","v":"Saldo"},{"$f":"Übersetzungstexte!A$275","v":"Saisonale"},{"$f":"Übersetzungstexte!A$278","v":"Anrechen-"},{"$f":"Übersetzungstexte!A$281","v":"Verdienst-"},{"$f":"Übersetzungstexte!A$284","v":"Verdienst-"},{"$f":"Übersetzungstexte!A$287","v":"Verdienst"},{"$f":"AE$4","v":"Abzug "},{"$f":"Übersetzungstexte!A$293","v":""},null,null,"anrechen-","Gleitzeit","Ausfall-","Max(D12,0)","Prozentualer","Saisonale","Proz. Wirts. Bed.","Anrechen-","Verdienst-","Verdienst-","Abzug","Abzug","Verdienst",null,"Anzahl","Anzahl","Sollstd.","Absenzen","Verdienst-","Verdienst","Sollstd.","bezahlte/","Abzugsbasis"]
[{"$f":"Übersetzungstexte!A$243","v":""},{"$f":"Übersetzungstexte!A$246","v":"barer Std.-"},{"$f":"Übersetzungstexte!A$249","v":"Arbeitszeit"},{"$f":"Übersetzungstexte!A$252","v":"Periode Inkl."},{"$f":"Übersetzungstexte!A$255","v":""},{"$f":"Übersetzungstexte!A$258","v":"Unbezahlte"},{"$f":"Übersetzungstexte!A$261","v":"Saldo Ende Per."},null,null,{"$f":"Übersetzungstexte!A$270","v":"stunden"},{"$f":"Übersetzungstexte!A$273","v":"Mehrstd."},{"$f":"Übersetzungstexte!A$276","v":"Ausfall-"},{"$f":"Übersetzungstexte!A$279","v":"bare Aus-"},{"$f":"Übersetzungstexte!A$282","v":"ausfall"},{"$f":"Übersetzungstexte!A$285","v":"ausfall"},{"$f":"Übersetzungstexte!A$288","v":"Zwischen-"},{"$f":"Übersetzungstexte!A$291","v":"Karenztage"},{"$f":"Übersetzungstexte!A$294","v":"Beantragte"},null,null,"barer Std.-","c","stunden",null,"Arbeitsausfall","Ausfall-","Arbeitsausfall","bare ","ausfall","ausfall","Karenztage","Zwischen-","Zwischen-","Beantragte","bezugsber.","betroffene","bezugsber.","bezugsber.","ausfall","Zwischen-","inkl","unbezahlte"]
[{"$f":"Übersetzungstexte!A$244","v":"Name,Vorname"},{"$f":"Übersetzungstexte!A$247","v":"Verdienst"},{"$f":"Übersetzungstexte!A$250","v":"in der AP"},{"$f":"Übersetzungstexte!A$253","v":"Vorholzeit"},{"$f":"Übersetzungstexte!A$256","v":"Istzeit"},{"$f":"Übersetzungstexte!A$259","v":"Absenzen"},{"$f":"Übersetzungstexte!A$262","v":"vorherg."},{"$f":"Übersetzungstexte!A$265","v":"laufend"},{"$f":"Übersetzungstexte!A$268","v":"Diff."},{"$f":"Übersetzungstexte!A$271","v":"total"},{"$f":"Übersetzungstexte!A$274","v":"Vormonate"},{"$f":"Übersetzungstexte!A$277","v":"stunden"},{"$f":"Übersetzungstexte!A$280","v":"fall-Std."},{"$f":"Übersetzungstexte!A$283","v":"100%"},{"$f":"Übersetzungstexte!A$286","v":"80%"},{"$f":"Übersetzungstexte!A$289","v":"Beschäftigung"},{"$f":"Übersetzungstexte!A$292","v":"80%"},{"$f":"Übersetzungstexte!A$295","v":"Vergütung"},null,null,"Verdienst",null,"Total",null,"pAA","stunden","pwAA","Ausfall-Std.","100%","80%","80%","beschäftigung","beschäftigung","Vergütung","Mitarbeiter","Mitarbeiter","Mitarbeiter","Mitarbeiter","100%","beschäftigung","Vorholzeit","Ansenzen"]
[{"$f":"'Stammdaten Mitarbeitende'!AA309","v":""},{"$f":"U309","v":""},null,null,null,null,null,null,{"$f":"V309","v":0},{"$f":"W309","v":""},null,{"$f":"Z309","v":""},{"$f":"AB309","v":""},{"$f":"AC309","v":""},{"$f":"AD309","v":""},null,{"$f":"AE309","v":""},{"$f":"AH309","v":""},null,null,{"$f":"IF($A309=\"\",\"\",'Stammdaten Mitarbeitende'!L309)","v":""},{"$f":"IF(AND(G309=\"\",H309=\"\"),0,G309-H309)","v":0},{"$f":"IF(OR($A309=\"\",D309=\"\",E309=\"\",F309=\"\",V309=\"\"),\"\",D309-(E309+F309+V309))","v":""},{"$f":"IF(W309=\"\",\"\",MAX(W309,0))","v":""},{"$f":"IF(J309=\"\",\"\",Y$4)","v":""},{"$f":"IF(J309=\"\",\"\",J309*Z$4)","v":""},{"$f":"IF(Y309=\"\",\"\",AA$4)","v":""},{"$f":"IF(J309=\"\",\"\",ROUND(J309*AB$4 - MAX(K309-L309,0),2))","v":""},{"$f":"IF(OR($A309=\"\",J309=\"\",B309=\"\",M309<0),\"\",MAX(ROUND(M309*B309*2,1)/2,0))","v":""},{"$f":"IF(OR($A309=\"\",N309=\"\"),\"\",ROUND(N309*8/5,1)/2)","v":""},{"$f":"IF(OR($A309=\"\",B309=\"\",N309=\"\"),\"\",ROUND(AE$3*C309*B309*16/50,1)/2)","v":""},{"$f":"IF(OR($A309=\"\",J309=\"\",N309=\"\"),\"\",MAX(O309+P309-N309,0))","v":""},{"$f":"P309","v":0},{"$f":"IF(OR($A309=\"\",N309=\"\"),\"\",ROUND((MAX(O309-Q309-AF309,0))*2,1)/2)","v":""},{"$f":"IF(D309=\"\",0,1)","v":0},{"$f":"IF(J309=\"\",0,IF(ROUND(J309,2)<=0,0,1))","v":0},{"$f":"IF(D309=\"\",0,D309)","v":0},{"$f":"IF(D309=\"\",0,F309)","v":0},{"$f":"IF('Stammdaten Mitarbeitende'!N309>0,AC309,0)","v":0},{"$f":"IF('Stammdaten Mitarbeitende'!N309>0,P309,0)","v":0},{"$f":"D309","v":0},{"$f":"F309","v":0},{"$f":"IF(AM309=\"\",0,MAX(AM309-AN309,0))","v":0}]
[{"$f":"'Stammdaten Mitarbeitende'!AA310","v":""},"",null,null,null,null,null,null,0,"",null,"","","","",null,"","",null,null,{"$f":"IF($A310=\"\",\"\",'Stammdaten Mitarbeitende'!L310)","v":""},0,"","","","","","","","","","",0,"",0,{"$f":"IF(J310=\"\",0,IF(ROUND(J310,2)<=0,0,1))","v":0},0,0,{"$f":"IF('Stammdaten Mitarbeitende'!N310>0,AC310,0)","v":0},{"$f":"IF('Stammdaten Mitarbeitende'!N310>0,P310,0)","v":0},0,0,0]
[{"$f":"'Stammdaten Mitarbeitende'!AA311","v":""},"",null,null,null,null,null,null,0,"",null,"","","","",null,"","",null,null,{"$f":"IF($A311=\"\",\"\",'Stammdaten Mitarbeitende'!L311)","v":""},0,"","","","","","","","","","",0,"",0,0,0,0,{"$f":"IF('Stammdaten Mitarbeitende'!N311>0,AC311,0)","v":0},{"$f":"IF('Stammdaten Mitarbeitende'!N311>0,P311,0)","v":0},0,0,0]
[{"$f":"'Stammdaten Mitarbeitende'!AA312","v":""},"",null,null,null,null,null,null,0,"",null,"","","","",null,"","",null,null,{"$f":"IF($A312=\"\",\"\",'Stammdaten Mitarbeitende'!L312)","v":""},0,"","","","","","","","","","",0,"",0,0,0,0,{"$f":"IF('Stammdaten Mitarbeitende'!N312>0,AC312,0)","v":0},{"$f":"IF('Stammdaten Mitarbeitende'!N312>0,P312,0)","v":0},0,0,0]
[{"$f":"'Stammdaten Mitarbeitende'!AA313","v":""},"",null,null,null,null,null,null,0,"",null,"","","","",null,"","",null,null,{"$f":"IF($A313=\"\",\"\",'Stammdaten Mitarbeitende'!L313)","v":""},0,"","","","","","","","","","",0,"",0,0,0,0,{"$f":"IF('Stammdaten Mitarbeitende'!N313>0,AC313,0)","v":0},{"$f":"IF('Stammdaten Mitarbeitende'!N313>0,P313,0)","v":0},0,0,0]
[{"$f":"'Stammdaten Mitarbeitende'!AA314","v":""},"",null,null,null,null,null,null,0,"",null,"","","","",null,"","",null,null,{"$f":"IF($A314=\"\",\"\",'Stammdaten Mitarbeitende'!L314)","v":""},0,"","","","","","","","","","",0,"",0,0,0,0,{"$f":"IF('Stammdaten Mitarbeitende'!N314>0,AC314,0)","v":0},{"$f":"IF('Stammdaten Mitarbeitende'!N314>0,P314,0)","v":0},0,0,0]
[{"$f":"'Stammdaten Mitarbeitende'!AA315","v":""},"",null,null,null,null,null,null,0,"",null,"","","","",null,"","",null,null,{"$f":"IF($A315=\"\",\"\",'Stammdaten Mitarbeitende'!L315)","v":""},0,"","","","","","","","","","",0,"",0,0,0,0,{"$f":"IF('Stammdaten Mitarbeitende'!N315>0,AC315,0)","v":0},{"$f":"IF('Stammdaten Mitarbeitende'!N315>0,P315,0)","v":0},0,0,0]
[{"$f":"'Stammdaten Mitarbeitende'!AA316","v":""},"",null,null,null,null,null,null,0,"",null,"","","","",null,"","",null,null,{"$f":"IF($A316=\"\",\"\",'Stammdaten Mitarbeitende'!L316)","v":""},0,"","","","","","","","","","",0,"",0,0,0,0,{"$f":"IF('Stammdaten Mitarbeitende'!N316>0,AC316,0)","v":0},{"$f":"IF('Stammdaten Mitarbeitende'!N316>0,P316,0)","v":0},0,0,0]
[{"$f":"'Stammdaten Mitarbeitende'!AA317","v":""},"",null,null,null,null,null,null,0,"",null,"","","","",null,"","",null,null,{"$f":"IF($A317=\"\",\"\",'Stammdaten Mitarbeitende'!L317)","v":""},0,"","","","","","","","","","",0,"",0,0,0,0,{"$f":"IF('Stammdaten Mitarbeitende'!N317>0,AC317,0)","v":0},{"$f":"IF('Stammdaten Mitarbeitende'!N317>0,P317,0)","v":0},0,0,0]
[{"$f":"'Stammdaten Mitarbeitende'!AA318","v":""},"",null,null,null,null,null,null,0,"",null,"","","","",null,"","",null,null,{"$f":"IF($A318=\"\",\"\",'Stammdaten Mitarbeitende'!L318)","v":""},0,"","","","","","","","","","",0,"",0,0,0,0,{"$f":"IF('Stammdaten Mitarbeitende'!N318>0,AC318,0)","v":0},{"$f":"IF('Stammdaten Mitarbeitende'!N318>0,P318,0)","v":0},0,0,0]
[{"$f":"'Stammdaten Mitarbeitende'!AA319","v":""},"",null,null,null,null,null,null,0,"",null,"","","","",null,"","",null,null,{"$f":"IF($A319=\"\",\"\",'Stammdaten Mitarbeitende'!L319)","v":""},0,"","","","","","","","","","",0,"",0,0,0,0,{"$f":"IF('Stammdaten Mitarbeitende'!N319>0,AC319,0)","v":0},{"$f":"IF('Stammdaten Mitarbeitende'!N319>0,P319,0)","v":0},0,0,0]
[{"$f":"'Stammdaten Mitarbeitende'!AA320","v":""},"",null,null,null,null,null,null,0,"",null,"","","","",null,"","",null,null,{"$f":"IF($A320=\"\",\"\",'Stammdaten Mitarbeitende'!L320)","v":""},0,"","","","","","","","","","",0,"",0,0,0,0,{"$f":"IF('Stammdaten Mitarbeitende'!N320>0,AC320,0)","v":0},{"$f":"IF('Stammdaten Mitarbeitende'!N320>0,P320,0)","v":0},0,0,0]
[{"$f":"'Stammdaten Mitarbeitende'!AA321","v":""},"",null,null,null,null,null,null,0,"",null,"","","","",null,"","",null,null,{"$f":"IF($A321=\"\",\"\",'Stammdaten Mitarbeitende'!L321)","v":""},0,"","","","","","","","","","",0,"",0,0,0,0,{"$f":"IF('Stammdaten Mitarbeitende'!N321>0,AC321,0)","v":0},{"$f":"IF('Stammdaten Mitarbeitende'!N321>0,P321,0)","v":0},0,0,0]
[{"$f":"'Stammdaten Mitarbeitende'!AA322","v":""},"",null,null,null,null,null,null,0,"",null,"","","","",null,"","",null,null,{"$f":"IF($A322=\"\",\"\",'Stammdaten Mitarbeitende'!L322)","v":""},0,"","","","","","","","","","",0,"",0,0,0,0,{"$f":"IF('Stammdaten Mitarbeitende'!N322>0,AC322,0)","v":0},{"$f":"IF('Stammdaten Mitarbeitende'!N322>0,P322,0)","v":0},0,0,0]
[{"$f":"'Stammdaten Mitarbeitende'!AA323","v":""},"",null,null,null,null,null,null,0,"",null,"","","","",null,"","",null,null,{"$f":"IF($A323=\"\",\"\",'Stammdaten Mitarbeitende'!L323)","v":""},0,"","","","","","","","","","",0,"",0,0,0,0,{"$f":"IF('Stammdaten Mitarbeitende'!N323>0,AC323,0)","v":0},{"$f":"IF('Stammdaten Mitarbeitende'!N323>0,P323,0)","v":0},0,0,0]
[{"$f":"'Stammdaten Mitarbeitende'!AA324","v":""},"",null,null,null,null,null,null,0,"",null,"","","","",null,"","",null,null,{"$f":"IF($A324=\"\",\"\",'Stammdaten Mitarbeitende'!L324)","v":""},0,"","","","","","","","","","",0,"",0,0,0,0,{"$f":"IF('Stammdaten Mitarbeitende'!N324>0,AC324,0)","v":0},{"$f":"IF('Stammdaten Mitarbeitende'!N324>0,P324,0)","v":0},0,0,0]
[{"$f":"'Stammdaten Mitarbeitende'!AA325","v":""},"",null,null,null,null,null,null,0,"",null,"","","","",null,"","",null,null,{"$f":"IF($A325=\"\",\"\",'Stammdaten Mitarbeitende'!L325)","v":""},0,"","","","","","","","","","",0,"",0,0,0,0,{"$f":"IF('Stammdaten Mitarbeitende'!N325>0,AC325,0)","v":0},{"$f":"IF('Stammdaten Mitarbeitende'!N325>0,P325,0)","v":0},0,0,0]
[{"$f":"'Stammdaten Mitarbeitende'!AA326","v":""},"",null,null,null,null,null,null,0,"",null,"","","","",null,"","",null,null,{"$f":"IF($A326=\"\",\"\",'Stammdaten Mitarbeitende'!L326)","v":""},0,"","","","","","","","","","",0,"",0,0,0,0,{"$f":"IF('Stammdaten Mitarbeitende'!N326>0,AC326,0)","v":0},{"$f":"IF('Stammdaten Mitarbeitende'!N326>0,P326,0)","v":0},0,0,0]
[{"$f":"'Stammdaten Mitarbeitende'!AA327","v":""},"",null,null,null,null,null,null,0,"",null,"","","","",null,"","",null,null,{"$f":"IF($A327=\"\",\"\",'Stammdaten Mitarbeitende'!L327)","v":""},0,"","","","","","","","","","",0,"",0,0,0,0,{"$f":"IF('Stammdaten Mitarbeitende'!N327>0,AC327,0)","v":0},{"$f":"IF('Stammdaten Mitarbeitende'!N327>0,P327,0)","v":0},0,0,0]
[{"$f":"'Stammdaten Mitarbeitende'!AA328","v":""},"",null,null,null,null,null,null,0,"",null,"","","","",null,"","",null,null,{"$f":"IF($A328=\"\",\"\",'Stammdaten Mitarbeitende'!L328)","v":""},0,"","","","","","","","","","",0,"",0,0,0,0,{"$f":"IF('Stammdaten Mitarbeitende'!N328>0,AC328,0)","v":0},{"$f":"IF('Stammdaten Mitarbeitende'!N328>0,P328,0)","v":0},0,0,0]
[{"$f":"'Stammdaten Mitarbeitende'!AA329","v":""},"",null,null,null,null,null,null,0,"",null,"","","","",null,"","",null,null,{"$f":"IF($A329=\"\",\"\",'Stammdaten Mitarbeitende'!L329)","v":""},0,"","","","","","","","","","",0,"",0,0,0,0,{"$f":"IF('Stammdaten Mitarbeitende'!N329>0,AC329,0)","v":0},{"$f":"IF('Stammdaten Mitarbeitende'!N329>0,P329,0)","v":0},0,0,0]
[{"$f":"Übersetzungstexte!A$296","v":"Seitentotal"},null,null,{"$f":"SUM(D309:D329)","v":0},null,{"$f":"SUM(F309:F329)","v":0},null,null,null,{"$f":"SUM(J309:J329)","v":0},null,null,null,{"$f":"SUM(N309:N329)","v":0},null,{"$f":"SUM(P309:P329)","v":0},null,{"$f":"SUM(R309:R329)","v":0}]
[{"$f":"'Stammdaten Betrieb & Abteilung'!D$1","v":"  "},null,null,null,null,null,null,null,null,null,null,null,{"$f":"Übersetzungstexte!A$239","v":"Betrieb / Betriebsabteilung"},{"$f":"'Stammdaten Betrieb & Abteilung'!D$13","v":" "}]
[{"$f":"'Stammdaten Betrieb & Abteilung'!D$3","v":" "},null,null,null,null,null,null,null,null,null,null,null,{"$f":"Übersetzungstexte!A$240","v":"Abrechnungsperiode"},{"$f":"'Stammdaten Betrieb & Abteilung'!D$14","v":""},null,{"$f":"'Stammdaten Betrieb & Abteilung'!D$12","v":{"$error":"#VALUE!"}}]
[{"$f":"'Stammdaten Betrieb & Abteilung'!D$4","v":" "},null,null,null,null,null,null,null,null,null,null,null,{"$f":"Übersetzungstexte!A$241","v":"Beginn / Ende der Kurzarbeit"},{"$f":"'Stammdaten Betrieb & Abteilung'!D$16","v":""}]
[]
[1,2,3,4,5,6,null,7,null,8,9,10,11,12,13,null,14,15,null,null,null,"Regel 7","Regel 8",null,"Regel 9","Regel 10","Regel 11","Regel 12","Regel 13","Regel 14","Regel 15","Regel 17",null,"Regel 19/20",null,null,null,null,"AHV-pflichtiger","AHV-pflichtiger",null,null,"AHV-pflichtige"]
[{"$f":"Übersetzungstexte!A$242","v":""},{"$f":"Übersetzungstexte!A$245","v":"anrechen-"},{"$f":"Übersetzungstexte!A$248","v":"Wöchentl."},{"$f":"Übersetzungstexte!A$251","v":"Sollstd. Abr.-"},{"$f":"Übersetzungstexte!A$254","v":""},{"$f":"Übersetzungstexte!A$257","v":"Bezahlte/"},null,{"$f":"Übersetzungstexte!A$263","v":"(nur für Gleitzeit)"},null,{"$f":"Übersetzungstexte!A$269","v":"Ausfall-"},{"$f":"Übersetzungstexte!A$272","v":"Saldo"},{"$f":"Übersetzungstexte!A$275","v":"Saisonale"},{"$f":"Übersetzungstexte!A$278","v":"Anrechen-"},{"$f":"Übersetzungstexte!A$281","v":"Verdienst-"},{"$f":"Übersetzungstexte!A$284","v":"Verdienst-"},{"$f":"Übersetzungstexte!A$287","v":"Verdienst"},{"$f":"AE$4","v":"Abzug "},{"$f":"Übersetzungstexte!A$293","v":""},null,null,"anrechen-","Gleitzeit","Ausfall-","Max(D12,0)","Prozentualer","Saisonale","Proz. Wirts. Bed.","Anrechen-","Verdienst-","Verdienst-","Abzug","Abzug","Verdienst",null,"Anzahl","Anzahl","Sollstd.","Absenzen","Verdienst-","Verdienst","Sollstd.","bezahlte/","Abzugsbasis"]
[{"$f":"Übersetzungstexte!A$243","v":""},{"$f":"Übersetzungstexte!A$246","v":"barer Std.-"},{"$f":"Übersetzungstexte!A$249","v":"Arbeitszeit"},{"$f":"Übersetzungstexte!A$252","v":"Periode Inkl."},{"$f":"Übersetzungstexte!A$255","v":""},{"$f":"Übersetzungstexte!A$258","v":"Unbezahlte"},{"$f":"Übersetzungstexte!A$261","v":"Saldo Ende Per."},null,null,{"$f":"Übersetzungstexte!A$270","v":"stunden"},{"$f":"Übersetzungstexte!A$273","v":"Mehrstd."},{"$f":"Übersetzungstexte!A$276","v":"Ausfall-"},{"$f":"Übersetzungstexte!A$279","v":"bare Aus-"},{"$f":"Übersetzungstexte!A$282","v":"ausfall"},{"$f":"Übersetzungstexte!A$285","v":"ausfall"},{"$f":"Übersetzungstexte!A$288","v":"Zwischen-"},{"$f":"Übersetzungstexte!A$291","v":"Karenztage"},{"$f":"Übersetzungstexte!A$294","v":"Beantragte"},null,null,"barer Std.-","c","stunden",null,"Arbeitsausfall","Ausfall-","Arbeitsausfall","bare ","ausfall","ausfall","Karenztage","Zwischen-","Zwischen-","Beantragte","bezugsber.","betroffene","bezugsber.","bezugsber.","ausfall","Zwischen-","inkl","unbezahlte"]
[{"$f":"Übersetzungstexte!A$244","v":"Name,Vorname"},{"$f":"Übersetzungstexte!A$247","v":"Verdienst"},{"$f":"Übersetzungstexte!A$250","v":"in der AP"},{"$f":"Übersetzungstexte!A$253","v":"Vorholzeit"},{"$f":"Übersetzungstexte!A$256","v":"Istzeit"},{"$f":"Übersetzungstexte!A$259","v":"Absenzen"},{"$f":"Übersetzungstexte!A$262","v":"vorherg."},{"$f":"Übersetzungstexte!A$265","v":"laufend"},{"$f":"Übersetzungstexte!A$268","v":"Diff."},{"$f":"Übersetzungstexte!A$271","v":"total"},{"$f":"Übersetzungstexte!A$274","v":"Vormonate"},{"$f":"Übersetzungstexte!A$277","v":"stunden"},{"$f":"Übersetzungstexte!A$280","v":"fall-Std."},{"$f":"Übersetzungstexte!A$283","v":"100%"},{"$f":"Übersetzungstexte!A$286","v":"80%"},{"$f":"Übersetzungstexte!A$289","v":"Beschäftigung"},{"$f":"Übersetzungstexte!A$292","v":"80%"},{"$f":"Übersetzungstexte!A$295","v":"Vergütung"},null,null,"Verdienst",null,"Total",null,"pAA","stunden","pwAA","Ausfall-Std.","100%","80%","80%","beschäftigung","beschäftigung","Vergütung","Mitarbeiter","Mitarbeiter","Mitarbeiter","Mitarbeiter","100%","beschäftigung","Vorholzeit","Ansenzen"]
[{"$f":"'Stammdaten Mitarbeitende'!AA339","v":""},{"$f":"U339","v":""},null,null,null,null,null,null,{"$f":"V339","v":0},{"$f":"W339","v":""},null,{"$f":"Z339","v":""},{"$f":"AB339","v":""},{"$f":"AC339","v":""},{"$f":"AD339","v":""},null,{"$f":"AE339","v":""},{"$f":"AH339","v":""},null,null,{"$f":"IF($A339=\"\",\"\",'Stammdaten Mitarbeitende'!L339)","v":""},{"$f":"IF(AND(G339=\"\",H339=\"\"),0,G339-H339)","v":0},{"$f":"IF(OR($A339=\"\",D339=\"\",E339=\"\",F339=\"\",V339=\"\"),\"\",D339-(E339+F339+V339))","v":""},{"$f":"IF(W339=\"\",\"\",MAX(W339,0))","v":""},{"$f":"IF(J339=\"\",\"\",Y$4)","v":""},{"$f":"IF(J339=\"\",\"\",J339*Z$4)","v":""},{"$f":"IF(Y339=\"\",\"\",AA$4)","v":""},{"$f":"IF(J339=\"\",\"\",ROUND(J339*AB$4 - MAX(K339-L339,0),2))","v":""},{"$f":"IF(OR($A339=\"\",J339=\"\",B339=\"\",M339<0),\"\",MAX(ROUND(M339*B339*2,1)/2,0))","v":""},{"$f":"IF(OR($A339=\"\",N339=\"\"),\"\",ROUND(N339*8/5,1)/2)","v":""},{"$f":"IF(OR($A339=\"\",B339=\"\",N339=\"\"),\"\",ROUND(AE$3*C339*B339*16/50,1)/2)","v":""},{"$f":"IF(OR($A339=\"\",J339=\"\",N339=\"\"),\"\",MAX(O339+P339-N339,0))","v":""},{"$f":"P339","v":0},{"$f":"IF(OR($A339=\"\",N339=\"\"),\"\",ROUND((MAX(O339-Q339-AF339,0))*2,1)/2)","v":""},{"$f":"IF(D339=\"\",0,1)","v":0},{"$f":"IF(J339=\"\",0,IF(ROUND(J339,2)<=0,0,1))","v":0},{"$f":"IF(D339=\"\",0,D339)","v":0},{"$f":"IF(D339=\"\",0,F339)","v":0},{"$f":"IF('Stammdaten Mitarbeitende'!N339>0,AC339,0)","v":0},{"$f":"IF('Stammdaten Mitarbeitende'!N339>0,P339,0)","v":0},{"$f":"D339","v":0},{"$f":"F339","v":0},{"$f":"IF(AM339=\"\",0,MAX(AM339-AN339,0))","v":0}]
[{"$f":"'Stammdaten Mitarbeitende'!AA340","v":""},"",null,null,null,null,null,null,0,"",null,"","","","",null,"","",null,null,{"$f":"IF($A340=\"\",\"\",'Stammdaten Mitarbeitende'!L340)","v":""},0,"","","","","","","","","","",0,"",0,{"$f":"IF(J340=\"\",0,IF(ROUND(J340,2)<=0,0,1))","v":0},0,0,{"$f":"IF('Stammdaten Mitarbeitende'!N340>0,AC340,0)","v":0},{"$f":"IF('Stammdaten Mitarbeitende'!N340>0,P340,0)","v":0},0,0,0]
[{"$f":"'Stammdaten Mitarbeitende'!AA341","v":""},"",null,null,null,null,null,null,0,"",null,"","","","",null,"","",null,null,{"$f":"IF($A341=\"\",\"\",'Stammdaten Mitarbeitende'!L341)","v":""},0,"","","","","","","","","","",0,"",0,0,0,0,{"$f":"IF('Stammdaten Mitarbeitende'!N341>0,AC341,0)","v":0},{"$f":"IF('Stammdaten Mitarbeitende'!N341>0,P341,0)","v":0},0,0,0]
[{"$f":"'Stammdaten Mitarbeitende'!AA342","v":""},"",null,null,null,null,null,null,0,"",null,"","","","",null,"","",null,null,{"$f":"IF($A342=\"\",\"\",'Stammdaten Mitarbeitende'!L342)","v":""},0,"","","","","","","","","","",0,"",0,0,0,0,{"$f":"IF('Stammdaten Mitarbeitende'!N342>0,AC342,0)","v":0},{"$f":"IF('Stammdaten Mitarbeitende'!N342>0,P342,0)","v":0},0,0,0]
[{"$f":"'Stammdaten Mitarbeitende'!AA343","v":""},"",null,null,null,null,null,null,0,"",null,"","","","",null,"","",null,null,{"$f":"IF($A343=\"\",\"\",'Stammdaten Mitarbeitende'!L343)","v":""},0,"","","","","","","","","","",0,"",0,0,0,0,{"$f":"IF('Stammdaten Mitarbeitende'!N343>0,AC343,0)","v":0},{"$f":"IF('Stammdaten Mitarbeitende'!N343>0,P343,0)","v":0},0,0,0]
[{"$f":"'Stammdaten Mitarbeitende'!AA344","v":""},"",null,null,null,null,null,null,0,"",null,"","","","",null,"","",null,null,{"$f":"IF($A344=\"\",\"\",'Stammdaten Mitarbeitende'!L344)","v":""},0,"","","","","","","","","","",0,"",0,0,0,0,{"$f":"IF('Stammdaten Mitarbeitende'!N344>0,AC344,0)","v":0},{"$f":"IF('Stammdaten Mitarbeitende'!N344>0,P344,0)","v":0},0,0,0]
[{"$f":"'Stammdaten Mitarbeitende'!AA345","v":""},"",null,null,null,null,null,null,0,"",null,"","","","",null,"","",null,null,{"$f":"IF($A345=\"\",\"\",'Stammdaten Mitarbeitende'!L345)","v":""},0,"","","","","","","","","","",0,"",0,0,0,0,{"$f":"IF('Stammdaten Mitarbeitende'!N345>0,AC345,0)","v":0},{"$f":"IF('Stammdaten Mitarbeitende'!N345>0,P345,0)","v":0},0,0,0]
[{"$f":"'Stammdaten Mitarbeitende'!AA346","v":""},"",null,null,null,null,null,null,0,"",null,"","","","",null,"","",null,null,{"$f":"IF($A346=\"\",\"\",'Stammdaten Mitarbeitende'!L346)","v":""},0,"","","","","","","","","","",0,"",0,0,0,0,{"$f":"IF('Stammdaten Mitarbeitende'!N346>0,AC346,0)","v":0},{"$f":"IF('Stammdaten Mitarbeitende'!N346>0,P346,0)","v":0},0,0,0]
[{"$f":"'Stammdaten Mitarbeitende'!AA347","v":""},"",null,null,null,null,null,null,0,"",null,"","","","",null,"","",null,null,{"$f":"IF($A347=\"\",\"\",'Stammdaten Mitarbeitende'!L347)","v":""},0,"","","","","","","","","","",0,"",0,0,0,0,{"$f":"IF('Stammdaten Mitarbeitende'!N347>0,AC347,0)","v":0},{"$f":"IF('Stammdaten Mitarbeitende'!N347>0,P347,0)","v":0},0,0,0]
[{"$f":"'Stammdaten Mitarbeitende'!AA348","v":""},"",null,null,null,null,null,null,0,"",null,"","","","",null,"","",null,null,{"$f":"IF($A348=\"\",\"\",'Stammdaten Mitarbeitende'!L348)","v":""},0,"","","","","","","","","","",0,"",0,0,0,0,{"$f":"IF('Stammdaten Mitarbeitende'!N348>0,AC348,0)","v":0},{"$f":"IF('Stammdaten Mitarbeitende'!N348>0,P348,0)","v":0},0,0,0]
[{"$f":"'Stammdaten Mitarbeitende'!AA349","v":""},"",null,null,null,null,null,null,0,"",null,"","","","",null,"","",null,null,{"$f":"IF($A349=\"\",\"\",'Stammdaten Mitarbeitende'!L349)","v":""},0,"","","","","","","","","","",0,"",0,0,0,0,{"$f":"IF('Stammdaten Mitarbeitende'!N349>0,AC349,0)","v":0},{"$f":"IF('Stammdaten Mitarbeitende'!N349>0,P349,0)","v":0},0,0,0]
[{"$f":"'Stammdaten Mitarbeitende'!AA350","v":""},"",null,null,null,null,null,null,0,"",null,"","","","",null,"","",null,null,{"$f":"IF($A350=\"\",\"\",'Stammdaten Mitarbeitende'!L350)","v":""},0,"","","","","","","","","","",0,"",0,0,0,0,{"$f":"IF('Stammdaten Mitarbeitende'!N350>0,AC350,0)","v":0},{"$f":"IF('Stammdaten Mitarbeitende'!N350>0,P350,0)","v":0},0,0,0]
[{"$f":"'Stammdaten Mitarbeitende'!AA351","v":""},"",null,null,null,null,null,null,0,"",null,"","","","",null,"","",null,null,{"$f":"IF($A351=\"\",\"\",'Stammdaten Mitarbeitende'!L351)","v":""},0,"","","","","","","","","","",0,"",0,0,0,0,{"$f":"IF('Stammdaten Mitarbeitende'!N351>0,AC351,0)","v":0},{"$f":"IF('Stammdaten Mitarbeitende'!N351>0,P351,0)","v":0},0,0,0]
[{"$f":"'Stammdaten Mitarbeitende'!AA352","v":""},"",null,null,null,null,null,null,0,"",null,"","","","",null,"","",null,null,{"$f":"IF($A352=\"\",\"\",'Stammdaten Mitarbeitende'!L352)","v":""},0,"","","","","","","","","","",0,"",0,0,0,0,{"$f":"IF('Stammdaten Mitarbeitende'!N352>0,AC352,0)","v":0},{"$f":"IF('Stammdaten Mitarbeitende'!N352>0,P352,0)","v":0},0,0,0]
[{"$f":"'Stammdaten Mitarbeitende'!AA353","v":""},"",null,null,null,null,null,null,0,"",null,"","","","",null,"","",null,null,{"$f":"IF($A353=\"\",\"\",'Stammdaten Mitarbeitende'!L353)","v":""},0,"","","","","","","","","","",0,"",0,0,0,0,{"$f":"IF('Stammdaten Mitarbeitende'!N353>0,AC353,0)","v":0},{"$f":"IF('Stammdaten Mitarbeitende'!N353>0,P353,0)","v":0},0,0,0]
[{"$f":"'Stammdaten Mitarbeitende'!AA354","v":""},"",null,null,null,null,null,null,0,"",null,"","","","",null,"","",null,null,{"$f":"IF($A354=\"\",\"\",'Stammdaten Mitarbeitende'!L354)","v":""},0,"","","","","","","","","","",0,"",0,0,0,0,{"$f":"IF('Stammdaten Mitarbeitende'!N354>0,AC354,0)","v":0},{"$f":"IF('Stammdaten Mitarbeitende'!N354>0,P354,0)","v":0},0,0,0]
[{"$f":"'Stammdaten Mitarbeitende'!AA355","v":""},"",null,null,null,null,null,null,0,"",null,"","","","",null,"","",null,null,{"$f":"IF($A355=\"\",\"\",'Stammdaten Mitarbeitende'!L355)","v":""},0,"","","","","","","","","","",0,"",0,0,0,0,{"$f":"IF('Stammdaten Mitarbeitende'!N355>0,AC355,0)","v":0},{"$f":"IF('Stammdaten Mitarbeitende'!N355>0,P355,0)","v":0},0,0,0]
[{"$f":"'Stammdaten Mitarbeitende'!AA356","v":""},"",null,null,null,null,null,null,0,"",null,"","","","",null,"","",null,null,{"$f":"IF($A356=\"\",\"\",'Stammdaten Mitarbeitende'!L356)","v":""},0,"","","","","","","","","","",0,"",0,0,0,0,{"$f":"IF('Stammdaten Mitarbeitende'!N356>0,AC356,0)","v":0},{"$f":"IF('Stammdaten Mitarbeitende'!N356>0,P356,0)","v":0},0,0,0]
[{"$f":"'Stammdaten Mitarbeitende'!AA357","v":""},"",null,null,null,null,null,null,0,"",null,"","","","",null,"","",null,null,{"$f":"IF($A357=\"\",\"\",'Stammdaten Mitarbeitende'!L357)","v":""},0,"","","","","","","","","","",0,"",0,0,0,0,{"$f":"IF('Stammdaten Mitarbeitende'!N357>0,AC357,0)","v":0},{"$f":"IF('Stammdaten Mitarbeitende'!N357>0,P357,0)","v":0},0,0,0]
[{"$f":"'Stammdaten Mitarbeitende'!AA358","v":""},"",null,null,null,null,null,null,0,"",null,"","","","",null,"","",null,null,{"$f":"IF($A358=\"\",\"\",'Stammdaten Mitarbeitende'!L358)","v":""},0,"","","","","","","","","","",0,"",0,0,0,0,{"$f":"IF('Stammdaten Mitarbeitende'!N358>0,AC358,0)","v":0},{"$f":"IF('Stammdaten Mitarbeitende'!N358>0,P358,0)","v":0},0,0,0]
[{"$f":"'Stammdaten Mitarbeitende'!AA359","v":""},"",null,null,null,null,null,null,0,"",null,"","","","",null,"","",null,null,{"$f":"IF($A359=\"\",\"\",'Stammdaten Mitarbeitende'!L359)","v":""},0,"","","","","","","","","","",0,"",0,0,0,0,{"$f":"IF('Stammdaten Mitarbeitende'!N359>0,AC359,0)","v":0},{"$f":"IF('Stammdaten Mitarbeitende'!N359>0,P359,0)","v":0},0,0,0]
[{"$f":"Übersetzungstexte!A$296","v":"Seitentotal"},null,null,{"$f":"SUM(D339:D359)","v":0},null,{"$f":"SUM(F339:F359)","v":0},null,null,null,{"$f":"SUM(J339:J359)","v":0},null,null,null,{"$f":"SUM(N339:N359)","v":0},null,{"$f":"SUM(P339:P359)","v":0},null,{"$f":"SUM(R339:R359)","v":0}]
[{"$f":"'Stammdaten Betrieb & Abteilung'!D$1","v":"  "},null,null,null,null,null,null,null,null,null,null,null,{"$f":"Übersetzungstexte!A$239","v":"Betrieb / Betriebsabteilung"},{"$f":"'Stammdaten Betrieb & Abteilung'!D$13","v":" "}]
[{"$f":"'Stammdaten Betrieb & Abteilung'!D$3","v":" "},null,null,null,null,null,null,null,null,null,null,null,{"$f":"Übersetzungstexte!A$240","v":"Abrechnungsperiode"},{"$f":"'Stammdaten Betrieb & Abteilung'!D$14","v":""},null,{"$f":"'Stammdaten Betrieb & Abteilung'!D$12","v":{"$error":"#VALUE!"}}]
[{"$f":"'Stammdaten Betrieb & Abteilung'!D$4","v":" "},null,null,null,null,null,null,null,null,null,null,null,{"$f":"Übersetzungstexte!A$241","v":"Beginn / Ende der Kurzarbeit"},{"$f":"'Stammdaten Betrieb & Abteilung'!D$16","v":""}]
[]
[1,2,3,4,5,6,null,7,null,8,9,10,11,12,13,null,14,15,null,null,null,"Regel 7","Regel 8",null,"Regel 9","Regel 10","Regel 11","Regel 12","Regel 13","Regel 14","Regel 15","Regel 17",null,"Regel 19/20",null,null,null,null,"AHV-pflichtiger","AHV-pflichtiger",null,null,"AHV-pflichtige"]
[{"$f":"Übersetzungstexte!A$242","v":""},{"$f":"Übersetzungstexte!A$245","v":"anrechen-"},{"$f":"Übersetzungstexte!A$248","v":"Wöchentl."},{"$f":"Übersetzungstexte!A$251","v":"Sollstd. Abr.-"},{"$f":"Übersetzungstexte!A$254","v":""},{"$f":"Übersetzungstexte!A$257","v":"Bezahlte/"},null,{"$f":"Übersetzungstexte!A$263","v":"(nur für Gleitzeit)"},null,{"$f":"Übersetzungstexte!A$269","v":"Ausfall-"},{"$f":"Übersetzungstexte!A$272","v":"Saldo"},{"$f":"Übersetzungstexte!A$275","v":"Saisonale"},{"$f":"Übersetzungstexte!A$278","v":"Anrechen-"},{"$f":"Übersetzungstexte!A$281","v":"Verdienst-"},{"$f":"Übersetzungstexte!A$284","v":"Verdienst-"},{"$f":"Übersetzungstexte!A$287","v":"Verdienst"},{"$f":"AE$4","v":"Abzug "},{"$f":"Übersetzungstexte!A$293","v":""},null,null,"anrechen-","Gleitzeit","Ausfall-","Max(D12,0)","Prozentualer","Saisonale","Proz. Wirts. Bed.","Anrechen-","Verdienst-","Verdienst-","Abzug","Abzug","Verdienst",null,"Anzahl","Anzahl","Sollstd.","Absenzen","Verdienst-","Verdienst","Sollstd.","bezahlte/","Abzugsbasis"]
[{"$f":"Übersetzungstexte!A$243","v":""},{"$f":"Übersetzungstexte!A$246","v":"barer Std.-"},{"$f":"Übersetzungstexte!A$249","v":"Arbeitszeit"},{"$f":"Übersetzungstexte!A$252","v":"Periode Inkl."},{"$f":"Übersetzungstexte!A$255","v":""},{"$f":"Übersetzungstexte!A$258","v":"Unbezahlte"},{"$f":"Übersetzungstexte!A$261","v":"Saldo Ende Per."},null,null,{"$f":"Übersetzungstexte!A$270","v":"stunden"},{"$f":"Übersetzungstexte!A$273","v":"Mehrstd."},{"$f":"Übersetzungstexte!A$276","v":"Ausfall-"},{"$f":"Übersetzungstexte!A$279","v":"bare Aus-"},{"$f":"Übersetzungstexte!A$282","v":"ausfall"},{"$f":"Übersetzungstexte!A$285","v":"ausfall"},{"$f":"Übersetzungstexte!A$288","v":"Zwischen-"},{"$f":"Übersetzungstexte!A$291","v":"Karenztage"},{"$f":"Übersetzungstexte!A$294","v":"Beantragte"},null,null,"barer Std.-","c","stunden",null,"Arbeitsausfall","Ausfall-","Arbeitsausfall","bare ","ausfall","ausfall","Karenztage","Zwischen-","Zwischen-","Beantragte","bezugsber.","betroffene","bezugsber.","bezugsber.","ausfall","Zwischen-","inkl","unbezahlte"]
[{"$f":"Übersetzungstexte!A$244","v":"Name,Vorname"},{"$f":"Übersetzungstexte!A$247","v":"Verdienst"},{"$f":"Übersetzungstexte!A$250","v":"in der AP"},{"$f":"Übersetzungstexte!A$253","v":"Vorholzeit"},{"$f":"Übersetzungstexte!A$256","v":"Istzeit"},{"$f":"Übersetzungstexte!A$259","v":"Absenzen"},{"$f":"Übersetzungstexte!A$262","v":"vorherg."},{"$f":"Übersetzungstexte!A$265","v":"laufend"},{"$f":"Übersetzungstexte!A$268","v":"Diff."},{"$f":"Übersetzungstexte!A$271","v":"total"},{"$f":"Übersetzungstexte!A$274","v":"Vormonate"},{"$f":"Übersetzungstexte!A$277","v":"stunden"},{"$f":"Übersetzungstexte!A$280","v":"fall-Std."},{"$f":"Übersetzungstexte!A$283","v":"100%"},{"$f":"Übersetzungstexte!A$286","v":"80%"},{"$f":"Übersetzungstexte!A$289","v":"Beschäftigung"},{"$f":"Übersetzungstexte!A$292","v":"80%"},{"$f":"Übersetzungstexte!A$295","v":"Vergütung"},null,null,"Verdienst",null,"Total",null,"pAA","stunden","pwAA","Ausfall-Std.","100%","80%","80%","beschäftigung","beschäftigung","Vergütung","Mitarbeiter","Mitarbeiter","Mitarbeiter","Mitarbeiter","100%","beschäftigung","Vorholzeit","Ansenzen"]
[{"$f":"'Stammdaten Mitarbeitende'!AA369","v":""},{"$f":"U369","v":""},null,null,null,null,null,null,{"$f":"V369","v":0},{"$f":"W369","v":""},null,{"$f":"Z369","v":""},{"$f":"AB369","v":""},{"$f":"AC369","v":""},{"$f":"AD369","v":""},null,{"$f":"AE369","v":""},{"$f":"AH369","v":""},null,null,{"$f":"IF($A369=\"\",\"\",'Stammdaten Mitarbeitende'!L369)","v":""},{"$f":"IF(AND(G369=\"\",H369=\"\"),0,G369-H369)","v":0},{"$f":"IF(OR($A369=\"\",D369=\"\",E369=\"\",F369=\"\",V369=\"\"),\"\",D369-(E369+F369+V369))","v":""},{"$f":"IF(W369=\"\",\"\",MAX(W369,0))","v":""},{"$f":"IF(J369=\"\",\"\",Y$4)","v":""},{"$f":"IF(J369=\"\",\"\",J369*Z$4)","v":""},{"$f":"IF(Y369=\"\",\"\",AA$4)","v":""},{"$f":"IF(J369=\"\",\"\",ROUND(J369*AB$4 - MAX(K369-L369,0),2))","v":""},{"$f":"IF(OR($A369=\"\",J369=\"\",B369=\"\",M369<0),\"\",MAX(ROUND(M369*B369*2,1)/2,0))","v":""},{"$f":"IF(OR($A369=\"\",N369=\"\"),\"\",ROUND(N369*8/5,1)/2)","v":""},{"$f":"IF(OR($A369=\"\",B369=\"\",N369=\"\"),\"\",ROUND(AE$3*C369*B369*16/50,1)/2)","v":""},{"$f":"IF(OR($A369=\"\",J369=\"\",N369=\"\"),\"\",MAX(O369+P369-N369,0))","v":""},{"$f":"P369","v":0},{"$f":"IF(OR($A369=\"\",N369=\"\"),\"\",ROUND((MAX(O369-Q369-AF369,0))*2,1)/2)","v":""},{"$f":"IF(D369=\"\",0,1)","v":0},{"$f":"IF(J369=\"\",0,IF(ROUND(J369,2)<=0,0,1))","v":0},{"$f":"IF(D369=\"\",0,D369)","v":0},{"$f":"IF(D369=\"\",0,F369)","v":0},{"$f":"IF('Stammdaten Mitarbeitende'!N369>0,AC369,0)","v":0},{"$f":"IF('Stammdaten Mitarbeitende'!N369>0,P369,0)","v":0},{"$f":"D369","v":0},{"$f":"F369","v":0},{"$f":"IF(AM369=\"\",0,MAX(AM369-AN369,0))","v":0}]
[{"$f":"'Stammdaten Mitarbeitende'!AA370","v":""},"",null,null,null,null,null,null,0,"",null,"","","","",null,"","",null,null,{"$f":"IF($A370=\"\",\"\",'Stammdaten Mitarbeitende'!L370)","v":""},0,"","","","","","","","","","",0,"",0,{"$f":"IF(J370=\"\",0,IF(ROUND(J370,2)<=0,0,1))","v":0},0,0,{"$f":"IF('Stammdaten Mitarbeitende'!N370>0,AC370,0)","v":0},{"$f":"IF('Stammdaten Mitarbeitende'!N370>0,P370,0)","v":0},0,0,0]
[{"$f":"'Stammdaten Mitarbeitende'!AA371","v":""},"",null,null,null,null,null,null,0,"",null,"","","","",null,"","",null,null,{"$f":"IF($A371=\"\",\"\",'Stammdaten Mitarbeitende'!L371)","v":""},0,"","","","","","","","","","",0,"",0,0,0,0,{"$f":"IF('Stammdaten Mitarbeitende'!N371>0,AC371,0)","v":0},{"$f":"IF('Stammdaten Mitarbeitende'!N371>0,P371,0)","v":0},0,0,0]
[{"$f":"'Stammdaten Mitarbeitende'!AA372","v":""},"",null,null,null,null,null,null,0,"",null,"","","","",null,"","",null,null,{"$f":"IF($A372=\"\",\"\",'Stammdaten Mitarbeitende'!L372)","v":""},0,"","","","","","","","","","",0,"",0,0,0,0,{"$f":"IF('Stammdaten Mitarbeitende'!N372>0,AC372,0)","v":0},{"$f":"IF('Stammdaten Mitarbeitende'!N372>0,P372,0)","v":0},0,0,0]
[{"$f":"'Stammdaten Mitarbeitende'!AA373","v":""},"",null,null,null,null,null,null,0,"",null,"","","","",null,"","",null,null,{"$f":"IF($A373=\"\",\"\",'Stammdaten Mitarbeitende'!L373)","v":""},0,"","","","","","","","","","",0,"",0,0,0,0,{"$f":"IF('Stammdaten Mitarbeitende'!N373>0,AC373,0)","v":0},{"$f":"IF('Stammdaten Mitarbeitende'!N373>0,P373,0)","v":0},0,0,0]
[{"$f":"'Stammdaten Mitarbeitende'!AA374","v":""},"",null,null,null,null,null,null,0,"",null,"","","","",null,"","",null,null,{"$f":"IF($A374=\"\",\"\",'Stammdaten Mitarbeitende'!L374)","v":""},0,"","","","","","","","","","",0,"",0,0,0,0,{"$f":"IF('Stammdaten Mitarbeitende'!N374>0,AC374,0)","v":0},{"$f":"IF('Stammdaten Mitarbeitende'!N374>0,P374,0)","v":0},0,0,0]
[{"$f":"'Stammdaten Mitarbeitende'!AA375","v":""},"",null,null,null,null,null,null,0,"",null,"","","","",null,"","",null,null,{"$f":"IF($A375=\"\",\"\",'Stammdaten Mitarbeitende'!L375)","v":""},0,"","","","","","","","","","",0,"",0,0,0,0,{"$f":"IF('Stammdaten Mitarbeitende'!N375>0,AC375,0)","v":0},{"$f":"IF('Stammdaten Mitarbeitende'!N375>0,P375,0)","v":0},0,0,0]
[{"$f":"'Stammdaten Mitarbeitende'!AA376","v":""},"",null,null,null,null,null,null,0,"",null,"","","","",null,"","",null,null,{"$f":"IF($A376=\"\",\"\",'Stammdaten Mitarbeitende'!L376)","v":""},0,"","","","","","","","","","",0,"",0,0,0,0,{"$f":"IF('Stammdaten Mitarbeitende'!N376>0,AC376,0)","v":0},{"$f":"IF('Stammdaten Mitarbeitende'!N376>0,P376,0)","v":0},0,0,0]
[{"$f":"'Stammdaten Mitarbeitende'!AA377","v":""},"",null,null,null,null,null,null,0,"",null,"","","","",null,"","",null,null,{"$f":"IF($A377=\"\",\"\",'Stammdaten Mitarbeitende'!L377)","v":""},0,"","","","","","","","","","",0,"",0,0,0,0,{"$f":"IF('Stammdaten Mitarbeitende'!N377>0,AC377,0)","v":0},{"$f":"IF('Stammdaten Mitarbeitende'!N377>0,P377,0)","v":0},0,0,0]
[{"$f":"'Stammdaten Mitarbeitende'!AA378","v":""},"",null,null,null,null,null,null,0,"",null,"","","","",null,"","",null,null,{"$f":"IF($A378=\"\",\"\",'Stammdaten Mitarbeitende'!L378)","v":""},0,"","","","","","","","","","",0,"",0,0,0,0,{"$f":"IF('Stammdaten Mitarbeitende'!N378>0,AC378,0)","v":0},{"$f":"IF('Stammdaten Mitarbeitende'!N378>0,P378,0)","v":0},0,0,0]
[{"$f":"'Stammdaten Mitarbeitende'!AA379","v":""},"",null,null,null,null,null,null,0,"",null,"","","","",null,"","",null,null,{"$f":"IF($A379=\"\",\"\",'Stammdaten Mitarbeitende'!L379)","v":""},0,"","","","","","","","","","",0,"",0,0,0,0,{"$f":"IF('Stammdaten Mitarbeitende'!N379>0,AC379,0)","v":0},{"$f":"IF('Stammdaten Mitarbeitende'!N379>0,P379,0)","v":0},0,0,0]
[{"$f":"'Stammdaten Mitarbeitende'!AA380","v":""},"",null,null,null,null,null,null,0,"",null,"","","","",null,"","",null,null,{"$f":"IF($A380=\"\",\"\",'Stammdaten Mitarbeitende'!L380)","v":""},0,"","","","","","","","","","",0,"",0,0,0,0,{"$f":"IF('Stammdaten Mitarbeitende'!N380>0,AC380,0)","v":0},{"$f":"IF('Stammdaten Mitarbeitende'!N380>0,P380,0)","v":0},0,0,0]
[{"$f":"'Stammdaten Mitarbeitende'!AA381","v":""},"",null,null,null,null,null,null,0,"",null,"","","","",null,"","",null,null,{"$f":"IF($A381=\"\",\"\",'Stammdaten Mitarbeitende'!L381)","v":""},0,"","","","","","","","","","",0,"",0,0,0,0,{"$f":"IF('Stammdaten Mitarbeitende'!N381>0,AC381,0)","v":0},{"$f":"IF('Stammdaten Mitarbeitende'!N381>0,P381,0)","v":0},0,0,0]
[{"$f":"'Stammdaten Mitarbeitende'!AA382","v":""},"",null,null,null,null,null,null,0,"",null,"","","","",null,"","",null,null,{"$f":"IF($A382=\"\",\"\",'Stammdaten Mitarbeitende'!L382)","v":""},0,"","","","","","","","","","",0,"",0,0,0,0,{"$f":"IF('Stammdaten Mitarbeitende'!N382>0,AC382,0)","v":0},{"$f":"IF('Stammdaten Mitarbeitende'!N382>0,P382,0)","v":0},0,0,0]
[{"$f":"'Stammdaten Mitarbeitende'!AA383","v":""},"",null,null,null,null,null,null,0,"",null,"","","","",null,"","",null,null,{"$f":"IF($A383=\"\",\"\",'Stammdaten Mitarbeitende'!L383)","v":""},0,"","","","","","","","","","",0,"",0,0,0,0,{"$f":"IF('Stammdaten Mitarbeitende'!N383>0,AC383,0)","v":0},{"$f":"IF('Stammdaten Mitarbeitende'!N383>0,P383,0)","v":0},0,0,0]
[{"$f":"'Stammdaten Mitarbeitende'!AA384","v":""},"",null,null,null,null,null,null,0,"",null,"","","","",null,"","",null,null,{"$f":"IF($A384=\"\",\"\",'Stammdaten Mitarbeitende'!L384)","v":""},0,"","","","","","","","","","",0,"",0,0,0,0,{"$f":"IF('Stammdaten Mitarbeitende'!N384>0,AC384,0)","v":0},{"$f":"IF('Stammdaten Mitarbeitende'!N384>0,P384,0)","v":0},0,0,0]
[{"$f":"'Stammdaten Mitarbeitende'!AA385","v":""},"",null,null,null,null,null,null,0,"",null,"","","","",null,"","",null,null,{"$f":"IF($A385=\"\",\"\",'Stammdaten Mitarbeitende'!L385)","v":""},0,"","","","","","","","","","",0,"",0,0,0,0,{"$f":"IF('Stammdaten Mitarbeitende'!N385>0,AC385,0)","v":0},{"$f":"IF('Stammdaten Mitarbeitende'!N385>0,P385,0)","v":0},0,0,0]
[{"$f":"'Stammdaten Mitarbeitende'!AA386","v":""},"",null,null,null,null,null,null,0,"",null,"","","","",null,"","",null,null,{"$f":"IF($A386=\"\",\"\",'Stammdaten Mitarbeitende'!L386)","v":""},0,"","","","","","","","","","",0,"",0,0,0,0,{"$f":"IF('Stammdaten Mitarbeitende'!N386>0,AC386,0)","v":0},{"$f":"IF('Stammdaten Mitarbeitende'!N386>0,P386,0)","v":0},0,0,0]
[{"$f":"'Stammdaten Mitarbeitende'!AA387","v":""},"",null,null,null,null,null,null,0,"",null,"","","","",null,"","",null,null,{"$f":"IF($A387=\"\",\"\",'Stammdaten Mitarbeitende'!L387)","v":""},0,"","","","","","","","","","",0,"",0,0,0,0,{"$f":"IF('Stammdaten Mitarbeitende'!N387>0,AC387,0)","v":0},{"$f":"IF('Stammdaten Mitarbeitende'!N387>0,P387,0)","v":0},0,0,0]
[{"$f":"'Stammdaten Mitarbeitende'!AA388","v":""},"",null,null,null,null,null,null,0,"",null,"","","","",null,"","",null,null,{"$f":"IF($A388=\"\",\"\",'Stammdaten Mitarbeitende'!L388)","v":""},0,"","","","","","","","","","",0,"",0,0,0,0,{"$f":"IF('Stammdaten Mitarbeitende'!N388>0,AC388,0)","v":0},{"$f":"IF('Stammdaten Mitarbeitende'!N388>0,P388,0)","v":0},0,0,0]
[{"$f":"'Stammdaten Mitarbeitende'!AA389","v":""},"",null,null,null,null,null,null,0,"",null,"","","","",null,"","",null,null,{"$f":"IF($A389=\"\",\"\",'Stammdaten Mitarbeitende'!L389)","v":""},0,"","","","","","","","","","",0,"",0,0,0,0,{"$f":"IF('Stammdaten Mitarbeitende'!N389>0,AC389,0)","v":0},{"$f":"IF('Stammdaten Mitarbeitende'!N389>0,P389,0)","v":0},0,0,0]
[{"$f":"Übersetzungstexte!A$296","v":"Seitentotal"},null,null,{"$f":"SUM(D369:D389)","v":0},null,{"$f":"SUM(F369:F389)","v":0},null,null,null,{"$f":"SUM(J369:J389)","v":0},null,null,null,{"$f":"SUM(N369:N389)","v":0},null,{"$f":"SUM(P369:P389)","v":0},null,{"$f":"SUM(R369:R389)","v":0}]
[{"$f":"'Stammdaten Betrieb & Abteilung'!D$1","v":"  "},null,null,null,null,null,null,null,null,null,null,null,{"$f":"Übersetzungstexte!A$239","v":"Betrieb / Betriebsabteilung"},{"$f":"'Stammdaten Betrieb & Abteilung'!D$13","v":" "}]
[{"$f":"'Stammdaten Betrieb & Abteilung'!D$3","v":" "},null,null,null,null,null,null,null,null,null,null,null,{"$f":"Übersetzungstexte!A$240","v":"Abrechnungsperiode"},{"$f":"'Stammdaten Betrieb & Abteilung'!D$14","v":""},null,{"$f":"'Stammdaten Betrieb & Abteilung'!D$12","v":{"$error":"#VALUE!"}}]
[{"$f":"'Stammdaten Betrieb & Abteilung'!D$4","v":" "},null,null,null,null,null,null,null,null,null,null,null,{"$f":"Übersetzungstexte!A$241","v":"Beginn / Ende der Kurzarbeit"},{"$f":"'Stammdaten Betrieb & Abteilung'!D$16","v":""}]
[]
[1,2,3,4,5,6,null,7,null,8,9,10,11,12,13,null,14,15,null,null,null,"Regel 7","Regel 8",null,"Regel 9","Regel 10","Regel 11","Regel 12","Regel 13","Regel 14","Regel 15","Regel 17",null,"Regel 19/20",null,null,null,null,"AHV-pflichtiger","AHV-pflichtiger",null,null,"AHV-pflichtige"]
[{"$f":"Übersetzungstexte!A$242","v":""},{"$f":"Übersetzungstexte!A$245","v":"anrechen-"},{"$f":"Übersetzungstexte!A$248","v":"Wöchentl."},{"$f":"Übersetzungstexte!A$251","v":"Sollstd. Abr.-"},{"$f":"Übersetzungstexte!A$254","v":""},{"$f":"Übersetzungstexte!A$257","v":"Bezahlte/"},null,{"$f":"Übersetzungstexte!A$263","v":"(nur für Gleitzeit)"},null,{"$f":"Übersetzungstexte!A$269","v":"Ausfall-"},{"$f":"Übersetzungstexte!A$272","v":"Saldo"},{"$f":"Übersetzungstexte!A$275","v":"Saisonale"},{"$f":"Übersetzungstexte!A$278","v":"Anrechen-"},{"$f":"Übersetzungstexte!A$281","v":"Verdienst-"},{"$f":"Übersetzungstexte!A$284","v":"Verdienst-"},{"$f":"Übersetzungstexte!A$287","v":"Verdienst"},{"$f":"AE$4","v":"Abzug "},{"$f":"Übersetzungstexte!A$293","v":""},null,null,"anrechen-","Gleitzeit","Ausfall-","Max(D12,0)","Prozentualer","Saisonale","Proz. Wirts. Bed.","Anrechen-","Verdienst-","Verdienst-","Abzug","Abzug","Verdienst",null,"Anzahl","Anzahl","Sollstd.","Absenzen","Verdienst-","Verdienst","Sollstd.","bezahlte/","Abzugsbasis"]
[{"$f":"Übersetzungstexte!A$243","v":""},{"$f":"Übersetzungstexte!A$246","v":"barer Std.-"},{"$f":"Übersetzungstexte!A$249","v":"Arbeitszeit"},{"$f":"Übersetzungstexte!A$252","v":"Periode Inkl."},{"$f":"Übersetzungstexte!A$255","v":""},{"$f":"Übersetzungstexte!A$258","v":"Unbezahlte"},{"$f":"Übersetzungstexte!A$261","v":"Saldo Ende Per."},null,null,{"$f":"Übersetzungstexte!A$270","v":"stunden"},{"$f":"Übersetzungstexte!A$273","v":"Mehrstd."},{"$f":"Übersetzungstexte!A$276","v":"Ausfall-"},{"$f":"Übersetzungstexte!A$279","v":"bare Aus-"},{"$f":"Übersetzungstexte!A$282","v":"ausfall"},{"$f":"Übersetzungstexte!A$285","v":"ausfall"},{"$f":"Übersetzungstexte!A$288","v":"Zwischen-"},{"$f":"Übersetzungstexte!A$291","v":"Karenztage"},{"$f":"Übersetzungstexte!A$294","v":"Beantragte"},null,null,"barer Std.-","c","stunden",null,"Arbeitsausfall","Ausfall-","Arbeitsausfall","bare ","ausfall","ausfall","Karenztage","Zwischen-","Zwischen-","Beantragte","bezugsber.","betroffene","bezugsber.","bezugsber.","ausfall","Zwischen-","inkl","unbezahlte"]
[{"$f":"Übersetzungstexte!A$244","v":"Name,Vorname"},{"$f":"Übersetzungstexte!A$247","v":"Verdienst"},{"$f":"Übersetzungstexte!A$250","v":"in der AP"},{"$f":"Übersetzungstexte!A$253","v":"Vorholzeit"},{"$f":"Übersetzungstexte!A$256","v":"Istzeit"},{"$f":"Übersetzungstexte!A$259","v":"Absenzen"},{"$f":"Übersetzungstexte!A$262","v":"vorherg."},{"$f":"Übersetzungstexte!A$265","v":"laufend"},{"$f":"Übersetzungstexte!A$268","v":"Diff."},{"$f":"Übersetzungstexte!A$271","v":"total"},{"$f":"Übersetzungstexte!A$274","v":"Vormonate"},{"$f":"Übersetzungstexte!A$277","v":"stunden"},{"$f":"Übersetzungstexte!A$280","v":"fall-Std."},{"$f":"Übersetzungstexte!A$283","v":"100%"},{"$f":"Übersetzungstexte!A$286","v":"80%"},{"$f":"Übersetzungstexte!A$289","v":"Beschäftigung"},{"$f":"Übersetzungstexte!A$292","v":"80%"},{"$f":"Übersetzungstexte!A$295","v":"Vergütung"},null,null,"Verdienst",null,"Total",null,"pAA","stunden","pwAA","Ausfall-Std.","100%","80%","80%","beschäftigung","beschäftigung","Vergütung","Mitarbeiter","Mitarbeiter","Mitarbeiter","Mitarbeiter","100%","beschäftigung","Vorholzeit","Ansenzen"]
[{"$f":"'Stammdaten Mitarbeitende'!AA399","v":""},{"$f":"U399","v":""},null,null,null,null,null,null,{"$f":"V399","v":0},{"$f":"W399","v":""},null,{"$f":"Z399","v":""},{"$f":"AB399","v":""},{"$f":"AC399","v":""},{"$f":"AD399","v":""},null,{"$f":"AE399","v":""},{"$f":"AH399","v":""},null,null,{"$f":"IF($A399=\"\",\"\",'Stammdaten Mitarbeitende'!L399)","v":""},{"$f":"IF(AND(G399=\"\",H399=\"\"),0,G399-H399)","v":0},{"$f":"IF(OR($A399=\"\",D399=\"\",E399=\"\",F399=\"\",V399=\"\"),\"\",D399-(E399+F399+V399))","v":""},{"$f":"IF(W399=\"\",\"\",MAX(W399,0))","v":""},{"$f":"IF(J399=\"\",\"\",Y$4)","v":""},{"$f":"IF(J399=\"\",\"\",J399*Z$4)","v":""},{"$f":"IF(Y399=\"\",\"\",AA$4)","v":""},{"$f":"IF(J399=\"\",\"\",ROUND(J399*AB$4 - MAX(K399-L399,0),2))","v":""},{"$f":"IF(OR($A399=\"\",J399=\"\",B399=\"\",M399<0),\"\",MAX(ROUND(M399*B399*2,1)/2,0))","v":""},{"$f":"IF(OR($A399=\"\",N399=\"\"),\"\",ROUND(N399*8/5,1)/2)","v":""},{"$f":"IF(OR($A399=\"\",B399=\"\",N399=\"\"),\"\",ROUND(AE$3*C399*B399*16/50,1)/2)","v":""},{"$f":"IF(OR($A399=\"\",J399=\"\",N399=\"\"),\"\",MAX(O399+P399-N399,0))","v":""},{"$f":"P399","v":0},{"$f":"IF(OR($A399=\"\",N399=\"\"),\"\",ROUND((MAX(O399-Q399-AF399,0))*2,1)/2)","v":""},{"$f":"IF(D399=\"\",0,1)","v":0},{"$f":"IF(J399=\"\",0,IF(ROUND(J399,2)<=0,0,1))","v":0},{"$f":"IF(D399=\"\",0,D399)","v":0},{"$f":"IF(D399=\"\",0,F399)","v":0},{"$f":"IF('Stammdaten Mitarbeitende'!N399>0,AC399,0)","v":0},{"$f":"IF('Stammdaten Mitarbeitende'!N399>0,P399,0)","v":0},{"$f":"D399","v":0},{"$f":"F399","v":0},{"$f":"IF(AM399=\"\",0,MAX(AM399-AN399,0))","v":0}]
[{"$f":"'Stammdaten Mitarbeitende'!AA400","v":""},"",null,null,null,null,null,null,0,"",null,"","","","",null,"","",null,null,{"$f":"IF($A400=\"\",\"\",'Stammdaten Mitarbeitende'!L400)","v":""},0,"","","","","","","","","","",0,"",0,{"$f":"IF(J400=\"\",0,IF(ROUND(J400,2)<=0,0,1))","v":0},0,0,{"$f":"IF('Stammdaten Mitarbeitende'!N400>0,AC400,0)","v":0},{"$f":"IF('Stammdaten Mitarbeitende'!N400>0,P400,0)","v":0},0,0,0]
[{"$f":"'Stammdaten Mitarbeitende'!AA401","v":""},"",null,null,null,null,null,null,0,"",null,"","","","",null,"","",null,null,{"$f":"IF($A401=\"\",\"\",'Stammdaten Mitarbeitende'!L401)","v":""},0,"","","","","","","","","","",0,"",0,0,0,0,{"$f":"IF('Stammdaten Mitarbeitende'!N401>0,AC401,0)","v":0},{"$f":"IF('Stammdaten Mitarbeitende'!N401>0,P401,0)","v":0},0,0,0]
[{"$f":"'Stammdaten Mitarbeitende'!AA402","v":""},"",null,null,null,null,null,null,0,"",null,"","","","",null,"","",null,null,{"$f":"IF($A402=\"\",\"\",'Stammdaten Mitarbeitende'!L402)","v":""},0,"","","","","","","","","","",0,"",0,0,0,0,{"$f":"IF('Stammdaten Mitarbeitende'!N402>0,AC402,0)","v":0},{"$f":"IF('Stammdaten Mitarbeitende'!N402>0,P402,0)","v":0},0,0,0]
[{"$f":"'Stammdaten Mitarbeitende'!AA403","v":""},"",null,null,null,null,null,null,0,"",null,"","","","",null,"","",null,null,{"$f":"IF($A403=\"\",\"\",'Stammdaten Mitarbeitende'!L403)","v":""},0,"","","","","","","","","","",0,"",0,0,0,0,{"$f":"IF('Stammdaten Mitarbeitende'!N403>0,AC403,0)","v":0},{"$f":"IF('Stammdaten Mitarbeitende'!N403>0,P403,0)","v":0},0,0,0]
[{"$f":"'Stammdaten Mitarbeitende'!AA404","v":""},"",null,null,null,null,null,null,0,"",null,"","","","",null,"","",null,null,{"$f":"IF($A404=\"\",\"\",'Stammdaten Mitarbeitende'!L404)","v":""},0,"","","","","","","","","","",0,"",0,0,0,0,{"$f":"IF('Stammdaten Mitarbeitende'!N404>0,AC404,0)","v":0},{"$f":"IF('Stammdaten Mitarbeitende'!N404>0,P404,0)","v":0},0,0,0]
[{"$f":"'Stammdaten Mitarbeitende'!AA405","v":""},"",null,null,null,null,null,null,0,"",null,"","","","",null,"","",null,null,{"$f":"IF($A405=\"\",\"\",'Stammdaten Mitarbeitende'!L405)","v":""},0,"","","","","","","","","","",0,"",0,0,0,0,{"$f":"IF('Stammdaten Mitarbeitende'!N405>0,AC405,0)","v":0},{"$f":"IF('Stammdaten Mitarbeitende'!N405>0,P405,0)","v":0},0,0,0]
[{"$f":"'Stammdaten Mitarbeitende'!AA406","v":""},"",null,null,null,null,null,null,0,"",null,"","","","",null,"","",null,null,{"$f":"IF($A406=\"\",\"\",'Stammdaten Mitarbeitende'!L406)","v":""},0,"","","","","","","","","","",0,"",0,0,0,0,{"$f":"IF('Stammdaten Mitarbeitende'!N406>0,AC406,0)","v":0},{"$f":"IF('Stammdaten Mitarbeitende'!N406>0,P406,0)","v":0},0,0,0]
[{"$f":"'Stammdaten Mitarbeitende'!AA407","v":""},"",null,null,null,null,null,null,0,"",null,"","","","",null,"","",null,null,{"$f":"IF($A407=\"\",\"\",'Stammdaten Mitarbeitende'!L407)","v":""},0,"","","","","","","","","","",0,"",0,0,0,0,{"$f":"IF('Stammdaten Mitarbeitende'!N407>0,AC407,0)","v":0},{"$f":"IF('Stammdaten Mitarbeitende'!N407>0,P407,0)","v":0},0,0,0]
[{"$f":"'Stammdaten Mitarbeitende'!AA408","v":""},"",null,null,null,null,null,null,0,"",null,"","","","",null,"","",null,null,{"$f":"IF($A408=\"\",\"\",'Stammdaten Mitarbeitende'!L408)","v":""},0,"","","","","","","","","","",0,"",0,0,0,0,{"$f":"IF('Stammdaten Mitarbeitende'!N408>0,AC408,0)","v":0},{"$f":"IF('Stammdaten Mitarbeitende'!N408>0,P408,0)","v":0},0,0,0]
[{"$f":"'Stammdaten Mitarbeitende'!AA409","v":""},"",null,null,null,null,null,null,0,"",null,"","","","",null,"","",null,null,{"$f":"IF($A409=\"\",\"\",'Stammdaten Mitarbeitende'!L409)","v":""},0,"","","","","","","","","","",0,"",0,0,0,0,{"$f":"IF('Stammdaten Mitarbeitende'!N409>0,AC409,0)","v":0},{"$f":"IF('Stammdaten Mitarbeitende'!N409>0,P409,0)","v":0},0,0,0]
[{"$f":"'Stammdaten Mitarbeitende'!AA410","v":""},"",null,null,null,null,null,null,0,"",null,"","","","",null,"","",null,null,{"$f":"IF($A410=\"\",\"\",'Stammdaten Mitarbeitende'!L410)","v":""},0,"","","","","","","","","","",0,"",0,0,0,0,{"$f":"IF('Stammdaten Mitarbeitende'!N410>0,AC410,0)","v":0},{"$f":"IF('Stammdaten Mitarbeitende'!N410>0,P410,0)","v":0},0,0,0]
[{"$f":"'Stammdaten Mitarbeitende'!AA411","v":""},"",null,null,null,null,null,null,0,"",null,"","","","",null,"","",null,null,{"$f":"IF($A411=\"\",\"\",'Stammdaten Mitarbeitende'!L411)","v":""},0,"","","","","","","","","","",0,"",0,0,0,0,{"$f":"IF('Stammdaten Mitarbeitende'!N411>0,AC411,0)","v":0},{"$f":"IF('Stammdaten Mitarbeitende'!N411>0,P411,0)","v":0},0,0,0]
[{"$f":"'Stammdaten Mitarbeitende'!AA412","v":""},"",null,null,null,null,null,null,0,"",null,"","","","",null,"","",null,null,{"$f":"IF($A412=\"\",\"\",'Stammdaten Mitarbeitende'!L412)","v":""},0,"","","","","","","","","","",0,"",0,0,0,0,{"$f":"IF('Stammdaten Mitarbeitende'!N412>0,AC412,0)","v":0},{"$f":"IF('Stammdaten Mitarbeitende'!N412>0,P412,0)","v":0},0,0,0]
[{"$f":"'Stammdaten Mitarbeitende'!AA413","v":""},"",null,null,null,null,null,null,0,"",null,"","","","",null,"","",null,null,{"$f":"IF($A413=\"\",\"\",'Stammdaten Mitarbeitende'!L413)","v":""},0,"","","","","","","","","","",0,"",0,0,0,0,{"$f":"IF('Stammdaten Mitarbeitende'!N413>0,AC413,0)","v":0},{"$f":"IF('Stammdaten Mitarbeitende'!N413>0,P413,0)","v":0},0,0,0]
[{"$f":"'Stammdaten Mitarbeitende'!AA414","v":""},"",null,null,null,null,null,null,0,"",null,"","","","",null,"","",null,null,{"$f":"IF($A414=\"\",\"\",'Stammdaten Mitarbeitende'!L414)","v":""},0,"","","","","","","","","","",0,"",0,0,0,0,{"$f":"IF('Stammdaten Mitarbeitende'!N414>0,AC414,0)","v":0},{"$f":"IF('Stammdaten Mitarbeitende'!N414>0,P414,0)","v":0},0,0,0]
[{"$f":"'Stammdaten Mitarbeitende'!AA415","v":""},"",null,null,null,null,null,null,0,"",null,"","","","",null,"","",null,null,{"$f":"IF($A415=\"\",\"\",'Stammdaten Mitarbeitende'!L415)","v":""},0,"","","","","","","","","","",0,"",0,0,0,0,{"$f":"IF('Stammdaten Mitarbeitende'!N415>0,AC415,0)","v":0},{"$f":"IF('Stammdaten Mitarbeitende'!N415>0,P415,0)","v":0},0,0,0]
[{"$f":"'Stammdaten Mitarbeitende'!AA416","v":""},"",null,null,null,null,null,null,0,"",null,"","","","",null,"","",null,null,{"$f":"IF($A416=\"\",\"\",'Stammdaten Mitarbeitende'!L416)","v":""},0,"","","","","","","","","","",0,"",0,0,0,0,{"$f":"IF('Stammdaten Mitarbeitende'!N416>0,AC416,0)","v":0},{"$f":"IF('Stammdaten Mitarbeitende'!N416>0,P416,0)","v":0},0,0,0]
[{"$f":"'Stammdaten Mitarbeitende'!AA417","v":""},"",null,null,null,null,null,null,0,"",null,"","","","",null,"","",null,null,{"$f":"IF($A417=\"\",\"\",'Stammdaten Mitarbeitende'!L417)","v":""},0,"","","","","","","","","","",0,"",0,0,0,0,{"$f":"IF('Stammdaten Mitarbeitende'!N417>0,AC417,0)","v":0},{"$f":"IF('Stammdaten Mitarbeitende'!N417>0,P417,0)","v":0},0,0,0]
[{"$f":"'Stammdaten Mitarbeitende'!AA418","v":""},"",null,null,null,null,null,null,0,"",null,"","","","",null,"","",null,null,{"$f":"IF($A418=\"\",\"\",'Stammdaten Mitarbeitende'!L418)","v":""},0,"","","","","","","","","","",0,"",0,0,0,0,{"$f":"IF('Stammdaten Mitarbeitende'!N418>0,AC418,0)","v":0},{"$f":"IF('Stammdaten Mitarbeitende'!N418>0,P418,0)","v":0},0,0,0]
[{"$f":"'Stammdaten Mitarbeitende'!AA419","v":""},"",null,null,null,null,null,null,0,"",null,"","","","",null,"","",null,null,{"$f":"IF($A419=\"\",\"\",'Stammdaten Mitarbeitende'!L419)","v":""},0,"","","","","","","","","","",0,"",0,0,0,0,{"$f":"IF('Stammdaten Mitarbeitende'!N419>0,AC419,0)","v":0},{"$f":"IF('Stammdaten Mitarbeitende'!N419>0,P419,0)","v":0},0,0,0]
[{"$f":"Übersetzungstexte!A$296","v":"Seitentotal"},null,null,{"$f":"SUM(D399:D419)","v":0},null,{"$f":"SUM(F399:F419)","v":0},null,null,null,{"$f":"SUM(J399:J419)","v":0},null,null,null,{"$f":"SUM(N399:N419)","v":0},null,{"$f":"SUM(P399:P419)","v":0},null,{"$f":"SUM(R399:R419)","v":0}]
[{"$f":"'Stammdaten Betrieb & Abteilung'!D$1","v":"  "},null,null,null,null,null,null,null,null,null,null,null,{"$f":"Übersetzungstexte!A$239","v":"Betrieb / Betriebsabteilung"},{"$f":"'Stammdaten Betrieb & Abteilung'!D$13","v":" "}]
[{"$f":"'Stammdaten Betrieb & Abteilung'!D$3","v":" "},null,null,null,null,null,null,null,null,null,null,null,{"$f":"Übersetzungstexte!A$240","v":"Abrechnungsperiode"},{"$f":"'Stammdaten Betrieb & Abteilung'!D$14","v":""},null,{"$f":"'Stammdaten Betrieb & Abteilung'!D$12","v":{"$error":"#VALUE!"}}]
[{"$f":"'Stammdaten Betrieb & Abteilung'!D$4","v":" "},null,null,null,null,null,null,null,null,null,null,null,{"$f":"Übersetzungstexte!A$241","v":"Beginn / Ende der Kurzarbeit"},{"$f":"'Stammdaten Betrieb & Abteilung'!D$16","v":""}]
[]
[1,2,3,4,5,6,null,7,null,8,9,10,11,12,13,null,14,15,null,null,null,"Regel 7","Regel 8",null,"Regel 9","Regel 10","Regel 11","Regel 12","Regel 13","Regel 14","Regel 15","Regel 17",null,"Regel 19/20",null,null,null,null,"AHV-pflichtiger","AHV-pflichtiger",null,null,"AHV-pflichtige"]
[{"$f":"Übersetzungstexte!A$242","v":""},{"$f":"Übersetzungstexte!A$245","v":"anrechen-"},{"$f":"Übersetzungstexte!A$248","v":"Wöchentl."},{"$f":"Übersetzungstexte!A$251","v":"Sollstd. Abr.-"},{"$f":"Übersetzungstexte!A$254","v":""},{"$f":"Übersetzungstexte!A$257","v":"Bezahlte/"},null,{"$f":"Übersetzungstexte!A$263","v":"(nur für Gleitzeit)"},null,{"$f":"Übersetzungstexte!A$269","v":"Ausfall-"},{"$f":"Übersetzungstexte!A$272","v":"Saldo"},{"$f":"Übersetzungstexte!A$275","v":"Saisonale"},{"$f":"Übersetzungstexte!A$278","v":"Anrechen-"},{"$f":"Übersetzungstexte!A$281","v":"Verdienst-"},{"$f":"Übersetzungstexte!A$284","v":"Verdienst-"},{"$f":"Übersetzungstexte!A$287","v":"Verdienst"},{"$f":"AE$4","v":"Abzug "},{"$f":"Übersetzungstexte!A$293","v":""},null,null,"anrechen-","Gleitzeit","Ausfall-","Max(D12,0)","Prozentualer","Saisonale","Proz. Wirts. Bed.","Anrechen-","Verdienst-","Verdienst-","Abzug","Abzug","Verdienst",null,"Anzahl","Anzahl","Sollstd.","Absenzen","Verdienst-","Verdienst","Sollstd.","bezahlte/","Abzugsbasis"]
[{"$f":"Übersetzungstexte!A$243","v":""},{"$f":"Übersetzungstexte!A$246","v":"barer Std.-"},{"$f":"Übersetzungstexte!A$249","v":"Arbeitszeit"},{"$f":"Übersetzungstexte!A$252","v":"Periode Inkl."},{"$f":"Übersetzungstexte!A$255","v":""},{"$f":"Übersetzungstexte!A$258","v":"Unbezahlte"},{"$f":"Übersetzungstexte!A$261","v":"Saldo Ende Per."},null,null,{"$f":"Übersetzungstexte!A$270","v":"stunden"},{"$f":"Übersetzungstexte!A$273","v":"Mehrstd."},{"$f":"Übersetzungstexte!A$276","v":"Ausfall-"},{"$f":"Übersetzungstexte!A$279","v":"bare Aus-"},{"$f":"Übersetzungstexte!A$282","v":"ausfall"},{"$f":"Übersetzungstexte!A$285","v":"ausfall"},{"$f":"Übersetzungstexte!A$288","v":"Zwischen-"},{"$f":"Übersetzungstexte!A$291","v":"Karenztage"},{"$f":"Übersetzungstexte!A$294","v":"Beantragte"},null,null,"barer Std.-","c","stunden",null,"Arbeitsausfall","Ausfall-","Arbeitsausfall","bare ","ausfall","ausfall","Karenztage","Zwischen-","Zwischen-","Beantragte","bezugsber.","betroffene","bezugsber.","bezugsber.","ausfall","Zwischen-","inkl","unbezahlte"]
[{"$f":"Übersetzungstexte!A$244","v":"Name,Vorname"},{"$f":"Übersetzungstexte!A$247","v":"Verdienst"},{"$f":"Übersetzungstexte!A$250","v":"in der AP"},{"$f":"Übersetzungstexte!A$253","v":"Vorholzeit"},{"$f":"Übersetzungstexte!A$256","v":"Istzeit"},{"$f":"Übersetzungstexte!A$259","v":"Absenzen"},{"$f":"Übersetzungstexte!A$262","v":"vorherg."},{"$f":"Übersetzungstexte!A$265","v":"laufend"},{"$f":"Übersetzungstexte!A$268","v":"Diff."},{"$f":"Übersetzungstexte!A$271","v":"total"},{"$f":"Übersetzungstexte!A$274","v":"Vormonate"},{"$f":"Übersetzungstexte!A$277","v":"stunden"},{"$f":"Übersetzungstexte!A$280","v":"fall-Std."},{"$f":"Übersetzungstexte!A$283","v":"100%"},{"$f":"Übersetzungstexte!A$286","v":"80%"},{"$f":"Übersetzungstexte!A$289","v":"Beschäftigung"},{"$f":"Übersetzungstexte!A$292","v":"80%"},{"$f":"Übersetzungstexte!A$295","v":"Vergütung"},null,null,"Verdienst",null,"Total",null,"pAA","stunden","pwAA","Ausfall-Std.","100%","80%","80%","beschäftigung","beschäftigung","Vergütung","Mitarbeiter","Mitarbeiter","Mitarbeiter","Mitarbeiter","100%","beschäftigung","Vorholzeit","Ansenzen"]
[{"$f":"'Stammdaten Mitarbeitende'!AA429","v":""},{"$f":"U429","v":""},null,null,null,null,null,null,{"$f":"V429","v":0},{"$f":"W429","v":""},null,{"$f":"Z429","v":""},{"$f":"AB429","v":""},{"$f":"AC429","v":""},{"$f":"AD429","v":""},null,{"$f":"AE429","v":""},{"$f":"AH429","v":""},null,null,{"$f":"IF($A429=\"\",\"\",'Stammdaten Mitarbeitende'!L429)","v":""},{"$f":"IF(AND(G429=\"\",H429=\"\"),0,G429-H429)","v":0},{"$f":"IF(OR($A429=\"\",D429=\"\",E429=\"\",F429=\"\",V429=\"\"),\"\",D429-(E429+F429+V429))","v":""},{"$f":"IF(W429=\"\",\"\",MAX(W429,0))","v":""},{"$f":"IF(J429=\"\",\"\",Y$4)","v":""},{"$f":"IF(J429=\"\",\"\",J429*Z$4)","v":""},{"$f":"IF(Y429=\"\",\"\",AA$4)","v":""},{"$f":"IF(J429=\"\",\"\",ROUND(J429*AB$4 - MAX(K429-L429,0),2))","v":""},{"$f":"IF(OR($A429=\"\",J429=\"\",B429=\"\",M429<0),\"\",MAX(ROUND(M429*B429*2,1)/2,0))","v":""},{"$f":"IF(OR($A429=\"\",N429=\"\"),\"\",ROUND(N429*8/5,1)/2)","v":""},{"$f":"IF(OR($A429=\"\",B429=\"\",N429=\"\"),\"\",ROUND(AE$3*C429*B429*16/50,1)/2)","v":""},{"$f":"IF(OR($A429=\"\",J429=\"\",N429=\"\"),\"\",MAX(O429+P429-N429,0))","v":""},{"$f":"P429","v":0},{"$f":"IF(OR($A429=\"\",N429=\"\"),\"\",ROUND((MAX(O429-Q429-AF429,0))*2,1)/2)","v":""},{"$f":"IF(D429=\"\",0,1)","v":0},{"$f":"IF(J429=\"\",0,IF(ROUND(J429,2)<=0,0,1))","v":0},{"$f":"IF(D429=\"\",0,D429)","v":0},{"$f":"IF(D429=\"\",0,F429)","v":0},{"$f":"IF('Stammdaten Mitarbeitende'!N429>0,AC429,0)","v":0},{"$f":"IF('Stammdaten Mitarbeitende'!N429>0,P429,0)","v":0},{"$f":"D429","v":0},{"$f":"F429","v":0},{"$f":"IF(AM429=\"\",0,MAX(AM429-AN429,0))","v":0}]
[{"$f":"'Stammdaten Mitarbeitende'!AA430","v":""},"",null,null,null,null,null,null,0,"",null,"","","","",null,"","",null,null,{"$f":"IF($A430=\"\",\"\",'Stammdaten Mitarbeitende'!L430)","v":""},0,"","","","","","","","","","",0,"",0,{"$f":"IF(J430=\"\",0,IF(ROUND(J430,2)<=0,0,1))","v":0},0,0,{"$f":"IF('Stammdaten Mitarbeitende'!N430>0,AC430,0)","v":0},{"$f":"IF('Stammdaten Mitarbeitende'!N430>0,P430,0)","v":0},0,0,0]
[{"$f":"'Stammdaten Mitarbeitende'!AA431","v":""},"",null,null,null,null,null,null,0,"",null,"","","","",null,"","",null,null,{"$f":"IF($A431=\"\",\"\",'Stammdaten Mitarbeitende'!L431)","v":""},0,"","","","","","","","","","",0,"",0,0,0,0,{"$f":"IF('Stammdaten Mitarbeitende'!N431>0,AC431,0)","v":0},{"$f":"IF('Stammdaten Mitarbeitende'!N431>0,P431,0)","v":0},0,0,0]
[{"$f":"'Stammdaten Mitarbeitende'!AA432","v":""},"",null,null,null,null,null,null,0,"",null,"","","","",null,"","",null,null,{"$f":"IF($A432=\"\",\"\",'Stammdaten Mitarbeitende'!L432)","v":""},0,"","","","","","","","","","",0,"",0,0,0,0,{"$f":"IF('Stammdaten Mitarbeitende'!N432>0,AC432,0)","v":0},{"$f":"IF('Stammdaten Mitarbeitende'!N432>0,P432,0)","v":0},0,0,0]
[{"$f":"'Stammdaten Mitarbeitende'!AA433","v":""},"",null,null,null,null,null,null,0,"",null,"","","","",null,"","",null,null,{"$f":"IF($A433=\"\",\"\",'Stammdaten Mitarbeitende'!L433)","v":""},0,"","","","","","","","","","",0,"",0,0,0,0,{"$f":"IF('Stammdaten Mitarbeitende'!N433>0,AC433,0)","v":0},{"$f":"IF('Stammdaten Mitarbeitende'!N433>0,P433,0)","v":0},0,0,0]
[{"$f":"'Stammdaten Mitarbeitende'!AA434","v":""},"",null,null,null,null,null,null,0,"",null,"","","","",null,"","",null,null,{"$f":"IF($A434=\"\",\"\",'Stammdaten Mitarbeitende'!L434)","v":""},0,"","","","","","","","","","",0,"",0,0,0,0,{"$f":"IF('Stammdaten Mitarbeitende'!N434>0,AC434,0)","v":0},{"$f":"IF('Stammdaten Mitarbeitende'!N434>0,P434,0)","v":0},0,0,0]
[{"$f":"'Stammdaten Mitarbeitende'!AA435","v":""},"",null,null,null,null,null,null,0,"",null,"","","","",null,"","",null,null,{"$f":"IF($A435=\"\",\"\",'Stammdaten Mitarbeitende'!L435)","v":""},0,"","","","","","","","","","",0,"",0,0,0,0,{"$f":"IF('Stammdaten Mitarbeitende'!N435>0,AC435,0)","v":0},{"$f":"IF('Stammdaten Mitarbeitende'!N435>0,P435,0)","v":0},0,0,0]
[{"$f":"'Stammdaten Mitarbeitende'!AA436","v":""},"",null,null,null,null,null,null,0,"",null,"","","","",null,"","",null,null,{"$f":"IF($A436=\"\",\"\",'Stammdaten Mitarbeitende'!L436)","v":""},0,"","","","","","","","","","",0,"",0,0,0,0,{"$f":"IF('Stammdaten Mitarbeitende'!N436>0,AC436,0)","v":0},{"$f":"IF('Stammdaten Mitarbeitende'!N436>0,P436,0)","v":0},0,0,0]
[{"$f":"'Stammdaten Mitarbeitende'!AA437","v":""},"",null,null,null,null,null,null,0,"",null,"","","","",null,"","",null,null,{"$f":"IF($A437=\"\",\"\",'Stammdaten Mitarbeitende'!L437)","v":""},0,"","","","","","","","","","",0,"",0,0,0,0,{"$f":"IF('Stammdaten Mitarbeitende'!N437>0,AC437,0)","v":0},{"$f":"IF('Stammdaten Mitarbeitende'!N437>0,P437,0)","v":0},0,0,0]
[{"$f":"'Stammdaten Mitarbeitende'!AA438","v":""},"",null,null,null,null,null,null,0,"",null,"","","","",null,"","",null,null,{"$f":"IF($A438=\"\",\"\",'Stammdaten Mitarbeitende'!L438)","v":""},0,"","","","","","","","","","",0,"",0,0,0,0,{"$f":"IF('Stammdaten Mitarbeitende'!N438>0,AC438,0)","v":0},{"$f":"IF('Stammdaten Mitarbeitende'!N438>0,P438,0)","v":0},0,0,0]
[{"$f":"'Stammdaten Mitarbeitende'!AA439","v":""},"",null,null,null,null,null,null,0,"",null,"","","","",null,"","",null,null,{"$f":"IF($A439=\"\",\"\",'Stammdaten Mitarbeitende'!L439)","v":""},0,"","","","","","","","","","",0,"",0,0,0,0,{"$f":"IF('Stammdaten Mitarbeitende'!N439>0,AC439,0)","v":0},{"$f":"IF('Stammdaten Mitarbeitende'!N439>0,P439,0)","v":0},0,0,0]
[{"$f":"'Stammdaten Mitarbeitende'!AA440","v":""},"",null,null,null,null,null,null,0,"",null,"","","","",null,"","",null,null,{"$f":"IF($A440=\"\",\"\",'Stammdaten Mitarbeitende'!L440)","v":""},0,"","","","","","","","","","",0,"",0,0,0,0,{"$f":"IF('Stammdaten Mitarbeitende'!N440>0,AC440,0)","v":0},{"$f":"IF('Stammdaten Mitarbeitende'!N440>0,P440,0)","v":0},0,0,0]
[{"$f":"'Stammdaten Mitarbeitende'!AA441","v":""},"",null,null,null,null,null,null,0,"",null,"","","","",null,"","",null,null,{"$f":"IF($A441=\"\",\"\",'Stammdaten Mitarbeitende'!L441)","v":""},0,"","","","","","","","","","",0,"",0,0,0,0,{"$f":"IF('Stammdaten Mitarbeitende'!N441>0,AC441,0)","v":0},{"$f":"IF('Stammdaten Mitarbeitende'!N441>0,P441,0)","v":0},0,0,0]
[{"$f":"'Stammdaten Mitarbeitende'!AA442","v":""},"",null,null,null,null,null,null,0,"",null,"","","","",null,"","",null,null,{"$f":"IF($A442=\"\",\"\",'Stammdaten Mitarbeitende'!L442)","v":""},0,"","","","","","","","","","",0,"",0,0,0,0,{"$f":"IF('Stammdaten Mitarbeitende'!N442>0,AC442,0)","v":0},{"$f":"IF('Stammdaten Mitarbeitende'!N442>0,P442,0)","v":0},0,0,0]
[{"$f":"'Stammdaten Mitarbeitende'!AA443","v":""},"",null,null,null,null,null,null,0,"",null,"","","","",null,"","",null,null,{"$f":"IF($A443=\"\",\"\",'Stammdaten Mitarbeitende'!L443)","v":""},0,"","","","","","","","","","",0,"",0,0,0,0,{"$f":"IF('Stammdaten Mitarbeitende'!N443>0,AC443,0)","v":0},{"$f":"IF('Stammdaten Mitarbeitende'!N443>0,P443,0)","v":0},0,0,0]
[{"$f":"'Stammdaten Mitarbeitende'!AA444","v":""},"",null,null,null,null,null,null,0,"",null,"","","","",null,"","",null,null,{"$f":"IF($A444=\"\",\"\",'Stammdaten Mitarbeitende'!L444)","v":""},0,"","","","","","","","","","",0,"",0,0,0,0,{"$f":"IF('Stammdaten Mitarbeitende'!N444>0,AC444,0)","v":0},{"$f":"IF('Stammdaten Mitarbeitende'!N444>0,P444,0)","v":0},0,0,0]
[{"$f":"'Stammdaten Mitarbeitende'!AA445","v":""},"",null,null,null,null,null,null,0,"",null,"","","","",null,"","",null,null,{"$f":"IF($A445=\"\",\"\",'Stammdaten Mitarbeitende'!L445)","v":""},0,"","","","","","","","","","",0,"",0,0,0,0,{"$f":"IF('Stammdaten Mitarbeitende'!N445>0,AC445,0)","v":0},{"$f":"IF('Stammdaten Mitarbeitende'!N445>0,P445,0)","v":0},0,0,0]
[{"$f":"'Stammdaten Mitarbeitende'!AA446","v":""},"",null,null,null,null,null,null,0,"",null,"","","","",null,"","",null,null,{"$f":"IF($A446=\"\",\"\",'Stammdaten Mitarbeitende'!L446)","v":""},0,"","","","","","","","","","",0,"",0,0,0,0,{"$f":"IF('Stammdaten Mitarbeitende'!N446>0,AC446,0)","v":0},{"$f":"IF('Stammdaten Mitarbeitende'!N446>0,P446,0)","v":0},0,0,0]
[{"$f":"'Stammdaten Mitarbeitende'!AA447","v":""},"",null,null,null,null,null,null,0,"",null,"","","","",null,"","",null,null,{"$f":"IF($A447=\"\",\"\",'Stammdaten Mitarbeitende'!L447)","v":""},0,"","","","","","","","","","",0,"",0,0,0,0,{"$f":"IF('Stammdaten Mitarbeitende'!N447>0,AC447,0)","v":0},{"$f":"IF('Stammdaten Mitarbeitende'!N447>0,P447,0)","v":0},0,0,0]
[{"$f":"'Stammdaten Mitarbeitende'!AA448","v":""},"",null,null,null,null,null,null,0,"",null,"","","","",null,"","",null,null,{"$f":"IF($A448=\"\",\"\",'Stammdaten Mitarbeitende'!L448)","v":""},0,"","","","","","","","","","",0,"",0,0,0,0,{"$f":"IF('Stammdaten Mitarbeitende'!N448>0,AC448,0)","v":0},{"$f":"IF('Stammdaten Mitarbeitende'!N448>0,P448,0)","v":0},0,0,0]
[{"$f":"'Stammdaten Mitarbeitende'!AA449","v":""},"",null,null,null,null,null,null,0,"",null,"","","","",null,"","",null,null,{"$f":"IF($A449=\"\",\"\",'Stammdaten Mitarbeitende'!L449)","v":""},0,"","","","","","","","","","",0,"",0,0,0,0,{"$f":"IF('Stammdaten Mitarbeitende'!N449>0,AC449,0)","v":0},{"$f":"IF('Stammdaten Mitarbeitende'!N449>0,P449,0)","v":0},0,0,0]
[{"$f":"Übersetzungstexte!A$296","v":"Seitentotal"},null,null,{"$f":"SUM(D429:D449)","v":0},null,{"$f":"SUM(F429:F449)","v":0},null,null,null,{"$f":"SUM(J429:J449)","v":0},null,null,null,{"$f":"SUM(N429:N449)","v":0},null,{"$f":"SUM(P429:P449)","v":0},null,{"$f":"SUM(R429:R449)","v":0}]
[{"$f":"'Stammdaten Betrieb & Abteilung'!D$1","v":"  "},null,null,null,null,null,null,null,null,null,null,null,{"$f":"Übersetzungstexte!A$239","v":"Betrieb / Betriebsabteilung"},{"$f":"'Stammdaten Betrieb & Abteilung'!D$13","v":" "}]
[{"$f":"'Stammdaten Betrieb & Abteilung'!D$3","v":" "},null,null,null,null,null,null,null,null,null,null,null,{"$f":"Übersetzungstexte!A$240","v":"Abrechnungsperiode"},{"$f":"'Stammdaten Betrieb & Abteilung'!D$14","v":""},null,{"$f":"'Stammdaten Betrieb & Abteilung'!D$12","v":{"$error":"#VALUE!"}}]
[{"$f":"'Stammdaten Betrieb & Abteilung'!D$4","v":" "},null,null,null,null,null,null,null,null,null,null,null,{"$f":"Übersetzungstexte!A$241","v":"Beginn / Ende der Kurzarbeit"},{"$f":"'Stammdaten Betrieb & Abteilung'!D$16","v":""}]
[]
[1,2,3,4,5,6,null,7,null,8,9,10,11,12,13,null,14,15,null,null,null,"Regel 7","Regel 8",null,"Regel 9","Regel 10","Regel 11","Regel 12","Regel 13","Regel 14","Regel 15","Regel 17",null,"Regel 19/20",null,null,null,null,"AHV-pflichtiger","AHV-pflichtiger",null,null,"AHV-pflichtige"]
[{"$f":"Übersetzungstexte!A$242","v":""},{"$f":"Übersetzungstexte!A$245","v":"anrechen-"},{"$f":"Übersetzungstexte!A$248","v":"Wöchentl."},{"$f":"Übersetzungstexte!A$251","v":"Sollstd. Abr.-"},{"$f":"Übersetzungstexte!A$254","v":""},{"$f":"Übersetzungstexte!A$257","v":"Bezahlte/"},null,{"$f":"Übersetzungstexte!A$263","v":"(nur für Gleitzeit)"},null,{"$f":"Übersetzungstexte!A$269","v":"Ausfall-"},{"$f":"Übersetzungstexte!A$272","v":"Saldo"},{"$f":"Übersetzungstexte!A$275","v":"Saisonale"},{"$f":"Übersetzungstexte!A$278","v":"Anrechen-"},{"$f":"Übersetzungstexte!A$281","v":"Verdienst-"},{"$f":"Übersetzungstexte!A$284","v":"Verdienst-"},{"$f":"Übersetzungstexte!A$287","v":"Verdienst"},{"$f":"AE$4","v":"Abzug "},{"$f":"Übersetzungstexte!A$293","v":""},null,null,"anrechen-","Gleitzeit","Ausfall-","Max(D12,0)","Prozentualer","Saisonale","Proz. Wirts. Bed.","Anrechen-","Verdienst-","Verdienst-","Abzug","Abzug","Verdienst",null,"Anzahl","Anzahl","Sollstd.","Absenzen","Verdienst-","Verdienst","Sollstd.","bezahlte/","Abzugsbasis"]
[{"$f":"Übersetzungstexte!A$243","v":""},{"$f":"Übersetzungstexte!A$246","v":"barer Std.-"},{"$f":"Übersetzungstexte!A$249","v":"Arbeitszeit"},{"$f":"Übersetzungstexte!A$252","v":"Periode Inkl."},{"$f":"Übersetzungstexte!A$255","v":""},{"$f":"Übersetzungstexte!A$258","v":"Unbezahlte"},{"$f":"Übersetzungstexte!A$261","v":"Saldo Ende Per."},null,null,{"$f":"Übersetzungstexte!A$270","v":"stunden"},{"$f":"Übersetzungstexte!A$273","v":"Mehrstd."},{"$f":"Übersetzungstexte!A$276","v":"Ausfall-"},{"$f":"Übersetzungstexte!A$279","v":"bare Aus-"},{"$f":"Übersetzungstexte!A$282","v":"ausfall"},{"$f":"Übersetzungstexte!A$285","v":"ausfall"},{"$f":"Übersetzungstexte!A$288","v":"Zwischen-"},{"$f":"Übersetzungstexte!A$291","v":"Karenztage"},{"$f":"Übersetzungstexte!A$294","v":"Beantragte"},null,null,"barer Std.-","c","stunden",null,"Arbeitsausfall","Ausfall-","Arbeitsausfall","bare ","ausfall","ausfall","Karenztage","Zwischen-","Zwischen-","Beantragte","bezugsber.","betroffene","bezugsber.","bezugsber.","ausfall","Zwischen-","inkl","unbezahlte"]
[{"$f":"Übersetzungstexte!A$244","v":"Name,Vorname"},{"$f":"Übersetzungstexte!A$247","v":"Verdienst"},{"$f":"Übersetzungstexte!A$250","v":"in der AP"},{"$f":"Übersetzungstexte!A$253","v":"Vorholzeit"},{"$f":"Übersetzungstexte!A$256","v":"Istzeit"},{"$f":"Übersetzungstexte!A$259","v":"Absenzen"},{"$f":"Übersetzungstexte!A$262","v":"vorherg."},{"$f":"Übersetzungstexte!A$265","v":"laufend"},{"$f":"Übersetzungstexte!A$268","v":"Diff."},{"$f":"Übersetzungstexte!A$271","v":"total"},{"$f":"Übersetzungstexte!A$274","v":"Vormonate"},{"$f":"Übersetzungstexte!A$277","v":"stunden"},{"$f":"Übersetzungstexte!A$280","v":"fall-Std."},{"$f":"Übersetzungstexte!A$283","v":"100%"},{"$f":"Übersetzungstexte!A$286","v":"80%"},{"$f":"Übersetzungstexte!A$289","v":"Beschäftigung"},{"$f":"Übersetzungstexte!A$292","v":"80%"},{"$f":"Übersetzungstexte!A$295","v":"Vergütung"},null,null,"Verdienst",null,"Total",null,"pAA","stunden","pwAA","Ausfall-Std.","100%","80%","80%","beschäftigung","beschäftigung","Vergütung","Mitarbeiter","Mitarbeiter","Mitarbeiter","Mitarbeiter","100%","beschäftigung","Vorholzeit","Ansenzen"]
[{"$f":"'Stammdaten Mitarbeitende'!AA459","v":""},{"$f":"U459","v":""},null,null,null,null,null,null,{"$f":"V459","v":0},{"$f":"W459","v":""},null,{"$f":"Z459","v":""},{"$f":"AB459","v":""},{"$f":"AC459","v":""},{"$f":"AD459","v":""},null,{"$f":"AE459","v":""},{"$f":"AH459","v":""},null,null,{"$f":"IF($A459=\"\",\"\",'Stammdaten Mitarbeitende'!L459)","v":""},{"$f":"IF(AND(G459=\"\",H459=\"\"),0,G459-H459)","v":0},{"$f":"IF(OR($A459=\"\",D459=\"\",E459=\"\",F459=\"\",V459=\"\"),\"\",D459-(E459+F459+V459))","v":""},{"$f":"IF(W459=\"\",\"\",MAX(W459,0))","v":""},{"$f":"IF(J459=\"\",\"\",Y$4)","v":""},{"$f":"IF(J459=\"\",\"\",J459*Z$4)","v":""},{"$f":"IF(Y459=\"\",\"\",AA$4)","v":""},{"$f":"IF(J459=\"\",\"\",ROUND(J459*AB$4 - MAX(K459-L459,0),2))","v":""},{"$f":"IF(OR($A459=\"\",J459=\"\",B459=\"\",M459<0),\"\",MAX(ROUND(M459*B459*2,1)/2,0))","v":""},{"$f":"IF(OR($A459=\"\",N459=\"\"),\"\",ROUND(N459*8/5,1)/2)","v":""},{"$f":"IF(OR($A459=\"\",B459=\"\",N459=\"\"),\"\",ROUND(AE$3*C459*B459*16/50,1)/2)","v":""},{"$f":"IF(OR($A459=\"\",J459=\"\",N459=\"\"),\"\",MAX(O459+P459-N459,0))","v":""},{"$f":"P459","v":0},{"$f":"IF(OR($A459=\"\",N459=\"\"),\"\",ROUND((MAX(O459-Q459-AF459,0))*2,1)/2)","v":""},{"$f":"IF(D459=\"\",0,1)","v":0},{"$f":"IF(J459=\"\",0,IF(ROUND(J459,2)<=0,0,1))","v":0},{"$f":"IF(D459=\"\",0,D459)","v":0},{"$f":"IF(D459=\"\",0,F459)","v":0},{"$f":"IF('Stammdaten Mitarbeitende'!N459>0,AC459,0)","v":0},{"$f":"IF('Stammdaten Mitarbeitende'!N459>0,P459,0)","v":0},{"$f":"D459","v":0},{"$f":"F459","v":0},{"$f":"IF(AM459=\"\",0,MAX(AM459-AN459,0))","v":0}]
[{"$f":"'Stammdaten Mitarbeitende'!AA460","v":""},"",null,null,null,null,null,null,0,"",null,"","","","",null,"","",null,null,{"$f":"IF($A460=\"\",\"\",'Stammdaten Mitarbeitende'!L460)","v":""},0,"","","","","","","","","","",0,"",0,{"$f":"IF(J460=\"\",0,IF(ROUND(J460,2)<=0,0,1))","v":0},0,0,{"$f":"IF('Stammdaten Mitarbeitende'!N460>0,AC460,0)","v":0},{"$f":"IF('Stammdaten Mitarbeitende'!N460>0,P460,0)","v":0},0,0,0]
[{"$f":"'Stammdaten Mitarbeitende'!AA461","v":""},"",null,null,null,null,null,null,0,"",null,"","","","",null,"","",null,null,{"$f":"IF($A461=\"\",\"\",'Stammdaten Mitarbeitende'!L461)","v":""},0,"","","","","","","","","","",0,"",0,0,0,0,{"$f":"IF('Stammdaten Mitarbeitende'!N461>0,AC461,0)","v":0},{"$f":"IF('Stammdaten Mitarbeitende'!N461>0,P461,0)","v":0},0,0,0]
[{"$f":"'Stammdaten Mitarbeitende'!AA462","v":""},"",null,null,null,null,null,null,0,"",null,"","","","",null,"","",null,null,{"$f":"IF($A462=\"\",\"\",'Stammdaten Mitarbeitende'!L462)","v":""},0,"","","","","","","","","","",0,"",0,0,0,0,{"$f":"IF('Stammdaten Mitarbeitende'!N462>0,AC462,0)","v":0},{"$f":"IF('Stammdaten Mitarbeitende'!N462>0,P462,0)","v":0},0,0,0]
[{"$f":"'Stammdaten Mitarbeitende'!AA463","v":""},"",null,null,null,null,null,null,0,"",null,"","","","",null,"","",null,null,{"$f":"IF($A463=\"\",\"\",'Stammdaten Mitarbeitende'!L463)","v":""},0,"","","","","","","","","","",0,"",0,0,0,0,{"$f":"IF('Stammdaten Mitarbeitende'!N463>0,AC463,0)","v":0},{"$f":"IF('Stammdaten Mitarbeitende'!N463>0,P463,0)","v":0},0,0,0]
[{"$f":"'Stammdaten Mitarbeitende'!AA464","v":""},"",null,null,null,null,null,null,0,"",null,"","","","",null,"","",null,null,{"$f":"IF($A464=\"\",\"\",'Stammdaten Mitarbeitende'!L464)","v":""},0,"","","","","","","","","","",0,"",0,0,0,0,{"$f":"IF('Stammdaten Mitarbeitende'!N464>0,AC464,0)","v":0},{"$f":"IF('Stammdaten Mitarbeitende'!N464>0,P464,0)","v":0},0,0,0]
[{"$f":"'Stammdaten Mitarbeitende'!AA465","v":""},"",null,null,null,null,null,null,0,"",null,"","","","",null,"","",null,null,{"$f":"IF($A465=\"\",\"\",'Stammdaten Mitarbeitende'!L465)","v":""},0,"","","","","","","","","","",0,"",0,0,0,0,{"$f":"IF('Stammdaten Mitarbeitende'!N465>0,AC465,0)","v":0},{"$f":"IF('Stammdaten Mitarbeitende'!N465>0,P465,0)","v":0},0,0,0]
[{"$f":"'Stammdaten Mitarbeitende'!AA466","v":""},"",null,null,null,null,null,null,0,"",null,"","","","",null,"","",null,null,{"$f":"IF($A466=\"\",\"\",'Stammdaten Mitarbeitende'!L466)","v":""},0,"","","","","","","","","","",0,"",0,0,0,0,{"$f":"IF('Stammdaten Mitarbeitende'!N466>0,AC466,0)","v":0},{"$f":"IF('Stammdaten Mitarbeitende'!N466>0,P466,0)","v":0},0,0,0]
[{"$f":"'Stammdaten Mitarbeitende'!AA467","v":""},"",null,null,null,null,null,null,0,"",null,"","","","",null,"","",null,null,{"$f":"IF($A467=\"\",\"\",'Stammdaten Mitarbeitende'!L467)","v":""},0,"","","","","","","","","","",0,"",0,0,0,0,{"$f":"IF('Stammdaten Mitarbeitende'!N467>0,AC467,0)","v":0},{"$f":"IF('Stammdaten Mitarbeitende'!N467>0,P467,0)","v":0},0,0,0]
[{"$f":"'Stammdaten Mitarbeitende'!AA468","v":""},"",null,null,null,null,null,null,0,"",null,"","","","",null,"","",null,null,{"$f":"IF($A468=\"\",\"\",'Stammdaten Mitarbeitende'!L468)","v":""},0,"","","","","","","","","","",0,"",0,0,0,0,{"$f":"IF('Stammdaten Mitarbeitende'!N468>0,AC468,0)","v":0},{"$f":"IF('Stammdaten Mitarbeitende'!N468>0,P468,0)","v":0},0,0,0]
[{"$f":"'Stammdaten Mitarbeitende'!AA469","v":""},"",null,null,null,null,null,null,0,"",null,"","","","",null,"","",null,null,{"$f":"IF($A469=\"\",\"\",'Stammdaten Mitarbeitende'!L469)","v":""},0,"","","","","","","","","","",0,"",0,0,0,0,{"$f":"IF('Stammdaten Mitarbeitende'!N469>0,AC469,0)","v":0},{"$f":"IF('Stammdaten Mitarbeitende'!N469>0,P469,0)","v":0},0,0,0]
[{"$f":"'Stammdaten Mitarbeitende'!AA470","v":""},"",null,null,null,null,null,null,0,"",null,"","","","",null,"","",null,null,{"$f":"IF($A470=\"\",\"\",'Stammdaten Mitarbeitende'!L470)","v":""},0,"","","","","","","","","","",0,"",0,0,0,0,{"$f":"IF('Stammdaten Mitarbeitende'!N470>0,AC470,0)","v":0},{"$f":"IF('Stammdaten Mitarbeitende'!N470>0,P470,0)","v":0},0,0,0]
[{"$f":"'Stammdaten Mitarbeitende'!AA471","v":""},"",null,null,null,null,null,null,0,"",null,"","","","",null,"","",null,null,{"$f":"IF($A471=\"\",\"\",'Stammdaten Mitarbeitende'!L471)","v":""},0,"","","","","","","","","","",0,"",0,0,0,0,{"$f":"IF('Stammdaten Mitarbeitende'!N471>0,AC471,0)","v":0},{"$f":"IF('Stammdaten Mitarbeitende'!N471>0,P471,0)","v":0},0,0,0]
[{"$f":"'Stammdaten Mitarbeitende'!AA472","v":""},"",null,null,null,null,null,null,0,"",null,"","","","",null,"","",null,null,{"$f":"IF($A472=\"\",\"\",'Stammdaten Mitarbeitende'!L472)","v":""},0,"","","","","","","","","","",0,"",0,0,0,0,{"$f":"IF('Stammdaten Mitarbeitende'!N472>0,AC472,0)","v":0},{"$f":"IF('Stammdaten Mitarbeitende'!N472>0,P472,0)","v":0},0,0,0]
[{"$f":"'Stammdaten Mitarbeitende'!AA473","v":""},"",null,null,null,null,null,null,0,"",null,"","","","",null,"","",null,null,{"$f":"IF($A473=\"\",\"\",'Stammdaten Mitarbeitende'!L473)","v":""},0,"","","","","","","","","","",0,"",0,0,0,0,{"$f":"IF('Stammdaten Mitarbeitende'!N473>0,AC473,0)","v":0},{"$f":"IF('Stammdaten Mitarbeitende'!N473>0,P473,0)","v":0},0,0,0]
[{"$f":"'Stammdaten Mitarbeitende'!AA474","v":""},"",null,null,null,null,null,null,0,"",null,"","","","",null,"","",null,null,{"$f":"IF($A474=\"\",\"\",'Stammdaten Mitarbeitende'!L474)","v":""},0,"","","","","","","","","","",0,"",0,0,0,0,{"$f":"IF('Stammdaten Mitarbeitende'!N474>0,AC474,0)","v":0},{"$f":"IF('Stammdaten Mitarbeitende'!N474>0,P474,0)","v":0},0,0,0]
[{"$f":"'Stammdaten Mitarbeitende'!AA475","v":""},"",null,null,null,null,null,null,0,"",null,"","","","",null,"","",null,null,{"$f":"IF($A475=\"\",\"\",'Stammdaten Mitarbeitende'!L475)","v":""},0,"","","","","","","","","","",0,"",0,0,0,0,{"$f":"IF('Stammdaten Mitarbeitende'!N475>0,AC475,0)","v":0},{"$f":"IF('Stammdaten Mitarbeitende'!N475>0,P475,0)","v":0},0,0,0]
[{"$f":"'Stammdaten Mitarbeitende'!AA476","v":""},"",null,null,null,null,null,null,0,"",null,"","","","",null,"","",null,null,{"$f":"IF($A476=\"\",\"\",'Stammdaten Mitarbeitende'!L476)","v":""},0,"","","","","","","","","","",0,"",0,0,0,0,{"$f":"IF('Stammdaten Mitarbeitende'!N476>0,AC476,0)","v":0},{"$f":"IF('Stammdaten Mitarbeitende'!N476>0,P476,0)","v":0},0,0,0]
[{"$f":"'Stammdaten Mitarbeitende'!AA477","v":""},"",null,null,null,null,null,null,0,"",null,"","","","",null,"","",null,null,{"$f":"IF($A477=\"\",\"\",'Stammdaten Mitarbeitende'!L477)","v":""},0,"","","","","","","","","","",0,"",0,0,0,0,{"$f":"IF('Stammdaten Mitarbeitende'!N477>0,AC477,0)","v":0},{"$f":"IF('Stammdaten Mitarbeitende'!N477>0,P477,0)","v":0},0,0,0]
[{"$f":"'Stammdaten Mitarbeitende'!AA478","v":""},"",null,null,null,null,null,null,0,"",null,"","","","",null,"","",null,null,{"$f":"IF($A478=\"\",\"\",'Stammdaten Mitarbeitende'!L478)","v":""},0,"","","","","","","","","","",0,"",0,0,0,0,{"$f":"IF('Stammdaten Mitarbeitende'!N478>0,AC478,0)","v":0},{"$f":"IF('Stammdaten Mitarbeitende'!N478>0,P478,0)","v":0},0,0,0]
[{"$f":"'Stammdaten Mitarbeitende'!AA479","v":""},"",null,null,null,null,null,null,0,"",null,"","","","",null,"","",null,null,{"$f":"IF($A479=\"\",\"\",'Stammdaten Mitarbeitende'!L479)","v":""},0,"","","","","","","","","","",0,"",0,0,0,0,{"$f":"IF('Stammdaten Mitarbeitende'!N479>0,AC479,0)","v":0},{"$f":"IF('Stammdaten Mitarbeitende'!N479>0,P479,0)","v":0},0,0,0]
[{"$f":"Übersetzungstexte!A$296","v":"Seitentotal"},null,null,{"$f":"SUM(D459:D479)","v":0},null,{"$f":"SUM(F459:F479)","v":0},null,null,null,{"$f":"SUM(J459:J479)","v":0},null,null,null,{"$f":"SUM(N459:N479)","v":0},null,{"$f":"SUM(P459:P479)","v":0},null,{"$f":"SUM(R459:R479)","v":0}]
[{"$f":"'Stammdaten Betrieb & Abteilung'!D$1","v":"  "},null,null,null,null,null,null,null,null,null,null,null,{"$f":"Übersetzungstexte!A$239","v":"Betrieb / Betriebsabteilung"},{"$f":"'Stammdaten Betrieb & Abteilung'!D$13","v":" "}]
[{"$f":"'Stammdaten Betrieb & Abteilung'!D$3","v":" "},null,null,null,null,null,null,null,null,null,null,null,{"$f":"Übersetzungstexte!A$240","v":"Abrechnungsperiode"},{"$f":"'Stammdaten Betrieb & Abteilung'!D$14","v":""},null,{"$f":"'Stammdaten Betrieb & Abteilung'!D$12","v":{"$error":"#VALUE!"}}]
[{"$f":"'Stammdaten Betrieb & Abteilung'!D$4","v":" "},null,null,null,null,null,null,null,null,null,null,null,{"$f":"Übersetzungstexte!A$241","v":"Beginn / Ende der Kurzarbeit"},{"$f":"'Stammdaten Betrieb & Abteilung'!D$16","v":""}]
[]
[1,2,3,4,5,6,null,7,null,8,9,10,11,12,13,null,14,15,null,null,null,"Regel 7","Regel 8",null,"Regel 9","Regel 10","Regel 11","Regel 12","Regel 13","Regel 14","Regel 15","Regel 17",null,"Regel 19/20",null,null,null,null,"AHV-pflichtiger","AHV-pflichtiger",null,null,"AHV-pflichtige"]
[{"$f":"Übersetzungstexte!A$242","v":""},{"$f":"Übersetzungstexte!A$245","v":"anrechen-"},{"$f":"Übersetzungstexte!A$248","v":"Wöchentl."},{"$f":"Übersetzungstexte!A$251","v":"Sollstd. Abr.-"},{"$f":"Übersetzungstexte!A$254","v":""},{"$f":"Übersetzungstexte!A$257","v":"Bezahlte/"},null,{"$f":"Übersetzungstexte!A$263","v":"(nur für Gleitzeit)"},null,{"$f":"Übersetzungstexte!A$269","v":"Ausfall-"},{"$f":"Übersetzungstexte!A$272","v":"Saldo"},{"$f":"Übersetzungstexte!A$275","v":"Saisonale"},{"$f":"Übersetzungstexte!A$278","v":"Anrechen-"},{"$f":"Übersetzungstexte!A$281","v":"Verdienst-"},{"$f":"Übersetzungstexte!A$284","v":"Verdienst-"},{"$f":"Übersetzungstexte!A$287","v":"Verdienst"},{"$f":"AE$4","v":"Abzug "},{"$f":"Übersetzungstexte!A$293","v":""},null,null,"anrechen-","Gleitzeit","Ausfall-","Max(D12,0)","Prozentualer","Saisonale","Proz. Wirts. Bed.","Anrechen-","Verdienst-","Verdienst-","Abzug","Abzug","Verdienst",null,"Anzahl","Anzahl","Sollstd.","Absenzen","Verdienst-","Verdienst","Sollstd.","bezahlte/","Abzugsbasis"]
[{"$f":"Übersetzungstexte!A$243","v":""},{"$f":"Übersetzungstexte!A$246","v":"barer Std.-"},{"$f":"Übersetzungstexte!A$249","v":"Arbeitszeit"},{"$f":"Übersetzungstexte!A$252","v":"Periode Inkl."},{"$f":"Übersetzungstexte!A$255","v":""},{"$f":"Übersetzungstexte!A$258","v":"Unbezahlte"},{"$f":"Übersetzungstexte!A$261","v":"Saldo Ende Per."},null,null,{"$f":"Übersetzungstexte!A$270","v":"stunden"},{"$f":"Übersetzungstexte!A$273","v":"Mehrstd."},{"$f":"Übersetzungstexte!A$276","v":"Ausfall-"},{"$f":"Übersetzungstexte!A$279","v":"bare Aus-"},{"$f":"Übersetzungstexte!A$282","v":"ausfall"},{"$f":"Übersetzungstexte!A$285","v":"ausfall"},{"$f":"Übersetzungstexte!A$288","v":"Zwischen-"},{"$f":"Übersetzungstexte!A$291","v":"Karenztage"},{"$f":"Übersetzungstexte!A$294","v":"Beantragte"},null,null,"barer Std.-","c","stunden",null,"Arbeitsausfall","Ausfall-","Arbeitsausfall","bare ","ausfall","ausfall","Karenztage","Zwischen-","Zwischen-","Beantragte","bezugsber.","betroffene","bezugsber.","bezugsber.","ausfall","Zwischen-","inkl","unbezahlte"]
[{"$f":"Übersetzungstexte!A$244","v":"Name,Vorname"},{"$f":"Übersetzungstexte!A$247","v":"Verdienst"},{"$f":"Übersetzungstexte!A$250","v":"in der AP"},{"$f":"Übersetzungstexte!A$253","v":"Vorholzeit"},{"$f":"Übersetzungstexte!A$256","v":"Istzeit"},{"$f":"Übersetzungstexte!A$259","v":"Absenzen"},{"$f":"Übersetzungstexte!A$262","v":"vorherg."},{"$f":"Übersetzungstexte!A$265","v":"laufend"},{"$f":"Übersetzungstexte!A$268","v":"Diff."},{"$f":"Übersetzungstexte!A$271","v":"total"},{"$f":"Übersetzungstexte!A$274","v":"Vormonate"},{"$f":"Übersetzungstexte!A$277","v":"stunden"},{"$f":"Übersetzungstexte!A$280","v":"fall-Std."},{"$f":"Übersetzungstexte!A$283","v":"100%"},{"$f":"Übersetzungstexte!A$286","v":"80%"},{"$f":"Übersetzungstexte!A$289","v":"Beschäftigung"},{"$f":"Übersetzungstexte!A$292","v":"80%"},{"$f":"Übersetzungstexte!A$295","v":"Vergütung"},null,null,"Verdienst",null,"Total",null,"pAA","stunden","pwAA","Ausfall-Std.","100%","80%","80%","beschäftigung","beschäftigung","Vergütung","Mitarbeiter","Mitarbeiter","Mitarbeiter","Mitarbeiter","100%","beschäftigung","Vorholzeit","Ansenzen"]
[{"$f":"'Stammdaten Mitarbeitende'!AA489","v":""},{"$f":"U489","v":""},null,null,null,null,null,null,{"$f":"V489","v":0},{"$f":"W489","v":""},null,{"$f":"Z489","v":""},{"$f":"AB489","v":""},{"$f":"AC489","v":""},{"$f":"AD489","v":""},null,{"$f":"AE489","v":""},{"$f":"AH489","v":""},null,null,{"$f":"IF($A489=\"\",\"\",'Stammdaten Mitarbeitende'!L489)","v":""},{"$f":"IF(AND(G489=\"\",H489=\"\"),0,G489-H489)","v":0},{"$f":"IF(OR($A489=\"\",D489=\"\",E489=\"\",F489=\"\",V489=\"\"),\"\",D489-(E489+F489+V489))","v":""},{"$f":"IF(W489=\"\",\"\",MAX(W489,0))","v":""},{"$f":"IF(J489=\"\",\"\",Y$4)","v":""},{"$f":"IF(J489=\"\",\"\",J489*Z$4)","v":""},{"$f":"IF(Y489=\"\",\"\",AA$4)","v":""},{"$f":"IF(J489=\"\",\"\",ROUND(J489*AB$4 - MAX(K489-L489,0),2))","v":""},{"$f":"IF(OR($A489=\"\",J489=\"\",B489=\"\",M489<0),\"\",MAX(ROUND(M489*B489*2,1)/2,0))","v":""},{"$f":"IF(OR($A489=\"\",N489=\"\"),\"\",ROUND(N489*8/5,1)/2)","v":""},{"$f":"IF(OR($A489=\"\",B489=\"\",N489=\"\"),\"\",ROUND(AE$3*C489*B489*16/50,1)/2)","v":""},{"$f":"IF(OR($A489=\"\",J489=\"\",N489=\"\"),\"\",MAX(O489+P489-N489,0))","v":""},{"$f":"P489","v":0},{"$f":"IF(OR($A489=\"\",N489=\"\"),\"\",ROUND((MAX(O489-Q489-AF489,0))*2,1)/2)","v":""},{"$f":"IF(D489=\"\",0,1)","v":0},{"$f":"IF(J489=\"\",0,IF(ROUND(J489,2)<=0,0,1))","v":0},{"$f":"IF(D489=\"\",0,D489)","v":0},{"$f":"IF(D489=\"\",0,F489)","v":0},{"$f":"IF('Stammdaten Mitarbeitende'!N489>0,AC489,0)","v":0},{"$f":"IF('Stammdaten Mitarbeitende'!N489>0,P489,0)","v":0},{"$f":"D489","v":0},{"$f":"F489","v":0},{"$f":"IF(AM489=\"\",0,MAX(AM489-AN489,0))","v":0}]
[{"$f":"'Stammdaten Mitarbeitende'!AA490","v":""},"",null,null,null,null,null,null,0,"",null,"","","","",null,"","",null,null,{"$f":"IF($A490=\"\",\"\",'Stammdaten Mitarbeitende'!L490)","v":""},0,"","","","","","","","","","",0,"",0,{"$f":"IF(J490=\"\",0,IF(ROUND(J490,2)<=0,0,1))","v":0},0,0,{"$f":"IF('Stammdaten Mitarbeitende'!N490>0,AC490,0)","v":0},{"$f":"IF('Stammdaten Mitarbeitende'!N490>0,P490,0)","v":0},0,0,0]
[{"$f":"'Stammdaten Mitarbeitende'!AA491","v":""},"",null,null,null,null,null,null,0,"",null,"","","","",null,"","",null,null,{"$f":"IF($A491=\"\",\"\",'Stammdaten Mitarbeitende'!L491)","v":""},0,"","","","","","","","","","",0,"",0,0,0,0,{"$f":"IF('Stammdaten Mitarbeitende'!N491>0,AC491,0)","v":0},{"$f":"IF('Stammdaten Mitarbeitende'!N491>0,P491,0)","v":0},0,0,0]
[{"$f":"'Stammdaten Mitarbeitende'!AA492","v":""},"",null,null,null,null,null,null,0,"",null,"","","","",null,"","",null,null,{"$f":"IF($A492=\"\",\"\",'Stammdaten Mitarbeitende'!L492)","v":""},0,"","","","","","","","","","",0,"",0,0,0,0,{"$f":"IF('Stammdaten Mitarbeitende'!N492>0,AC492,0)","v":0},{"$f":"IF('Stammdaten Mitarbeitende'!N492>0,P492,0)","v":0},0,0,0]
[{"$f":"'Stammdaten Mitarbeitende'!AA493","v":""},"",null,null,null,null,null,null,0,"",null,"","","","",null,"","",null,null,{"$f":"IF($A493=\"\",\"\",'Stammdaten Mitarbeitende'!L493)","v":""},0,"","","","","","","","","","",0,"",0,0,0,0,{"$f":"IF('Stammdaten Mitarbeitende'!N493>0,AC493,0)","v":0},{"$f":"IF('Stammdaten Mitarbeitende'!N493>0,P493,0)","v":0},0,0,0]
[{"$f":"'Stammdaten Mitarbeitende'!AA494","v":""},"",null,null,null,null,null,null,0,"",null,"","","","",null,"","",null,null,{"$f":"IF($A494=\"\",\"\",'Stammdaten Mitarbeitende'!L494)","v":""},0,"","","","","","","","","","",0,"",0,0,0,0,{"$f":"IF('Stammdaten Mitarbeitende'!N494>0,AC494,0)","v":0},{"$f":"IF('Stammdaten Mitarbeitende'!N494>0,P494,0)","v":0},0,0,0]
[{"$f":"'Stammdaten Mitarbeitende'!AA495","v":""},"",null,null,null,null,null,null,0,"",null,"","","","",null,"","",null,null,{"$f":"IF($A495=\"\",\"\",'Stammdaten Mitarbeitende'!L495)","v":""},0,"","","","","","","","","","",0,"",0,0,0,0,{"$f":"IF('Stammdaten Mitarbeitende'!N495>0,AC495,0)","v":0},{"$f":"IF('Stammdaten Mitarbeitende'!N495>0,P495,0)","v":0},0,0,0]
[{"$f":"'Stammdaten Mitarbeitende'!AA496","v":""},"",null,null,null,null,null,null,0,"",null,"","","","",null,"","",null,null,{"$f":"IF($A496=\"\",\"\",'Stammdaten Mitarbeitende'!L496)","v":""},0,"","","","","","","","","","",0,"",0,0,0,0,{"$f":"IF('Stammdaten Mitarbeitende'!N496>0,AC496,0)","v":0},{"$f":"IF('Stammdaten Mitarbeitende'!N496>0,P496,0)","v":0},0,0,0]
[{"$f":"'Stammdaten Mitarbeitende'!AA497","v":""},"",null,null,null,null,null,null,0,"",null,"","","","",null,"","",null,null,{"$f":"IF($A497=\"\",\"\",'Stammdaten Mitarbeitende'!L497)","v":""},0,"","","","","","","","","","",0,"",0,0,0,0,{"$f":"IF('Stammdaten Mitarbeitende'!N497>0,AC497,0)","v":0},{"$f":"IF('Stammdaten Mitarbeitende'!N497>0,P497,0)","v":0},0,0,0]
[{"$f":"'Stammdaten Mitarbeitende'!AA498","v":""},"",null,null,null,null,null,null,0,"",null,"","","","",null,"","",null,null,{"$f":"IF($A498=\"\",\"\",'Stammdaten Mitarbeitende'!L498)","v":""},0,"","","","","","","","","","",0,"",0,0,0,0,{"$f":"IF('Stammdaten Mitarbeitende'!N498>0,AC498,0)","v":0},{"$f":"IF('Stammdaten Mitarbeitende'!N498>0,P498,0)","v":0},0,0,0]
[{"$f":"'Stammdaten Mitarbeitende'!AA499","v":""},"",null,null,null,null,null,null,0,"",null,"","","","",null,"","",null,null,{"$f":"IF($A499=\"\",\"\",'Stammdaten Mitarbeitende'!L499)","v":""},0,"","","","","","","","","","",0,"",0,0,0,0,{"$f":"IF('Stammdaten Mitarbeitende'!N499>0,AC499,0)","v":0},{"$f":"IF('Stammdaten Mitarbeitende'!N499>0,P499,0)","v":0},0,0,0]
[{"$f":"'Stammdaten Mitarbeitende'!AA500","v":""},"",null,null,null,null,null,null,0,"",null,"","","","",null,"","",null,null,{"$f":"IF($A500=\"\",\"\",'Stammdaten Mitarbeitende'!L500)","v":""},0,"","","","","","","","","","",0,"",0,0,0,0,{"$f":"IF('Stammdaten Mitarbeitende'!N500>0,AC500,0)","v":0},{"$f":"IF('Stammdaten Mitarbeitende'!N500>0,P500,0)","v":0},0,0,0]
[{"$f":"'Stammdaten Mitarbeitende'!AA501","v":""},"",null,null,null,null,null,null,0,"",null,"","","","",null,"","",null,null,{"$f":"IF($A501=\"\",\"\",'Stammdaten Mitarbeitende'!L501)","v":""},0,"","","","","","","","","","",0,"",0,0,0,0,{"$f":"IF('Stammdaten Mitarbeitende'!N501>0,AC501,0)","v":0},{"$f":"IF('Stammdaten Mitarbeitende'!N501>0,P501,0)","v":0},0,0,0]
[{"$f":"'Stammdaten Mitarbeitende'!AA502","v":""},"",null,null,null,null,null,null,0,"",null,"","","","",null,"","",null,null,{"$f":"IF($A502=\"\",\"\",'Stammdaten Mitarbeitende'!L502)","v":""},0,"","","","","","","","","","",0,"",0,0,0,0,{"$f":"IF('Stammdaten Mitarbeitende'!N502>0,AC502,0)","v":0},{"$f":"IF('Stammdaten Mitarbeitende'!N502>0,P502,0)","v":0},0,0,0]
[{"$f":"'Stammdaten Mitarbeitende'!AA503","v":""},"",null,null,null,null,null,null,0,"",null,"","","","",null,"","",null,null,{"$f":"IF($A503=\"\",\"\",'Stammdaten Mitarbeitende'!L503)","v":""},0,"","","","","","","","","","",0,"",0,0,0,0,{"$f":"IF('Stammdaten Mitarbeitende'!N503>0,AC503,0)","v":0},{"$f":"IF('Stammdaten Mitarbeitende'!N503>0,P503,0)","v":0},0,0,0]
[{"$f":"'Stammdaten Mitarbeitende'!AA504","v":""},"",null,null,null,null,null,null,0,"",null,"","","","",null,"","",null,null,{"$f":"IF($A504=\"\",\"\",'Stammdaten Mitarbeitende'!L504)","v":""},0,"","","","","","","","","","",0,"",0,0,0,0,{"$f":"IF('Stammdaten Mitarbeitende'!N504>0,AC504,0)","v":0},{"$f":"IF('Stammdaten Mitarbeitende'!N504>0,P504,0)","v":0},0,0,0]
[{"$f":"'Stammdaten Mitarbeitende'!AA505","v":""},"",null,null,null,null,null,null,0,"",null,"","","","",null,"","",null,null,{"$f":"IF($A505=\"\",\"\",'Stammdaten Mitarbeitende'!L505)","v":""},0,"","","","","","","","","","",0,"",0,0,0,0,{"$f":"IF('Stammdaten Mitarbeitende'!N505>0,AC505,0)","v":0},{"$f":"IF('Stammdaten Mitarbeitende'!N505>0,P505,0)","v":0},0,0,0]
[{"$f":"'Stammdaten Mitarbeitende'!AA506","v":""},"",null,null,null,null,null,null,0,"",null,"","","","",null,"","",null,null,{"$f":"IF($A506=\"\",\"\",'Stammdaten Mitarbeitende'!L506)","v":""},0,"","","","","","","","","","",0,"",0,0,0,0,{"$f":"IF('Stammdaten Mitarbeitende'!N506>0,AC506,0)","v":0},{"$f":"IF('Stammdaten Mitarbeitende'!N506>0,P506,0)","v":0},0,0,0]
[{"$f":"'Stammdaten Mitarbeitende'!AA507","v":""},"",null,null,null,null,null,null,0,"",null,"","","","",null,"","",null,null,{"$f":"IF($A507=\"\",\"\",'Stammdaten Mitarbeitende'!L507)","v":""},0,"","","","","","","","","","",0,"",0,0,0,0,{"$f":"IF('Stammdaten Mitarbeitende'!N507>0,AC507,0)","v":0},{"$f":"IF('Stammdaten Mitarbeitende'!N507>0,P507,0)","v":0},0,0,0]
[{"$f":"'Stammdaten Mitarbeitende'!AA508","v":""},"",null,null,null,null,null,null,0,"",null,"","","","",null,"","",null,null,{"$f":"IF($A508=\"\",\"\",'Stammdaten Mitarbeitende'!L508)","v":""},0,"","","","","","","","","","",0,"",0,0,0,0,{"$f":"IF('Stammdaten Mitarbeitende'!N508>0,AC508,0)","v":0},{"$f":"IF('Stammdaten Mitarbeitende'!N508>0,P508,0)","v":0},0,0,0]
[{"$f":"'Stammdaten Mitarbeitende'!AA509","v":""},"",null,null,null,null,null,null,0,"",null,"","","","",null,"","",null,null,{"$f":"IF($A509=\"\",\"\",'Stammdaten Mitarbeitende'!L509)","v":""},0,"","","","","","","","","","",0,"",0,0,0,0,{"$f":"IF('Stammdaten Mitarbeitende'!N509>0,AC509,0)","v":0},{"$f":"IF('Stammdaten Mitarbeitende'!N509>0,P509,0)","v":0},0,0,0]
[{"$f":"Übersetzungstexte!A$296","v":"Seitentotal"},null,null,{"$f":"SUM(D489:D509)","v":0},null,{"$f":"SUM(F489:F509)","v":0},null,null,null,{"$f":"SUM(J489:J509)","v":0},null,null,null,{"$f":"SUM(N489:N509)","v":0},null,{"$f":"SUM(P489:P509)","v":0},null,{"$f":"SUM(R489:R509)","v":0}]
[{"$f":"'Stammdaten Betrieb & Abteilung'!D$1","v":"  "},null,null,null,null,null,null,null,null,null,null,null,{"$f":"Übersetzungstexte!A$239","v":"Betrieb / Betriebsabteilung"},{"$f":"'Stammdaten Betrieb & Abteilung'!D$13","v":" "}]
[{"$f":"'Stammdaten Betrieb & Abteilung'!D$3","v":" "},null,null,null,null,null,null,null,null,null,null,null,{"$f":"Übersetzungstexte!A$240","v":"Abrechnungsperiode"},{"$f":"'Stammdaten Betrieb & Abteilung'!D$14","v":""},null,{"$f":"'Stammdaten Betrieb & Abteilung'!D$12","v":{"$error":"#VALUE!"}}]
[{"$f":"'Stammdaten Betrieb & Abteilung'!D$4","v":" "},null,null,null,null,null,null,null,null,null,null,null,{"$f":"Übersetzungstexte!A$241","v":"Beginn / Ende der Kurzarbeit"},{"$f":"'Stammdaten Betrieb & Abteilung'!D$16","v":""}]
[]
[1,2,3,4,5,6,null,7,null,8,9,10,11,12,13,null,14,15,null,null,null,"Regel 7","Regel 8",null,"Regel 9","Regel 10","Regel 11","Regel 12","Regel 13","Regel 14","Regel 15","Regel 17",null,"Regel 19/20",null,null,null,null,"AHV-pflichtiger","AHV-pflichtiger",null,null,"AHV-pflichtige"]
[{"$f":"Übersetzungstexte!A$242","v":""},{"$f":"Übersetzungstexte!A$245","v":"anrechen-"},{"$f":"Übersetzungstexte!A$248","v":"Wöchentl."},{"$f":"Übersetzungstexte!A$251","v":"Sollstd. Abr.-"},{"$f":"Übersetzungstexte!A$254","v":""},{"$f":"Übersetzungstexte!A$257","v":"Bezahlte/"},null,{"$f":"Übersetzungstexte!A$263","v":"(nur für Gleitzeit)"},null,{"$f":"Übersetzungstexte!A$269","v":"Ausfall-"},{"$f":"Übersetzungstexte!A$272","v":"Saldo"},{"$f":"Übersetzungstexte!A$275","v":"Saisonale"},{"$f":"Übersetzungstexte!A$278","v":"Anrechen-"},{"$f":"Übersetzungstexte!A$281","v":"Verdienst-"},{"$f":"Übersetzungstexte!A$284","v":"Verdienst-"},{"$f":"Übersetzungstexte!A$287","v":"Verdienst"},{"$f":"AE$4","v":"Abzug "},{"$f":"Übersetzungstexte!A$293","v":""},null,null,"anrechen-","Gleitzeit","Ausfall-","Max(D12,0)","Prozentualer","Saisonale","Proz. Wirts. Bed.","Anrechen-","Verdienst-","Verdienst-","Abzug","Abzug","Verdienst",null,"Anzahl","Anzahl","Sollstd.","Absenzen","Verdienst-","Verdienst","Sollstd.","bezahlte/","Abzugsbasis"]
[{"$f":"Übersetzungstexte!A$243","v":""},{"$f":"Übersetzungstexte!A$246","v":"barer Std.-"},{"$f":"Übersetzungstexte!A$249","v":"Arbeitszeit"},{"$f":"Übersetzungstexte!A$252","v":"Periode Inkl."},{"$f":"Übersetzungstexte!A$255","v":""},{"$f":"Übersetzungstexte!A$258","v":"Unbezahlte"},{"$f":"Übersetzungstexte!A$261","v":"Saldo Ende Per."},null,null,{"$f":"Übersetzungstexte!A$270","v":"stunden"},{"$f":"Übersetzungstexte!A$273","v":"Mehrstd."},{"$f":"Übersetzungstexte!A$276","v":"Ausfall-"},{"$f":"Übersetzungstexte!A$279","v":"bare Aus-"},{"$f":"Übersetzungstexte!A$282","v":"ausfall"},{"$f":"Übersetzungstexte!A$285","v":"ausfall"},{"$f":"Übersetzungstexte!A$288","v":"Zwischen-"},{"$f":"Übersetzungstexte!A$291","v":"Karenztage"},{"$f":"Übersetzungstexte!A$294","v":"Beantragte"},null,null,"barer Std.-","c","stunden",null,"Arbeitsausfall","Ausfall-","Arbeitsausfall","bare ","ausfall","ausfall","Karenztage","Zwischen-","Zwischen-","Beantragte","bezugsber.","betroffene","bezugsber.","bezugsber.","ausfall","Zwischen-","inkl","unbezahlte"]
[{"$f":"Übersetzungstexte!A$244","v":"Name,Vorname"},{"$f":"Übersetzungstexte!A$247","v":"Verdienst"},{"$f":"Übersetzungstexte!A$250","v":"in der AP"},{"$f":"Übersetzungstexte!A$253","v":"Vorholzeit"},{"$f":"Übersetzungstexte!A$256","v":"Istzeit"},{"$f":"Übersetzungstexte!A$259","v":"Absenzen"},{"$f":"Übersetzungstexte!A$262","v":"vorherg."},{"$f":"Übersetzungstexte!A$265","v":"laufend"},{"$f":"Übersetzungstexte!A$268","v":"Diff."},{"$f":"Übersetzungstexte!A$271","v":"total"},{"$f":"Übersetzungstexte!A$274","v":"Vormonate"},{"$f":"Übersetzungstexte!A$277","v":"stunden"},{"$f":"Übersetzungstexte!A$280","v":"fall-Std."},{"$f":"Übersetzungstexte!A$283","v":"100%"},{"$f":"Übersetzungstexte!A$286","v":"80%"},{"$f":"Übersetzungstexte!A$289","v":"Beschäftigung"},{"$f":"Übersetzungstexte!A$292","v":"80%"},{"$f":"Übersetzungstexte!A$295","v":"Vergütung"},null,null,"Verdienst",null,"Total",null,"pAA","stunden","pwAA","Ausfall-Std.","100%","80%","80%","beschäftigung","beschäftigung","Vergütung","Mitarbeiter","Mitarbeiter","Mitarbeiter","Mitarbeiter","100%","beschäftigung","Vorholzeit","Ansenzen"]
[{"$f":"'Stammdaten Mitarbeitende'!AA519","v":""},{"$f":"U519","v":""},null,null,null,null,null,null,{"$f":"V519","v":0},{"$f":"W519","v":""},null,{"$f":"Z519","v":""},{"$f":"AB519","v":""},{"$f":"AC519","v":""},{"$f":"AD519","v":""},null,{"$f":"AE519","v":""},{"$f":"AH519","v":""},null,null,{"$f":"IF($A519=\"\",\"\",'Stammdaten Mitarbeitende'!L519)","v":""},{"$f":"IF(AND(G519=\"\",H519=\"\"),0,G519-H519)","v":0},{"$f":"IF(OR($A519=\"\",D519=\"\",E519=\"\",F519=\"\",V519=\"\"),\"\",D519-(E519+F519+V519))","v":""},{"$f":"IF(W519=\"\",\"\",MAX(W519,0))","v":""},{"$f":"IF(J519=\"\",\"\",Y$4)","v":""},{"$f":"IF(J519=\"\",\"\",J519*Z$4)","v":""},{"$f":"IF(Y519=\"\",\"\",AA$4)","v":""},{"$f":"IF(J519=\"\",\"\",ROUND(J519*AB$4 - MAX(K519-L519,0),2))","v":""},{"$f":"IF(OR($A519=\"\",J519=\"\",B519=\"\",M519<0),\"\",MAX(ROUND(M519*B519*2,1)/2,0))","v":""},{"$f":"IF(OR($A519=\"\",N519=\"\"),\"\",ROUND(N519*8/5,1)/2)","v":""},{"$f":"IF(OR($A519=\"\",B519=\"\",N519=\"\"),\"\",ROUND(AE$3*C519*B519*16/50,1)/2)","v":""},{"$f":"IF(OR($A519=\"\",J519=\"\",N519=\"\"),\"\",MAX(O519+P519-N519,0))","v":""},{"$f":"P519","v":0},{"$f":"IF(OR($A519=\"\",N519=\"\"),\"\",ROUND((MAX(O519-Q519-AF519,0))*2,1)/2)","v":""},{"$f":"IF(D519=\"\",0,1)","v":0},{"$f":"IF(J519=\"\",0,IF(ROUND(J519,2)<=0,0,1))","v":0},{"$f":"IF(D519=\"\",0,D519)","v":0},{"$f":"IF(D519=\"\",0,F519)","v":0},{"$f":"IF('Stammdaten Mitarbeitende'!N519>0,AC519,0)","v":0},{"$f":"IF('Stammdaten Mitarbeitende'!N519>0,P519,0)","v":0},{"$f":"D519","v":0},{"$f":"F519","v":0},{"$f":"IF(AM519=\"\",0,MAX(AM519-AN519,0))","v":0}]
[{"$f":"'Stammdaten Mitarbeitende'!AA520","v":""},"",null,null,null,null,null,null,0,"",null,"","","","",null,"","",null,null,{"$f":"IF($A520=\"\",\"\",'Stammdaten Mitarbeitende'!L520)","v":""},0,"","","","","","","","","","",0,"",0,{"$f":"IF(J520=\"\",0,IF(ROUND(J520,2)<=0,0,1))","v":0},0,0,{"$f":"IF('Stammdaten Mitarbeitende'!N520>0,AC520,0)","v":0},{"$f":"IF('Stammdaten Mitarbeitende'!N520>0,P520,0)","v":0},0,0,0]
[{"$f":"'Stammdaten Mitarbeitende'!AA521","v":""},"",null,null,null,null,null,null,0,"",null,"","","","",null,"","",null,null,{"$f":"IF($A521=\"\",\"\",'Stammdaten Mitarbeitende'!L521)","v":""},0,"","","","","","","","","","",0,"",0,0,0,0,{"$f":"IF('Stammdaten Mitarbeitende'!N521>0,AC521,0)","v":0},{"$f":"IF('Stammdaten Mitarbeitende'!N521>0,P521,0)","v":0},0,0,0]
[{"$f":"'Stammdaten Mitarbeitende'!AA522","v":""},"",null,null,null,null,null,null,0,"",null,"","","","",null,"","",null,null,{"$f":"IF($A522=\"\",\"\",'Stammdaten Mitarbeitende'!L522)","v":""},0,"","","","","","","","","","",0,"",0,0,0,0,{"$f":"IF('Stammdaten Mitarbeitende'!N522>0,AC522,0)","v":0},{"$f":"IF('Stammdaten Mitarbeitende'!N522>0,P522,0)","v":0},0,0,0]
[{"$f":"'Stammdaten Mitarbeitende'!AA523","v":""},"",null,null,null,null,null,null,0,"",null,"","","","",null,"","",null,null,{"$f":"IF($A523=\"\",\"\",'Stammdaten Mitarbeitende'!L523)","v":""},0,"","","","","","","","","","",0,"",0,0,0,0,{"$f":"IF('Stammdaten Mitarbeitende'!N523>0,AC523,0)","v":0},{"$f":"IF('Stammdaten Mitarbeitende'!N523>0,P523,0)","v":0},0,0,0]
[{"$f":"'Stammdaten Mitarbeitende'!AA524","v":""},"",null,null,null,null,null,null,0,"",null,"","","","",null,"","",null,null,{"$f":"IF($A524=\"\",\"\",'Stammdaten Mitarbeitende'!L524)","v":""},0,"","","","","","","","","","",0,"",0,0,0,0,{"$f":"IF('Stammdaten Mitarbeitende'!N524>0,AC524,0)","v":0},{"$f":"IF('Stammdaten Mitarbeitende'!N524>0,P524,0)","v":0},0,0,0]
[{"$f":"'Stammdaten Mitarbeitende'!AA525","v":""},"",null,null,null,null,null,null,0,"",null,"","","","",null,"","",null,null,{"$f":"IF($A525=\"\",\"\",'Stammdaten Mitarbeitende'!L525)","v":""},0,"","","","","","","","","","",0,"",0,0,0,0,{"$f":"IF('Stammdaten Mitarbeitende'!N525>0,AC525,0)","v":0},{"$f":"IF('Stammdaten Mitarbeitende'!N525>0,P525,0)","v":0},0,0,0]
[{"$f":"'Stammdaten Mitarbeitende'!AA526","v":""},"",null,null,null,null,null,null,0,"",null,"","","","",null,"","",null,null,{"$f":"IF($A526=\"\",\"\",'Stammdaten Mitarbeitende'!L526)","v":""},0,"","","","","","","","","","",0,"",0,0,0,0,{"$f":"IF('Stammdaten Mitarbeitende'!N526>0,AC526,0)","v":0},{"$f":"IF('Stammdaten Mitarbeitende'!N526>0,P526,0)","v":0},0,0,0]
[{"$f":"'Stammdaten Mitarbeitende'!AA527","v":""},"",null,null,null,null,null,null,0,"",null,"","","","",null,"","",null,null,{"$f":"IF($A527=\"\",\"\",'Stammdaten Mitarbeitende'!L527)","v":""},0,"","","","","","","","","","",0,"",0,0,0,0,{"$f":"IF('Stammdaten Mitarbeitende'!N527>0,AC527,0)","v":0},{"$f":"IF('Stammdaten Mitarbeitende'!N527>0,P527,0)","v":0},0,0,0]
[{"$f":"'Stammdaten Mitarbeitende'!AA528","v":""},"",null,null,null,null,null,null,0,"",null,"","","","",null,"","",null,null,{"$f":"IF($A528=\"\",\"\",'Stammdaten Mitarbeitende'!L528)","v":""},0,"","","","","","","","","","",0,"",0,0,0,0,{"$f":"IF('Stammdaten Mitarbeitende'!N528>0,AC528,0)","v":0},{"$f":"IF('Stammdaten Mitarbeitende'!N528>0,P528,0)","v":0},0,0,0]
[{"$f":"'Stammdaten Mitarbeitende'!AA529","v":""},"",null,null,null,null,null,null,0,"",null,"","","","",null,"","",null,null,{"$f":"IF($A529=\"\",\"\",'Stammdaten Mitarbeitende'!L529)","v":""},0,"","","","","","","","","","",0,"",0,0,0,0,{"$f":"IF('Stammdaten Mitarbeitende'!N529>0,AC529,0)","v":0},{"$f":"IF('Stammdaten Mitarbeitende'!N529>0,P529,0)","v":0},0,0,0]
[{"$f":"'Stammdaten Mitarbeitende'!AA530","v":""},"",null,null,null,null,null,null,0,"",null,"","","","",null,"","",null,null,{"$f":"IF($A530=\"\",\"\",'Stammdaten Mitarbeitende'!L530)","v":""},0,"","","","","","","","","","",0,"",0,0,0,0,{"$f":"IF('Stammdaten Mitarbeitende'!N530>0,AC530,0)","v":0},{"$f":"IF('Stammdaten Mitarbeitende'!N530>0,P530,0)","v":0},0,0,0]
[{"$f":"'Stammdaten Mitarbeitende'!AA531","v":""},"",null,null,null,null,null,null,0,"",null,"","","","",null,"","",null,null,{"$f":"IF($A531=\"\",\"\",'Stammdaten Mitarbeitende'!L531)","v":""},0,"","","","","","","","","","",0,"",0,0,0,0,{"$f":"IF('Stammdaten Mitarbeitende'!N531>0,AC531,0)","v":0},{"$f":"IF('Stammdaten Mitarbeitende'!N531>0,P531,0)","v":0},0,0,0]
[{"$f":"'Stammdaten Mitarbeitende'!AA532","v":""},"",null,null,null,null,null,null,0,"",null,"","","","",null,"","",null,null,{"$f":"IF($A532=\"\",\"\",'Stammdaten Mitarbeitende'!L532)","v":""},0,"","","","","","","","","","",0,"",0,0,0,0,{"$f":"IF('Stammdaten Mitarbeitende'!N532>0,AC532,0)","v":0},{"$f":"IF('Stammdaten Mitarbeitende'!N532>0,P532,0)","v":0},0,0,0]
[{"$f":"'Stammdaten Mitarbeitende'!AA533","v":""},"",null,null,null,null,null,null,0,"",null,"","","","",null,"","",null,null,{"$f":"IF($A533=\"\",\"\",'Stammdaten Mitarbeitende'!L533)","v":""},0,"","","","","","","","","","",0,"",0,0,0,0,{"$f":"IF('Stammdaten Mitarbeitende'!N533>0,AC533,0)","v":0},{"$f":"IF('Stammdaten Mitarbeitende'!N533>0,P533,0)","v":0},0,0,0]
[{"$f":"'Stammdaten Mitarbeitende'!AA534","v":""},"",null,null,null,null,null,null,0,"",null,"","","","",null,"","",null,null,{"$f":"IF($A534=\"\",\"\",'Stammdaten Mitarbeitende'!L534)","v":""},0,"","","","","","","","","","",0,"",0,0,0,0,{"$f":"IF('Stammdaten Mitarbeitende'!N534>0,AC534,0)","v":0},{"$f":"IF('Stammdaten Mitarbeitende'!N534>0,P534,0)","v":0},0,0,0]
[{"$f":"'Stammdaten Mitarbeitende'!AA535","v":""},"",null,null,null,null,null,null,0,"",null,"","","","",null,"","",null,null,{"$f":"IF($A535=\"\",\"\",'Stammdaten Mitarbeitende'!L535)","v":""},0,"","","","","","","","","","",0,"",0,0,0,0,{"$f":"IF('Stammdaten Mitarbeitende'!N535>0,AC535,0)","v":0},{"$f":"IF('Stammdaten Mitarbeitende'!N535>0,P535,0)","v":0},0,0,0]
[{"$f":"'Stammdaten Mitarbeitende'!AA536","v":""},"",null,null,null,null,null,null,0,"",null,"","","","",null,"","",null,null,{"$f":"IF($A536=\"\",\"\",'Stammdaten Mitarbeitende'!L536)","v":""},0,"","","","","","","","","","",0,"",0,0,0,0,{"$f":"IF('Stammdaten Mitarbeitende'!N536>0,AC536,0)","v":0},{"$f":"IF('Stammdaten Mitarbeitende'!N536>0,P536,0)","v":0},0,0,0]
[{"$f":"'Stammdaten Mitarbeitende'!AA537","v":""},"",null,null,null,null,null,null,0,"",null,"","","","",null,"","",null,null,{"$f":"IF($A537=\"\",\"\",'Stammdaten Mitarbeitende'!L537)","v":""},0,"","","","","","","","","","",0,"",0,0,0,0,{"$f":"IF('Stammdaten Mitarbeitende'!N537>0,AC537,0)","v":0},{"$f":"IF('Stammdaten Mitarbeitende'!N537>0,P537,0)","v":0},0,0,0]
[{"$f":"'Stammdaten Mitarbeitende'!AA538","v":""},"",null,null,null,null,null,null,0,"",null,"","","","",null,"","",null,null,{"$f":"IF($A538=\"\",\"\",'Stammdaten Mitarbeitende'!L538)","v":""},0,"","","","","","","","","","",0,"",0,0,0,0,{"$f":"IF('Stammdaten Mitarbeitende'!N538>0,AC538,0)","v":0},{"$f":"IF('Stammdaten Mitarbeitende'!N538>0,P538,0)","v":0},0,0,0]
[{"$f":"'Stammdaten Mitarbeitende'!AA539","v":""},"",null,null,null,null,null,null,0,"",null,"","","","",null,"","",null,null,{"$f":"IF($A539=\"\",\"\",'Stammdaten Mitarbeitende'!L539)","v":""},0,"","","","","","","","","","",0,"",0,0,0,0,{"$f":"IF('Stammdaten Mitarbeitende'!N539>0,AC539,0)","v":0},{"$f":"IF('Stammdaten Mitarbeitende'!N539>0,P539,0)","v":0},0,0,0]
[{"$f":"Übersetzungstexte!A$296","v":"Seitentotal"},null,null,{"$f":"SUM(D519:D539)","v":0},null,{"$f":"SUM(F519:F539)","v":0},null,null,null,{"$f":"SUM(J519:J539)","v":0},null,null,null,{"$f":"SUM(N519:N539)","v":0},null,{"$f":"SUM(P519:P539)","v":0},null,{"$f":"SUM(R519:R539)","v":0}]
[{"$f":"'Stammdaten Betrieb & Abteilung'!D$1","v":"  "},null,null,null,null,null,null,null,null,null,null,null,{"$f":"Übersetzungstexte!A$239","v":"Betrieb / Betriebsabteilung"},{"$f":"'Stammdaten Betrieb & Abteilung'!D$13","v":" "}]
[{"$f":"'Stammdaten Betrieb & Abteilung'!D$3","v":" "},null,null,null,null,null,null,null,null,null,null,null,{"$f":"Übersetzungstexte!A$240","v":"Abrechnungsperiode"},{"$f":"'Stammdaten Betrieb & Abteilung'!D$14","v":""},null,{"$f":"'Stammdaten Betrieb & Abteilung'!D$12","v":{"$error":"#VALUE!"}}]
[{"$f":"'Stammdaten Betrieb & Abteilung'!D$4","v":" "},null,null,null,null,null,null,null,null,null,null,null,{"$f":"Übersetzungstexte!A$241","v":"Beginn / Ende der Kurzarbeit"},{"$f":"'Stammdaten Betrieb & Abteilung'!D$16","v":""}]
[]
[1,2,3,4,5,6,null,7,null,8,9,10,11,12,13,null,14,15,null,null,null,"Regel 7","Regel 8",null,"Regel 9","Regel 10","Regel 11","Regel 12","Regel 13","Regel 14","Regel 15","Regel 17",null,"Regel 19/20",null,null,null,null,"AHV-pflichtiger","AHV-pflichtiger",null,null,"AHV-pflichtige"]
[{"$f":"Übersetzungstexte!A$242","v":""},{"$f":"Übersetzungstexte!A$245","v":"anrechen-"},{"$f":"Übersetzungstexte!A$248","v":"Wöchentl."},{"$f":"Übersetzungstexte!A$251","v":"Sollstd. Abr.-"},{"$f":"Übersetzungstexte!A$254","v":""},{"$f":"Übersetzungstexte!A$257","v":"Bezahlte/"},null,{"$f":"Übersetzungstexte!A$263","v":"(nur für Gleitzeit)"},null,{"$f":"Übersetzungstexte!A$269","v":"Ausfall-"},{"$f":"Übersetzungstexte!A$272","v":"Saldo"},{"$f":"Übersetzungstexte!A$275","v":"Saisonale"},{"$f":"Übersetzungstexte!A$278","v":"Anrechen-"},{"$f":"Übersetzungstexte!A$281","v":"Verdienst-"},{"$f":"Übersetzungstexte!A$284","v":"Verdienst-"},{"$f":"Übersetzungstexte!A$287","v":"Verdienst"},{"$f":"AE$4","v":"Abzug "},{"$f":"Übersetzungstexte!A$293","v":""},null,null,"anrechen-","Gleitzeit","Ausfall-","Max(D12,0)","Prozentualer","Saisonale","Proz. Wirts. Bed.","Anrechen-","Verdienst-","Verdienst-","Abzug","Abzug","Verdienst",null,"Anzahl","Anzahl","Sollstd.","Absenzen","Verdienst-","Verdienst","Sollstd.","bezahlte/","Abzugsbasis"]
[{"$f":"Übersetzungstexte!A$243","v":""},{"$f":"Übersetzungstexte!A$246","v":"barer Std.-"},{"$f":"Übersetzungstexte!A$249","v":"Arbeitszeit"},{"$f":"Übersetzungstexte!A$252","v":"Periode Inkl."},{"$f":"Übersetzungstexte!A$255","v":""},{"$f":"Übersetzungstexte!A$258","v":"Unbezahlte"},{"$f":"Übersetzungstexte!A$261","v":"Saldo Ende Per."},null,null,{"$f":"Übersetzungstexte!A$270","v":"stunden"},{"$f":"Übersetzungstexte!A$273","v":"Mehrstd."},{"$f":"Übersetzungstexte!A$276","v":"Ausfall-"},{"$f":"Übersetzungstexte!A$279","v":"bare Aus-"},{"$f":"Übersetzungstexte!A$282","v":"ausfall"},{"$f":"Übersetzungstexte!A$285","v":"ausfall"},{"$f":"Übersetzungstexte!A$288","v":"Zwischen-"},{"$f":"Übersetzungstexte!A$291","v":"Karenztage"},{"$f":"Übersetzungstexte!A$294","v":"Beantragte"},null,null,"barer Std.-","c","stunden",null,"Arbeitsausfall","Ausfall-","Arbeitsausfall","bare ","ausfall","ausfall","Karenztage","Zwischen-","Zwischen-","Beantragte","bezugsber.","betroffene","bezugsber.","bezugsber.","ausfall","Zwischen-","inkl","unbezahlte"]
[{"$f":"Übersetzungstexte!A$244","v":"Name,Vorname"},{"$f":"Übersetzungstexte!A$247","v":"Verdienst"},{"$f":"Übersetzungstexte!A$250","v":"in der AP"},{"$f":"Übersetzungstexte!A$253","v":"Vorholzeit"},{"$f":"Übersetzungstexte!A$256","v":"Istzeit"},{"$f":"Übersetzungstexte!A$259","v":"Absenzen"},{"$f":"Übersetzungstexte!A$262","v":"vorherg."},{"$f":"Übersetzungstexte!A$265","v":"laufend"},{"$f":"Übersetzungstexte!A$268","v":"Diff."},{"$f":"Übersetzungstexte!A$271","v":"total"},{"$f":"Übersetzungstexte!A$274","v":"Vormonate"},{"$f":"Übersetzungstexte!A$277","v":"stunden"},{"$f":"Übersetzungstexte!A$280","v":"fall-Std."},{"$f":"Übersetzungstexte!A$283","v":"100%"},{"$f":"Übersetzungstexte!A$286","v":"80%"},{"$f":"Übersetzungstexte!A$289","v":"Beschäftigung"},{"$f":"Übersetzungstexte!A$292","v":"80%"},{"$f":"Übersetzungstexte!A$295","v":"Vergütung"},null,null,"Verdienst",null,"Total",null,"pAA","stunden","pwAA","Ausfall-Std.","100%","80%","80%","beschäftigung","beschäftigung","Vergütung","Mitarbeiter","Mitarbeiter","Mitarbeiter","Mitarbeiter","100%","beschäftigung","Vorholzeit","Ansenzen"]
[{"$f":"'Stammdaten Mitarbeitende'!AA549","v":""},{"$f":"U549","v":""},null,null,null,null,null,null,{"$f":"V549","v":0},{"$f":"W549","v":""},null,{"$f":"Z549","v":""},{"$f":"AB549","v":""},{"$f":"AC549","v":""},{"$f":"AD549","v":""},null,{"$f":"AE549","v":""},{"$f":"AH549","v":""},null,null,{"$f":"IF($A549=\"\",\"\",'Stammdaten Mitarbeitende'!L549)","v":""},{"$f":"IF(AND(G549=\"\",H549=\"\"),0,G549-H549)","v":0},{"$f":"IF(OR($A549=\"\",D549=\"\",E549=\"\",F549=\"\",V549=\"\"),\"\",D549-(E549+F549+V549))","v":""},{"$f":"IF(W549=\"\",\"\",MAX(W549,0))","v":""},{"$f":"IF(J549=\"\",\"\",Y$4)","v":""},{"$f":"IF(J549=\"\",\"\",J549*Z$4)","v":""},{"$f":"IF(Y549=\"\",\"\",AA$4)","v":""},{"$f":"IF(J549=\"\",\"\",ROUND(J549*AB$4 - MAX(K549-L549,0),2))","v":""},{"$f":"IF(OR($A549=\"\",J549=\"\",B549=\"\",M549<0),\"\",MAX(ROUND(M549*B549*2,1)/2,0))","v":""},{"$f":"IF(OR($A549=\"\",N549=\"\"),\"\",ROUND(N549*8/5,1)/2)","v":""},{"$f":"IF(OR($A549=\"\",B549=\"\",N549=\"\"),\"\",ROUND(AE$3*C549*B549*16/50,1)/2)","v":""},{"$f":"IF(OR($A549=\"\",J549=\"\",N549=\"\"),\"\",MAX(O549+P549-N549,0))","v":""},{"$f":"P549","v":0},{"$f":"IF(OR($A549=\"\",N549=\"\"),\"\",ROUND((MAX(O549-Q549-AF549,0))*2,1)/2)","v":""},{"$f":"IF(D549=\"\",0,1)","v":0},{"$f":"IF(J549=\"\",0,IF(ROUND(J549,2)<=0,0,1))","v":0},{"$f":"IF(D549=\"\",0,D549)","v":0},{"$f":"IF(D549=\"\",0,F549)","v":0},{"$f":"IF('Stammdaten Mitarbeitende'!N549>0,AC549,0)","v":0},{"$f":"IF('Stammdaten Mitarbeitende'!N549>0,P549,0)","v":0},{"$f":"D549","v":0},{"$f":"F549","v":0},{"$f":"IF(AM549=\"\",0,MAX(AM549-AN549,0))","v":0}]
[{"$f":"'Stammdaten Mitarbeitende'!AA550","v":""},"",null,null,null,null,null,null,0,"",null,"","","","",null,"","",null,null,{"$f":"IF($A550=\"\",\"\",'Stammdaten Mitarbeitende'!L550)","v":""},0,"","","","","","","","","","",0,"",0,{"$f":"IF(J550=\"\",0,IF(ROUND(J550,2)<=0,0,1))","v":0},0,0,{"$f":"IF('Stammdaten Mitarbeitende'!N550>0,AC550,0)","v":0},{"$f":"IF('Stammdaten Mitarbeitende'!N550>0,P550,0)","v":0},0,0,0]
[{"$f":"'Stammdaten Mitarbeitende'!AA551","v":""},"",null,null,null,null,null,null,0,"",null,"","","","",null,"","",null,null,{"$f":"IF($A551=\"\",\"\",'Stammdaten Mitarbeitende'!L551)","v":""},0,"","","","","","","","","","",0,"",0,0,0,0,{"$f":"IF('Stammdaten Mitarbeitende'!N551>0,AC551,0)","v":0},{"$f":"IF('Stammdaten Mitarbeitende'!N551>0,P551,0)","v":0},0,0,0]
[{"$f":"'Stammdaten Mitarbeitende'!AA552","v":""},"",null,null,null,null,null,null,0,"",null,"","","","",null,"","",null,null,{"$f":"IF($A552=\"\",\"\",'Stammdaten Mitarbeitende'!L552)","v":""},0,"","","","","","","","","","",0,"",0,0,0,0,{"$f":"IF('Stammdaten Mitarbeitende'!N552>0,AC552,0)","v":0},{"$f":"IF('Stammdaten Mitarbeitende'!N552>0,P552,0)","v":0},0,0,0]
[{"$f":"'Stammdaten Mitarbeitende'!AA553","v":""},"",null,null,null,null,null,null,0,"",null,"","","","",null,"","",null,null,{"$f":"IF($A553=\"\",\"\",'Stammdaten Mitarbeitende'!L553)","v":""},0,"","","","","","","","","","",0,"",0,0,0,0,{"$f":"IF('Stammdaten Mitarbeitende'!N553>0,AC553,0)","v":0},{"$f":"IF('Stammdaten Mitarbeitende'!N553>0,P553,0)","v":0},0,0,0]
[{"$f":"'Stammdaten Mitarbeitende'!AA554","v":""},"",null,null,null,null,null,null,0,"",null,"","","","",null,"","",null,null,{"$f":"IF($A554=\"\",\"\",'Stammdaten Mitarbeitende'!L554)","v":""},0,"","","","","","","","","","",0,"",0,0,0,0,{"$f":"IF('Stammdaten Mitarbeitende'!N554>0,AC554,0)","v":0},{"$f":"IF('Stammdaten Mitarbeitende'!N554>0,P554,0)","v":0},0,0,0]
[{"$f":"'Stammdaten Mitarbeitende'!AA555","v":""},"",null,null,null,null,null,null,0,"",null,"","","","",null,"","",null,null,{"$f":"IF($A555=\"\",\"\",'Stammdaten Mitarbeitende'!L555)","v":""},0,"","","","","","","","","","",0,"",0,0,0,0,{"$f":"IF('Stammdaten Mitarbeitende'!N555>0,AC555,0)","v":0},{"$f":"IF('Stammdaten Mitarbeitende'!N555>0,P555,0)","v":0},0,0,0]
[{"$f":"'Stammdaten Mitarbeitende'!AA556","v":""},"",null,null,null,null,null,null,0,"",null,"","","","",null,"","",null,null,{"$f":"IF($A556=\"\",\"\",'Stammdaten Mitarbeitende'!L556)","v":""},0,"","","","","","","","","","",0,"",0,0,0,0,{"$f":"IF('Stammdaten Mitarbeitende'!N556>0,AC556,0)","v":0},{"$f":"IF('Stammdaten Mitarbeitende'!N556>0,P556,0)","v":0},0,0,0]
[{"$f":"'Stammdaten Mitarbeitende'!AA557","v":""},"",null,null,null,null,null,null,0,"",null,"","","","",null,"","",null,null,{"$f":"IF($A557=\"\",\"\",'Stammdaten Mitarbeitende'!L557)","v":""},0,"","","","","","","","","","",0,"",0,0,0,0,{"$f":"IF('Stammdaten Mitarbeitende'!N557>0,AC557,0)","v":0},{"$f":"IF('Stammdaten Mitarbeitende'!N557>0,P557,0)","v":0},0,0,0]
[{"$f":"'Stammdaten Mitarbeitende'!AA558","v":""},"",null,null,null,null,null,null,0,"",null,"","","","",null,"","",null,null,{"$f":"IF($A558=\"\",\"\",'Stammdaten Mitarbeitende'!L558)","v":""},0,"","","","","","","","","","",0,"",0,0,0,0,{"$f":"IF('Stammdaten Mitarbeitende'!N558>0,AC558,0)","v":0},{"$f":"IF('Stammdaten Mitarbeitende'!N558>0,P558,0)","v":0},0,0,0]
[{"$f":"'Stammdaten Mitarbeitende'!AA559","v":""},"",null,null,null,null,null,null,0,"",null,"","","","",null,"","",null,null,{"$f":"IF($A559=\"\",\"\",'Stammdaten Mitarbeitende'!L559)","v":""},0,"","","","","","","","","","",0,"",0,0,0,0,{"$f":"IF('Stammdaten Mitarbeitende'!N559>0,AC559,0)","v":0},{"$f":"IF('Stammdaten Mitarbeitende'!N559>0,P559,0)","v":0},0,0,0]
[{"$f":"'Stammdaten Mitarbeitende'!AA560","v":""},"",null,null,null,null,null,null,0,"",null,"","","","",null,"","",null,null,{"$f":"IF($A560=\"\",\"\",'Stammdaten Mitarbeitende'!L560)","v":""},0,"","","","","","","","","","",0,"",0,0,0,0,{"$f":"IF('Stammdaten Mitarbeitende'!N560>0,AC560,0)","v":0},{"$f":"IF('Stammdaten Mitarbeitende'!N560>0,P560,0)","v":0},0,0,0]
[{"$f":"'Stammdaten Mitarbeitende'!AA561","v":""},"",null,null,null,null,null,null,0,"",null,"","","","",null,"","",null,null,{"$f":"IF($A561=\"\",\"\",'Stammdaten Mitarbeitende'!L561)","v":""},0,"","","","","","","","","","",0,"",0,0,0,0,{"$f":"IF('Stammdaten Mitarbeitende'!N561>0,AC561,0)","v":0},{"$f":"IF('Stammdaten Mitarbeitende'!N561>0,P561,0)","v":0},0,0,0]
[{"$f":"'Stammdaten Mitarbeitende'!AA562","v":""},"",null,null,null,null,null,null,0,"",null,"","","","",null,"","",null,null,{"$f":"IF($A562=\"\",\"\",'Stammdaten Mitarbeitende'!L562)","v":""},0,"","","","","","","","","","",0,"",0,0,0,0,{"$f":"IF('Stammdaten Mitarbeitende'!N562>0,AC562,0)","v":0},{"$f":"IF('Stammdaten Mitarbeitende'!N562>0,P562,0)","v":0},0,0,0]
[{"$f":"'Stammdaten Mitarbeitende'!AA563","v":""},"",null,null,null,null,null,null,0,"",null,"","","","",null,"","",null,null,{"$f":"IF($A563=\"\",\"\",'Stammdaten Mitarbeitende'!L563)","v":""},0,"","","","","","","","","","",0,"",0,0,0,0,{"$f":"IF('Stammdaten Mitarbeitende'!N563>0,AC563,0)","v":0},{"$f":"IF('Stammdaten Mitarbeitende'!N563>0,P563,0)","v":0},0,0,0]
[{"$f":"'Stammdaten Mitarbeitende'!AA564","v":""},"",null,null,null,null,null,null,0,"",null,"","","","",null,"","",null,null,{"$f":"IF($A564=\"\",\"\",'Stammdaten Mitarbeitende'!L564)","v":""},0,"","","","","","","","","","",0,"",0,0,0,0,{"$f":"IF('Stammdaten Mitarbeitende'!N564>0,AC564,0)","v":0},{"$f":"IF('Stammdaten Mitarbeitende'!N564>0,P564,0)","v":0},0,0,0]
[{"$f":"'Stammdaten Mitarbeitende'!AA565","v":""},"",null,null,null,null,null,null,0,"",null,"","","","",null,"","",null,null,{"$f":"IF($A565=\"\",\"\",'Stammdaten Mitarbeitende'!L565)","v":""},0,"","","","","","","","","","",0,"",0,0,0,0,{"$f":"IF('Stammdaten Mitarbeitende'!N565>0,AC565,0)","v":0},{"$f":"IF('Stammdaten Mitarbeitende'!N565>0,P565,0)","v":0},0,0,0]
[{"$f":"'Stammdaten Mitarbeitende'!AA566","v":""},"",null,null,null,null,null,null,0,"",null,"","","","",null,"","",null,null,{"$f":"IF($A566=\"\",\"\",'Stammdaten Mitarbeitende'!L566)","v":""},0,"","","","","","","","","","",0,"",0,0,0,0,{"$f":"IF('Stammdaten Mitarbeitende'!N566>0,AC566,0)","v":0},{"$f":"IF('Stammdaten Mitarbeitende'!N566>0,P566,0)","v":0},0,0,0]
[{"$f":"'Stammdaten Mitarbeitende'!AA567","v":""},"",null,null,null,null,null,null,0,"",null,"","","","",null,"","",null,null,{"$f":"IF($A567=\"\",\"\",'Stammdaten Mitarbeitende'!L567)","v":""},0,"","","","","","","","","","",0,"",0,0,0,0,{"$f":"IF('Stammdaten Mitarbeitende'!N567>0,AC567,0)","v":0},{"$f":"IF('Stammdaten Mitarbeitende'!N567>0,P567,0)","v":0},0,0,0]
[{"$f":"'Stammdaten Mitarbeitende'!AA568","v":""},"",null,null,null,null,null,null,0,"",null,"","","","",null,"","",null,null,{"$f":"IF($A568=\"\",\"\",'Stammdaten Mitarbeitende'!L568)","v":""},0,"","","","","","","","","","",0,"",0,0,0,0,{"$f":"IF('Stammdaten Mitarbeitende'!N568>0,AC568,0)","v":0},{"$f":"IF('Stammdaten Mitarbeitende'!N568>0,P568,0)","v":0},0,0,0]
[{"$f":"'Stammdaten Mitarbeitende'!AA569","v":""},"",null,null,null,null,null,null,0,"",null,"","","","",null,"","",null,null,{"$f":"IF($A569=\"\",\"\",'Stammdaten Mitarbeitende'!L569)","v":""},0,"","","","","","","","","","",0,"",0,0,0,0,{"$f":"IF('Stammdaten Mitarbeitende'!N569>0,AC569,0)","v":0},{"$f":"IF('Stammdaten Mitarbeitende'!N569>0,P569,0)","v":0},0,0,0]
[{"$f":"Übersetzungstexte!A$296","v":"Seitentotal"},null,null,{"$f":"SUM(D549:D569)","v":0},null,{"$f":"SUM(F549:F569)","v":0},null,null,null,{"$f":"SUM(J549:J569)","v":0},null,null,null,{"$f":"SUM(N549:N569)","v":0},null,{"$f":"SUM(P549:P569)","v":0},null,{"$f":"SUM(R549:R569)","v":0}]
[{"$f":"'Stammdaten Betrieb & Abteilung'!D$1","v":"  "},null,null,null,null,null,null,null,null,null,null,null,{"$f":"Übersetzungstexte!A$239","v":"Betrieb / Betriebsabteilung"},{"$f":"'Stammdaten Betrieb & Abteilung'!D$13","v":" "}]
[{"$f":"'Stammdaten Betrieb & Abteilung'!D$3","v":" "},null,null,null,null,null,null,null,null,null,null,null,{"$f":"Übersetzungstexte!A$240","v":"Abrechnungsperiode"},{"$f":"'Stammdaten Betrieb & Abteilung'!D$14","v":""},null,{"$f":"'Stammdaten Betrieb & Abteilung'!D$12","v":{"$error":"#VALUE!"}}]
[{"$f":"'Stammdaten Betrieb & Abteilung'!D$4","v":" "},null,null,null,null,null,null,null,null,null,null,null,{"$f":"Übersetzungstexte!A$241","v":"Beginn / Ende der Kurzarbeit"},{"$f":"'Stammdaten Betrieb & Abteilung'!D$16","v":""}]
[]
[1,2,3,4,5,6,null,7,null,8,9,10,11,12,13,null,14,15,null,null,null,"Regel 7","Regel 8",null,"Regel 9","Regel 10","Regel 11","Regel 12","Regel 13","Regel 14","Regel 15","Regel 17",null,"Regel 19/20",null,null,null,null,"AHV-pflichtiger","AHV-pflichtiger",null,null,"AHV-pflichtige"]
[{"$f":"Übersetzungstexte!A$242","v":""},{"$f":"Übersetzungstexte!A$245","v":"anrechen-"},{"$f":"Übersetzungstexte!A$248","v":"Wöchentl."},{"$f":"Übersetzungstexte!A$251","v":"Sollstd. Abr.-"},{"$f":"Übersetzungstexte!A$254","v":""},{"$f":"Übersetzungstexte!A$257","v":"Bezahlte/"},null,{"$f":"Übersetzungstexte!A$263","v":"(nur für Gleitzeit)"},null,{"$f":"Übersetzungstexte!A$269","v":"Ausfall-"},{"$f":"Übersetzungstexte!A$272","v":"Saldo"},{"$f":"Übersetzungstexte!A$275","v":"Saisonale"},{"$f":"Übersetzungstexte!A$278","v":"Anrechen-"},{"$f":"Übersetzungstexte!A$281","v":"Verdienst-"},{"$f":"Übersetzungstexte!A$284","v":"Verdienst-"},{"$f":"Übersetzungstexte!A$287","v":"Verdienst"},{"$f":"AE$4","v":"Abzug "},{"$f":"Übersetzungstexte!A$293","v":""},null,null,"anrechen-","Gleitzeit","Ausfall-","Max(D12,0)","Prozentualer","Saisonale","Proz. Wirts. Bed.","Anrechen-","Verdienst-","Verdienst-","Abzug","Abzug","Verdienst",null,"Anzahl","Anzahl","Sollstd.","Absenzen","Verdienst-","Verdienst","Sollstd.","bezahlte/","Abzugsbasis"]
[{"$f":"Übersetzungstexte!A$243","v":""},{"$f":"Übersetzungstexte!A$246","v":"barer Std.-"},{"$f":"Übersetzungstexte!A$249","v":"Arbeitszeit"},{"$f":"Übersetzungstexte!A$252","v":"Periode Inkl."},{"$f":"Übersetzungstexte!A$255","v":""},{"$f":"Übersetzungstexte!A$258","v":"Unbezahlte"},{"$f":"Übersetzungstexte!A$261","v":"Saldo Ende Per."},null,null,{"$f":"Übersetzungstexte!A$270","v":"stunden"},{"$f":"Übersetzungstexte!A$273","v":"Mehrstd."},{"$f":"Übersetzungstexte!A$276","v":"Ausfall-"},{"$f":"Übersetzungstexte!A$279","v":"bare Aus-"},{"$f":"Übersetzungstexte!A$282","v":"ausfall"},{"$f":"Übersetzungstexte!A$285","v":"ausfall"},{"$f":"Übersetzungstexte!A$288","v":"Zwischen-"},{"$f":"Übersetzungstexte!A$291","v":"Karenztage"},{"$f":"Übersetzungstexte!A$294","v":"Beantragte"},null,null,"barer Std.-","c","stunden",null,"Arbeitsausfall","Ausfall-","Arbeitsausfall","bare ","ausfall","ausfall","Karenztage","Zwischen-","Zwischen-","Beantragte","bezugsber.","betroffene","bezugsber.","bezugsber.","ausfall","Zwischen-","inkl","unbezahlte"]
[{"$f":"Übersetzungstexte!A$244","v":"Name,Vorname"},{"$f":"Übersetzungstexte!A$247","v":"Verdienst"},{"$f":"Übersetzungstexte!A$250","v":"in der AP"},{"$f":"Übersetzungstexte!A$253","v":"Vorholzeit"},{"$f":"Übersetzungstexte!A$256","v":"Istzeit"},{"$f":"Übersetzungstexte!A$259","v":"Absenzen"},{"$f":"Übersetzungstexte!A$262","v":"vorherg."},{"$f":"Übersetzungstexte!A$265","v":"laufend"},{"$f":"Übersetzungstexte!A$268","v":"Diff."},{"$f":"Übersetzungstexte!A$271","v":"total"},{"$f":"Übersetzungstexte!A$274","v":"Vormonate"},{"$f":"Übersetzungstexte!A$277","v":"stunden"},{"$f":"Übersetzungstexte!A$280","v":"fall-Std."},{"$f":"Übersetzungstexte!A$283","v":"100%"},{"$f":"Übersetzungstexte!A$286","v":"80%"},{"$f":"Übersetzungstexte!A$289","v":"Beschäftigung"},{"$f":"Übersetzungstexte!A$292","v":"80%"},{"$f":"Übersetzungstexte!A$295","v":"Vergütung"},null,null,"Verdienst",null,"Total",null,"pAA","stunden","pwAA","Ausfall-Std.","100%","80%","80%","beschäftigung","beschäftigung","Vergütung","Mitarbeiter","Mitarbeiter","Mitarbeiter","Mitarbeiter","100%","beschäftigung","Vorholzeit","Ansenzen"]
[{"$f":"'Stammdaten Mitarbeitende'!AA579","v":""},{"$f":"U579","v":""},null,null,null,null,null,null,{"$f":"V579","v":0},{"$f":"W579","v":""},null,{"$f":"Z579","v":""},{"$f":"AB579","v":""},{"$f":"AC579","v":""},{"$f":"AD579","v":""},null,{"$f":"AE579","v":""},{"$f":"AH579","v":""},null,null,{"$f":"IF($A579=\"\",\"\",'Stammdaten Mitarbeitende'!L579)","v":""},{"$f":"IF(AND(G579=\"\",H579=\"\"),0,G579-H579)","v":0},{"$f":"IF(OR($A579=\"\",D579=\"\",E579=\"\",F579=\"\",V579=\"\"),\"\",D579-(E579+F579+V579))","v":""},{"$f":"IF(W579=\"\",\"\",MAX(W579,0))","v":""},{"$f":"IF(J579=\"\",\"\",Y$4)","v":""},{"$f":"IF(J579=\"\",\"\",J579*Z$4)","v":""},{"$f":"IF(Y579=\"\",\"\",AA$4)","v":""},{"$f":"IF(J579=\"\",\"\",ROUND(J579*AB$4 - MAX(K579-L579,0),2))","v":""},{"$f":"IF(OR($A579=\"\",J579=\"\",B579=\"\",M579<0),\"\",MAX(ROUND(M579*B579*2,1)/2,0))","v":""},{"$f":"IF(OR($A579=\"\",N579=\"\"),\"\",ROUND(N579*8/5,1)/2)","v":""},{"$f":"IF(OR($A579=\"\",B579=\"\",N579=\"\"),\"\",ROUND(AE$3*C579*B579*16/50,1)/2)","v":""},{"$f":"IF(OR($A579=\"\",J579=\"\",N579=\"\"),\"\",MAX(O579+P579-N579,0))","v":""},{"$f":"P579","v":0},{"$f":"IF(OR($A579=\"\",N579=\"\"),\"\",ROUND((MAX(O579-Q579-AF579,0))*2,1)/2)","v":""},{"$f":"IF(D579=\"\",0,1)","v":0},{"$f":"IF(J579=\"\",0,IF(ROUND(J579,2)<=0,0,1))","v":0},{"$f":"IF(D579=\"\",0,D579)","v":0},{"$f":"IF(D579=\"\",0,F579)","v":0},{"$f":"IF('Stammdaten Mitarbeitende'!N579>0,AC579,0)","v":0},{"$f":"IF('Stammdaten Mitarbeitende'!N579>0,P579,0)","v":0},{"$f":"D579","v":0},{"$f":"F579","v":0},{"$f":"IF(AM579=\"\",0,MAX(AM579-AN579,0))","v":0}]
[{"$f":"'Stammdaten Mitarbeitende'!AA580","v":""},"",null,null,null,null,null,null,0,"",null,"","","","",null,"","",null,null,{"$f":"IF($A580=\"\",\"\",'Stammdaten Mitarbeitende'!L580)","v":""},0,"","","","","","","","","","",0,"",0,{"$f":"IF(J580=\"\",0,IF(ROUND(J580,2)<=0,0,1))","v":0},0,0,{"$f":"IF('Stammdaten Mitarbeitende'!N580>0,AC580,0)","v":0},{"$f":"IF('Stammdaten Mitarbeitende'!N580>0,P580,0)","v":0},0,0,0]
[{"$f":"'Stammdaten Mitarbeitende'!AA581","v":""},"",null,null,null,null,null,null,0,"",null,"","","","",null,"","",null,null,{"$f":"IF($A581=\"\",\"\",'Stammdaten Mitarbeitende'!L581)","v":""},0,"","","","","","","","","","",0,"",0,0,0,0,{"$f":"IF('Stammdaten Mitarbeitende'!N581>0,AC581,0)","v":0},{"$f":"IF('Stammdaten Mitarbeitende'!N581>0,P581,0)","v":0},0,0,0]
[{"$f":"'Stammdaten Mitarbeitende'!AA582","v":""},"",null,null,null,null,null,null,0,"",null,"","","","",null,"","",null,null,{"$f":"IF($A582=\"\",\"\",'Stammdaten Mitarbeitende'!L582)","v":""},0,"","","","","","","","","","",0,"",0,0,0,0,{"$f":"IF('Stammdaten Mitarbeitende'!N582>0,AC582,0)","v":0},{"$f":"IF('Stammdaten Mitarbeitende'!N582>0,P582,0)","v":0},0,0,0]
[{"$f":"'Stammdaten Mitarbeitende'!AA583","v":""},"",null,null,null,null,null,null,0,"",null,"","","","",null,"","",null,null,{"$f":"IF($A583=\"\",\"\",'Stammdaten Mitarbeitende'!L583)","v":""},0,"","","","","","","","","","",0,"",0,0,0,0,{"$f":"IF('Stammdaten Mitarbeitende'!N583>0,AC583,0)","v":0},{"$f":"IF('Stammdaten Mitarbeitende'!N583>0,P583,0)","v":0},0,0,0]
[{"$f":"'Stammdaten Mitarbeitende'!AA584","v":""},"",null,null,null,null,null,null,0,"",null,"","","","",null,"","",null,null,{"$f":"IF($A584=\"\",\"\",'Stammdaten Mitarbeitende'!L584)","v":""},0,"","","","","","","","","","",0,"",0,0,0,0,{"$f":"IF('Stammdaten Mitarbeitende'!N584>0,AC584,0)","v":0},{"$f":"IF('Stammdaten Mitarbeitende'!N584>0,P584,0)","v":0},0,0,0]
[{"$f":"'Stammdaten Mitarbeitende'!AA585","v":""},"",null,null,null,null,null,null,0,"",null,"","","","",null,"","",null,null,{"$f":"IF($A585=\"\",\"\",'Stammdaten Mitarbeitende'!L585)","v":""},0,"","","","","","","","","","",0,"",0,0,0,0,{"$f":"IF('Stammdaten Mitarbeitende'!N585>0,AC585,0)","v":0},{"$f":"IF('Stammdaten Mitarbeitende'!N585>0,P585,0)","v":0},0,0,0]
[{"$f":"'Stammdaten Mitarbeitende'!AA586","v":""},"",null,null,null,null,null,null,0,"",null,"","","","",null,"","",null,null,{"$f":"IF($A586=\"\",\"\",'Stammdaten Mitarbeitende'!L586)","v":""},0,"","","","","","","","","","",0,"",0,0,0,0,{"$f":"IF('Stammdaten Mitarbeitende'!N586>0,AC586,0)","v":0},{"$f":"IF('Stammdaten Mitarbeitende'!N586>0,P586,0)","v":0},0,0,0]
[{"$f":"'Stammdaten Mitarbeitende'!AA587","v":""},"",null,null,null,null,null,null,0,"",null,"","","","",null,"","",null,null,{"$f":"IF($A587=\"\",\"\",'Stammdaten Mitarbeitende'!L587)","v":""},0,"","","","","","","","","","",0,"",0,0,0,0,{"$f":"IF('Stammdaten Mitarbeitende'!N587>0,AC587,0)","v":0},{"$f":"IF('Stammdaten Mitarbeitende'!N587>0,P587,0)","v":0},0,0,0]
[{"$f":"'Stammdaten Mitarbeitende'!AA588","v":""},"",null,null,null,null,null,null,0,"",null,"","","","",null,"","",null,null,{"$f":"IF($A588=\"\",\"\",'Stammdaten Mitarbeitende'!L588)","v":""},0,"","","","","","","","","","",0,"",0,0,0,0,{"$f":"IF('Stammdaten Mitarbeitende'!N588>0,AC588,0)","v":0},{"$f":"IF('Stammdaten Mitarbeitende'!N588>0,P588,0)","v":0},0,0,0]
[{"$f":"'Stammdaten Mitarbeitende'!AA589","v":""},"",null,null,null,null,null,null,0,"",null,"","","","",null,"","",null,null,{"$f":"IF($A589=\"\",\"\",'Stammdaten Mitarbeitende'!L589)","v":""},0,"","","","","","","","","","",0,"",0,0,0,0,{"$f":"IF('Stammdaten Mitarbeitende'!N589>0,AC589,0)","v":0},{"$f":"IF('Stammdaten Mitarbeitende'!N589>0,P589,0)","v":0},0,0,0]
[{"$f":"'Stammdaten Mitarbeitende'!AA590","v":""},"",null,null,null,null,null,null,0,"",null,"","","","",null,"","",null,null,{"$f":"IF($A590=\"\",\"\",'Stammdaten Mitarbeitende'!L590)","v":""},0,"","","","","","","","","","",0,"",0,0,0,0,{"$f":"IF('Stammdaten Mitarbeitende'!N590>0,AC590,0)","v":0},{"$f":"IF('Stammdaten Mitarbeitende'!N590>0,P590,0)","v":0},0,0,0]
[{"$f":"'Stammdaten Mitarbeitende'!AA591","v":""},"",null,null,null,null,null,null,0,"",null,"","","","",null,"","",null,null,{"$f":"IF($A591=\"\",\"\",'Stammdaten Mitarbeitende'!L591)","v":""},0,"","","","","","","","","","",0,"",0,0,0,0,{"$f":"IF('Stammdaten Mitarbeitende'!N591>0,AC591,0)","v":0},{"$f":"IF('Stammdaten Mitarbeitende'!N591>0,P591,0)","v":0},0,0,0]
[{"$f":"'Stammdaten Mitarbeitende'!AA592","v":""},"",null,null,null,null,null,null,0,"",null,"","","","",null,"","",null,null,{"$f":"IF($A592=\"\",\"\",'Stammdaten Mitarbeitende'!L592)","v":""},0,"","","","","","","","","","",0,"",0,0,0,0,{"$f":"IF('Stammdaten Mitarbeitende'!N592>0,AC592,0)","v":0},{"$f":"IF('Stammdaten Mitarbeitende'!N592>0,P592,0)","v":0},0,0,0]
[{"$f":"'Stammdaten Mitarbeitende'!AA593","v":""},"",null,null,null,null,null,null,0,"",null,"","","","",null,"","",null,null,{"$f":"IF($A593=\"\",\"\",'Stammdaten Mitarbeitende'!L593)","v":""},0,"","","","","","","","","","",0,"",0,0,0,0,{"$f":"IF('Stammdaten Mitarbeitende'!N593>0,AC593,0)","v":0},{"$f":"IF('Stammdaten Mitarbeitende'!N593>0,P593,0)","v":0},0,0,0]
[{"$f":"'Stammdaten Mitarbeitende'!AA594","v":""},"",null,null,null,null,null,null,0,"",null,"","","","",null,"","",null,null,{"$f":"IF($A594=\"\",\"\",'Stammdaten Mitarbeitende'!L594)","v":""},0,"","","","","","","","","","",0,"",0,0,0,0,{"$f":"IF('Stammdaten Mitarbeitende'!N594>0,AC594,0)","v":0},{"$f":"IF('Stammdaten Mitarbeitende'!N594>0,P594,0)","v":0},0,0,0]
[{"$f":"'Stammdaten Mitarbeitende'!AA595","v":""},"",null,null,null,null,null,null,0,"",null,"","","","",null,"","",null,null,{"$f":"IF($A595=\"\",\"\",'Stammdaten Mitarbeitende'!L595)","v":""},0,"","","","","","","","","","",0,"",0,0,0,0,{"$f":"IF('Stammdaten Mitarbeitende'!N595>0,AC595,0)","v":0},{"$f":"IF('Stammdaten Mitarbeitende'!N595>0,P595,0)","v":0},0,0,0]
[{"$f":"'Stammdaten Mitarbeitende'!AA596","v":""},"",null,null,null,null,null,null,0,"",null,"","","","",null,"","",null,null,{"$f":"IF($A596=\"\",\"\",'Stammdaten Mitarbeitende'!L596)","v":""},0,"","","","","","","","","","",0,"",0,0,0,0,{"$f":"IF('Stammdaten Mitarbeitende'!N596>0,AC596,0)","v":0},{"$f":"IF('Stammdaten Mitarbeitende'!N596>0,P596,0)","v":0},0,0,0]
[{"$f":"'Stammdaten Mitarbeitende'!AA597","v":""},"",null,null,null,null,null,null,0,"",null,"","","","",null,"","",null,null,{"$f":"IF($A597=\"\",\"\",'Stammdaten Mitarbeitende'!L597)","v":""},0,"","","","","","","","","","",0,"",0,0,0,0,{"$f":"IF('Stammdaten Mitarbeitende'!N597>0,AC597,0)","v":0},{"$f":"IF('Stammdaten Mitarbeitende'!N597>0,P597,0)","v":0},0,0,0]
[{"$f":"'Stammdaten Mitarbeitende'!AA598","v":""},"",null,null,null,null,null,null,0,"",null,"","","","",null,"","",null,null,{"$f":"IF($A598=\"\",\"\",'Stammdaten Mitarbeitende'!L598)","v":""},0,"","","","","","","","","","",0,"",0,0,0,0,{"$f":"IF('Stammdaten Mitarbeitende'!N598>0,AC598,0)","v":0},{"$f":"IF('Stammdaten Mitarbeitende'!N598>0,P598,0)","v":0},0,0,0]
[{"$f":"'Stammdaten Mitarbeitende'!AA599","v":""},"",null,null,null,null,null,null,0,"",null,"","","","",null,"","",null,null,{"$f":"IF($A599=\"\",\"\",'Stammdaten Mitarbeitende'!L599)","v":""},0,"","","","","","","","","","",0,"",0,0,0,0,{"$f":"IF('Stammdaten Mitarbeitende'!N599>0,AC599,0)","v":0},{"$f":"IF('Stammdaten Mitarbeitende'!N599>0,P599,0)","v":0},0,0,0]
[{"$f":"Übersetzungstexte!A$296","v":"Seitentotal"},null,null,{"$f":"SUM(D579:D599)","v":0},null,{"$f":"SUM(F579:F599)","v":0},null,null,null,{"$f":"SUM(J579:J599)","v":0},null,null,null,{"$f":"SUM(N579:N599)","v":0},null,{"$f":"SUM(P579:P599)","v":0},null,{"$f":"SUM(R579:R599)","v":0}]
[{"$f":"'Stammdaten Betrieb & Abteilung'!D$1","v":"  "},null,null,null,null,null,null,null,null,null,null,null,{"$f":"Übersetzungstexte!A$239","v":"Betrieb / Betriebsabteilung"},{"$f":"'Stammdaten Betrieb & Abteilung'!D$13","v":" "}]
[{"$f":"'Stammdaten Betrieb & Abteilung'!D$3","v":" "},null,null,null,null,null,null,null,null,null,null,null,{"$f":"Übersetzungstexte!A$240","v":"Abrechnungsperiode"},{"$f":"'Stammdaten Betrieb & Abteilung'!D$14","v":""},null,{"$f":"'Stammdaten Betrieb & Abteilung'!D$12","v":{"$error":"#VALUE!"}}]
[{"$f":"'Stammdaten Betrieb & Abteilung'!D$4","v":" "},null,null,null,null,null,null,null,null,null,null,null,{"$f":"Übersetzungstexte!A$241","v":"Beginn / Ende der Kurzarbeit"},{"$f":"'Stammdaten Betrieb & Abteilung'!D$16","v":""}]
[]
[1,2,3,4,5,6,null,7,null,8,9,10,11,12,13,null,14,15,null,null,null,"Regel 7","Regel 8",null,"Regel 9","Regel 10","Regel 11","Regel 12","Regel 13","Regel 14","Regel 15","Regel 17",null,"Regel 19/20",null,null,null,null,"AHV-pflichtiger","AHV-pflichtiger",null,null,"AHV-pflichtige"]
[{"$f":"Übersetzungstexte!A$242","v":""},{"$f":"Übersetzungstexte!A$245","v":"anrechen-"},{"$f":"Übersetzungstexte!A$248","v":"Wöchentl."},{"$f":"Übersetzungstexte!A$251","v":"Sollstd. Abr.-"},{"$f":"Übersetzungstexte!A$254","v":""},{"$f":"Übersetzungstexte!A$257","v":"Bezahlte/"},null,{"$f":"Übersetzungstexte!A$263","v":"(nur für Gleitzeit)"},null,{"$f":"Übersetzungstexte!A$269","v":"Ausfall-"},{"$f":"Übersetzungstexte!A$272","v":"Saldo"},{"$f":"Übersetzungstexte!A$275","v":"Saisonale"},{"$f":"Übersetzungstexte!A$278","v":"Anrechen-"},{"$f":"Übersetzungstexte!A$281","v":"Verdienst-"},{"$f":"Übersetzungstexte!A$284","v":"Verdienst-"},{"$f":"Übersetzungstexte!A$287","v":"Verdienst"},{"$f":"AE$4","v":"Abzug "},{"$f":"Übersetzungstexte!A$293","v":""},null,null,"anrechen-","Gleitzeit","Ausfall-","Max(D12,0)","Prozentualer","Saisonale","Proz. Wirts. Bed.","Anrechen-","Verdienst-","Verdienst-","Abzug","Abzug","Verdienst",null,"Anzahl","Anzahl","Sollstd.","Absenzen","Verdienst-","Verdienst","Sollstd.","bezahlte/","Abzugsbasis"]
[{"$f":"Übersetzungstexte!A$243","v":""},{"$f":"Übersetzungstexte!A$246","v":"barer Std.-"},{"$f":"Übersetzungstexte!A$249","v":"Arbeitszeit"},{"$f":"Übersetzungstexte!A$252","v":"Periode Inkl."},{"$f":"Übersetzungstexte!A$255","v":""},{"$f":"Übersetzungstexte!A$258","v":"Unbezahlte"},{"$f":"Übersetzungstexte!A$261","v":"Saldo Ende Per."},null,null,{"$f":"Übersetzungstexte!A$270","v":"stunden"},{"$f":"Übersetzungstexte!A$273","v":"Mehrstd."},{"$f":"Übersetzungstexte!A$276","v":"Ausfall-"},{"$f":"Übersetzungstexte!A$279","v":"bare Aus-"},{"$f":"Übersetzungstexte!A$282","v":"ausfall"},{"$f":"Übersetzungstexte!A$285","v":"ausfall"},{"$f":"Übersetzungstexte!A$288","v":"Zwischen-"},{"$f":"Übersetzungstexte!A$291","v":"Karenztage"},{"$f":"Übersetzungstexte!A$294","v":"Beantragte"},null,null,"barer Std.-","c","stunden",null,"Arbeitsausfall","Ausfall-","Arbeitsausfall","bare ","ausfall","ausfall","Karenztage","Zwischen-","Zwischen-","Beantragte","bezugsber.","betroffene","bezugsber.","bezugsber.","ausfall","Zwischen-","inkl","unbezahlte"]
[{"$f":"Übersetzungstexte!A$244","v":"Name,Vorname"},{"$f":"Übersetzungstexte!A$247","v":"Verdienst"},{"$f":"Übersetzungstexte!A$250","v":"in der AP"},{"$f":"Übersetzungstexte!A$253","v":"Vorholzeit"},{"$f":"Übersetzungstexte!A$256","v":"Istzeit"},{"$f":"Übersetzungstexte!A$259","v":"Absenzen"},{"$f":"Übersetzungstexte!A$262","v":"vorherg."},{"$f":"Übersetzungstexte!A$265","v":"laufend"},{"$f":"Übersetzungstexte!A$268","v":"Diff."},{"$f":"Übersetzungstexte!A$271","v":"total"},{"$f":"Übersetzungstexte!A$274","v":"Vormonate"},{"$f":"Übersetzungstexte!A$277","v":"stunden"},{"$f":"Übersetzungstexte!A$280","v":"fall-Std."},{"$f":"Übersetzungstexte!A$283","v":"100%"},{"$f":"Übersetzungstexte!A$286","v":"80%"},{"$f":"Übersetzungstexte!A$289","v":"Beschäftigung"},{"$f":"Übersetzungstexte!A$292","v":"80%"},{"$f":"Übersetzungstexte!A$295","v":"Vergütung"},null,null,"Verdienst",null,"Total",null,"pAA","stunden","pwAA","Ausfall-Std.","100%","80%","80%","beschäftigung","beschäftigung","Vergütung","Mitarbeiter","Mitarbeiter","Mitarbeiter","Mitarbeiter","100%","beschäftigung","Vorholzeit","Ansenzen"]
[{"$f":"'Stammdaten Mitarbeitende'!AA609","v":""},{"$f":"U609","v":""},null,null,null,null,null,null,{"$f":"V609","v":0},{"$f":"W609","v":""},null,{"$f":"Z609","v":""},{"$f":"AB609","v":""},{"$f":"AC609","v":""},{"$f":"AD609","v":""},null,{"$f":"AE609","v":""},{"$f":"AH609","v":""},null,null,{"$f":"IF($A609=\"\",\"\",'Stammdaten Mitarbeitende'!L609)","v":""},{"$f":"IF(AND(G609=\"\",H609=\"\"),0,G609-H609)","v":0},{"$f":"IF(OR($A609=\"\",D609=\"\",E609=\"\",F609=\"\",V609=\"\"),\"\",D609-(E609+F609+V609))","v":""},{"$f":"IF(W609=\"\",\"\",MAX(W609,0))","v":""},{"$f":"IF(J609=\"\",\"\",Y$4)","v":""},{"$f":"IF(J609=\"\",\"\",J609*Z$4)","v":""},{"$f":"IF(Y609=\"\",\"\",AA$4)","v":""},{"$f":"IF(J609=\"\",\"\",ROUND(J609*AB$4 - MAX(K609-L609,0),2))","v":""},{"$f":"IF(OR($A609=\"\",J609=\"\",B609=\"\",M609<0),\"\",MAX(ROUND(M609*B609*2,1)/2,0))","v":""},{"$f":"IF(OR($A609=\"\",N609=\"\"),\"\",ROUND(N609*8/5,1)/2)","v":""},{"$f":"IF(OR($A609=\"\",B609=\"\",N609=\"\"),\"\",ROUND(AE$3*C609*B609*16/50,1)/2)","v":""},{"$f":"IF(OR($A609=\"\",J609=\"\",N609=\"\"),\"\",MAX(O609+P609-N609,0))","v":""},{"$f":"P609","v":0},{"$f":"IF(OR($A609=\"\",N609=\"\"),\"\",ROUND((MAX(O609-Q609-AF609,0))*2,1)/2)","v":""},{"$f":"IF(D609=\"\",0,1)","v":0},{"$f":"IF(J609=\"\",0,IF(ROUND(J609,2)<=0,0,1))","v":0},{"$f":"IF(D609=\"\",0,D609)","v":0},{"$f":"IF(D609=\"\",0,F609)","v":0},{"$f":"IF('Stammdaten Mitarbeitende'!N609>0,AC609,0)","v":0},{"$f":"IF('Stammdaten Mitarbeitende'!N609>0,P609,0)","v":0},{"$f":"D609","v":0},{"$f":"F609","v":0},{"$f":"IF(AM609=\"\",0,MAX(AM609-AN609,0))","v":0}]
[{"$f":"'Stammdaten Mitarbeitende'!AA610","v":""},"",null,null,null,null,null,null,0,"",null,"","","","",null,"","",null,null,{"$f":"IF($A610=\"\",\"\",'Stammdaten Mitarbeitende'!L610)","v":""},0,"","","","","","","","","","",0,"",0,{"$f":"IF(J610=\"\",0,IF(ROUND(J610,2)<=0,0,1))","v":0},0,0,{"$f":"IF('Stammdaten Mitarbeitende'!N610>0,AC610,0)","v":0},{"$f":"IF('Stammdaten Mitarbeitende'!N610>0,P610,0)","v":0},0,0,0]
[{"$f":"'Stammdaten Mitarbeitende'!AA611","v":""},"",null,null,null,null,null,null,0,"",null,"","","","",null,"","",null,null,{"$f":"IF($A611=\"\",\"\",'Stammdaten Mitarbeitende'!L611)","v":""},0,"","","","","","","","","","",0,"",0,0,0,0,{"$f":"IF('Stammdaten Mitarbeitende'!N611>0,AC611,0)","v":0},{"$f":"IF('Stammdaten Mitarbeitende'!N611>0,P611,0)","v":0},0,0,0]
[{"$f":"'Stammdaten Mitarbeitende'!AA612","v":""},"",null,null,null,null,null,null,0,"",null,"","","","",null,"","",null,null,{"$f":"IF($A612=\"\",\"\",'Stammdaten Mitarbeitende'!L612)","v":""},0,"","","","","","","","","","",0,"",0,0,0,0,{"$f":"IF('Stammdaten Mitarbeitende'!N612>0,AC612,0)","v":0},{"$f":"IF('Stammdaten Mitarbeitende'!N612>0,P612,0)","v":0},0,0,0]
[{"$f":"'Stammdaten Mitarbeitende'!AA613","v":""},"",null,null,null,null,null,null,0,"",null,"","","","",null,"","",null,null,{"$f":"IF($A613=\"\",\"\",'Stammdaten Mitarbeitende'!L613)","v":""},0,"","","","","","","","","","",0,"",0,0,0,0,{"$f":"IF('Stammdaten Mitarbeitende'!N613>0,AC613,0)","v":0},{"$f":"IF('Stammdaten Mitarbeitende'!N613>0,P613,0)","v":0},0,0,0]
[{"$f":"'Stammdaten Mitarbeitende'!AA614","v":""},"",null,null,null,null,null,null,0,"",null,"","","","",null,"","",null,null,{"$f":"IF($A614=\"\",\"\",'Stammdaten Mitarbeitende'!L614)","v":""},0,"","","","","","","","","","",0,"",0,0,0,0,{"$f":"IF('Stammdaten Mitarbeitende'!N614>0,AC614,0)","v":0},{"$f":"IF('Stammdaten Mitarbeitende'!N614>0,P614,0)","v":0},0,0,0]
[{"$f":"'Stammdaten Mitarbeitende'!AA615","v":""},"",null,null,null,null,null,null,0,"",null,"","","","",null,"","",null,null,{"$f":"IF($A615=\"\",\"\",'Stammdaten Mitarbeitende'!L615)","v":""},0,"","","","","","","","","","",0,"",0,0,0,0,{"$f":"IF('Stammdaten Mitarbeitende'!N615>0,AC615,0)","v":0},{"$f":"IF('Stammdaten Mitarbeitende'!N615>0,P615,0)","v":0},0,0,0]
[{"$f":"'Stammdaten Mitarbeitende'!AA616","v":""},"",null,null,null,null,null,null,0,"",null,"","","","",null,"","",null,null,{"$f":"IF($A616=\"\",\"\",'Stammdaten Mitarbeitende'!L616)","v":""},0,"","","","","","","","","","",0,"",0,0,0,0,{"$f":"IF('Stammdaten Mitarbeitende'!N616>0,AC616,0)","v":0},{"$f":"IF('Stammdaten Mitarbeitende'!N616>0,P616,0)","v":0},0,0,0]
[{"$f":"'Stammdaten Mitarbeitende'!AA617","v":""},"",null,null,null,null,null,null,0,"",null,"","","","",null,"","",null,null,{"$f":"IF($A617=\"\",\"\",'Stammdaten Mitarbeitende'!L617)","v":""},0,"","","","","","","","","","",0,"",0,0,0,0,{"$f":"IF('Stammdaten Mitarbeitende'!N617>0,AC617,0)","v":0},{"$f":"IF('Stammdaten Mitarbeitende'!N617>0,P617,0)","v":0},0,0,0]
[{"$f":"'Stammdaten Mitarbeitende'!AA618","v":""},"",null,null,null,null,null,null,0,"",null,"","","","",null,"","",null,null,{"$f":"IF($A618=\"\",\"\",'Stammdaten Mitarbeitende'!L618)","v":""},0,"","","","","","","","","","",0,"",0,0,0,0,{"$f":"IF('Stammdaten Mitarbeitende'!N618>0,AC618,0)","v":0},{"$f":"IF('Stammdaten Mitarbeitende'!N618>0,P618,0)","v":0},0,0,0]
[{"$f":"'Stammdaten Mitarbeitende'!AA619","v":""},"",null,null,null,null,null,null,0,"",null,"","","","",null,"","",null,null,{"$f":"IF($A619=\"\",\"\",'Stammdaten Mitarbeitende'!L619)","v":""},0,"","","","","","","","","","",0,"",0,0,0,0,{"$f":"IF('Stammdaten Mitarbeitende'!N619>0,AC619,0)","v":0},{"$f":"IF('Stammdaten Mitarbeitende'!N619>0,P619,0)","v":0},0,0,0]
[{"$f":"'Stammdaten Mitarbeitende'!AA620","v":""},"",null,null,null,null,null,null,0,"",null,"","","","",null,"","",null,null,{"$f":"IF($A620=\"\",\"\",'Stammdaten Mitarbeitende'!L620)","v":""},0,"","","","","","","","","","",0,"",0,0,0,0,{"$f":"IF('Stammdaten Mitarbeitende'!N620>0,AC620,0)","v":0},{"$f":"IF('Stammdaten Mitarbeitende'!N620>0,P620,0)","v":0},0,0,0]
[{"$f":"'Stammdaten Mitarbeitende'!AA621","v":""},"",null,null,null,null,null,null,0,"",null,"","","","",null,"","",null,null,{"$f":"IF($A621=\"\",\"\",'Stammdaten Mitarbeitende'!L621)","v":""},0,"","","","","","","","","","",0,"",0,0,0,0,{"$f":"IF('Stammdaten Mitarbeitende'!N621>0,AC621,0)","v":0},{"$f":"IF('Stammdaten Mitarbeitende'!N621>0,P621,0)","v":0},0,0,0]
[{"$f":"'Stammdaten Mitarbeitende'!AA622","v":""},"",null,null,null,null,null,null,0,"",null,"","","","",null,"","",null,null,{"$f":"IF($A622=\"\",\"\",'Stammdaten Mitarbeitende'!L622)","v":""},0,"","","","","","","","","","",0,"",0,0,0,0,{"$f":"IF('Stammdaten Mitarbeitende'!N622>0,AC622,0)","v":0},{"$f":"IF('Stammdaten Mitarbeitende'!N622>0,P622,0)","v":0},0,0,0]
[{"$f":"'Stammdaten Mitarbeitende'!AA623","v":""},"",null,null,null,null,null,null,0,"",null,"","","","",null,"","",null,null,{"$f":"IF($A623=\"\",\"\",'Stammdaten Mitarbeitende'!L623)","v":""},0,"","","","","","","","","","",0,"",0,0,0,0,{"$f":"IF('Stammdaten Mitarbeitende'!N623>0,AC623,0)","v":0},{"$f":"IF('Stammdaten Mitarbeitende'!N623>0,P623,0)","v":0},0,0,0]
[{"$f":"'Stammdaten Mitarbeitende'!AA624","v":""},"",null,null,null,null,null,null,0,"",null,"","","","",null,"","",null,null,{"$f":"IF($A624=\"\",\"\",'Stammdaten Mitarbeitende'!L624)","v":""},0,"","","","","","","","","","",0,"",0,0,0,0,{"$f":"IF('Stammdaten Mitarbeitende'!N624>0,AC624,0)","v":0},{"$f":"IF('Stammdaten Mitarbeitende'!N624>0,P624,0)","v":0},0,0,0]
[{"$f":"'Stammdaten Mitarbeitende'!AA625","v":""},"",null,null,null,null,null,null,0,"",null,"","","","",null,"","",null,null,{"$f":"IF($A625=\"\",\"\",'Stammdaten Mitarbeitende'!L625)","v":""},0,"","","","","","","","","","",0,"",0,0,0,0,{"$f":"IF('Stammdaten Mitarbeitende'!N625>0,AC625,0)","v":0},{"$f":"IF('Stammdaten Mitarbeitende'!N625>0,P625,0)","v":0},0,0,0]
[{"$f":"'Stammdaten Mitarbeitende'!AA626","v":""},"",null,null,null,null,null,null,0,"",null,"","","","",null,"","",null,null,{"$f":"IF($A626=\"\",\"\",'Stammdaten Mitarbeitende'!L626)","v":""},0,"","","","","","","","","","",0,"",0,0,0,0,{"$f":"IF('Stammdaten Mitarbeitende'!N626>0,AC626,0)","v":0},{"$f":"IF('Stammdaten Mitarbeitende'!N626>0,P626,0)","v":0},0,0,0]
[{"$f":"'Stammdaten Mitarbeitende'!AA627","v":""},"",null,null,null,null,null,null,0,"",null,"","","","",null,"","",null,null,{"$f":"IF($A627=\"\",\"\",'Stammdaten Mitarbeitende'!L627)","v":""},0,"","","","","","","","","","",0,"",0,0,0,0,{"$f":"IF('Stammdaten Mitarbeitende'!N627>0,AC627,0)","v":0},{"$f":"IF('Stammdaten Mitarbeitende'!N627>0,P627,0)","v":0},0,0,0]
[{"$f":"'Stammdaten Mitarbeitende'!AA628","v":""},"",null,null,null,null,null,null,0,"",null,"","","","",null,"","",null,null,{"$f":"IF($A628=\"\",\"\",'Stammdaten Mitarbeitende'!L628)","v":""},0,"","","","","","","","","","",0,"",0,0,0,0,{"$f":"IF('Stammdaten Mitarbeitende'!N628>0,AC628,0)","v":0},{"$f":"IF('Stammdaten Mitarbeitende'!N628>0,P628,0)","v":0},0,0,0]
[{"$f":"'Stammdaten Mitarbeitende'!AA629","v":""},"",null,null,null,null,null,null,0,"",null,"","","","",null,"","",null,null,{"$f":"IF($A629=\"\",\"\",'Stammdaten Mitarbeitende'!L629)","v":""},0,"","","","","","","","","","",0,"",0,0,0,0,{"$f":"IF('Stammdaten Mitarbeitende'!N629>0,AC629,0)","v":0},{"$f":"IF('Stammdaten Mitarbeitende'!N629>0,P629,0)","v":0},0,0,0]
[{"$f":"Übersetzungstexte!A$296","v":"Seitentotal"},null,null,{"$f":"SUM(D609:D629)","v":0},null,{"$f":"SUM(F609:F629)","v":0},null,null,null,{"$f":"SUM(J609:J629)","v":0},null,null,null,{"$f":"SUM(N609:N629)","v":0},null,{"$f":"SUM(P609:P629)","v":0},null,{"$f":"SUM(R609:R629)","v":0}]
[{"$f":"'Stammdaten Betrieb & Abteilung'!D$1","v":"  "},null,null,null,null,null,null,null,null,null,null,null,{"$f":"Übersetzungstexte!A$239","v":"Betrieb / Betriebsabteilung"},{"$f":"'Stammdaten Betrieb & Abteilung'!D$13","v":" "}]
[{"$f":"'Stammdaten Betrieb & Abteilung'!D$3","v":" "},null,null,null,null,null,null,null,null,null,null,null,{"$f":"Übersetzungstexte!A$240","v":"Abrechnungsperiode"},{"$f":"'Stammdaten Betrieb & Abteilung'!D$14","v":""},null,{"$f":"'Stammdaten Betrieb & Abteilung'!D$12","v":{"$error":"#VALUE!"}}]
[{"$f":"'Stammdaten Betrieb & Abteilung'!D$4","v":" "},null,null,null,null,null,null,null,null,null,null,null,{"$f":"Übersetzungstexte!A$241","v":"Beginn / Ende der Kurzarbeit"},{"$f":"'Stammdaten Betrieb & Abteilung'!D$16","v":""}]
[]
[1,2,3,4,5,6,null,7,null,8,9,10,11,12,13,null,14,15,null,null,null,"Regel 7","Regel 8",null,"Regel 9","Regel 10","Regel 11","Regel 12","Regel 13","Regel 14","Regel 15","Regel 17",null,"Regel 19/20",null,null,null,null,"AHV-pflichtiger","AHV-pflichtiger",null,null,"AHV-pflichtige"]
[{"$f":"Übersetzungstexte!A$242","v":""},{"$f":"Übersetzungstexte!A$245","v":"anrechen-"},{"$f":"Übersetzungstexte!A$248","v":"Wöchentl."},{"$f":"Übersetzungstexte!A$251","v":"Sollstd. Abr.-"},{"$f":"Übersetzungstexte!A$254","v":""},{"$f":"Übersetzungstexte!A$257","v":"Bezahlte/"},null,{"$f":"Übersetzungstexte!A$263","v":"(nur für Gleitzeit)"},null,{"$f":"Übersetzungstexte!A$269","v":"Ausfall-"},{"$f":"Übersetzungstexte!A$272","v":"Saldo"},{"$f":"Übersetzungstexte!A$275","v":"Saisonale"},{"$f":"Übersetzungstexte!A$278","v":"Anrechen-"},{"$f":"Übersetzungstexte!A$281","v":"Verdienst-"},{"$f":"Übersetzungstexte!A$284","v":"Verdienst-"},{"$f":"Übersetzungstexte!A$287","v":"Verdienst"},{"$f":"AE$4","v":"Abzug "},{"$f":"Übersetzungstexte!A$293","v":""},null,null,"anrechen-","Gleitzeit","Ausfall-","Max(D12,0)","Prozentualer","Saisonale","Proz. Wirts. Bed.","Anrechen-","Verdienst-","Verdienst-","Abzug","Abzug","Verdienst",null,"Anzahl","Anzahl","Sollstd.","Absenzen","Verdienst-","Verdienst","Sollstd.","bezahlte/","Abzugsbasis"]
[{"$f":"Übersetzungstexte!A$243","v":""},{"$f":"Übersetzungstexte!A$246","v":"barer Std.-"},{"$f":"Übersetzungstexte!A$249","v":"Arbeitszeit"},{"$f":"Übersetzungstexte!A$252","v":"Periode Inkl."},{"$f":"Übersetzungstexte!A$255","v":""},{"$f":"Übersetzungstexte!A$258","v":"Unbezahlte"},{"$f":"Übersetzungstexte!A$261","v":"Saldo Ende Per."},null,null,{"$f":"Übersetzungstexte!A$270","v":"stunden"},{"$f":"Übersetzungstexte!A$273","v":"Mehrstd."},{"$f":"Übersetzungstexte!A$276","v":"Ausfall-"},{"$f":"Übersetzungstexte!A$279","v":"bare Aus-"},{"$f":"Übersetzungstexte!A$282","v":"ausfall"},{"$f":"Übersetzungstexte!A$285","v":"ausfall"},{"$f":"Übersetzungstexte!A$288","v":"Zwischen-"},{"$f":"Übersetzungstexte!A$291","v":"Karenztage"},{"$f":"Übersetzungstexte!A$294","v":"Beantragte"},null,null,"barer Std.-","c","stunden",null,"Arbeitsausfall","Ausfall-","Arbeitsausfall","bare ","ausfall","ausfall","Karenztage","Zwischen-","Zwischen-","Beantragte","bezugsber.","betroffene","bezugsber.","bezugsber.","ausfall","Zwischen-","inkl","unbezahlte"]
[{"$f":"Übersetzungstexte!A$244","v":"Name,Vorname"},{"$f":"Übersetzungstexte!A$247","v":"Verdienst"},{"$f":"Übersetzungstexte!A$250","v":"in der AP"},{"$f":"Übersetzungstexte!A$253","v":"Vorholzeit"},{"$f":"Übersetzungstexte!A$256","v":"Istzeit"},{"$f":"Übersetzungstexte!A$259","v":"Absenzen"},{"$f":"Übersetzungstexte!A$262","v":"vorherg."},{"$f":"Übersetzungstexte!A$265","v":"laufend"},{"$f":"Übersetzungstexte!A$268","v":"Diff."},{"$f":"Übersetzungstexte!A$271","v":"total"},{"$f":"Übersetzungstexte!A$274","v":"Vormonate"},{"$f":"Übersetzungstexte!A$277","v":"stunden"},{"$f":"Übersetzungstexte!A$280","v":"fall-Std."},{"$f":"Übersetzungstexte!A$283","v":"100%"},{"$f":"Übersetzungstexte!A$286","v":"80%"},{"$f":"Übersetzungstexte!A$289","v":"Beschäftigung"},{"$f":"Übersetzungstexte!A$292","v":"80%"},{"$f":"Übersetzungstexte!A$295","v":"Vergütung"},null,null,"Verdienst",null,"Total",null,"pAA","stunden","pwAA","Ausfall-Std.","100%","80%","80%","beschäftigung","beschäftigung","Vergütung","Mitarbeiter","Mitarbeiter","Mitarbeiter","Mitarbeiter","100%","beschäftigung","Vorholzeit","Ansenzen"]
[{"$f":"'Stammdaten Mitarbeitende'!AA639","v":""},{"$f":"U639","v":""},null,null,null,null,null,null,{"$f":"V639","v":0},{"$f":"W639","v":""},null,{"$f":"Z639","v":""},{"$f":"AB639","v":""},{"$f":"AC639","v":""},{"$f":"AD639","v":""},null,{"$f":"AE639","v":""},{"$f":"AH639","v":""},null,null,{"$f":"IF($A639=\"\",\"\",'Stammdaten Mitarbeitende'!L639)","v":""},{"$f":"IF(AND(G639=\"\",H639=\"\"),0,G639-H639)","v":0},{"$f":"IF(OR($A639=\"\",D639=\"\",E639=\"\",F639=\"\",V639=\"\"),\"\",D639-(E639+F639+V639))","v":""},{"$f":"IF(W639=\"\",\"\",MAX(W639,0))","v":""},{"$f":"IF(J639=\"\",\"\",Y$4)","v":""},{"$f":"IF(J639=\"\",\"\",J639*Z$4)","v":""},{"$f":"IF(Y639=\"\",\"\",AA$4)","v":""},{"$f":"IF(J639=\"\",\"\",ROUND(J639*AB$4 - MAX(K639-L639,0),2))","v":""},{"$f":"IF(OR($A639=\"\",J639=\"\",B639=\"\",M639<0),\"\",MAX(ROUND(M639*B639*2,1)/2,0))","v":""},{"$f":"IF(OR($A639=\"\",N639=\"\"),\"\",ROUND(N639*8/5,1)/2)","v":""},{"$f":"IF(OR($A639=\"\",B639=\"\",N639=\"\"),\"\",ROUND(AE$3*C639*B639*16/50,1)/2)","v":""},{"$f":"IF(OR($A639=\"\",J639=\"\",N639=\"\"),\"\",MAX(O639+P639-N639,0))","v":""},{"$f":"P639","v":0},{"$f":"IF(OR($A639=\"\",N639=\"\"),\"\",ROUND((MAX(O639-Q639-AF639,0))*2,1)/2)","v":""},{"$f":"IF(D639=\"\",0,1)","v":0},{"$f":"IF(J639=\"\",0,IF(ROUND(J639,2)<=0,0,1))","v":0},{"$f":"IF(D639=\"\",0,D639)","v":0},{"$f":"IF(D639=\"\",0,F639)","v":0},{"$f":"IF('Stammdaten Mitarbeitende'!N639>0,AC639,0)","v":0},{"$f":"IF('Stammdaten Mitarbeitende'!N639>0,P639,0)","v":0},{"$f":"D639","v":0},{"$f":"F639","v":0},{"$f":"IF(AM639=\"\",0,MAX(AM639-AN639,0))","v":0}]
[{"$f":"'Stammdaten Mitarbeitende'!AA640","v":""},"",null,null,null,null,null,null,0,"",null,"","","","",null,"","",null,null,{"$f":"IF($A640=\"\",\"\",'Stammdaten Mitarbeitende'!L640)","v":""},0,"","","","","","","","","","",0,"",0,{"$f":"IF(J640=\"\",0,IF(ROUND(J640,2)<=0,0,1))","v":0},0,0,{"$f":"IF('Stammdaten Mitarbeitende'!N640>0,AC640,0)","v":0},{"$f":"IF('Stammdaten Mitarbeitende'!N640>0,P640,0)","v":0},0,0,0]
[{"$f":"'Stammdaten Mitarbeitende'!AA641","v":""},"",null,null,null,null,null,null,0,"",null,"","","","",null,"","",null,null,{"$f":"IF($A641=\"\",\"\",'Stammdaten Mitarbeitende'!L641)","v":""},0,"","","","","","","","","","",0,"",0,0,0,0,{"$f":"IF('Stammdaten Mitarbeitende'!N641>0,AC641,0)","v":0},{"$f":"IF('Stammdaten Mitarbeitende'!N641>0,P641,0)","v":0},0,0,0]
[{"$f":"'Stammdaten Mitarbeitende'!AA642","v":""},"",null,null,null,null,null,null,0,"",null,"","","","",null,"","",null,null,{"$f":"IF($A642=\"\",\"\",'Stammdaten Mitarbeitende'!L642)","v":""},0,"","","","","","","","","","",0,"",0,0,0,0,{"$f":"IF('Stammdaten Mitarbeitende'!N642>0,AC642,0)","v":0},{"$f":"IF('Stammdaten Mitarbeitende'!N642>0,P642,0)","v":0},0,0,0]
[{"$f":"'Stammdaten Mitarbeitende'!AA643","v":""},"",null,null,null,null,null,null,0,"",null,"","","","",null,"","",null,null,{"$f":"IF($A643=\"\",\"\",'Stammdaten Mitarbeitende'!L643)","v":""},0,"","","","","","","","","","",0,"",0,0,0,0,{"$f":"IF('Stammdaten Mitarbeitende'!N643>0,AC643,0)","v":0},{"$f":"IF('Stammdaten Mitarbeitende'!N643>0,P643,0)","v":0},0,0,0]
[{"$f":"'Stammdaten Mitarbeitende'!AA644","v":""},"",null,null,null,null,null,null,0,"",null,"","","","",null,"","",null,null,{"$f":"IF($A644=\"\",\"\",'Stammdaten Mitarbeitende'!L644)","v":""},0,"","","","","","","","","","",0,"",0,0,0,0,{"$f":"IF('Stammdaten Mitarbeitende'!N644>0,AC644,0)","v":0},{"$f":"IF('Stammdaten Mitarbeitende'!N644>0,P644,0)","v":0},0,0,0]
[{"$f":"'Stammdaten Mitarbeitende'!AA645","v":""},"",null,null,null,null,null,null,0,"",null,"","","","",null,"","",null,null,{"$f":"IF($A645=\"\",\"\",'Stammdaten Mitarbeitende'!L645)","v":""},0,"","","","","","","","","","",0,"",0,0,0,0,{"$f":"IF('Stammdaten Mitarbeitende'!N645>0,AC645,0)","v":0},{"$f":"IF('Stammdaten Mitarbeitende'!N645>0,P645,0)","v":0},0,0,0]
[{"$f":"'Stammdaten Mitarbeitende'!AA646","v":""},"",null,null,null,null,null,null,0,"",null,"","","","",null,"","",null,null,{"$f":"IF($A646=\"\",\"\",'Stammdaten Mitarbeitende'!L646)","v":""},0,"","","","","","","","","","",0,"",0,0,0,0,{"$f":"IF('Stammdaten Mitarbeitende'!N646>0,AC646,0)","v":0},{"$f":"IF('Stammdaten Mitarbeitende'!N646>0,P646,0)","v":0},0,0,0]
[{"$f":"'Stammdaten Mitarbeitende'!AA647","v":""},"",null,null,null,null,null,null,0,"",null,"","","","",null,"","",null,null,{"$f":"IF($A647=\"\",\"\",'Stammdaten Mitarbeitende'!L647)","v":""},0,"","","","","","","","","","",0,"",0,0,0,0,{"$f":"IF('Stammdaten Mitarbeitende'!N647>0,AC647,0)","v":0},{"$f":"IF('Stammdaten Mitarbeitende'!N647>0,P647,0)","v":0},0,0,0]
[{"$f":"'Stammdaten Mitarbeitende'!AA648","v":""},"",null,null,null,null,null,null,0,"",null,"","","","",null,"","",null,null,{"$f":"IF($A648=\"\",\"\",'Stammdaten Mitarbeitende'!L648)","v":""},0,"","","","","","","","","","",0,"",0,0,0,0,{"$f":"IF('Stammdaten Mitarbeitende'!N648>0,AC648,0)","v":0},{"$f":"IF('Stammdaten Mitarbeitende'!N648>0,P648,0)","v":0},0,0,0]
[{"$f":"'Stammdaten Mitarbeitende'!AA649","v":""},"",null,null,null,null,null,null,0,"",null,"","","","",null,"","",null,null,{"$f":"IF($A649=\"\",\"\",'Stammdaten Mitarbeitende'!L649)","v":""},0,"","","","","","","","","","",0,"",0,0,0,0,{"$f":"IF('Stammdaten Mitarbeitende'!N649>0,AC649,0)","v":0},{"$f":"IF('Stammdaten Mitarbeitende'!N649>0,P649,0)","v":0},0,0,0]
[{"$f":"'Stammdaten Mitarbeitende'!AA650","v":""},"",null,null,null,null,null,null,0,"",null,"","","","",null,"","",null,null,{"$f":"IF($A650=\"\",\"\",'Stammdaten Mitarbeitende'!L650)","v":""},0,"","","","","","","","","","",0,"",0,0,0,0,{"$f":"IF('Stammdaten Mitarbeitende'!N650>0,AC650,0)","v":0},{"$f":"IF('Stammdaten Mitarbeitende'!N650>0,P650,0)","v":0},0,0,0]
[{"$f":"'Stammdaten Mitarbeitende'!AA651","v":""},"",null,null,null,null,null,null,0,"",null,"","","","",null,"","",null,null,{"$f":"IF($A651=\"\",\"\",'Stammdaten Mitarbeitende'!L651)","v":""},0,"","","","","","","","","","",0,"",0,0,0,0,{"$f":"IF('Stammdaten Mitarbeitende'!N651>0,AC651,0)","v":0},{"$f":"IF('Stammdaten Mitarbeitende'!N651>0,P651,0)","v":0},0,0,0]
[{"$f":"'Stammdaten Mitarbeitende'!AA652","v":""},"",null,null,null,null,null,null,0,"",null,"","","","",null,"","",null,null,{"$f":"IF($A652=\"\",\"\",'Stammdaten Mitarbeitende'!L652)","v":""},0,"","","","","","","","","","",0,"",0,0,0,0,{"$f":"IF('Stammdaten Mitarbeitende'!N652>0,AC652,0)","v":0},{"$f":"IF('Stammdaten Mitarbeitende'!N652>0,P652,0)","v":0},0,0,0]
[{"$f":"'Stammdaten Mitarbeitende'!AA653","v":""},"",null,null,null,null,null,null,0,"",null,"","","","",null,"","",null,null,{"$f":"IF($A653=\"\",\"\",'Stammdaten Mitarbeitende'!L653)","v":""},0,"","","","","","","","","","",0,"",0,0,0,0,{"$f":"IF('Stammdaten Mitarbeitende'!N653>0,AC653,0)","v":0},{"$f":"IF('Stammdaten Mitarbeitende'!N653>0,P653,0)","v":0},0,0,0]
[{"$f":"'Stammdaten Mitarbeitende'!AA654","v":""},"",null,null,null,null,null,null,0,"",null,"","","","",null,"","",null,null,{"$f":"IF($A654=\"\",\"\",'Stammdaten Mitarbeitende'!L654)","v":""},0,"","","","","","","","","","",0,"",0,0,0,0,{"$f":"IF('Stammdaten Mitarbeitende'!N654>0,AC654,0)","v":0},{"$f":"IF('Stammdaten Mitarbeitende'!N654>0,P654,0)","v":0},0,0,0]
[{"$f":"'Stammdaten Mitarbeitende'!AA655","v":""},"",null,null,null,null,null,null,0,"",null,"","","","",null,"","",null,null,{"$f":"IF($A655=\"\",\"\",'Stammdaten Mitarbeitende'!L655)","v":""},0,"","","","","","","","","","",0,"",0,0,0,0,{"$f":"IF('Stammdaten Mitarbeitende'!N655>0,AC655,0)","v":0},{"$f":"IF('Stammdaten Mitarbeitende'!N655>0,P655,0)","v":0},0,0,0]
[{"$f":"'Stammdaten Mitarbeitende'!AA656","v":""},"",null,null,null,null,null,null,0,"",null,"","","","",null,"","",null,null,{"$f":"IF($A656=\"\",\"\",'Stammdaten Mitarbeitende'!L656)","v":""},0,"","","","","","","","","","",0,"",0,0,0,0,{"$f":"IF('Stammdaten Mitarbeitende'!N656>0,AC656,0)","v":0},{"$f":"IF('Stammdaten Mitarbeitende'!N656>0,P656,0)","v":0},0,0,0]
[{"$f":"'Stammdaten Mitarbeitende'!AA657","v":""},"",null,null,null,null,null,null,0,"",null,"","","","",null,"","",null,null,{"$f":"IF($A657=\"\",\"\",'Stammdaten Mitarbeitende'!L657)","v":""},0,"","","","","","","","","","",0,"",0,0,0,0,{"$f":"IF('Stammdaten Mitarbeitende'!N657>0,AC657,0)","v":0},{"$f":"IF('Stammdaten Mitarbeitende'!N657>0,P657,0)","v":0},0,0,0]
[{"$f":"'Stammdaten Mitarbeitende'!AA658","v":""},"",null,null,null,null,null,null,0,"",null,"","","","",null,"","",null,null,{"$f":"IF($A658=\"\",\"\",'Stammdaten Mitarbeitende'!L658)","v":""},0,"","","","","","","","","","",0,"",0,0,0,0,{"$f":"IF('Stammdaten Mitarbeitende'!N658>0,AC658,0)","v":0},{"$f":"IF('Stammdaten Mitarbeitende'!N658>0,P658,0)","v":0},0,0,0]
[{"$f":"'Stammdaten Mitarbeitende'!AA659","v":""},"",null,null,null,null,null,null,0,"",null,"","","","",null,"","",null,null,{"$f":"IF($A659=\"\",\"\",'Stammdaten Mitarbeitende'!L659)","v":""},0,"","","","","","","","","","",0,"",0,0,0,0,{"$f":"IF('Stammdaten Mitarbeitende'!N659>0,AC659,0)","v":0},{"$f":"IF('Stammdaten Mitarbeitende'!N659>0,P659,0)","v":0},0,0,0]
[{"$f":"Übersetzungstexte!A$296","v":"Seitentotal"},null,null,{"$f":"SUM(D639:D659)","v":0},null,{"$f":"SUM(F639:F659)","v":0},null,null,null,{"$f":"SUM(J639:J659)","v":0},null,null,null,{"$f":"SUM(N639:N659)","v":0},null,{"$f":"SUM(P639:P659)","v":0},null,{"$f":"SUM(R639:R659)","v":0}]
[{"$f":"'Stammdaten Betrieb & Abteilung'!D$1","v":"  "},null,null,null,null,null,null,null,null,null,null,null,{"$f":"Übersetzungstexte!A$239","v":"Betrieb / Betriebsabteilung"},{"$f":"'Stammdaten Betrieb & Abteilung'!D$13","v":" "}]
[{"$f":"'Stammdaten Betrieb & Abteilung'!D$3","v":" "},null,null,null,null,null,null,null,null,null,null,null,{"$f":"Übersetzungstexte!A$240","v":"Abrechnungsperiode"},{"$f":"'Stammdaten Betrieb & Abteilung'!D$14","v":""},null,{"$f":"'Stammdaten Betrieb & Abteilung'!D$12","v":{"$error":"#VALUE!"}}]
[{"$f":"'Stammdaten Betrieb & Abteilung'!D$4","v":" "},null,null,null,null,null,null,null,null,null,null,null,{"$f":"Übersetzungstexte!A$241","v":"Beginn / Ende der Kurzarbeit"},{"$f":"'Stammdaten Betrieb & Abteilung'!D$16","v":""}]
[]
[1,2,3,4,5,6,null,7,null,8,9,10,11,12,13,null,14,15,null,null,null,"Regel 7","Regel 8",null,"Regel 9","Regel 10","Regel 11","Regel 12","Regel 13","Regel 14","Regel 15","Regel 17",null,"Regel 19/20",null,null,null,null,"AHV-pflichtiger","AHV-pflichtiger",null,null,"AHV-pflichtige"]
[{"$f":"Übersetzungstexte!A$242","v":""},{"$f":"Übersetzungstexte!A$245","v":"anrechen-"},{"$f":"Übersetzungstexte!A$248","v":"Wöchentl."},{"$f":"Übersetzungstexte!A$251","v":"Sollstd. Abr.-"},{"$f":"Übersetzungstexte!A$254","v":""},{"$f":"Übersetzungstexte!A$257","v":"Bezahlte/"},null,{"$f":"Übersetzungstexte!A$263","v":"(nur für Gleitzeit)"},null,{"$f":"Übersetzungstexte!A$269","v":"Ausfall-"},{"$f":"Übersetzungstexte!A$272","v":"Saldo"},{"$f":"Übersetzungstexte!A$275","v":"Saisonale"},{"$f":"Übersetzungstexte!A$278","v":"Anrechen-"},{"$f":"Übersetzungstexte!A$281","v":"Verdienst-"},{"$f":"Übersetzungstexte!A$284","v":"Verdienst-"},{"$f":"Übersetzungstexte!A$287","v":"Verdienst"},{"$f":"AE$4","v":"Abzug "},{"$f":"Übersetzungstexte!A$293","v":""},null,null,"anrechen-","Gleitzeit","Ausfall-","Max(D12,0)","Prozentualer","Saisonale","Proz. Wirts. Bed.","Anrechen-","Verdienst-","Verdienst-","Abzug","Abzug","Verdienst",null,"Anzahl","Anzahl","Sollstd.","Absenzen","Verdienst-","Verdienst","Sollstd.","bezahlte/","Abzugsbasis"]
[{"$f":"Übersetzungstexte!A$243","v":""},{"$f":"Übersetzungstexte!A$246","v":"barer Std.-"},{"$f":"Übersetzungstexte!A$249","v":"Arbeitszeit"},{"$f":"Übersetzungstexte!A$252","v":"Periode Inkl."},{"$f":"Übersetzungstexte!A$255","v":""},{"$f":"Übersetzungstexte!A$258","v":"Unbezahlte"},{"$f":"Übersetzungstexte!A$261","v":"Saldo Ende Per."},null,null,{"$f":"Übersetzungstexte!A$270","v":"stunden"},{"$f":"Übersetzungstexte!A$273","v":"Mehrstd."},{"$f":"Übersetzungstexte!A$276","v":"Ausfall-"},{"$f":"Übersetzungstexte!A$279","v":"bare Aus-"},{"$f":"Übersetzungstexte!A$282","v":"ausfall"},{"$f":"Übersetzungstexte!A$285","v":"ausfall"},{"$f":"Übersetzungstexte!A$288","v":"Zwischen-"},{"$f":"Übersetzungstexte!A$291","v":"Karenztage"},{"$f":"Übersetzungstexte!A$294","v":"Beantragte"},null,null,"barer Std.-","c","stunden",null,"Arbeitsausfall","Ausfall-","Arbeitsausfall","bare ","ausfall","ausfall","Karenztage","Zwischen-","Zwischen-","Beantragte","bezugsber.","betroffene","bezugsber.","bezugsber.","ausfall","Zwischen-","inkl","unbezahlte"]
[{"$f":"Übersetzungstexte!A$244","v":"Name,Vorname"},{"$f":"Übersetzungstexte!A$247","v":"Verdienst"},{"$f":"Übersetzungstexte!A$250","v":"in der AP"},{"$f":"Übersetzungstexte!A$253","v":"Vorholzeit"},{"$f":"Übersetzungstexte!A$256","v":"Istzeit"},{"$f":"Übersetzungstexte!A$259","v":"Absenzen"},{"$f":"Übersetzungstexte!A$262","v":"vorherg."},{"$f":"Übersetzungstexte!A$265","v":"laufend"},{"$f":"Übersetzungstexte!A$268","v":"Diff."},{"$f":"Übersetzungstexte!A$271","v":"total"},{"$f":"Übersetzungstexte!A$274","v":"Vormonate"},{"$f":"Übersetzungstexte!A$277","v":"stunden"},{"$f":"Übersetzungstexte!A$280","v":"fall-Std."},{"$f":"Übersetzungstexte!A$283","v":"100%"},{"$f":"Übersetzungstexte!A$286","v":"80%"},{"$f":"Übersetzungstexte!A$289","v":"Beschäftigung"},{"$f":"Übersetzungstexte!A$292","v":"80%"},{"$f":"Übersetzungstexte!A$295","v":"Vergütung"},null,null,"Verdienst",null,"Total",null,"pAA","stunden","pwAA","Ausfall-Std.","100%","80%","80%","beschäftigung","beschäftigung","Vergütung","Mitarbeiter","Mitarbeiter","Mitarbeiter","Mitarbeiter","100%","beschäftigung","Vorholzeit","Ansenzen"]
[{"$f":"'Stammdaten Mitarbeitende'!AA669","v":""},{"$f":"U669","v":""},null,null,null,null,null,null,{"$f":"V669","v":0},{"$f":"W669","v":""},null,{"$f":"Z669","v":""},{"$f":"AB669","v":""},{"$f":"AC669","v":""},{"$f":"AD669","v":""},null,{"$f":"AE669","v":""},{"$f":"AH669","v":""},null,null,{"$f":"IF($A669=\"\",\"\",'Stammdaten Mitarbeitende'!L669)","v":""},{"$f":"IF(AND(G669=\"\",H669=\"\"),0,G669-H669)","v":0},{"$f":"IF(OR($A669=\"\",D669=\"\",E669=\"\",F669=\"\",V669=\"\"),\"\",D669-(E669+F669+V669))","v":""},{"$f":"IF(W669=\"\",\"\",MAX(W669,0))","v":""},{"$f":"IF(J669=\"\",\"\",Y$4)","v":""},{"$f":"IF(J669=\"\",\"\",J669*Z$4)","v":""},{"$f":"IF(Y669=\"\",\"\",AA$4)","v":""},{"$f":"IF(J669=\"\",\"\",ROUND(J669*AB$4 - MAX(K669-L669,0),2))","v":""},{"$f":"IF(OR($A669=\"\",J669=\"\",B669=\"\",M669<0),\"\",MAX(ROUND(M669*B669*2,1)/2,0))","v":""},{"$f":"IF(OR($A669=\"\",N669=\"\"),\"\",ROUND(N669*8/5,1)/2)","v":""},{"$f":"IF(OR($A669=\"\",B669=\"\",N669=\"\"),\"\",ROUND(AE$3*C669*B669*16/50,1)/2)","v":""},{"$f":"IF(OR($A669=\"\",J669=\"\",N669=\"\"),\"\",MAX(O669+P669-N669,0))","v":""},{"$f":"P669","v":0},{"$f":"IF(OR($A669=\"\",N669=\"\"),\"\",ROUND((MAX(O669-Q669-AF669,0))*2,1)/2)","v":""},{"$f":"IF(D669=\"\",0,1)","v":0},{"$f":"IF(J669=\"\",0,IF(ROUND(J669,2)<=0,0,1))","v":0},{"$f":"IF(D669=\"\",0,D669)","v":0},{"$f":"IF(D669=\"\",0,F669)","v":0},{"$f":"IF('Stammdaten Mitarbeitende'!N669>0,AC669,0)","v":0},{"$f":"IF('Stammdaten Mitarbeitende'!N669>0,P669,0)","v":0},{"$f":"D669","v":0},{"$f":"F669","v":0},{"$f":"IF(AM669=\"\",0,MAX(AM669-AN669,0))","v":0}]
[{"$f":"'Stammdaten Mitarbeitende'!AA670","v":""},"",null,null,null,null,null,null,0,"",null,"","","","",null,"","",null,null,{"$f":"IF($A670=\"\",\"\",'Stammdaten Mitarbeitende'!L670)","v":""},0,"","","","","","","","","","",0,"",0,{"$f":"IF(J670=\"\",0,IF(ROUND(J670,2)<=0,0,1))","v":0},0,0,{"$f":"IF('Stammdaten Mitarbeitende'!N670>0,AC670,0)","v":0},{"$f":"IF('Stammdaten Mitarbeitende'!N670>0,P670,0)","v":0},0,0,0]
[{"$f":"'Stammdaten Mitarbeitende'!AA671","v":""},"",null,null,null,null,null,null,0,"",null,"","","","",null,"","",null,null,{"$f":"IF($A671=\"\",\"\",'Stammdaten Mitarbeitende'!L671)","v":""},0,"","","","","","","","","","",0,"",0,0,0,0,{"$f":"IF('Stammdaten Mitarbeitende'!N671>0,AC671,0)","v":0},{"$f":"IF('Stammdaten Mitarbeitende'!N671>0,P671,0)","v":0},0,0,0]
[{"$f":"'Stammdaten Mitarbeitende'!AA672","v":""},"",null,null,null,null,null,null,0,"",null,"","","","",null,"","",null,null,{"$f":"IF($A672=\"\",\"\",'Stammdaten Mitarbeitende'!L672)","v":""},0,"","","","","","","","","","",0,"",0,0,0,0,{"$f":"IF('Stammdaten Mitarbeitende'!N672>0,AC672,0)","v":0},{"$f":"IF('Stammdaten Mitarbeitende'!N672>0,P672,0)","v":0},0,0,0]
[{"$f":"'Stammdaten Mitarbeitende'!AA673","v":""},"",null,null,null,null,null,null,0,"",null,"","","","",null,"","",null,null,{"$f":"IF($A673=\"\",\"\",'Stammdaten Mitarbeitende'!L673)","v":""},0,"","","","","","","","","","",0,"",0,0,0,0,{"$f":"IF('Stammdaten Mitarbeitende'!N673>0,AC673,0)","v":0},{"$f":"IF('Stammdaten Mitarbeitende'!N673>0,P673,0)","v":0},0,0,0]
[{"$f":"'Stammdaten Mitarbeitende'!AA674","v":""},"",null,null,null,null,null,null,0,"",null,"","","","",null,"","",null,null,{"$f":"IF($A674=\"\",\"\",'Stammdaten Mitarbeitende'!L674)","v":""},0,"","","","","","","","","","",0,"",0,0,0,0,{"$f":"IF('Stammdaten Mitarbeitende'!N674>0,AC674,0)","v":0},{"$f":"IF('Stammdaten Mitarbeitende'!N674>0,P674,0)","v":0},0,0,0]
[{"$f":"'Stammdaten Mitarbeitende'!AA675","v":""},"",null,null,null,null,null,null,0,"",null,"","","","",null,"","",null,null,{"$f":"IF($A675=\"\",\"\",'Stammdaten Mitarbeitende'!L675)","v":""},0,"","","","","","","","","","",0,"",0,0,0,0,{"$f":"IF('Stammdaten Mitarbeitende'!N675>0,AC675,0)","v":0},{"$f":"IF('Stammdaten Mitarbeitende'!N675>0,P675,0)","v":0},0,0,0]
[{"$f":"'Stammdaten Mitarbeitende'!AA676","v":""},"",null,null,null,null,null,null,0,"",null,"","","","",null,"","",null,null,{"$f":"IF($A676=\"\",\"\",'Stammdaten Mitarbeitende'!L676)","v":""},0,"","","","","","","","","","",0,"",0,0,0,0,{"$f":"IF('Stammdaten Mitarbeitende'!N676>0,AC676,0)","v":0},{"$f":"IF('Stammdaten Mitarbeitende'!N676>0,P676,0)","v":0},0,0,0]
[{"$f":"'Stammdaten Mitarbeitende'!AA677","v":""},"",null,null,null,null,null,null,0,"",null,"","","","",null,"","",null,null,{"$f":"IF($A677=\"\",\"\",'Stammdaten Mitarbeitende'!L677)","v":""},0,"","","","","","","","","","",0,"",0,0,0,0,{"$f":"IF('Stammdaten Mitarbeitende'!N677>0,AC677,0)","v":0},{"$f":"IF('Stammdaten Mitarbeitende'!N677>0,P677,0)","v":0},0,0,0]
[{"$f":"'Stammdaten Mitarbeitende'!AA678","v":""},"",null,null,null,null,null,null,0,"",null,"","","","",null,"","",null,null,{"$f":"IF($A678=\"\",\"\",'Stammdaten Mitarbeitende'!L678)","v":""},0,"","","","","","","","","","",0,"",0,0,0,0,{"$f":"IF('Stammdaten Mitarbeitende'!N678>0,AC678,0)","v":0},{"$f":"IF('Stammdaten Mitarbeitende'!N678>0,P678,0)","v":0},0,0,0]
[{"$f":"'Stammdaten Mitarbeitende'!AA679","v":""},"",null,null,null,null,null,null,0,"",null,"","","","",null,"","",null,null,{"$f":"IF($A679=\"\",\"\",'Stammdaten Mitarbeitende'!L679)","v":""},0,"","","","","","","","","","",0,"",0,0,0,0,{"$f":"IF('Stammdaten Mitarbeitende'!N679>0,AC679,0)","v":0},{"$f":"IF('Stammdaten Mitarbeitende'!N679>0,P679,0)","v":0},0,0,0]
[{"$f":"'Stammdaten Mitarbeitende'!AA680","v":""},"",null,null,null,null,null,null,0,"",null,"","","","",null,"","",null,null,{"$f":"IF($A680=\"\",\"\",'Stammdaten Mitarbeitende'!L680)","v":""},0,"","","","","","","","","","",0,"",0,0,0,0,{"$f":"IF('Stammdaten Mitarbeitende'!N680>0,AC680,0)","v":0},{"$f":"IF('Stammdaten Mitarbeitende'!N680>0,P680,0)","v":0},0,0,0]
[{"$f":"'Stammdaten Mitarbeitende'!AA681","v":""},"",null,null,null,null,null,null,0,"",null,"","","","",null,"","",null,null,{"$f":"IF($A681=\"\",\"\",'Stammdaten Mitarbeitende'!L681)","v":""},0,"","","","","","","","","","",0,"",0,0,0,0,{"$f":"IF('Stammdaten Mitarbeitende'!N681>0,AC681,0)","v":0},{"$f":"IF('Stammdaten Mitarbeitende'!N681>0,P681,0)","v":0},0,0,0]
[{"$f":"'Stammdaten Mitarbeitende'!AA682","v":""},"",null,null,null,null,null,null,0,"",null,"","","","",null,"","",null,null,{"$f":"IF($A682=\"\",\"\",'Stammdaten Mitarbeitende'!L682)","v":""},0,"","","","","","","","","","",0,"",0,0,0,0,{"$f":"IF('Stammdaten Mitarbeitende'!N682>0,AC682,0)","v":0},{"$f":"IF('Stammdaten Mitarbeitende'!N682>0,P682,0)","v":0},0,0,0]
[{"$f":"'Stammdaten Mitarbeitende'!AA683","v":""},"",null,null,null,null,null,null,0,"",null,"","","","",null,"","",null,null,{"$f":"IF($A683=\"\",\"\",'Stammdaten Mitarbeitende'!L683)","v":""},0,"","","","","","","","","","",0,"",0,0,0,0,{"$f":"IF('Stammdaten Mitarbeitende'!N683>0,AC683,0)","v":0},{"$f":"IF('Stammdaten Mitarbeitende'!N683>0,P683,0)","v":0},0,0,0]
[{"$f":"'Stammdaten Mitarbeitende'!AA684","v":""},"",null,null,null,null,null,null,0,"",null,"","","","",null,"","",null,null,{"$f":"IF($A684=\"\",\"\",'Stammdaten Mitarbeitende'!L684)","v":""},0,"","","","","","","","","","",0,"",0,0,0,0,{"$f":"IF('Stammdaten Mitarbeitende'!N684>0,AC684,0)","v":0},{"$f":"IF('Stammdaten Mitarbeitende'!N684>0,P684,0)","v":0},0,0,0]
[{"$f":"'Stammdaten Mitarbeitende'!AA685","v":""},"",null,null,null,null,null,null,0,"",null,"","","","",null,"","",null,null,{"$f":"IF($A685=\"\",\"\",'Stammdaten Mitarbeitende'!L685)","v":""},0,"","","","","","","","","","",0,"",0,0,0,0,{"$f":"IF('Stammdaten Mitarbeitende'!N685>0,AC685,0)","v":0},{"$f":"IF('Stammdaten Mitarbeitende'!N685>0,P685,0)","v":0},0,0,0]
[{"$f":"'Stammdaten Mitarbeitende'!AA686","v":""},"",null,null,null,null,null,null,0,"",null,"","","","",null,"","",null,null,{"$f":"IF($A686=\"\",\"\",'Stammdaten Mitarbeitende'!L686)","v":""},0,"","","","","","","","","","",0,"",0,0,0,0,{"$f":"IF('Stammdaten Mitarbeitende'!N686>0,AC686,0)","v":0},{"$f":"IF('Stammdaten Mitarbeitende'!N686>0,P686,0)","v":0},0,0,0]
[{"$f":"'Stammdaten Mitarbeitende'!AA687","v":""},"",null,null,null,null,null,null,0,"",null,"","","","",null,"","",null,null,{"$f":"IF($A687=\"\",\"\",'Stammdaten Mitarbeitende'!L687)","v":""},0,"","","","","","","","","","",0,"",0,0,0,0,{"$f":"IF('Stammdaten Mitarbeitende'!N687>0,AC687,0)","v":0},{"$f":"IF('Stammdaten Mitarbeitende'!N687>0,P687,0)","v":0},0,0,0]
[{"$f":"'Stammdaten Mitarbeitende'!AA688","v":""},"",null,null,null,null,null,null,0,"",null,"","","","",null,"","",null,null,{"$f":"IF($A688=\"\",\"\",'Stammdaten Mitarbeitende'!L688)","v":""},0,"","","","","","","","","","",0,"",0,0,0,0,{"$f":"IF('Stammdaten Mitarbeitende'!N688>0,AC688,0)","v":0},{"$f":"IF('Stammdaten Mitarbeitende'!N688>0,P688,0)","v":0},0,0,0]
[{"$f":"'Stammdaten Mitarbeitende'!AA689","v":""},"",null,null,null,null,null,null,0,"",null,"","","","",null,"","",null,null,{"$f":"IF($A689=\"\",\"\",'Stammdaten Mitarbeitende'!L689)","v":""},0,"","","","","","","","","","",0,"",0,0,0,0,{"$f":"IF('Stammdaten Mitarbeitende'!N689>0,AC689,0)","v":0},{"$f":"IF('Stammdaten Mitarbeitende'!N689>0,P689,0)","v":0},0,0,0]
[{"$f":"Übersetzungstexte!A$296","v":"Seitentotal"},null,null,{"$f":"SUM(D669:D689)","v":0},null,{"$f":"SUM(F669:F689)","v":0},null,null,null,{"$f":"SUM(J669:J689)","v":0},null,null,null,{"$f":"SUM(N669:N689)","v":0},null,{"$f":"SUM(P669:P689)","v":0},null,{"$f":"SUM(R669:R689)","v":0}]
[{"$f":"'Stammdaten Betrieb & Abteilung'!D$1","v":"  "},null,null,null,null,null,null,null,null,null,null,null,{"$f":"Übersetzungstexte!A$239","v":"Betrieb / Betriebsabteilung"},{"$f":"'Stammdaten Betrieb & Abteilung'!D$13","v":" "}]
[{"$f":"'Stammdaten Betrieb & Abteilung'!D$3","v":" "},null,null,null,null,null,null,null,null,null,null,null,{"$f":"Übersetzungstexte!A$240","v":"Abrechnungsperiode"},{"$f":"'Stammdaten Betrieb & Abteilung'!D$14","v":""},null,{"$f":"'Stammdaten Betrieb & Abteilung'!D$12","v":{"$error":"#VALUE!"}}]
[{"$f":"'Stammdaten Betrieb & Abteilung'!D$4","v":" "},null,null,null,null,null,null,null,null,null,null,null,{"$f":"Übersetzungstexte!A$241","v":"Beginn / Ende der Kurzarbeit"},{"$f":"'Stammdaten Betrieb & Abteilung'!D$16","v":""}]
[]
[1,2,3,4,5,6,null,7,null,8,9,10,11,12,13,null,14,15,null,null,null,"Regel 7","Regel 8",null,"Regel 9","Regel 10","Regel 11","Regel 12","Regel 13","Regel 14","Regel 15","Regel 17",null,"Regel 19/20",null,null,null,null,"AHV-pflichtiger","AHV-pflichtiger",null,null,"AHV-pflichtige"]
[{"$f":"Übersetzungstexte!A$242","v":""},{"$f":"Übersetzungstexte!A$245","v":"anrechen-"},{"$f":"Übersetzungstexte!A$248","v":"Wöchentl."},{"$f":"Übersetzungstexte!A$251","v":"Sollstd. Abr.-"},{"$f":"Übersetzungstexte!A$254","v":""},{"$f":"Übersetzungstexte!A$257","v":"Bezahlte/"},null,{"$f":"Übersetzungstexte!A$263","v":"(nur für Gleitzeit)"},null,{"$f":"Übersetzungstexte!A$269","v":"Ausfall-"},{"$f":"Übersetzungstexte!A$272","v":"Saldo"},{"$f":"Übersetzungstexte!A$275","v":"Saisonale"},{"$f":"Übersetzungstexte!A$278","v":"Anrechen-"},{"$f":"Übersetzungstexte!A$281","v":"Verdienst-"},{"$f":"Übersetzungstexte!A$284","v":"Verdienst-"},{"$f":"Übersetzungstexte!A$287","v":"Verdienst"},{"$f":"AE$4","v":"Abzug "},{"$f":"Übersetzungstexte!A$293","v":""},null,null,"anrechen-","Gleitzeit","Ausfall-","Max(D12,0)","Prozentualer","Saisonale","Proz. Wirts. Bed.","Anrechen-","Verdienst-","Verdienst-","Abzug","Abzug","Verdienst",null,"Anzahl","Anzahl","Sollstd.","Absenzen","Verdienst-","Verdienst","Sollstd.","bezahlte/","Abzugsbasis"]
[{"$f":"Übersetzungstexte!A$243","v":""},{"$f":"Übersetzungstexte!A$246","v":"barer Std.-"},{"$f":"Übersetzungstexte!A$249","v":"Arbeitszeit"},{"$f":"Übersetzungstexte!A$252","v":"Periode Inkl."},{"$f":"Übersetzungstexte!A$255","v":""},{"$f":"Übersetzungstexte!A$258","v":"Unbezahlte"},{"$f":"Übersetzungstexte!A$261","v":"Saldo Ende Per."},null,null,{"$f":"Übersetzungstexte!A$270","v":"stunden"},{"$f":"Übersetzungstexte!A$273","v":"Mehrstd."},{"$f":"Übersetzungstexte!A$276","v":"Ausfall-"},{"$f":"Übersetzungstexte!A$279","v":"bare Aus-"},{"$f":"Übersetzungstexte!A$282","v":"ausfall"},{"$f":"Übersetzungstexte!A$285","v":"ausfall"},{"$f":"Übersetzungstexte!A$288","v":"Zwischen-"},{"$f":"Übersetzungstexte!A$291","v":"Karenztage"},{"$f":"Übersetzungstexte!A$294","v":"Beantragte"},null,null,"barer Std.-","c","stunden",null,"Arbeitsausfall","Ausfall-","Arbeitsausfall","bare ","ausfall","ausfall","Karenztage","Zwischen-","Zwischen-","Beantragte","bezugsber.","betroffene","bezugsber.","bezugsber.","ausfall","Zwischen-","inkl","unbezahlte"]
[{"$f":"Übersetzungstexte!A$244","v":"Name,Vorname"},{"$f":"Übersetzungstexte!A$247","v":"Verdienst"},{"$f":"Übersetzungstexte!A$250","v":"in der AP"},{"$f":"Übersetzungstexte!A$253","v":"Vorholzeit"},{"$f":"Übersetzungstexte!A$256","v":"Istzeit"},{"$f":"Übersetzungstexte!A$259","v":"Absenzen"},{"$f":"Übersetzungstexte!A$262","v":"vorherg."},{"$f":"Übersetzungstexte!A$265","v":"laufend"},{"$f":"Übersetzungstexte!A$268","v":"Diff."},{"$f":"Übersetzungstexte!A$271","v":"total"},{"$f":"Übersetzungstexte!A$274","v":"Vormonate"},{"$f":"Übersetzungstexte!A$277","v":"stunden"},{"$f":"Übersetzungstexte!A$280","v":"fall-Std."},{"$f":"Übersetzungstexte!A$283","v":"100%"},{"$f":"Übersetzungstexte!A$286","v":"80%"},{"$f":"Übersetzungstexte!A$289","v":"Beschäftigung"},{"$f":"Übersetzungstexte!A$292","v":"80%"},{"$f":"Übersetzungstexte!A$295","v":"Vergütung"},null,null,"Verdienst",null,"Total",null,"pAA","stunden","pwAA","Ausfall-Std.","100%","80%","80%","beschäftigung","beschäftigung","Vergütung","Mitarbeiter","Mitarbeiter","Mitarbeiter","Mitarbeiter","100%","beschäftigung","Vorholzeit","Ansenzen"]
[{"$f":"'Stammdaten Mitarbeitende'!AA699","v":""},{"$f":"U699","v":""},null,null,null,null,null,null,{"$f":"V699","v":0},{"$f":"W699","v":""},null,{"$f":"Z699","v":""},{"$f":"AB699","v":""},{"$f":"AC699","v":""},{"$f":"AD699","v":""},null,{"$f":"AE699","v":""},{"$f":"AH699","v":""},null,null,{"$f":"IF($A699=\"\",\"\",'Stammdaten Mitarbeitende'!L699)","v":""},{"$f":"IF(AND(G699=\"\",H699=\"\"),0,G699-H699)","v":0},{"$f":"IF(OR($A699=\"\",D699=\"\",E699=\"\",F699=\"\",V699=\"\"),\"\",D699-(E699+F699+V699))","v":""},{"$f":"IF(W699=\"\",\"\",MAX(W699,0))","v":""},{"$f":"IF(J699=\"\",\"\",Y$4)","v":""},{"$f":"IF(J699=\"\",\"\",J699*Z$4)","v":""},{"$f":"IF(Y699=\"\",\"\",AA$4)","v":""},{"$f":"IF(J699=\"\",\"\",ROUND(J699*AB$4 - MAX(K699-L699,0),2))","v":""},{"$f":"IF(OR($A699=\"\",J699=\"\",B699=\"\",M699<0),\"\",MAX(ROUND(M699*B699*2,1)/2,0))","v":""},{"$f":"IF(OR($A699=\"\",N699=\"\"),\"\",ROUND(N699*8/5,1)/2)","v":""},{"$f":"IF(OR($A699=\"\",B699=\"\",N699=\"\"),\"\",ROUND(AE$3*C699*B699*16/50,1)/2)","v":""},{"$f":"IF(OR($A699=\"\",J699=\"\",N699=\"\"),\"\",MAX(O699+P699-N699,0))","v":""},{"$f":"P699","v":0},{"$f":"IF(OR($A699=\"\",N699=\"\"),\"\",ROUND((MAX(O699-Q699-AF699,0))*2,1)/2)","v":""},{"$f":"IF(D699=\"\",0,1)","v":0},{"$f":"IF(J699=\"\",0,IF(ROUND(J699,2)<=0,0,1))","v":0},{"$f":"IF(D699=\"\",0,D699)","v":0},{"$f":"IF(D699=\"\",0,F699)","v":0},{"$f":"IF('Stammdaten Mitarbeitende'!N699>0,AC699,0)","v":0},{"$f":"IF('Stammdaten Mitarbeitende'!N699>0,P699,0)","v":0},{"$f":"D699","v":0},{"$f":"F699","v":0},{"$f":"IF(AM699=\"\",0,MAX(AM699-AN699,0))","v":0}]
[{"$f":"'Stammdaten Mitarbeitende'!AA700","v":""},"",null,null,null,null,null,null,0,"",null,"","","","",null,"","",null,null,{"$f":"IF($A700=\"\",\"\",'Stammdaten Mitarbeitende'!L700)","v":""},0,"","","","","","","","","","",0,"",0,{"$f":"IF(J700=\"\",0,IF(ROUND(J700,2)<=0,0,1))","v":0},0,0,{"$f":"IF('Stammdaten Mitarbeitende'!N700>0,AC700,0)","v":0},{"$f":"IF('Stammdaten Mitarbeitende'!N700>0,P700,0)","v":0},0,0,0]
[{"$f":"'Stammdaten Mitarbeitende'!AA701","v":""},"",null,null,null,null,null,null,0,"",null,"","","","",null,"","",null,null,{"$f":"IF($A701=\"\",\"\",'Stammdaten Mitarbeitende'!L701)","v":""},0,"","","","","","","","","","",0,"",0,0,0,0,{"$f":"IF('Stammdaten Mitarbeitende'!N701>0,AC701,0)","v":0},{"$f":"IF('Stammdaten Mitarbeitende'!N701>0,P701,0)","v":0},0,0,0]
[{"$f":"'Stammdaten Mitarbeitende'!AA702","v":""},"",null,null,null,null,null,null,0,"",null,"","","","",null,"","",null,null,{"$f":"IF($A702=\"\",\"\",'Stammdaten Mitarbeitende'!L702)","v":""},0,"","","","","","","","","","",0,"",0,0,0,0,{"$f":"IF('Stammdaten Mitarbeitende'!N702>0,AC702,0)","v":0},{"$f":"IF('Stammdaten Mitarbeitende'!N702>0,P702,0)","v":0},0,0,0]
[{"$f":"'Stammdaten Mitarbeitende'!AA703","v":""},"",null,null,null,null,null,null,0,"",null,"","","","",null,"","",null,null,{"$f":"IF($A703=\"\",\"\",'Stammdaten Mitarbeitende'!L703)","v":""},0,"","","","","","","","","","",0,"",0,0,0,0,{"$f":"IF('Stammdaten Mitarbeitende'!N703>0,AC703,0)","v":0},{"$f":"IF('Stammdaten Mitarbeitende'!N703>0,P703,0)","v":0},0,0,0]
[{"$f":"'Stammdaten Mitarbeitende'!AA704","v":""},"",null,null,null,null,null,null,0,"",null,"","","","",null,"","",null,null,{"$f":"IF($A704=\"\",\"\",'Stammdaten Mitarbeitende'!L704)","v":""},0,"","","","","","","","","","",0,"",0,0,0,0,{"$f":"IF('Stammdaten Mitarbeitende'!N704>0,AC704,0)","v":0},{"$f":"IF('Stammdaten Mitarbeitende'!N704>0,P704,0)","v":0},0,0,0]
[{"$f":"'Stammdaten Mitarbeitende'!AA705","v":""},"",null,null,null,null,null,null,0,"",null,"","","","",null,"","",null,null,{"$f":"IF($A705=\"\",\"\",'Stammdaten Mitarbeitende'!L705)","v":""},0,"","","","","","","","","","",0,"",0,0,0,0,{"$f":"IF('Stammdaten Mitarbeitende'!N705>0,AC705,0)","v":0},{"$f":"IF('Stammdaten Mitarbeitende'!N705>0,P705,0)","v":0},0,0,0]
[{"$f":"'Stammdaten Mitarbeitende'!AA706","v":""},"",null,null,null,null,null,null,0,"",null,"","","","",null,"","",null,null,{"$f":"IF($A706=\"\",\"\",'Stammdaten Mitarbeitende'!L706)","v":""},0,"","","","","","","","","","",0,"",0,0,0,0,{"$f":"IF('Stammdaten Mitarbeitende'!N706>0,AC706,0)","v":0},{"$f":"IF('Stammdaten Mitarbeitende'!N706>0,P706,0)","v":0},0,0,0]
[{"$f":"'Stammdaten Mitarbeitende'!AA707","v":""},"",null,null,null,null,null,null,0,"",null,"","","","",null,"","",null,null,{"$f":"IF($A707=\"\",\"\",'Stammdaten Mitarbeitende'!L707)","v":""},0,"","","","","","","","","","",0,"",0,0,0,0,{"$f":"IF('Stammdaten Mitarbeitende'!N707>0,AC707,0)","v":0},{"$f":"IF('Stammdaten Mitarbeitende'!N707>0,P707,0)","v":0},0,0,0]
[{"$f":"'Stammdaten Mitarbeitende'!AA708","v":""},"",null,null,null,null,null,null,0,"",null,"","","","",null,"","",null,null,{"$f":"IF($A708=\"\",\"\",'Stammdaten Mitarbeitende'!L708)","v":""},0,"","","","","","","","","","",0,"",0,0,0,0,{"$f":"IF('Stammdaten Mitarbeitende'!N708>0,AC708,0)","v":0},{"$f":"IF('Stammdaten Mitarbeitende'!N708>0,P708,0)","v":0},0,0,0]
[{"$f":"'Stammdaten Mitarbeitende'!AA709","v":""},"",null,null,null,null,null,null,0,"",null,"","","","",null,"","",null,null,{"$f":"IF($A709=\"\",\"\",'Stammdaten Mitarbeitende'!L709)","v":""},0,"","","","","","","","","","",0,"",0,0,0,0,{"$f":"IF('Stammdaten Mitarbeitende'!N709>0,AC709,0)","v":0},{"$f":"IF('Stammdaten Mitarbeitende'!N709>0,P709,0)","v":0},0,0,0]
[{"$f":"'Stammdaten Mitarbeitende'!AA710","v":""},"",null,null,null,null,null,null,0,"",null,"","","","",null,"","",null,null,{"$f":"IF($A710=\"\",\"\",'Stammdaten Mitarbeitende'!L710)","v":""},0,"","","","","","","","","","",0,"",0,0,0,0,{"$f":"IF('Stammdaten Mitarbeitende'!N710>0,AC710,0)","v":0},{"$f":"IF('Stammdaten Mitarbeitende'!N710>0,P710,0)","v":0},0,0,0]
[{"$f":"'Stammdaten Mitarbeitende'!AA711","v":""},"",null,null,null,null,null,null,0,"",null,"","","","",null,"","",null,null,{"$f":"IF($A711=\"\",\"\",'Stammdaten Mitarbeitende'!L711)","v":""},0,"","","","","","","","","","",0,"",0,0,0,0,{"$f":"IF('Stammdaten Mitarbeitende'!N711>0,AC711,0)","v":0},{"$f":"IF('Stammdaten Mitarbeitende'!N711>0,P711,0)","v":0},0,0,0]
[{"$f":"'Stammdaten Mitarbeitende'!AA712","v":""},"",null,null,null,null,null,null,0,"",null,"","","","",null,"","",null,null,{"$f":"IF($A712=\"\",\"\",'Stammdaten Mitarbeitende'!L712)","v":""},0,"","","","","","","","","","",0,"",0,0,0,0,{"$f":"IF('Stammdaten Mitarbeitende'!N712>0,AC712,0)","v":0},{"$f":"IF('Stammdaten Mitarbeitende'!N712>0,P712,0)","v":0},0,0,0]
[{"$f":"'Stammdaten Mitarbeitende'!AA713","v":""},"",null,null,null,null,null,null,0,"",null,"","","","",null,"","",null,null,{"$f":"IF($A713=\"\",\"\",'Stammdaten Mitarbeitende'!L713)","v":""},0,"","","","","","","","","","",0,"",0,0,0,0,{"$f":"IF('Stammdaten Mitarbeitende'!N713>0,AC713,0)","v":0},{"$f":"IF('Stammdaten Mitarbeitende'!N713>0,P713,0)","v":0},0,0,0]
[{"$f":"'Stammdaten Mitarbeitende'!AA714","v":""},"",null,null,null,null,null,null,0,"",null,"","","","",null,"","",null,null,{"$f":"IF($A714=\"\",\"\",'Stammdaten Mitarbeitende'!L714)","v":""},0,"","","","","","","","","","",0,"",0,0,0,0,{"$f":"IF('Stammdaten Mitarbeitende'!N714>0,AC714,0)","v":0},{"$f":"IF('Stammdaten Mitarbeitende'!N714>0,P714,0)","v":0},0,0,0]
[{"$f":"'Stammdaten Mitarbeitende'!AA715","v":""},"",null,null,null,null,null,null,0,"",null,"","","","",null,"","",null,null,{"$f":"IF($A715=\"\",\"\",'Stammdaten Mitarbeitende'!L715)","v":""},0,"","","","","","","","","","",0,"",0,0,0,0,{"$f":"IF('Stammdaten Mitarbeitende'!N715>0,AC715,0)","v":0},{"$f":"IF('Stammdaten Mitarbeitende'!N715>0,P715,0)","v":0},0,0,0]
[{"$f":"'Stammdaten Mitarbeitende'!AA716","v":""},"",null,null,null,null,null,null,0,"",null,"","","","",null,"","",null,null,{"$f":"IF($A716=\"\",\"\",'Stammdaten Mitarbeitende'!L716)","v":""},0,"","","","","","","","","","",0,"",0,0,0,0,{"$f":"IF('Stammdaten Mitarbeitende'!N716>0,AC716,0)","v":0},{"$f":"IF('Stammdaten Mitarbeitende'!N716>0,P716,0)","v":0},0,0,0]
[{"$f":"'Stammdaten Mitarbeitende'!AA717","v":""},"",null,null,null,null,null,null,0,"",null,"","","","",null,"","",null,null,{"$f":"IF($A717=\"\",\"\",'Stammdaten Mitarbeitende'!L717)","v":""},0,"","","","","","","","","","",0,"",0,0,0,0,{"$f":"IF('Stammdaten Mitarbeitende'!N717>0,AC717,0)","v":0},{"$f":"IF('Stammdaten Mitarbeitende'!N717>0,P717,0)","v":0},0,0,0]
[{"$f":"'Stammdaten Mitarbeitende'!AA718","v":""},"",null,null,null,null,null,null,0,"",null,"","","","",null,"","",null,null,{"$f":"IF($A718=\"\",\"\",'Stammdaten Mitarbeitende'!L718)","v":""},0,"","","","","","","","","","",0,"",0,0,0,0,{"$f":"IF('Stammdaten Mitarbeitende'!N718>0,AC718,0)","v":0},{"$f":"IF('Stammdaten Mitarbeitende'!N718>0,P718,0)","v":0},0,0,0]
[{"$f":"'Stammdaten Mitarbeitende'!AA719","v":""},"",null,null,null,null,null,null,0,"",null,"","","","",null,"","",null,null,{"$f":"IF($A719=\"\",\"\",'Stammdaten Mitarbeitende'!L719)","v":""},0,"","","","","","","","","","",0,"",0,0,0,0,{"$f":"IF('Stammdaten Mitarbeitende'!N719>0,AC719,0)","v":0},{"$f":"IF('Stammdaten Mitarbeitende'!N719>0,P719,0)","v":0},0,0,0]
[{"$f":"Übersetzungstexte!A$296","v":"Seitentotal"},null,null,{"$f":"SUM(D699:D719)","v":0},null,{"$f":"SUM(F699:F719)","v":0},null,null,null,{"$f":"SUM(J699:J719)","v":0},null,null,null,{"$f":"SUM(N699:N719)","v":0},null,{"$f":"SUM(P699:P719)","v":0},null,{"$f":"SUM(R699:R719)","v":0}]
[{"$f":"'Stammdaten Betrieb & Abteilung'!D$1","v":"  "},null,null,null,null,null,null,null,null,null,null,null,{"$f":"Übersetzungstexte!A$239","v":"Betrieb / Betriebsabteilung"},{"$f":"'Stammdaten Betrieb & Abteilung'!D$13","v":" "}]
[{"$f":"'Stammdaten Betrieb & Abteilung'!D$3","v":" "},null,null,null,null,null,null,null,null,null,null,null,{"$f":"Übersetzungstexte!A$240","v":"Abrechnungsperiode"},{"$f":"'Stammdaten Betrieb & Abteilung'!D$14","v":""},null,{"$f":"'Stammdaten Betrieb & Abteilung'!D$12","v":{"$error":"#VALUE!"}}]
[{"$f":"'Stammdaten Betrieb & Abteilung'!D$4","v":" "},null,null,null,null,null,null,null,null,null,null,null,{"$f":"Übersetzungstexte!A$241","v":"Beginn / Ende der Kurzarbeit"},{"$f":"'Stammdaten Betrieb & Abteilung'!D$16","v":""}]
[]
[1,2,3,4,5,6,null,7,null,8,9,10,11,12,13,null,14,15,null,null,null,"Regel 7","Regel 8",null,"Regel 9","Regel 10","Regel 11","Regel 12","Regel 13","Regel 14","Regel 15","Regel 17",null,"Regel 19/20",null,null,null,null,"AHV-pflichtiger","AHV-pflichtiger",null,null,"AHV-pflichtige"]
[{"$f":"Übersetzungstexte!A$242","v":""},{"$f":"Übersetzungstexte!A$245","v":"anrechen-"},{"$f":"Übersetzungstexte!A$248","v":"Wöchentl."},{"$f":"Übersetzungstexte!A$251","v":"Sollstd. Abr.-"},{"$f":"Übersetzungstexte!A$254","v":""},{"$f":"Übersetzungstexte!A$257","v":"Bezahlte/"},null,{"$f":"Übersetzungstexte!A$263","v":"(nur für Gleitzeit)"},null,{"$f":"Übersetzungstexte!A$269","v":"Ausfall-"},{"$f":"Übersetzungstexte!A$272","v":"Saldo"},{"$f":"Übersetzungstexte!A$275","v":"Saisonale"},{"$f":"Übersetzungstexte!A$278","v":"Anrechen-"},{"$f":"Übersetzungstexte!A$281","v":"Verdienst-"},{"$f":"Übersetzungstexte!A$284","v":"Verdienst-"},{"$f":"Übersetzungstexte!A$287","v":"Verdienst"},{"$f":"AE$4","v":"Abzug "},{"$f":"Übersetzungstexte!A$293","v":""},null,null,"anrechen-","Gleitzeit","Ausfall-","Max(D12,0)","Prozentualer","Saisonale","Proz. Wirts. Bed.","Anrechen-","Verdienst-","Verdienst-","Abzug","Abzug","Verdienst",null,"Anzahl","Anzahl","Sollstd.","Absenzen","Verdienst-","Verdienst","Sollstd.","bezahlte/","Abzugsbasis"]
[{"$f":"Übersetzungstexte!A$243","v":""},{"$f":"Übersetzungstexte!A$246","v":"barer Std.-"},{"$f":"Übersetzungstexte!A$249","v":"Arbeitszeit"},{"$f":"Übersetzungstexte!A$252","v":"Periode Inkl."},{"$f":"Übersetzungstexte!A$255","v":""},{"$f":"Übersetzungstexte!A$258","v":"Unbezahlte"},{"$f":"Übersetzungstexte!A$261","v":"Saldo Ende Per."},null,null,{"$f":"Übersetzungstexte!A$270","v":"stunden"},{"$f":"Übersetzungstexte!A$273","v":"Mehrstd."},{"$f":"Übersetzungstexte!A$276","v":"Ausfall-"},{"$f":"Übersetzungstexte!A$279","v":"bare Aus-"},{"$f":"Übersetzungstexte!A$282","v":"ausfall"},{"$f":"Übersetzungstexte!A$285","v":"ausfall"},{"$f":"Übersetzungstexte!A$288","v":"Zwischen-"},{"$f":"Übersetzungstexte!A$291","v":"Karenztage"},{"$f":"Übersetzungstexte!A$294","v":"Beantragte"},null,null,"barer Std.-","c","stunden",null,"Arbeitsausfall","Ausfall-","Arbeitsausfall","bare ","ausfall","ausfall","Karenztage","Zwischen-","Zwischen-","Beantragte","bezugsber.","betroffene","bezugsber.","bezugsber.","ausfall","Zwischen-","inkl","unbezahlte"]
[{"$f":"Übersetzungstexte!A$244","v":"Name,Vorname"},{"$f":"Übersetzungstexte!A$247","v":"Verdienst"},{"$f":"Übersetzungstexte!A$250","v":"in der AP"},{"$f":"Übersetzungstexte!A$253","v":"Vorholzeit"},{"$f":"Übersetzungstexte!A$256","v":"Istzeit"},{"$f":"Übersetzungstexte!A$259","v":"Absenzen"},{"$f":"Übersetzungstexte!A$262","v":"vorherg."},{"$f":"Übersetzungstexte!A$265","v":"laufend"},{"$f":"Übersetzungstexte!A$268","v":"Diff."},{"$f":"Übersetzungstexte!A$271","v":"total"},{"$f":"Übersetzungstexte!A$274","v":"Vormonate"},{"$f":"Übersetzungstexte!A$277","v":"stunden"},{"$f":"Übersetzungstexte!A$280","v":"fall-Std."},{"$f":"Übersetzungstexte!A$283","v":"100%"},{"$f":"Übersetzungstexte!A$286","v":"80%"},{"$f":"Übersetzungstexte!A$289","v":"Beschäftigung"},{"$f":"Übersetzungstexte!A$292","v":"80%"},{"$f":"Übersetzungstexte!A$295","v":"Vergütung"},null,null,"Verdienst",null,"Total",null,"pAA","stunden","pwAA","Ausfall-Std.","100%","80%","80%","beschäftigung","beschäftigung","Vergütung","Mitarbeiter","Mitarbeiter","Mitarbeiter","Mitarbeiter","100%","beschäftigung","Vorholzeit","Ansenzen"]
[{"$f":"'Stammdaten Mitarbeitende'!AA729","v":""},{"$f":"U729","v":""},null,null,null,null,null,null,{"$f":"V729","v":0},{"$f":"W729","v":""},null,{"$f":"Z729","v":""},{"$f":"AB729","v":""},{"$f":"AC729","v":""},{"$f":"AD729","v":""},null,{"$f":"AE729","v":""},{"$f":"AH729","v":""},null,null,{"$f":"IF($A729=\"\",\"\",'Stammdaten Mitarbeitende'!L729)","v":""},{"$f":"IF(AND(G729=\"\",H729=\"\"),0,G729-H729)","v":0},{"$f":"IF(OR($A729=\"\",D729=\"\",E729=\"\",F729=\"\",V729=\"\"),\"\",D729-(E729+F729+V729))","v":""},{"$f":"IF(W729=\"\",\"\",MAX(W729,0))","v":""},{"$f":"IF(J729=\"\",\"\",Y$4)","v":""},{"$f":"IF(J729=\"\",\"\",J729*Z$4)","v":""},{"$f":"IF(Y729=\"\",\"\",AA$4)","v":""},{"$f":"IF(J729=\"\",\"\",ROUND(J729*AB$4 - MAX(K729-L729,0),2))","v":""},{"$f":"IF(OR($A729=\"\",J729=\"\",B729=\"\",M729<0),\"\",MAX(ROUND(M729*B729*2,1)/2,0))","v":""},{"$f":"IF(OR($A729=\"\",N729=\"\"),\"\",ROUND(N729*8/5,1)/2)","v":""},{"$f":"IF(OR($A729=\"\",B729=\"\",N729=\"\"),\"\",ROUND(AE$3*C729*B729*16/50,1)/2)","v":""},{"$f":"IF(OR($A729=\"\",J729=\"\",N729=\"\"),\"\",MAX(O729+P729-N729,0))","v":""},{"$f":"P729","v":0},{"$f":"IF(OR($A729=\"\",N729=\"\"),\"\",ROUND((MAX(O729-Q729-AF729,0))*2,1)/2)","v":""},{"$f":"IF(D729=\"\",0,1)","v":0},{"$f":"IF(J729=\"\",0,IF(ROUND(J729,2)<=0,0,1))","v":0},{"$f":"IF(D729=\"\",0,D729)","v":0},{"$f":"IF(D729=\"\",0,F729)","v":0},{"$f":"IF('Stammdaten Mitarbeitende'!N729>0,AC729,0)","v":0},{"$f":"IF('Stammdaten Mitarbeitende'!N729>0,P729,0)","v":0},{"$f":"D729","v":0},{"$f":"F729","v":0},{"$f":"IF(AM729=\"\",0,MAX(AM729-AN729,0))","v":0}]
[{"$f":"'Stammdaten Mitarbeitende'!AA730","v":""},"",null,null,null,null,null,null,0,"",null,"","","","",null,"","",null,null,{"$f":"IF($A730=\"\",\"\",'Stammdaten Mitarbeitende'!L730)","v":""},0,"","","","","","","","","","",0,"",0,{"$f":"IF(J730=\"\",0,IF(ROUND(J730,2)<=0,0,1))","v":0},0,0,{"$f":"IF('Stammdaten Mitarbeitende'!N730>0,AC730,0)","v":0},{"$f":"IF('Stammdaten Mitarbeitende'!N730>0,P730,0)","v":0},0,0,0]
[{"$f":"'Stammdaten Mitarbeitende'!AA731","v":""},"",null,null,null,null,null,null,0,"",null,"","","","",null,"","",null,null,{"$f":"IF($A731=\"\",\"\",'Stammdaten Mitarbeitende'!L731)","v":""},0,"","","","","","","","","","",0,"",0,0,0,0,{"$f":"IF('Stammdaten Mitarbeitende'!N731>0,AC731,0)","v":0},{"$f":"IF('Stammdaten Mitarbeitende'!N731>0,P731,0)","v":0},0,0,0]
[{"$f":"'Stammdaten Mitarbeitende'!AA732","v":""},"",null,null,null,null,null,null,0,"",null,"","","","",null,"","",null,null,{"$f":"IF($A732=\"\",\"\",'Stammdaten Mitarbeitende'!L732)","v":""},0,"","","","","","","","","","",0,"",0,0,0,0,{"$f":"IF('Stammdaten Mitarbeitende'!N732>0,AC732,0)","v":0},{"$f":"IF('Stammdaten Mitarbeitende'!N732>0,P732,0)","v":0},0,0,0]
[{"$f":"'Stammdaten Mitarbeitende'!AA733","v":""},"",null,null,null,null,null,null,0,"",null,"","","","",null,"","",null,null,{"$f":"IF($A733=\"\",\"\",'Stammdaten Mitarbeitende'!L733)","v":""},0,"","","","","","","","","","",0,"",0,0,0,0,{"$f":"IF('Stammdaten Mitarbeitende'!N733>0,AC733,0)","v":0},{"$f":"IF('Stammdaten Mitarbeitende'!N733>0,P733,0)","v":0},0,0,0]
[{"$f":"'Stammdaten Mitarbeitende'!AA734","v":""},"",null,null,null,null,null,null,0,"",null,"","","","",null,"","",null,null,{"$f":"IF($A734=\"\",\"\",'Stammdaten Mitarbeitende'!L734)","v":""},0,"","","","","","","","","","",0,"",0,0,0,0,{"$f":"IF('Stammdaten Mitarbeitende'!N734>0,AC734,0)","v":0},{"$f":"IF('Stammdaten Mitarbeitende'!N734>0,P734,0)","v":0},0,0,0]
[{"$f":"'Stammdaten Mitarbeitende'!AA735","v":""},"",null,null,null,null,null,null,0,"",null,"","","","",null,"","",null,null,{"$f":"IF($A735=\"\",\"\",'Stammdaten Mitarbeitende'!L735)","v":""},0,"","","","","","","","","","",0,"",0,0,0,0,{"$f":"IF('Stammdaten Mitarbeitende'!N735>0,AC735,0)","v":0},{"$f":"IF('Stammdaten Mitarbeitende'!N735>0,P735,0)","v":0},0,0,0]
[{"$f":"'Stammdaten Mitarbeitende'!AA736","v":""},"",null,null,null,null,null,null,0,"",null,"","","","",null,"","",null,null,{"$f":"IF($A736=\"\",\"\",'Stammdaten Mitarbeitende'!L736)","v":""},0,"","","","","","","","","","",0,"",0,0,0,0,{"$f":"IF('Stammdaten Mitarbeitende'!N736>0,AC736,0)","v":0},{"$f":"IF('Stammdaten Mitarbeitende'!N736>0,P736,0)","v":0},0,0,0]
[{"$f":"'Stammdaten Mitarbeitende'!AA737","v":""},"",null,null,null,null,null,null,0,"",null,"","","","",null,"","",null,null,{"$f":"IF($A737=\"\",\"\",'Stammdaten Mitarbeitende'!L737)","v":""},0,"","","","","","","","","","",0,"",0,0,0,0,{"$f":"IF('Stammdaten Mitarbeitende'!N737>0,AC737,0)","v":0},{"$f":"IF('Stammdaten Mitarbeitende'!N737>0,P737,0)","v":0},0,0,0]
[{"$f":"'Stammdaten Mitarbeitende'!AA738","v":""},"",null,null,null,null,null,null,0,"",null,"","","","",null,"","",null,null,{"$f":"IF($A738=\"\",\"\",'Stammdaten Mitarbeitende'!L738)","v":""},0,"","","","","","","","","","",0,"",0,0,0,0,{"$f":"IF('Stammdaten Mitarbeitende'!N738>0,AC738,0)","v":0},{"$f":"IF('Stammdaten Mitarbeitende'!N738>0,P738,0)","v":0},0,0,0]
[{"$f":"'Stammdaten Mitarbeitende'!AA739","v":""},"",null,null,null,null,null,null,0,"",null,"","","","",null,"","",null,null,{"$f":"IF($A739=\"\",\"\",'Stammdaten Mitarbeitende'!L739)","v":""},0,"","","","","","","","","","",0,"",0,0,0,0,{"$f":"IF('Stammdaten Mitarbeitende'!N739>0,AC739,0)","v":0},{"$f":"IF('Stammdaten Mitarbeitende'!N739>0,P739,0)","v":0},0,0,0]
[{"$f":"'Stammdaten Mitarbeitende'!AA740","v":""},"",null,null,null,null,null,null,0,"",null,"","","","",null,"","",null,null,{"$f":"IF($A740=\"\",\"\",'Stammdaten Mitarbeitende'!L740)","v":""},0,"","","","","","","","","","",0,"",0,0,0,0,{"$f":"IF('Stammdaten Mitarbeitende'!N740>0,AC740,0)","v":0},{"$f":"IF('Stammdaten Mitarbeitende'!N740>0,P740,0)","v":0},0,0,0]
[{"$f":"'Stammdaten Mitarbeitende'!AA741","v":""},"",null,null,null,null,null,null,0,"",null,"","","","",null,"","",null,null,{"$f":"IF($A741=\"\",\"\",'Stammdaten Mitarbeitende'!L741)","v":""},0,"","","","","","","","","","",0,"",0,0,0,0,{"$f":"IF('Stammdaten Mitarbeitende'!N741>0,AC741,0)","v":0},{"$f":"IF('Stammdaten Mitarbeitende'!N741>0,P741,0)","v":0},0,0,0]
[{"$f":"'Stammdaten Mitarbeitende'!AA742","v":""},"",null,null,null,null,null,null,0,"",null,"","","","",null,"","",null,null,{"$f":"IF($A742=\"\",\"\",'Stammdaten Mitarbeitende'!L742)","v":""},0,"","","","","","","","","","",0,"",0,0,0,0,{"$f":"IF('Stammdaten Mitarbeitende'!N742>0,AC742,0)","v":0},{"$f":"IF('Stammdaten Mitarbeitende'!N742>0,P742,0)","v":0},0,0,0]
[{"$f":"'Stammdaten Mitarbeitende'!AA743","v":""},"",null,null,null,null,null,null,0,"",null,"","","","",null,"","",null,null,{"$f":"IF($A743=\"\",\"\",'Stammdaten Mitarbeitende'!L743)","v":""},0,"","","","","","","","","","",0,"",0,0,0,0,{"$f":"IF('Stammdaten Mitarbeitende'!N743>0,AC743,0)","v":0},{"$f":"IF('Stammdaten Mitarbeitende'!N743>0,P743,0)","v":0},0,0,0]
[{"$f":"'Stammdaten Mitarbeitende'!AA744","v":""},"",null,null,null,null,null,null,0,"",null,"","","","",null,"","",null,null,{"$f":"IF($A744=\"\",\"\",'Stammdaten Mitarbeitende'!L744)","v":""},0,"","","","","","","","","","",0,"",0,0,0,0,{"$f":"IF('Stammdaten Mitarbeitende'!N744>0,AC744,0)","v":0},{"$f":"IF('Stammdaten Mitarbeitende'!N744>0,P744,0)","v":0},0,0,0]
[{"$f":"'Stammdaten Mitarbeitende'!AA745","v":""},"",null,null,null,null,null,null,0,"",null,"","","","",null,"","",null,null,{"$f":"IF($A745=\"\",\"\",'Stammdaten Mitarbeitende'!L745)","v":""},0,"","","","","","","","","","",0,"",0,0,0,0,{"$f":"IF('Stammdaten Mitarbeitende'!N745>0,AC745,0)","v":0},{"$f":"IF('Stammdaten Mitarbeitende'!N745>0,P745,0)","v":0},0,0,0]
[{"$f":"'Stammdaten Mitarbeitende'!AA746","v":""},"",null,null,null,null,null,null,0,"",null,"","","","",null,"","",null,null,{"$f":"IF($A746=\"\",\"\",'Stammdaten Mitarbeitende'!L746)","v":""},0,"","","","","","","","","","",0,"",0,0,0,0,{"$f":"IF('Stammdaten Mitarbeitende'!N746>0,AC746,0)","v":0},{"$f":"IF('Stammdaten Mitarbeitende'!N746>0,P746,0)","v":0},0,0,0]
[{"$f":"'Stammdaten Mitarbeitende'!AA747","v":""},"",null,null,null,null,null,null,0,"",null,"","","","",null,"","",null,null,{"$f":"IF($A747=\"\",\"\",'Stammdaten Mitarbeitende'!L747)","v":""},0,"","","","","","","","","","",0,"",0,0,0,0,{"$f":"IF('Stammdaten Mitarbeitende'!N747>0,AC747,0)","v":0},{"$f":"IF('Stammdaten Mitarbeitende'!N747>0,P747,0)","v":0},0,0,0]
[{"$f":"'Stammdaten Mitarbeitende'!AA748","v":""},"",null,null,null,null,null,null,0,"",null,"","","","",null,"","",null,null,{"$f":"IF($A748=\"\",\"\",'Stammdaten Mitarbeitende'!L748)","v":""},0,"","","","","","","","","","",0,"",0,0,0,0,{"$f":"IF('Stammdaten Mitarbeitende'!N748>0,AC748,0)","v":0},{"$f":"IF('Stammdaten Mitarbeitende'!N748>0,P748,0)","v":0},0,0,0]
[{"$f":"'Stammdaten Mitarbeitende'!AA749","v":""},"",null,null,null,null,null,null,0,"",null,"","","","",null,"","",null,null,{"$f":"IF($A749=\"\",\"\",'Stammdaten Mitarbeitende'!L749)","v":""},0,"","","","","","","","","","",0,"",0,0,0,0,{"$f":"IF('Stammdaten Mitarbeitende'!N749>0,AC749,0)","v":0},{"$f":"IF('Stammdaten Mitarbeitende'!N749>0,P749,0)","v":0},0,0,0]
[{"$f":"Übersetzungstexte!A$296","v":"Seitentotal"},null,null,{"$f":"SUM(D729:D749)","v":0},null,{"$f":"SUM(F729:F749)","v":0},null,null,null,{"$f":"SUM(J729:J749)","v":0},null,null,null,{"$f":"SUM(N729:N749)","v":0},null,{"$f":"SUM(P729:P749)","v":0},null,{"$f":"SUM(R729:R749)","v":0}]
[{"$f":"'Stammdaten Betrieb & Abteilung'!D$1","v":"  "},null,null,null,null,null,null,null,null,null,null,null,{"$f":"Übersetzungstexte!A$239","v":"Betrieb / Betriebsabteilung"},{"$f":"'Stammdaten Betrieb & Abteilung'!D$13","v":" "}]
[{"$f":"'Stammdaten Betrieb & Abteilung'!D$3","v":" "},null,null,null,null,null,null,null,null,null,null,null,{"$f":"Übersetzungstexte!A$240","v":"Abrechnungsperiode"},{"$f":"'Stammdaten Betrieb & Abteilung'!D$14","v":""},null,{"$f":"'Stammdaten Betrieb & Abteilung'!D$12","v":{"$error":"#VALUE!"}}]
[{"$f":"'Stammdaten Betrieb & Abteilung'!D$4","v":" "},null,null,null,null,null,null,null,null,null,null,null,{"$f":"Übersetzungstexte!A$241","v":"Beginn / Ende der Kurzarbeit"},{"$f":"'Stammdaten Betrieb & Abteilung'!D$16","v":""}]
[]
[1,2,3,4,5,6,null,7,null,8,9,10,11,12,13,null,14,15,null,null,null,"Regel 7","Regel 8",null,"Regel 9","Regel 10","Regel 11","Regel 12","Regel 13","Regel 14","Regel 15","Regel 17",null,"Regel 19/20",null,null,null,null,"AHV-pflichtiger","AHV-pflichtiger",null,null,"AHV-pflichtige"]
[{"$f":"Übersetzungstexte!A$242","v":""},{"$f":"Übersetzungstexte!A$245","v":"anrechen-"},{"$f":"Übersetzungstexte!A$248","v":"Wöchentl."},{"$f":"Übersetzungstexte!A$251","v":"Sollstd. Abr.-"},{"$f":"Übersetzungstexte!A$254","v":""},{"$f":"Übersetzungstexte!A$257","v":"Bezahlte/"},null,{"$f":"Übersetzungstexte!A$263","v":"(nur für Gleitzeit)"},null,{"$f":"Übersetzungstexte!A$269","v":"Ausfall-"},{"$f":"Übersetzungstexte!A$272","v":"Saldo"},{"$f":"Übersetzungstexte!A$275","v":"Saisonale"},{"$f":"Übersetzungstexte!A$278","v":"Anrechen-"},{"$f":"Übersetzungstexte!A$281","v":"Verdienst-"},{"$f":"Übersetzungstexte!A$284","v":"Verdienst-"},{"$f":"Übersetzungstexte!A$287","v":"Verdienst"},{"$f":"AE$4","v":"Abzug "},{"$f":"Übersetzungstexte!A$293","v":""},null,null,"anrechen-","Gleitzeit","Ausfall-","Max(D12,0)","Prozentualer","Saisonale","Proz. Wirts. Bed.","Anrechen-","Verdienst-","Verdienst-","Abzug","Abzug","Verdienst",null,"Anzahl","Anzahl","Sollstd.","Absenzen","Verdienst-","Verdienst","Sollstd.","bezahlte/","Abzugsbasis"]
[{"$f":"Übersetzungstexte!A$243","v":""},{"$f":"Übersetzungstexte!A$246","v":"barer Std.-"},{"$f":"Übersetzungstexte!A$249","v":"Arbeitszeit"},{"$f":"Übersetzungstexte!A$252","v":"Periode Inkl."},{"$f":"Übersetzungstexte!A$255","v":""},{"$f":"Übersetzungstexte!A$258","v":"Unbezahlte"},{"$f":"Übersetzungstexte!A$261","v":"Saldo Ende Per."},null,null,{"$f":"Übersetzungstexte!A$270","v":"stunden"},{"$f":"Übersetzungstexte!A$273","v":"Mehrstd."},{"$f":"Übersetzungstexte!A$276","v":"Ausfall-"},{"$f":"Übersetzungstexte!A$279","v":"bare Aus-"},{"$f":"Übersetzungstexte!A$282","v":"ausfall"},{"$f":"Übersetzungstexte!A$285","v":"ausfall"},{"$f":"Übersetzungstexte!A$288","v":"Zwischen-"},{"$f":"Übersetzungstexte!A$291","v":"Karenztage"},{"$f":"Übersetzungstexte!A$294","v":"Beantragte"},null,null,"barer Std.-","c","stunden",null,"Arbeitsausfall","Ausfall-","Arbeitsausfall","bare ","ausfall","ausfall","Karenztage","Zwischen-","Zwischen-","Beantragte","bezugsber.","betroffene","bezugsber.","bezugsber.","ausfall","Zwischen-","inkl","unbezahlte"]
[{"$f":"Übersetzungstexte!A$244","v":"Name,Vorname"},{"$f":"Übersetzungstexte!A$247","v":"Verdienst"},{"$f":"Übersetzungstexte!A$250","v":"in der AP"},{"$f":"Übersetzungstexte!A$253","v":"Vorholzeit"},{"$f":"Übersetzungstexte!A$256","v":"Istzeit"},{"$f":"Übersetzungstexte!A$259","v":"Absenzen"},{"$f":"Übersetzungstexte!A$262","v":"vorherg."},{"$f":"Übersetzungstexte!A$265","v":"laufend"},{"$f":"Übersetzungstexte!A$268","v":"Diff."},{"$f":"Übersetzungstexte!A$271","v":"total"},{"$f":"Übersetzungstexte!A$274","v":"Vormonate"},{"$f":"Übersetzungstexte!A$277","v":"stunden"},{"$f":"Übersetzungstexte!A$280","v":"fall-Std."},{"$f":"Übersetzungstexte!A$283","v":"100%"},{"$f":"Übersetzungstexte!A$286","v":"80%"},{"$f":"Übersetzungstexte!A$289","v":"Beschäftigung"},{"$f":"Übersetzungstexte!A$292","v":"80%"},{"$f":"Übersetzungstexte!A$295","v":"Vergütung"},null,null,"Verdienst",null,"Total",null,"pAA","stunden","pwAA","Ausfall-Std.","100%","80%","80%","beschäftigung","beschäftigung","Vergütung","Mitarbeiter","Mitarbeiter","Mitarbeiter","Mitarbeiter","100%","beschäftigung","Vorholzeit","Ansenzen"]
[{"$f":"'Stammdaten Mitarbeitende'!AA759","v":""},{"$f":"U759","v":""},null,null,null,null,null,null,{"$f":"V759","v":0},{"$f":"W759","v":""},null,{"$f":"Z759","v":""},{"$f":"AB759","v":""},{"$f":"AC759","v":""},{"$f":"AD759","v":""},null,{"$f":"AE759","v":""},{"$f":"AH759","v":""},null,null,{"$f":"IF($A759=\"\",\"\",'Stammdaten Mitarbeitende'!L759)","v":""},{"$f":"IF(AND(G759=\"\",H759=\"\"),0,G759-H759)","v":0},{"$f":"IF(OR($A759=\"\",D759=\"\",E759=\"\",F759=\"\",V759=\"\"),\"\",D759-(E759+F759+V759))","v":""},{"$f":"IF(W759=\"\",\"\",MAX(W759,0))","v":""},{"$f":"IF(J759=\"\",\"\",Y$4)","v":""},{"$f":"IF(J759=\"\",\"\",J759*Z$4)","v":""},{"$f":"IF(Y759=\"\",\"\",AA$4)","v":""},{"$f":"IF(J759=\"\",\"\",ROUND(J759*AB$4 - MAX(K759-L759,0),2))","v":""},{"$f":"IF(OR($A759=\"\",J759=\"\",B759=\"\",M759<0),\"\",MAX(ROUND(M759*B759*2,1)/2,0))","v":""},{"$f":"IF(OR($A759=\"\",N759=\"\"),\"\",ROUND(N759*8/5,1)/2)","v":""},{"$f":"IF(OR($A759=\"\",B759=\"\",N759=\"\"),\"\",ROUND(AE$3*C759*B759*16/50,1)/2)","v":""},{"$f":"IF(OR($A759=\"\",J759=\"\",N759=\"\"),\"\",MAX(O759+P759-N759,0))","v":""},{"$f":"P759","v":0},{"$f":"IF(OR($A759=\"\",N759=\"\"),\"\",ROUND((MAX(O759-Q759-AF759,0))*2,1)/2)","v":""},{"$f":"IF(D759=\"\",0,1)","v":0},{"$f":"IF(J759=\"\",0,IF(ROUND(J759,2)<=0,0,1))","v":0},{"$f":"IF(D759=\"\",0,D759)","v":0},{"$f":"IF(D759=\"\",0,F759)","v":0},{"$f":"IF('Stammdaten Mitarbeitende'!N759>0,AC759,0)","v":0},{"$f":"IF('Stammdaten Mitarbeitende'!N759>0,P759,0)","v":0},{"$f":"D759","v":0},{"$f":"F759","v":0},{"$f":"IF(AM759=\"\",0,MAX(AM759-AN759,0))","v":0}]
[{"$f":"'Stammdaten Mitarbeitende'!AA760","v":""},"",null,null,null,null,null,null,0,"",null,"","","","",null,"","",null,null,{"$f":"IF($A760=\"\",\"\",'Stammdaten Mitarbeitende'!L760)","v":""},0,"","","","","","","","","","",0,"",0,{"$f":"IF(J760=\"\",0,IF(ROUND(J760,2)<=0,0,1))","v":0},0,0,{"$f":"IF('Stammdaten Mitarbeitende'!N760>0,AC760,0)","v":0},{"$f":"IF('Stammdaten Mitarbeitende'!N760>0,P760,0)","v":0},0,0,0]
[{"$f":"'Stammdaten Mitarbeitende'!AA761","v":""},"",null,null,null,null,null,null,0,"",null,"","","","",null,"","",null,null,{"$f":"IF($A761=\"\",\"\",'Stammdaten Mitarbeitende'!L761)","v":""},0,"","","","","","","","","","",0,"",0,0,0,0,{"$f":"IF('Stammdaten Mitarbeitende'!N761>0,AC761,0)","v":0},{"$f":"IF('Stammdaten Mitarbeitende'!N761>0,P761,0)","v":0},0,0,0]
[{"$f":"'Stammdaten Mitarbeitende'!AA762","v":""},"",null,null,null,null,null,null,0,"",null,"","","","",null,"","",null,null,{"$f":"IF($A762=\"\",\"\",'Stammdaten Mitarbeitende'!L762)","v":""},0,"","","","","","","","","","",0,"",0,0,0,0,{"$f":"IF('Stammdaten Mitarbeitende'!N762>0,AC762,0)","v":0},{"$f":"IF('Stammdaten Mitarbeitende'!N762>0,P762,0)","v":0},0,0,0]
[{"$f":"'Stammdaten Mitarbeitende'!AA763","v":""},"",null,null,null,null,null,null,0,"",null,"","","","",null,"","",null,null,{"$f":"IF($A763=\"\",\"\",'Stammdaten Mitarbeitende'!L763)","v":""},0,"","","","","","","","","","",0,"",0,0,0,0,{"$f":"IF('Stammdaten Mitarbeitende'!N763>0,AC763,0)","v":0},{"$f":"IF('Stammdaten Mitarbeitende'!N763>0,P763,0)","v":0},0,0,0]
[{"$f":"'Stammdaten Mitarbeitende'!AA764","v":""},"",null,null,null,null,null,null,0,"",null,"","","","",null,"","",null,null,{"$f":"IF($A764=\"\",\"\",'Stammdaten Mitarbeitende'!L764)","v":""},0,"","","","","","","","","","",0,"",0,0,0,0,{"$f":"IF('Stammdaten Mitarbeitende'!N764>0,AC764,0)","v":0},{"$f":"IF('Stammdaten Mitarbeitende'!N764>0,P764,0)","v":0},0,0,0]
[{"$f":"'Stammdaten Mitarbeitende'!AA765","v":""},"",null,null,null,null,null,null,0,"",null,"","","","",null,"","",null,null,{"$f":"IF($A765=\"\",\"\",'Stammdaten Mitarbeitende'!L765)","v":""},0,"","","","","","","","","","",0,"",0,0,0,0,{"$f":"IF('Stammdaten Mitarbeitende'!N765>0,AC765,0)","v":0},{"$f":"IF('Stammdaten Mitarbeitende'!N765>0,P765,0)","v":0},0,0,0]
[{"$f":"'Stammdaten Mitarbeitende'!AA766","v":""},"",null,null,null,null,null,null,0,"",null,"","","","",null,"","",null,null,{"$f":"IF($A766=\"\",\"\",'Stammdaten Mitarbeitende'!L766)","v":""},0,"","","","","","","","","","",0,"",0,0,0,0,{"$f":"IF('Stammdaten Mitarbeitende'!N766>0,AC766,0)","v":0},{"$f":"IF('Stammdaten Mitarbeitende'!N766>0,P766,0)","v":0},0,0,0]
[{"$f":"'Stammdaten Mitarbeitende'!AA767","v":""},"",null,null,null,null,null,null,0,"",null,"","","","",null,"","",null,null,{"$f":"IF($A767=\"\",\"\",'Stammdaten Mitarbeitende'!L767)","v":""},0,"","","","","","","","","","",0,"",0,0,0,0,{"$f":"IF('Stammdaten Mitarbeitende'!N767>0,AC767,0)","v":0},{"$f":"IF('Stammdaten Mitarbeitende'!N767>0,P767,0)","v":0},0,0,0]
[{"$f":"'Stammdaten Mitarbeitende'!AA768","v":""},"",null,null,null,null,null,null,0,"",null,"","","","",null,"","",null,null,{"$f":"IF($A768=\"\",\"\",'Stammdaten Mitarbeitende'!L768)","v":""},0,"","","","","","","","","","",0,"",0,0,0,0,{"$f":"IF('Stammdaten Mitarbeitende'!N768>0,AC768,0)","v":0},{"$f":"IF('Stammdaten Mitarbeitende'!N768>0,P768,0)","v":0},0,0,0]
[{"$f":"'Stammdaten Mitarbeitende'!AA769","v":""},"",null,null,null,null,null,null,0,"",null,"","","","",null,"","",null,null,{"$f":"IF($A769=\"\",\"\",'Stammdaten Mitarbeitende'!L769)","v":""},0,"","","","","","","","","","",0,"",0,0,0,0,{"$f":"IF('Stammdaten Mitarbeitende'!N769>0,AC769,0)","v":0},{"$f":"IF('Stammdaten Mitarbeitende'!N769>0,P769,0)","v":0},0,0,0]
[{"$f":"'Stammdaten Mitarbeitende'!AA770","v":""},"",null,null,null,null,null,null,0,"",null,"","","","",null,"","",null,null,{"$f":"IF($A770=\"\",\"\",'Stammdaten Mitarbeitende'!L770)","v":""},0,"","","","","","","","","","",0,"",0,0,0,0,{"$f":"IF('Stammdaten Mitarbeitende'!N770>0,AC770,0)","v":0},{"$f":"IF('Stammdaten Mitarbeitende'!N770>0,P770,0)","v":0},0,0,0]
[{"$f":"'Stammdaten Mitarbeitende'!AA771","v":""},"",null,null,null,null,null,null,0,"",null,"","","","",null,"","",null,null,{"$f":"IF($A771=\"\",\"\",'Stammdaten Mitarbeitende'!L771)","v":""},0,"","","","","","","","","","",0,"",0,0,0,0,{"$f":"IF('Stammdaten Mitarbeitende'!N771>0,AC771,0)","v":0},{"$f":"IF('Stammdaten Mitarbeitende'!N771>0,P771,0)","v":0},0,0,0]
[{"$f":"'Stammdaten Mitarbeitende'!AA772","v":""},"",null,null,null,null,null,null,0,"",null,"","","","",null,"","",null,null,{"$f":"IF($A772=\"\",\"\",'Stammdaten Mitarbeitende'!L772)","v":""},0,"","","","","","","","","","",0,"",0,0,0,0,{"$f":"IF('Stammdaten Mitarbeitende'!N772>0,AC772,0)","v":0},{"$f":"IF('Stammdaten Mitarbeitende'!N772>0,P772,0)","v":0},0,0,0]
[{"$f":"'Stammdaten Mitarbeitende'!AA773","v":""},"",null,null,null,null,null,null,0,"",null,"","","","",null,"","",null,null,{"$f":"IF($A773=\"\",\"\",'Stammdaten Mitarbeitende'!L773)","v":""},0,"","","","","","","","","","",0,"",0,0,0,0,{"$f":"IF('Stammdaten Mitarbeitende'!N773>0,AC773,0)","v":0},{"$f":"IF('Stammdaten Mitarbeitende'!N773>0,P773,0)","v":0},0,0,0]
[{"$f":"'Stammdaten Mitarbeitende'!AA774","v":""},"",null,null,null,null,null,null,0,"",null,"","","","",null,"","",null,null,{"$f":"IF($A774=\"\",\"\",'Stammdaten Mitarbeitende'!L774)","v":""},0,"","","","","","","","","","",0,"",0,0,0,0,{"$f":"IF('Stammdaten Mitarbeitende'!N774>0,AC774,0)","v":0},{"$f":"IF('Stammdaten Mitarbeitende'!N774>0,P774,0)","v":0},0,0,0]
[{"$f":"'Stammdaten Mitarbeitende'!AA775","v":""},"",null,null,null,null,null,null,0,"",null,"","","","",null,"","",null,null,{"$f":"IF($A775=\"\",\"\",'Stammdaten Mitarbeitende'!L775)","v":""},0,"","","","","","","","","","",0,"",0,0,0,0,{"$f":"IF('Stammdaten Mitarbeitende'!N775>0,AC775,0)","v":0},{"$f":"IF('Stammdaten Mitarbeitende'!N775>0,P775,0)","v":0},0,0,0]
[{"$f":"'Stammdaten Mitarbeitende'!AA776","v":""},"",null,null,null,null,null,null,0,"",null,"","","","",null,"","",null,null,{"$f":"IF($A776=\"\",\"\",'Stammdaten Mitarbeitende'!L776)","v":""},0,"","","","","","","","","","",0,"",0,0,0,0,{"$f":"IF('Stammdaten Mitarbeitende'!N776>0,AC776,0)","v":0},{"$f":"IF('Stammdaten Mitarbeitende'!N776>0,P776,0)","v":0},0,0,0]
[{"$f":"'Stammdaten Mitarbeitende'!AA777","v":""},"",null,null,null,null,null,null,0,"",null,"","","","",null,"","",null,null,{"$f":"IF($A777=\"\",\"\",'Stammdaten Mitarbeitende'!L777)","v":""},0,"","","","","","","","","","",0,"",0,0,0,0,{"$f":"IF('Stammdaten Mitarbeitende'!N777>0,AC777,0)","v":0},{"$f":"IF('Stammdaten Mitarbeitende'!N777>0,P777,0)","v":0},0,0,0]
[{"$f":"'Stammdaten Mitarbeitende'!AA778","v":""},"",null,null,null,null,null,null,0,"",null,"","","","",null,"","",null,null,{"$f":"IF($A778=\"\",\"\",'Stammdaten Mitarbeitende'!L778)","v":""},0,"","","","","","","","","","",0,"",0,0,0,0,{"$f":"IF('Stammdaten Mitarbeitende'!N778>0,AC778,0)","v":0},{"$f":"IF('Stammdaten Mitarbeitende'!N778>0,P778,0)","v":0},0,0,0]
[{"$f":"'Stammdaten Mitarbeitende'!AA779","v":""},"",null,null,null,null,null,null,0,"",null,"","","","",null,"","",null,null,{"$f":"IF($A779=\"\",\"\",'Stammdaten Mitarbeitende'!L779)","v":""},0,"","","","","","","","","","",0,"",0,0,0,0,{"$f":"IF('Stammdaten Mitarbeitende'!N779>0,AC779,0)","v":0},{"$f":"IF('Stammdaten Mitarbeitende'!N779>0,P779,0)","v":0},0,0,0]
[{"$f":"Übersetzungstexte!A$296","v":"Seitentotal"},null,null,{"$f":"SUM(D759:D779)","v":0},null,{"$f":"SUM(F759:F779)","v":0},null,null,null,{"$f":"SUM(J759:J779)","v":0},null,null,null,{"$f":"SUM(N759:N779)","v":0},null,{"$f":"SUM(P759:P779)","v":0},null,{"$f":"SUM(R759:R779)","v":0}]
[{"$f":"'Stammdaten Betrieb & Abteilung'!D$1","v":"  "},null,null,null,null,null,null,null,null,null,null,null,{"$f":"Übersetzungstexte!A$239","v":"Betrieb / Betriebsabteilung"},{"$f":"'Stammdaten Betrieb & Abteilung'!D$13","v":" "}]
[{"$f":"'Stammdaten Betrieb & Abteilung'!D$3","v":" "},null,null,null,null,null,null,null,null,null,null,null,{"$f":"Übersetzungstexte!A$240","v":"Abrechnungsperiode"},{"$f":"'Stammdaten Betrieb & Abteilung'!D$14","v":""},null,{"$f":"'Stammdaten Betrieb & Abteilung'!D$12","v":{"$error":"#VALUE!"}}]
[{"$f":"'Stammdaten Betrieb & Abteilung'!D$4","v":" "},null,null,null,null,null,null,null,null,null,null,null,{"$f":"Übersetzungstexte!A$241","v":"Beginn / Ende der Kurzarbeit"},{"$f":"'Stammdaten Betrieb & Abteilung'!D$16","v":""}]
[]
[1,2,3,4,5,6,null,7,null,8,9,10,11,12,13,null,14,15,null,null,null,"Regel 7","Regel 8",null,"Regel 9","Regel 10","Regel 11","Regel 12","Regel 13","Regel 14","Regel 15","Regel 17",null,"Regel 19/20",null,null,null,null,"AHV-pflichtiger","AHV-pflichtiger",null,null,"AHV-pflichtige"]
[{"$f":"Übersetzungstexte!A$242","v":""},{"$f":"Übersetzungstexte!A$245","v":"anrechen-"},{"$f":"Übersetzungstexte!A$248","v":"Wöchentl."},{"$f":"Übersetzungstexte!A$251","v":"Sollstd. Abr.-"},{"$f":"Übersetzungstexte!A$254","v":""},{"$f":"Übersetzungstexte!A$257","v":"Bezahlte/"},null,{"$f":"Übersetzungstexte!A$263","v":"(nur für Gleitzeit)"},null,{"$f":"Übersetzungstexte!A$269","v":"Ausfall-"},{"$f":"Übersetzungstexte!A$272","v":"Saldo"},{"$f":"Übersetzungstexte!A$275","v":"Saisonale"},{"$f":"Übersetzungstexte!A$278","v":"Anrechen-"},{"$f":"Übersetzungstexte!A$281","v":"Verdienst-"},{"$f":"Übersetzungstexte!A$284","v":"Verdienst-"},{"$f":"Übersetzungstexte!A$287","v":"Verdienst"},{"$f":"AE$4","v":"Abzug "},{"$f":"Übersetzungstexte!A$293","v":""},null,null,"anrechen-","Gleitzeit","Ausfall-","Max(D12,0)","Prozentualer","Saisonale","Proz. Wirts. Bed.","Anrechen-","Verdienst-","Verdienst-","Abzug","Abzug","Verdienst",null,"Anzahl","Anzahl","Sollstd.","Absenzen","Verdienst-","Verdienst","Sollstd.","bezahlte/","Abzugsbasis"]
[{"$f":"Übersetzungstexte!A$243","v":""},{"$f":"Übersetzungstexte!A$246","v":"barer Std.-"},{"$f":"Übersetzungstexte!A$249","v":"Arbeitszeit"},{"$f":"Übersetzungstexte!A$252","v":"Periode Inkl."},{"$f":"Übersetzungstexte!A$255","v":""},{"$f":"Übersetzungstexte!A$258","v":"Unbezahlte"},{"$f":"Übersetzungstexte!A$261","v":"Saldo Ende Per."},null,null,{"$f":"Übersetzungstexte!A$270","v":"stunden"},{"$f":"Übersetzungstexte!A$273","v":"Mehrstd."},{"$f":"Übersetzungstexte!A$276","v":"Ausfall-"},{"$f":"Übersetzungstexte!A$279","v":"bare Aus-"},{"$f":"Übersetzungstexte!A$282","v":"ausfall"},{"$f":"Übersetzungstexte!A$285","v":"ausfall"},{"$f":"Übersetzungstexte!A$288","v":"Zwischen-"},{"$f":"Übersetzungstexte!A$291","v":"Karenztage"},{"$f":"Übersetzungstexte!A$294","v":"Beantragte"},null,null,"barer Std.-","c","stunden",null,"Arbeitsausfall","Ausfall-","Arbeitsausfall","bare ","ausfall","ausfall","Karenztage","Zwischen-","Zwischen-","Beantragte","bezugsber.","betroffene","bezugsber.","bezugsber.","ausfall","Zwischen-","inkl","unbezahlte"]
[{"$f":"Übersetzungstexte!A$244","v":"Name,Vorname"},{"$f":"Übersetzungstexte!A$247","v":"Verdienst"},{"$f":"Übersetzungstexte!A$250","v":"in der AP"},{"$f":"Übersetzungstexte!A$253","v":"Vorholzeit"},{"$f":"Übersetzungstexte!A$256","v":"Istzeit"},{"$f":"Übersetzungstexte!A$259","v":"Absenzen"},{"$f":"Übersetzungstexte!A$262","v":"vorherg."},{"$f":"Übersetzungstexte!A$265","v":"laufend"},{"$f":"Übersetzungstexte!A$268","v":"Diff."},{"$f":"Übersetzungstexte!A$271","v":"total"},{"$f":"Übersetzungstexte!A$274","v":"Vormonate"},{"$f":"Übersetzungstexte!A$277","v":"stunden"},{"$f":"Übersetzungstexte!A$280","v":"fall-Std."},{"$f":"Übersetzungstexte!A$283","v":"100%"},{"$f":"Übersetzungstexte!A$286","v":"80%"},{"$f":"Übersetzungstexte!A$289","v":"Beschäftigung"},{"$f":"Übersetzungstexte!A$292","v":"80%"},{"$f":"Übersetzungstexte!A$295","v":"Vergütung"},null,null,"Verdienst",null,"Total",null,"pAA","stunden","pwAA","Ausfall-Std.","100%","80%","80%","beschäftigung","beschäftigung","Vergütung","Mitarbeiter","Mitarbeiter","Mitarbeiter","Mitarbeiter","100%","beschäftigung","Vorholzeit","Ansenzen"]
[{"$f":"'Stammdaten Mitarbeitende'!AA789","v":""},{"$f":"U789","v":""},null,null,null,null,null,null,{"$f":"V789","v":0},{"$f":"W789","v":""},null,{"$f":"Z789","v":""},{"$f":"AB789","v":""},{"$f":"AC789","v":""},{"$f":"AD789","v":""},null,{"$f":"AE789","v":""},{"$f":"AH789","v":""},null,null,{"$f":"IF($A789=\"\",\"\",'Stammdaten Mitarbeitende'!L789)","v":""},{"$f":"IF(AND(G789=\"\",H789=\"\"),0,G789-H789)","v":0},{"$f":"IF(OR($A789=\"\",D789=\"\",E789=\"\",F789=\"\",V789=\"\"),\"\",D789-(E789+F789+V789))","v":""},{"$f":"IF(W789=\"\",\"\",MAX(W789,0))","v":""},{"$f":"IF(J789=\"\",\"\",Y$4)","v":""},{"$f":"IF(J789=\"\",\"\",J789*Z$4)","v":""},{"$f":"IF(Y789=\"\",\"\",AA$4)","v":""},{"$f":"IF(J789=\"\",\"\",ROUND(J789*AB$4 - MAX(K789-L789,0),2))","v":""},{"$f":"IF(OR($A789=\"\",J789=\"\",B789=\"\",M789<0),\"\",MAX(ROUND(M789*B789*2,1)/2,0))","v":""},{"$f":"IF(OR($A789=\"\",N789=\"\"),\"\",ROUND(N789*8/5,1)/2)","v":""},{"$f":"IF(OR($A789=\"\",B789=\"\",N789=\"\"),\"\",ROUND(AE$3*C789*B789*16/50,1)/2)","v":""},{"$f":"IF(OR($A789=\"\",J789=\"\",N789=\"\"),\"\",MAX(O789+P789-N789,0))","v":""},{"$f":"P789","v":0},{"$f":"IF(OR($A789=\"\",N789=\"\"),\"\",ROUND((MAX(O789-Q789-AF789,0))*2,1)/2)","v":""},{"$f":"IF(D789=\"\",0,1)","v":0},{"$f":"IF(J789=\"\",0,IF(ROUND(J789,2)<=0,0,1))","v":0},{"$f":"IF(D789=\"\",0,D789)","v":0},{"$f":"IF(D789=\"\",0,F789)","v":0},{"$f":"IF('Stammdaten Mitarbeitende'!N789>0,AC789,0)","v":0},{"$f":"IF('Stammdaten Mitarbeitende'!N789>0,P789,0)","v":0},{"$f":"D789","v":0},{"$f":"F789","v":0},{"$f":"IF(AM789=\"\",0,MAX(AM789-AN789,0))","v":0}]
[{"$f":"'Stammdaten Mitarbeitende'!AA790","v":""},"",null,null,null,null,null,null,0,"",null,"","","","",null,"","",null,null,{"$f":"IF($A790=\"\",\"\",'Stammdaten Mitarbeitende'!L790)","v":""},0,"","","","","","","","","","",0,"",0,{"$f":"IF(J790=\"\",0,IF(ROUND(J790,2)<=0,0,1))","v":0},0,0,{"$f":"IF('Stammdaten Mitarbeitende'!N790>0,AC790,0)","v":0},{"$f":"IF('Stammdaten Mitarbeitende'!N790>0,P790,0)","v":0},0,0,0]
[{"$f":"'Stammdaten Mitarbeitende'!AA791","v":""},"",null,null,null,null,null,null,0,"",null,"","","","",null,"","",null,null,{"$f":"IF($A791=\"\",\"\",'Stammdaten Mitarbeitende'!L791)","v":""},0,"","","","","","","","","","",0,"",0,0,0,0,{"$f":"IF('Stammdaten Mitarbeitende'!N791>0,AC791,0)","v":0},{"$f":"IF('Stammdaten Mitarbeitende'!N791>0,P791,0)","v":0},0,0,0]
[{"$f":"'Stammdaten Mitarbeitende'!AA792","v":""},"",null,null,null,null,null,null,0,"",null,"","","","",null,"","",null,null,{"$f":"IF($A792=\"\",\"\",'Stammdaten Mitarbeitende'!L792)","v":""},0,"","","","","","","","","","",0,"",0,0,0,0,{"$f":"IF('Stammdaten Mitarbeitende'!N792>0,AC792,0)","v":0},{"$f":"IF('Stammdaten Mitarbeitende'!N792>0,P792,0)","v":0},0,0,0]
[{"$f":"'Stammdaten Mitarbeitende'!AA793","v":""},"",null,null,null,null,null,null,0,"",null,"","","","",null,"","",null,null,{"$f":"IF($A793=\"\",\"\",'Stammdaten Mitarbeitende'!L793)","v":""},0,"","","","","","","","","","",0,"",0,0,0,0,{"$f":"IF('Stammdaten Mitarbeitende'!N793>0,AC793,0)","v":0},{"$f":"IF('Stammdaten Mitarbeitende'!N793>0,P793,0)","v":0},0,0,0]
[{"$f":"'Stammdaten Mitarbeitende'!AA794","v":""},"",null,null,null,null,null,null,0,"",null,"","","","",null,"","",null,null,{"$f":"IF($A794=\"\",\"\",'Stammdaten Mitarbeitende'!L794)","v":""},0,"","","","","","","","","","",0,"",0,0,0,0,{"$f":"IF('Stammdaten Mitarbeitende'!N794>0,AC794,0)","v":0},{"$f":"IF('Stammdaten Mitarbeitende'!N794>0,P794,0)","v":0},0,0,0]
[{"$f":"'Stammdaten Mitarbeitende'!AA795","v":""},"",null,null,null,null,null,null,0,"",null,"","","","",null,"","",null,null,{"$f":"IF($A795=\"\",\"\",'Stammdaten Mitarbeitende'!L795)","v":""},0,"","","","","","","","","","",0,"",0,0,0,0,{"$f":"IF('Stammdaten Mitarbeitende'!N795>0,AC795,0)","v":0},{"$f":"IF('Stammdaten Mitarbeitende'!N795>0,P795,0)","v":0},0,0,0]
[{"$f":"'Stammdaten Mitarbeitende'!AA796","v":""},"",null,null,null,null,null,null,0,"",null,"","","","",null,"","",null,null,{"$f":"IF($A796=\"\",\"\",'Stammdaten Mitarbeitende'!L796)","v":""},0,"","","","","","","","","","",0,"",0,0,0,0,{"$f":"IF('Stammdaten Mitarbeitende'!N796>0,AC796,0)","v":0},{"$f":"IF('Stammdaten Mitarbeitende'!N796>0,P796,0)","v":0},0,0,0]
[{"$f":"'Stammdaten Mitarbeitende'!AA797","v":""},"",null,null,null,null,null,null,0,"",null,"","","","",null,"","",null,null,{"$f":"IF($A797=\"\",\"\",'Stammdaten Mitarbeitende'!L797)","v":""},0,"","","","","","","","","","",0,"",0,0,0,0,{"$f":"IF('Stammdaten Mitarbeitende'!N797>0,AC797,0)","v":0},{"$f":"IF('Stammdaten Mitarbeitende'!N797>0,P797,0)","v":0},0,0,0]
[{"$f":"'Stammdaten Mitarbeitende'!AA798","v":""},"",null,null,null,null,null,null,0,"",null,"","","","",null,"","",null,null,{"$f":"IF($A798=\"\",\"\",'Stammdaten Mitarbeitende'!L798)","v":""},0,"","","","","","","","","","",0,"",0,0,0,0,{"$f":"IF('Stammdaten Mitarbeitende'!N798>0,AC798,0)","v":0},{"$f":"IF('Stammdaten Mitarbeitende'!N798>0,P798,0)","v":0},0,0,0]
[{"$f":"'Stammdaten Mitarbeitende'!AA799","v":""},"",null,null,null,null,null,null,0,"",null,"","","","",null,"","",null,null,{"$f":"IF($A799=\"\",\"\",'Stammdaten Mitarbeitende'!L799)","v":""},0,"","","","","","","","","","",0,"",0,0,0,0,{"$f":"IF('Stammdaten Mitarbeitende'!N799>0,AC799,0)","v":0},{"$f":"IF('Stammdaten Mitarbeitende'!N799>0,P799,0)","v":0},0,0,0]
[{"$f":"'Stammdaten Mitarbeitende'!AA800","v":""},"",null,null,null,null,null,null,0,"",null,"","","","",null,"","",null,null,{"$f":"IF($A800=\"\",\"\",'Stammdaten Mitarbeitende'!L800)","v":""},0,"","","","","","","","","","",0,"",0,0,0,0,{"$f":"IF('Stammdaten Mitarbeitende'!N800>0,AC800,0)","v":0},{"$f":"IF('Stammdaten Mitarbeitende'!N800>0,P800,0)","v":0},0,0,0]
[{"$f":"'Stammdaten Mitarbeitende'!AA801","v":""},"",null,null,null,null,null,null,0,"",null,"","","","",null,"","",null,null,{"$f":"IF($A801=\"\",\"\",'Stammdaten Mitarbeitende'!L801)","v":""},0,"","","","","","","","","","",0,"",0,0,0,0,{"$f":"IF('Stammdaten Mitarbeitende'!N801>0,AC801,0)","v":0},{"$f":"IF('Stammdaten Mitarbeitende'!N801>0,P801,0)","v":0},0,0,0]
[{"$f":"'Stammdaten Mitarbeitende'!AA802","v":""},"",null,null,null,null,null,null,0,"",null,"","","","",null,"","",null,null,{"$f":"IF($A802=\"\",\"\",'Stammdaten Mitarbeitende'!L802)","v":""},0,"","","","","","","","","","",0,"",0,0,0,0,{"$f":"IF('Stammdaten Mitarbeitende'!N802>0,AC802,0)","v":0},{"$f":"IF('Stammdaten Mitarbeitende'!N802>0,P802,0)","v":0},0,0,0]
[{"$f":"'Stammdaten Mitarbeitende'!AA803","v":""},"",null,null,null,null,null,null,0,"",null,"","","","",null,"","",null,null,{"$f":"IF($A803=\"\",\"\",'Stammdaten Mitarbeitende'!L803)","v":""},0,"","","","","","","","","","",0,"",0,0,0,0,{"$f":"IF('Stammdaten Mitarbeitende'!N803>0,AC803,0)","v":0},{"$f":"IF('Stammdaten Mitarbeitende'!N803>0,P803,0)","v":0},0,0,0]
[{"$f":"'Stammdaten Mitarbeitende'!AA804","v":""},"",null,null,null,null,null,null,0,"",null,"","","","",null,"","",null,null,{"$f":"IF($A804=\"\",\"\",'Stammdaten Mitarbeitende'!L804)","v":""},0,"","","","","","","","","","",0,"",0,0,0,0,{"$f":"IF('Stammdaten Mitarbeitende'!N804>0,AC804,0)","v":0},{"$f":"IF('Stammdaten Mitarbeitende'!N804>0,P804,0)","v":0},0,0,0]
[{"$f":"'Stammdaten Mitarbeitende'!AA805","v":""},"",null,null,null,null,null,null,0,"",null,"","","","",null,"","",null,null,{"$f":"IF($A805=\"\",\"\",'Stammdaten Mitarbeitende'!L805)","v":""},0,"","","","","","","","","","",0,"",0,0,0,0,{"$f":"IF('Stammdaten Mitarbeitende'!N805>0,AC805,0)","v":0},{"$f":"IF('Stammdaten Mitarbeitende'!N805>0,P805,0)","v":0},0,0,0]
[{"$f":"'Stammdaten Mitarbeitende'!AA806","v":""},"",null,null,null,null,null,null,0,"",null,"","","","",null,"","",null,null,{"$f":"IF($A806=\"\",\"\",'Stammdaten Mitarbeitende'!L806)","v":""},0,"","","","","","","","","","",0,"",0,0,0,0,{"$f":"IF('Stammdaten Mitarbeitende'!N806>0,AC806,0)","v":0},{"$f":"IF('Stammdaten Mitarbeitende'!N806>0,P806,0)","v":0},0,0,0]
[{"$f":"'Stammdaten Mitarbeitende'!AA807","v":""},"",null,null,null,null,null,null,0,"",null,"","","","",null,"","",null,null,{"$f":"IF($A807=\"\",\"\",'Stammdaten Mitarbeitende'!L807)","v":""},0,"","","","","","","","","","",0,"",0,0,0,0,{"$f":"IF('Stammdaten Mitarbeitende'!N807>0,AC807,0)","v":0},{"$f":"IF('Stammdaten Mitarbeitende'!N807>0,P807,0)","v":0},0,0,0]
[{"$f":"'Stammdaten Mitarbeitende'!AA808","v":""},"",null,null,null,null,null,null,0,"",null,"","","","",null,"","",null,null,{"$f":"IF($A808=\"\",\"\",'Stammdaten Mitarbeitende'!L808)","v":""},0,"","","","","","","","","","",0,"",0,0,0,0,{"$f":"IF('Stammdaten Mitarbeitende'!N808>0,AC808,0)","v":0},{"$f":"IF('Stammdaten Mitarbeitende'!N808>0,P808,0)","v":0},0,0,0]
[{"$f":"'Stammdaten Mitarbeitende'!AA809","v":""},"",null,null,null,null,null,null,0,"",null,"","","","",null,"","",null,null,{"$f":"IF($A809=\"\",\"\",'Stammdaten Mitarbeitende'!L809)","v":""},0,"","","","","","","","","","",0,"",0,0,0,0,{"$f":"IF('Stammdaten Mitarbeitende'!N809>0,AC809,0)","v":0},{"$f":"IF('Stammdaten Mitarbeitende'!N809>0,P809,0)","v":0},0,0,0]
[{"$f":"Übersetzungstexte!A$296","v":"Seitentotal"},null,null,{"$f":"SUM(D789:D809)","v":0},null,{"$f":"SUM(F789:F809)","v":0},null,null,null,{"$f":"SUM(J789:J809)","v":0},null,null,null,{"$f":"SUM(N789:N809)","v":0},null,{"$f":"SUM(P789:P809)","v":0},null,{"$f":"SUM(R789:R809)","v":0}]
[{"$f":"'Stammdaten Betrieb & Abteilung'!D$1","v":"  "},null,null,null,null,null,null,null,null,null,null,null,{"$f":"Übersetzungstexte!A$239","v":"Betrieb / Betriebsabteilung"},{"$f":"'Stammdaten Betrieb & Abteilung'!D$13","v":" "}]
[{"$f":"'Stammdaten Betrieb & Abteilung'!D$3","v":" "},null,null,null,null,null,null,null,null,null,null,null,{"$f":"Übersetzungstexte!A$240","v":"Abrechnungsperiode"},{"$f":"'Stammdaten Betrieb & Abteilung'!D$14","v":""},null,{"$f":"'Stammdaten Betrieb & Abteilung'!D$12","v":{"$error":"#VALUE!"}}]
[{"$f":"'Stammdaten Betrieb & Abteilung'!D$4","v":" "},null,null,null,null,null,null,null,null,null,null,null,{"$f":"Übersetzungstexte!A$241","v":"Beginn / Ende der Kurzarbeit"},{"$f":"'Stammdaten Betrieb & Abteilung'!D$16","v":""}]
[]
[1,2,3,4,5,6,null,7,null,8,9,10,11,12,13,null,14,15,null,null,null,"Regel 7","Regel 8",null,"Regel 9","Regel 10","Regel 11","Regel 12","Regel 13","Regel 14","Regel 15","Regel 17",null,"Regel 19/20",null,null,null,null,"AHV-pflichtiger","AHV-pflichtiger",null,null,"AHV-pflichtige"]
[{"$f":"Übersetzungstexte!A$242","v":""},{"$f":"Übersetzungstexte!A$245","v":"anrechen-"},{"$f":"Übersetzungstexte!A$248","v":"Wöchentl."},{"$f":"Übersetzungstexte!A$251","v":"Sollstd. Abr.-"},{"$f":"Übersetzungstexte!A$254","v":""},{"$f":"Übersetzungstexte!A$257","v":"Bezahlte/"},null,{"$f":"Übersetzungstexte!A$263","v":"(nur für Gleitzeit)"},null,{"$f":"Übersetzungstexte!A$269","v":"Ausfall-"},{"$f":"Übersetzungstexte!A$272","v":"Saldo"},{"$f":"Übersetzungstexte!A$275","v":"Saisonale"},{"$f":"Übersetzungstexte!A$278","v":"Anrechen-"},{"$f":"Übersetzungstexte!A$281","v":"Verdienst-"},{"$f":"Übersetzungstexte!A$284","v":"Verdienst-"},{"$f":"Übersetzungstexte!A$287","v":"Verdienst"},{"$f":"AE$4","v":"Abzug "},{"$f":"Übersetzungstexte!A$293","v":""},null,null,"anrechen-","Gleitzeit","Ausfall-","Max(D12,0)","Prozentualer","Saisonale","Proz. Wirts. Bed.","Anrechen-","Verdienst-","Verdienst-","Abzug","Abzug","Verdienst",null,"Anzahl","Anzahl","Sollstd.","Absenzen","Verdienst-","Verdienst","Sollstd.","bezahlte/","Abzugsbasis"]
[{"$f":"Übersetzungstexte!A$243","v":""},{"$f":"Übersetzungstexte!A$246","v":"barer Std.-"},{"$f":"Übersetzungstexte!A$249","v":"Arbeitszeit"},{"$f":"Übersetzungstexte!A$252","v":"Periode Inkl."},{"$f":"Übersetzungstexte!A$255","v":""},{"$f":"Übersetzungstexte!A$258","v":"Unbezahlte"},{"$f":"Übersetzungstexte!A$261","v":"Saldo Ende Per."},null,null,{"$f":"Übersetzungstexte!A$270","v":"stunden"},{"$f":"Übersetzungstexte!A$273","v":"Mehrstd."},{"$f":"Übersetzungstexte!A$276","v":"Ausfall-"},{"$f":"Übersetzungstexte!A$279","v":"bare Aus-"},{"$f":"Übersetzungstexte!A$282","v":"ausfall"},{"$f":"Übersetzungstexte!A$285","v":"ausfall"},{"$f":"Übersetzungstexte!A$288","v":"Zwischen-"},{"$f":"Übersetzungstexte!A$291","v":"Karenztage"},{"$f":"Übersetzungstexte!A$294","v":"Beantragte"},null,null,"barer Std.-","c","stunden",null,"Arbeitsausfall","Ausfall-","Arbeitsausfall","bare ","ausfall","ausfall","Karenztage","Zwischen-","Zwischen-","Beantragte","bezugsber.","betroffene","bezugsber.","bezugsber.","ausfall","Zwischen-","inkl","unbezahlte"]
[{"$f":"Übersetzungstexte!A$244","v":"Name,Vorname"},{"$f":"Übersetzungstexte!A$247","v":"Verdienst"},{"$f":"Übersetzungstexte!A$250","v":"in der AP"},{"$f":"Übersetzungstexte!A$253","v":"Vorholzeit"},{"$f":"Übersetzungstexte!A$256","v":"Istzeit"},{"$f":"Übersetzungstexte!A$259","v":"Absenzen"},{"$f":"Übersetzungstexte!A$262","v":"vorherg."},{"$f":"Übersetzungstexte!A$265","v":"laufend"},{"$f":"Übersetzungstexte!A$268","v":"Diff."},{"$f":"Übersetzungstexte!A$271","v":"total"},{"$f":"Übersetzungstexte!A$274","v":"Vormonate"},{"$f":"Übersetzungstexte!A$277","v":"stunden"},{"$f":"Übersetzungstexte!A$280","v":"fall-Std."},{"$f":"Übersetzungstexte!A$283","v":"100%"},{"$f":"Übersetzungstexte!A$286","v":"80%"},{"$f":"Übersetzungstexte!A$289","v":"Beschäftigung"},{"$f":"Übersetzungstexte!A$292","v":"80%"},{"$f":"Übersetzungstexte!A$295","v":"Vergütung"},null,null,"Verdienst",null,"Total",null,"pAA","stunden","pwAA","Ausfall-Std.","100%","80%","80%","beschäftigung","beschäftigung","Vergütung","Mitarbeiter","Mitarbeiter","Mitarbeiter","Mitarbeiter","100%","beschäftigung","Vorholzeit","Ansenzen"]
[{"$f":"'Stammdaten Mitarbeitende'!AA819","v":""},{"$f":"U819","v":""},null,null,null,null,null,null,{"$f":"V819","v":0},{"$f":"W819","v":""},null,{"$f":"Z819","v":""},{"$f":"AB819","v":""},{"$f":"AC819","v":""},{"$f":"AD819","v":""},null,{"$f":"AE819","v":""},{"$f":"AH819","v":""},null,null,{"$f":"IF($A819=\"\",\"\",'Stammdaten Mitarbeitende'!L819)","v":""},{"$f":"IF(AND(G819=\"\",H819=\"\"),0,G819-H819)","v":0},{"$f":"IF(OR($A819=\"\",D819=\"\",E819=\"\",F819=\"\",V819=\"\"),\"\",D819-(E819+F819+V819))","v":""},{"$f":"IF(W819=\"\",\"\",MAX(W819,0))","v":""},{"$f":"IF(J819=\"\",\"\",Y$4)","v":""},{"$f":"IF(J819=\"\",\"\",J819*Z$4)","v":""},{"$f":"IF(Y819=\"\",\"\",AA$4)","v":""},{"$f":"IF(J819=\"\",\"\",ROUND(J819*AB$4 - MAX(K819-L819,0),2))","v":""},{"$f":"IF(OR($A819=\"\",J819=\"\",B819=\"\",M819<0),\"\",MAX(ROUND(M819*B819*2,1)/2,0))","v":""},{"$f":"IF(OR($A819=\"\",N819=\"\"),\"\",ROUND(N819*8/5,1)/2)","v":""},{"$f":"IF(OR($A819=\"\",B819=\"\",N819=\"\"),\"\",ROUND(AE$3*C819*B819*16/50,1)/2)","v":""},{"$f":"IF(OR($A819=\"\",J819=\"\",N819=\"\"),\"\",MAX(O819+P819-N819,0))","v":""},{"$f":"P819","v":0},{"$f":"IF(OR($A819=\"\",N819=\"\"),\"\",ROUND((MAX(O819-Q819-AF819,0))*2,1)/2)","v":""},{"$f":"IF(D819=\"\",0,1)","v":0},{"$f":"IF(J819=\"\",0,IF(ROUND(J819,2)<=0,0,1))","v":0},{"$f":"IF(D819=\"\",0,D819)","v":0},{"$f":"IF(D819=\"\",0,F819)","v":0},{"$f":"IF('Stammdaten Mitarbeitende'!N819>0,AC819,0)","v":0},{"$f":"IF('Stammdaten Mitarbeitende'!N819>0,P819,0)","v":0},{"$f":"D819","v":0},{"$f":"F819","v":0},{"$f":"IF(AM819=\"\",0,MAX(AM819-AN819,0))","v":0}]
[{"$f":"'Stammdaten Mitarbeitende'!AA820","v":""},"",null,null,null,null,null,null,0,"",null,"","","","",null,"","",null,null,{"$f":"IF($A820=\"\",\"\",'Stammdaten Mitarbeitende'!L820)","v":""},0,"","","","","","","","","","",0,"",0,{"$f":"IF(J820=\"\",0,IF(ROUND(J820,2)<=0,0,1))","v":0},0,0,{"$f":"IF('Stammdaten Mitarbeitende'!N820>0,AC820,0)","v":0},{"$f":"IF('Stammdaten Mitarbeitende'!N820>0,P820,0)","v":0},0,0,0]
[{"$f":"'Stammdaten Mitarbeitende'!AA821","v":""},"",null,null,null,null,null,null,0,"",null,"","","","",null,"","",null,null,{"$f":"IF($A821=\"\",\"\",'Stammdaten Mitarbeitende'!L821)","v":""},0,"","","","","","","","","","",0,"",0,0,0,0,{"$f":"IF('Stammdaten Mitarbeitende'!N821>0,AC821,0)","v":0},{"$f":"IF('Stammdaten Mitarbeitende'!N821>0,P821,0)","v":0},0,0,0]
[{"$f":"'Stammdaten Mitarbeitende'!AA822","v":""},"",null,null,null,null,null,null,0,"",null,"","","","",null,"","",null,null,{"$f":"IF($A822=\"\",\"\",'Stammdaten Mitarbeitende'!L822)","v":""},0,"","","","","","","","","","",0,"",0,0,0,0,{"$f":"IF('Stammdaten Mitarbeitende'!N822>0,AC822,0)","v":0},{"$f":"IF('Stammdaten Mitarbeitende'!N822>0,P822,0)","v":0},0,0,0]
[{"$f":"'Stammdaten Mitarbeitende'!AA823","v":""},"",null,null,null,null,null,null,0,"",null,"","","","",null,"","",null,null,{"$f":"IF($A823=\"\",\"\",'Stammdaten Mitarbeitende'!L823)","v":""},0,"","","","","","","","","","",0,"",0,0,0,0,{"$f":"IF('Stammdaten Mitarbeitende'!N823>0,AC823,0)","v":0},{"$f":"IF('Stammdaten Mitarbeitende'!N823>0,P823,0)","v":0},0,0,0]
[{"$f":"'Stammdaten Mitarbeitende'!AA824","v":""},"",null,null,null,null,null,null,0,"",null,"","","","",null,"","",null,null,{"$f":"IF($A824=\"\",\"\",'Stammdaten Mitarbeitende'!L824)","v":""},0,"","","","","","","","","","",0,"",0,0,0,0,{"$f":"IF('Stammdaten Mitarbeitende'!N824>0,AC824,0)","v":0},{"$f":"IF('Stammdaten Mitarbeitende'!N824>0,P824,0)","v":0},0,0,0]
[{"$f":"'Stammdaten Mitarbeitende'!AA825","v":""},"",null,null,null,null,null,null,0,"",null,"","","","",null,"","",null,null,{"$f":"IF($A825=\"\",\"\",'Stammdaten Mitarbeitende'!L825)","v":""},0,"","","","","","","","","","",0,"",0,0,0,0,{"$f":"IF('Stammdaten Mitarbeitende'!N825>0,AC825,0)","v":0},{"$f":"IF('Stammdaten Mitarbeitende'!N825>0,P825,0)","v":0},0,0,0]
[{"$f":"'Stammdaten Mitarbeitende'!AA826","v":""},"",null,null,null,null,null,null,0,"",null,"","","","",null,"","",null,null,{"$f":"IF($A826=\"\",\"\",'Stammdaten Mitarbeitende'!L826)","v":""},0,"","","","","","","","","","",0,"",0,0,0,0,{"$f":"IF('Stammdaten Mitarbeitende'!N826>0,AC826,0)","v":0},{"$f":"IF('Stammdaten Mitarbeitende'!N826>0,P826,0)","v":0},0,0,0]
[{"$f":"'Stammdaten Mitarbeitende'!AA827","v":""},"",null,null,null,null,null,null,0,"",null,"","","","",null,"","",null,null,{"$f":"IF($A827=\"\",\"\",'Stammdaten Mitarbeitende'!L827)","v":""},0,"","","","","","","","","","",0,"",0,0,0,0,{"$f":"IF('Stammdaten Mitarbeitende'!N827>0,AC827,0)","v":0},{"$f":"IF('Stammdaten Mitarbeitende'!N827>0,P827,0)","v":0},0,0,0]
[{"$f":"'Stammdaten Mitarbeitende'!AA828","v":""},"",null,null,null,null,null,null,0,"",null,"","","","",null,"","",null,null,{"$f":"IF($A828=\"\",\"\",'Stammdaten Mitarbeitende'!L828)","v":""},0,"","","","","","","","","","",0,"",0,0,0,0,{"$f":"IF('Stammdaten Mitarbeitende'!N828>0,AC828,0)","v":0},{"$f":"IF('Stammdaten Mitarbeitende'!N828>0,P828,0)","v":0},0,0,0]
[{"$f":"'Stammdaten Mitarbeitende'!AA829","v":""},"",null,null,null,null,null,null,0,"",null,"","","","",null,"","",null,null,{"$f":"IF($A829=\"\",\"\",'Stammdaten Mitarbeitende'!L829)","v":""},0,"","","","","","","","","","",0,"",0,0,0,0,{"$f":"IF('Stammdaten Mitarbeitende'!N829>0,AC829,0)","v":0},{"$f":"IF('Stammdaten Mitarbeitende'!N829>0,P829,0)","v":0},0,0,0]
[{"$f":"'Stammdaten Mitarbeitende'!AA830","v":""},"",null,null,null,null,null,null,0,"",null,"","","","",null,"","",null,null,{"$f":"IF($A830=\"\",\"\",'Stammdaten Mitarbeitende'!L830)","v":""},0,"","","","","","","","","","",0,"",0,0,0,0,{"$f":"IF('Stammdaten Mitarbeitende'!N830>0,AC830,0)","v":0},{"$f":"IF('Stammdaten Mitarbeitende'!N830>0,P830,0)","v":0},0,0,0]
[{"$f":"'Stammdaten Mitarbeitende'!AA831","v":""},"",null,null,null,null,null,null,0,"",null,"","","","",null,"","",null,null,{"$f":"IF($A831=\"\",\"\",'Stammdaten Mitarbeitende'!L831)","v":""},0,"","","","","","","","","","",0,"",0,0,0,0,{"$f":"IF('Stammdaten Mitarbeitende'!N831>0,AC831,0)","v":0},{"$f":"IF('Stammdaten Mitarbeitende'!N831>0,P831,0)","v":0},0,0,0]
[{"$f":"'Stammdaten Mitarbeitende'!AA832","v":""},"",null,null,null,null,null,null,0,"",null,"","","","",null,"","",null,null,{"$f":"IF($A832=\"\",\"\",'Stammdaten Mitarbeitende'!L832)","v":""},0,"","","","","","","","","","",0,"",0,0,0,0,{"$f":"IF('Stammdaten Mitarbeitende'!N832>0,AC832,0)","v":0},{"$f":"IF('Stammdaten Mitarbeitende'!N832>0,P832,0)","v":0},0,0,0]
[{"$f":"'Stammdaten Mitarbeitende'!AA833","v":""},"",null,null,null,null,null,null,0,"",null,"","","","",null,"","",null,null,{"$f":"IF($A833=\"\",\"\",'Stammdaten Mitarbeitende'!L833)","v":""},0,"","","","","","","","","","",0,"",0,0,0,0,{"$f":"IF('Stammdaten Mitarbeitende'!N833>0,AC833,0)","v":0},{"$f":"IF('Stammdaten Mitarbeitende'!N833>0,P833,0)","v":0},0,0,0]
[{"$f":"'Stammdaten Mitarbeitende'!AA834","v":""},"",null,null,null,null,null,null,0,"",null,"","","","",null,"","",null,null,{"$f":"IF($A834=\"\",\"\",'Stammdaten Mitarbeitende'!L834)","v":""},0,"","","","","","","","","","",0,"",0,0,0,0,{"$f":"IF('Stammdaten Mitarbeitende'!N834>0,AC834,0)","v":0},{"$f":"IF('Stammdaten Mitarbeitende'!N834>0,P834,0)","v":0},0,0,0]
[{"$f":"'Stammdaten Mitarbeitende'!AA835","v":""},"",null,null,null,null,null,null,0,"",null,"","","","",null,"","",null,null,{"$f":"IF($A835=\"\",\"\",'Stammdaten Mitarbeitende'!L835)","v":""},0,"","","","","","","","","","",0,"",0,0,0,0,{"$f":"IF('Stammdaten Mitarbeitende'!N835>0,AC835,0)","v":0},{"$f":"IF('Stammdaten Mitarbeitende'!N835>0,P835,0)","v":0},0,0,0]
[{"$f":"'Stammdaten Mitarbeitende'!AA836","v":""},"",null,null,null,null,null,null,0,"",null,"","","","",null,"","",null,null,{"$f":"IF($A836=\"\",\"\",'Stammdaten Mitarbeitende'!L836)","v":""},0,"","","","","","","","","","",0,"",0,0,0,0,{"$f":"IF('Stammdaten Mitarbeitende'!N836>0,AC836,0)","v":0},{"$f":"IF('Stammdaten Mitarbeitende'!N836>0,P836,0)","v":0},0,0,0]
[{"$f":"'Stammdaten Mitarbeitende'!AA837","v":""},"",null,null,null,null,null,null,0,"",null,"","","","",null,"","",null,null,{"$f":"IF($A837=\"\",\"\",'Stammdaten Mitarbeitende'!L837)","v":""},0,"","","","","","","","","","",0,"",0,0,0,0,{"$f":"IF('Stammdaten Mitarbeitende'!N837>0,AC837,0)","v":0},{"$f":"IF('Stammdaten Mitarbeitende'!N837>0,P837,0)","v":0},0,0,0]
[{"$f":"'Stammdaten Mitarbeitende'!AA838","v":""},"",null,null,null,null,null,null,0,"",null,"","","","",null,"","",null,null,{"$f":"IF($A838=\"\",\"\",'Stammdaten Mitarbeitende'!L838)","v":""},0,"","","","","","","","","","",0,"",0,0,0,0,{"$f":"IF('Stammdaten Mitarbeitende'!N838>0,AC838,0)","v":0},{"$f":"IF('Stammdaten Mitarbeitende'!N838>0,P838,0)","v":0},0,0,0]
[{"$f":"'Stammdaten Mitarbeitende'!AA839","v":""},"",null,null,null,null,null,null,0,"",null,"","","","",null,"","",null,null,{"$f":"IF($A839=\"\",\"\",'Stammdaten Mitarbeitende'!L839)","v":""},0,"","","","","","","","","","",0,"",0,0,0,0,{"$f":"IF('Stammdaten Mitarbeitende'!N839>0,AC839,0)","v":0},{"$f":"IF('Stammdaten Mitarbeitende'!N839>0,P839,0)","v":0},0,0,0]
[{"$f":"Übersetzungstexte!A$296","v":"Seitentotal"},null,null,{"$f":"SUM(D819:D839)","v":0},null,{"$f":"SUM(F819:F839)","v":0},null,null,null,{"$f":"SUM(J819:J839)","v":0},null,null,null,{"$f":"SUM(N819:N839)","v":0},null,{"$f":"SUM(P819:P839)","v":0},null,{"$f":"SUM(R819:R839)","v":0}]
[{"$f":"'Stammdaten Betrieb & Abteilung'!D$1","v":"  "},null,null,null,null,null,null,null,null,null,null,null,{"$f":"Übersetzungstexte!A$239","v":"Betrieb / Betriebsabteilung"},{"$f":"'Stammdaten Betrieb & Abteilung'!D$13","v":" "}]
[{"$f":"'Stammdaten Betrieb & Abteilung'!D$3","v":" "},null,null,null,null,null,null,null,null,null,null,null,{"$f":"Übersetzungstexte!A$240","v":"Abrechnungsperiode"},{"$f":"'Stammdaten Betrieb & Abteilung'!D$14","v":""},null,{"$f":"'Stammdaten Betrieb & Abteilung'!D$12","v":{"$error":"#VALUE!"}}]
[{"$f":"'Stammdaten Betrieb & Abteilung'!D$4","v":" "},null,null,null,null,null,null,null,null,null,null,null,{"$f":"Übersetzungstexte!A$241","v":"Beginn / Ende der Kurzarbeit"},{"$f":"'Stammdaten Betrieb & Abteilung'!D$16","v":""}]
[]
[1,2,3,4,5,6,null,7,null,8,9,10,11,12,13,null,14,15,null,null,null,"Regel 7","Regel 8",null,"Regel 9","Regel 10","Regel 11","Regel 12","Regel 13","Regel 14","Regel 15","Regel 17",null,"Regel 19/20",null,null,null,null,"AHV-pflichtiger","AHV-pflichtiger",null,null,"AHV-pflichtige"]
[{"$f":"Übersetzungstexte!A$242","v":""},{"$f":"Übersetzungstexte!A$245","v":"anrechen-"},{"$f":"Übersetzungstexte!A$248","v":"Wöchentl."},{"$f":"Übersetzungstexte!A$251","v":"Sollstd. Abr.-"},{"$f":"Übersetzungstexte!A$254","v":""},{"$f":"Übersetzungstexte!A$257","v":"Bezahlte/"},null,{"$f":"Übersetzungstexte!A$263","v":"(nur für Gleitzeit)"},null,{"$f":"Übersetzungstexte!A$269","v":"Ausfall-"},{"$f":"Übersetzungstexte!A$272","v":"Saldo"},{"$f":"Übersetzungstexte!A$275","v":"Saisonale"},{"$f":"Übersetzungstexte!A$278","v":"Anrechen-"},{"$f":"Übersetzungstexte!A$281","v":"Verdienst-"},{"$f":"Übersetzungstexte!A$284","v":"Verdienst-"},{"$f":"Übersetzungstexte!A$287","v":"Verdienst"},{"$f":"AE$4","v":"Abzug "},{"$f":"Übersetzungstexte!A$293","v":""},null,null,"anrechen-","Gleitzeit","Ausfall-","Max(D12,0)","Prozentualer","Saisonale","Proz. Wirts. Bed.","Anrechen-","Verdienst-","Verdienst-","Abzug","Abzug","Verdienst",null,"Anzahl","Anzahl","Sollstd.","Absenzen","Verdienst-","Verdienst","Sollstd.","bezahlte/","Abzugsbasis"]
[{"$f":"Übersetzungstexte!A$243","v":""},{"$f":"Übersetzungstexte!A$246","v":"barer Std.-"},{"$f":"Übersetzungstexte!A$249","v":"Arbeitszeit"},{"$f":"Übersetzungstexte!A$252","v":"Periode Inkl."},{"$f":"Übersetzungstexte!A$255","v":""},{"$f":"Übersetzungstexte!A$258","v":"Unbezahlte"},{"$f":"Übersetzungstexte!A$261","v":"Saldo Ende Per."},null,null,{"$f":"Übersetzungstexte!A$270","v":"stunden"},{"$f":"Übersetzungstexte!A$273","v":"Mehrstd."},{"$f":"Übersetzungstexte!A$276","v":"Ausfall-"},{"$f":"Übersetzungstexte!A$279","v":"bare Aus-"},{"$f":"Übersetzungstexte!A$282","v":"ausfall"},{"$f":"Übersetzungstexte!A$285","v":"ausfall"},{"$f":"Übersetzungstexte!A$288","v":"Zwischen-"},{"$f":"Übersetzungstexte!A$291","v":"Karenztage"},{"$f":"Übersetzungstexte!A$294","v":"Beantragte"},null,null,"barer Std.-","c","stunden",null,"Arbeitsausfall","Ausfall-","Arbeitsausfall","bare ","ausfall","ausfall","Karenztage","Zwischen-","Zwischen-","Beantragte","bezugsber.","betroffene","bezugsber.","bezugsber.","ausfall","Zwischen-","inkl","unbezahlte"]
[{"$f":"Übersetzungstexte!A$244","v":"Name,Vorname"},{"$f":"Übersetzungstexte!A$247","v":"Verdienst"},{"$f":"Übersetzungstexte!A$250","v":"in der AP"},{"$f":"Übersetzungstexte!A$253","v":"Vorholzeit"},{"$f":"Übersetzungstexte!A$256","v":"Istzeit"},{"$f":"Übersetzungstexte!A$259","v":"Absenzen"},{"$f":"Übersetzungstexte!A$262","v":"vorherg."},{"$f":"Übersetzungstexte!A$265","v":"laufend"},{"$f":"Übersetzungstexte!A$268","v":"Diff."},{"$f":"Übersetzungstexte!A$271","v":"total"},{"$f":"Übersetzungstexte!A$274","v":"Vormonate"},{"$f":"Übersetzungstexte!A$277","v":"stunden"},{"$f":"Übersetzungstexte!A$280","v":"fall-Std."},{"$f":"Übersetzungstexte!A$283","v":"100%"},{"$f":"Übersetzungstexte!A$286","v":"80%"},{"$f":"Übersetzungstexte!A$289","v":"Beschäftigung"},{"$f":"Übersetzungstexte!A$292","v":"80%"},{"$f":"Übersetzungstexte!A$295","v":"Vergütung"},null,null,"Verdienst",null,"Total",null,"pAA","stunden","pwAA","Ausfall-Std.","100%","80%","80%","beschäftigung","beschäftigung","Vergütung","Mitarbeiter","Mitarbeiter","Mitarbeiter","Mitarbeiter","100%","beschäftigung","Vorholzeit","Ansenzen"]
[{"$f":"'Stammdaten Mitarbeitende'!AA849","v":""},{"$f":"U849","v":""},null,null,null,null,null,null,{"$f":"V849","v":0},{"$f":"W849","v":""},null,{"$f":"Z849","v":""},{"$f":"AB849","v":""},{"$f":"AC849","v":""},{"$f":"AD849","v":""},null,{"$f":"AE849","v":""},{"$f":"AH849","v":""},null,null,{"$f":"IF($A849=\"\",\"\",'Stammdaten Mitarbeitende'!L849)","v":""},{"$f":"IF(AND(G849=\"\",H849=\"\"),0,G849-H849)","v":0},{"$f":"IF(OR($A849=\"\",D849=\"\",E849=\"\",F849=\"\",V849=\"\"),\"\",D849-(E849+F849+V849))","v":""},{"$f":"IF(W849=\"\",\"\",MAX(W849,0))","v":""},{"$f":"IF(J849=\"\",\"\",Y$4)","v":""},{"$f":"IF(J849=\"\",\"\",J849*Z$4)","v":""},{"$f":"IF(Y849=\"\",\"\",AA$4)","v":""},{"$f":"IF(J849=\"\",\"\",ROUND(J849*AB$4 - MAX(K849-L849,0),2))","v":""},{"$f":"IF(OR($A849=\"\",J849=\"\",B849=\"\",M849<0),\"\",MAX(ROUND(M849*B849*2,1)/2,0))","v":""},{"$f":"IF(OR($A849=\"\",N849=\"\"),\"\",ROUND(N849*8/5,1)/2)","v":""},{"$f":"IF(OR($A849=\"\",B849=\"\",N849=\"\"),\"\",ROUND(AE$3*C849*B849*16/50,1)/2)","v":""},{"$f":"IF(OR($A849=\"\",J849=\"\",N849=\"\"),\"\",MAX(O849+P849-N849,0))","v":""},{"$f":"P849","v":0},{"$f":"IF(OR($A849=\"\",N849=\"\"),\"\",ROUND((MAX(O849-Q849-AF849,0))*2,1)/2)","v":""},{"$f":"IF(D849=\"\",0,1)","v":0},{"$f":"IF(J849=\"\",0,IF(ROUND(J849,2)<=0,0,1))","v":0},{"$f":"IF(D849=\"\",0,D849)","v":0},{"$f":"IF(D849=\"\",0,F849)","v":0},{"$f":"IF('Stammdaten Mitarbeitende'!N849>0,AC849,0)","v":0},{"$f":"IF('Stammdaten Mitarbeitende'!N849>0,P849,0)","v":0},{"$f":"D849","v":0},{"$f":"F849","v":0},{"$f":"IF(AM849=\"\",0,MAX(AM849-AN849,0))","v":0}]
[{"$f":"'Stammdaten Mitarbeitende'!AA850","v":""},"",null,null,null,null,null,null,0,"",null,"","","","",null,"","",null,null,{"$f":"IF($A850=\"\",\"\",'Stammdaten Mitarbeitende'!L850)","v":""},0,"","","","","","","","","","",0,"",0,{"$f":"IF(J850=\"\",0,IF(ROUND(J850,2)<=0,0,1))","v":0},0,0,{"$f":"IF('Stammdaten Mitarbeitende'!N850>0,AC850,0)","v":0},{"$f":"IF('Stammdaten Mitarbeitende'!N850>0,P850,0)","v":0},0,0,0]
[{"$f":"'Stammdaten Mitarbeitende'!AA851","v":""},"",null,null,null,null,null,null,0,"",null,"","","","",null,"","",null,null,{"$f":"IF($A851=\"\",\"\",'Stammdaten Mitarbeitende'!L851)","v":""},0,"","","","","","","","","","",0,"",0,0,0,0,{"$f":"IF('Stammdaten Mitarbeitende'!N851>0,AC851,0)","v":0},{"$f":"IF('Stammdaten Mitarbeitende'!N851>0,P851,0)","v":0},0,0,0]
[{"$f":"'Stammdaten Mitarbeitende'!AA852","v":""},"",null,null,null,null,null,null,0,"",null,"","","","",null,"","",null,null,{"$f":"IF($A852=\"\",\"\",'Stammdaten Mitarbeitende'!L852)","v":""},0,"","","","","","","","","","",0,"",0,0,0,0,{"$f":"IF('Stammdaten Mitarbeitende'!N852>0,AC852,0)","v":0},{"$f":"IF('Stammdaten Mitarbeitende'!N852>0,P852,0)","v":0},0,0,0]
[{"$f":"'Stammdaten Mitarbeitende'!AA853","v":""},"",null,null,null,null,null,null,0,"",null,"","","","",null,"","",null,null,{"$f":"IF($A853=\"\",\"\",'Stammdaten Mitarbeitende'!L853)","v":""},0,"","","","","","","","","","",0,"",0,0,0,0,{"$f":"IF('Stammdaten Mitarbeitende'!N853>0,AC853,0)","v":0},{"$f":"IF('Stammdaten Mitarbeitende'!N853>0,P853,0)","v":0},0,0,0]
[{"$f":"'Stammdaten Mitarbeitende'!AA854","v":""},"",null,null,null,null,null,null,0,"",null,"","","","",null,"","",null,null,{"$f":"IF($A854=\"\",\"\",'Stammdaten Mitarbeitende'!L854)","v":""},0,"","","","","","","","","","",0,"",0,0,0,0,{"$f":"IF('Stammdaten Mitarbeitende'!N854>0,AC854,0)","v":0},{"$f":"IF('Stammdaten Mitarbeitende'!N854>0,P854,0)","v":0},0,0,0]
[{"$f":"'Stammdaten Mitarbeitende'!AA855","v":""},"",null,null,null,null,null,null,0,"",null,"","","","",null,"","",null,null,{"$f":"IF($A855=\"\",\"\",'Stammdaten Mitarbeitende'!L855)","v":""},0,"","","","","","","","","","",0,"",0,0,0,0,{"$f":"IF('Stammdaten Mitarbeitende'!N855>0,AC855,0)","v":0},{"$f":"IF('Stammdaten Mitarbeitende'!N855>0,P855,0)","v":0},0,0,0]
[{"$f":"'Stammdaten Mitarbeitende'!AA856","v":""},"",null,null,null,null,null,null,0,"",null,"","","","",null,"","",null,null,{"$f":"IF($A856=\"\",\"\",'Stammdaten Mitarbeitende'!L856)","v":""},0,"","","","","","","","","","",0,"",0,0,0,0,{"$f":"IF('Stammdaten Mitarbeitende'!N856>0,AC856,0)","v":0},{"$f":"IF('Stammdaten Mitarbeitende'!N856>0,P856,0)","v":0},0,0,0]
[{"$f":"'Stammdaten Mitarbeitende'!AA857","v":""},"",null,null,null,null,null,null,0,"",null,"","","","",null,"","",null,null,{"$f":"IF($A857=\"\",\"\",'Stammdaten Mitarbeitende'!L857)","v":""},0,"","","","","","","","","","",0,"",0,0,0,0,{"$f":"IF('Stammdaten Mitarbeitende'!N857>0,AC857,0)","v":0},{"$f":"IF('Stammdaten Mitarbeitende'!N857>0,P857,0)","v":0},0,0,0]
[{"$f":"'Stammdaten Mitarbeitende'!AA858","v":""},"",null,null,null,null,null,null,0,"",null,"","","","",null,"","",null,null,{"$f":"IF($A858=\"\",\"\",'Stammdaten Mitarbeitende'!L858)","v":""},0,"","","","","","","","","","",0,"",0,0,0,0,{"$f":"IF('Stammdaten Mitarbeitende'!N858>0,AC858,0)","v":0},{"$f":"IF('Stammdaten Mitarbeitende'!N858>0,P858,0)","v":0},0,0,0]
[{"$f":"'Stammdaten Mitarbeitende'!AA859","v":""},"",null,null,null,null,null,null,0,"",null,"","","","",null,"","",null,null,{"$f":"IF($A859=\"\",\"\",'Stammdaten Mitarbeitende'!L859)","v":""},0,"","","","","","","","","","",0,"",0,0,0,0,{"$f":"IF('Stammdaten Mitarbeitende'!N859>0,AC859,0)","v":0},{"$f":"IF('Stammdaten Mitarbeitende'!N859>0,P859,0)","v":0},0,0,0]
[{"$f":"'Stammdaten Mitarbeitende'!AA860","v":""},"",null,null,null,null,null,null,0,"",null,"","","","",null,"","",null,null,{"$f":"IF($A860=\"\",\"\",'Stammdaten Mitarbeitende'!L860)","v":""},0,"","","","","","","","","","",0,"",0,0,0,0,{"$f":"IF('Stammdaten Mitarbeitende'!N860>0,AC860,0)","v":0},{"$f":"IF('Stammdaten Mitarbeitende'!N860>0,P860,0)","v":0},0,0,0]
[{"$f":"'Stammdaten Mitarbeitende'!AA861","v":""},"",null,null,null,null,null,null,0,"",null,"","","","",null,"","",null,null,{"$f":"IF($A861=\"\",\"\",'Stammdaten Mitarbeitende'!L861)","v":""},0,"","","","","","","","","","",0,"",0,0,0,0,{"$f":"IF('Stammdaten Mitarbeitende'!N861>0,AC861,0)","v":0},{"$f":"IF('Stammdaten Mitarbeitende'!N861>0,P861,0)","v":0},0,0,0]
[{"$f":"'Stammdaten Mitarbeitende'!AA862","v":""},"",null,null,null,null,null,null,0,"",null,"","","","",null,"","",null,null,{"$f":"IF($A862=\"\",\"\",'Stammdaten Mitarbeitende'!L862)","v":""},0,"","","","","","","","","","",0,"",0,0,0,0,{"$f":"IF('Stammdaten Mitarbeitende'!N862>0,AC862,0)","v":0},{"$f":"IF('Stammdaten Mitarbeitende'!N862>0,P862,0)","v":0},0,0,0]
[{"$f":"'Stammdaten Mitarbeitende'!AA863","v":""},"",null,null,null,null,null,null,0,"",null,"","","","",null,"","",null,null,{"$f":"IF($A863=\"\",\"\",'Stammdaten Mitarbeitende'!L863)","v":""},0,"","","","","","","","","","",0,"",0,0,0,0,{"$f":"IF('Stammdaten Mitarbeitende'!N863>0,AC863,0)","v":0},{"$f":"IF('Stammdaten Mitarbeitende'!N863>0,P863,0)","v":0},0,0,0]
[{"$f":"'Stammdaten Mitarbeitende'!AA864","v":""},"",null,null,null,null,null,null,0,"",null,"","","","",null,"","",null,null,{"$f":"IF($A864=\"\",\"\",'Stammdaten Mitarbeitende'!L864)","v":""},0,"","","","","","","","","","",0,"",0,0,0,0,{"$f":"IF('Stammdaten Mitarbeitende'!N864>0,AC864,0)","v":0},{"$f":"IF('Stammdaten Mitarbeitende'!N864>0,P864,0)","v":0},0,0,0]
[{"$f":"'Stammdaten Mitarbeitende'!AA865","v":""},"",null,null,null,null,null,null,0,"",null,"","","","",null,"","",null,null,{"$f":"IF($A865=\"\",\"\",'Stammdaten Mitarbeitende'!L865)","v":""},0,"","","","","","","","","","",0,"",0,0,0,0,{"$f":"IF('Stammdaten Mitarbeitende'!N865>0,AC865,0)","v":0},{"$f":"IF('Stammdaten Mitarbeitende'!N865>0,P865,0)","v":0},0,0,0]
[{"$f":"'Stammdaten Mitarbeitende'!AA866","v":""},"",null,null,null,null,null,null,0,"",null,"","","","",null,"","",null,null,{"$f":"IF($A866=\"\",\"\",'Stammdaten Mitarbeitende'!L866)","v":""},0,"","","","","","","","","","",0,"",0,0,0,0,{"$f":"IF('Stammdaten Mitarbeitende'!N866>0,AC866,0)","v":0},{"$f":"IF('Stammdaten Mitarbeitende'!N866>0,P866,0)","v":0},0,0,0]
[{"$f":"'Stammdaten Mitarbeitende'!AA867","v":""},"",null,null,null,null,null,null,0,"",null,"","","","",null,"","",null,null,{"$f":"IF($A867=\"\",\"\",'Stammdaten Mitarbeitende'!L867)","v":""},0,"","","","","","","","","","",0,"",0,0,0,0,{"$f":"IF('Stammdaten Mitarbeitende'!N867>0,AC867,0)","v":0},{"$f":"IF('Stammdaten Mitarbeitende'!N867>0,P867,0)","v":0},0,0,0]
[{"$f":"'Stammdaten Mitarbeitende'!AA868","v":""},"",null,null,null,null,null,null,0,"",null,"","","","",null,"","",null,null,{"$f":"IF($A868=\"\",\"\",'Stammdaten Mitarbeitende'!L868)","v":""},0,"","","","","","","","","","",0,"",0,0,0,0,{"$f":"IF('Stammdaten Mitarbeitende'!N868>0,AC868,0)","v":0},{"$f":"IF('Stammdaten Mitarbeitende'!N868>0,P868,0)","v":0},0,0,0]
[{"$f":"'Stammdaten Mitarbeitende'!AA869","v":""},"",null,null,null,null,null,null,0,"",null,"","","","",null,"","",null,null,{"$f":"IF($A869=\"\",\"\",'Stammdaten Mitarbeitende'!L869)","v":""},0,"","","","","","","","","","",0,"",0,0,0,0,{"$f":"IF('Stammdaten Mitarbeitende'!N869>0,AC869,0)","v":0},{"$f":"IF('Stammdaten Mitarbeitende'!N869>0,P869,0)","v":0},0,0,0]
[{"$f":"Übersetzungstexte!A$296","v":"Seitentotal"},null,null,{"$f":"SUM(D849:D869)","v":0},null,{"$f":"SUM(F849:F869)","v":0},null,null,null,{"$f":"SUM(J849:J869)","v":0},null,null,null,{"$f":"SUM(N849:N869)","v":0},null,{"$f":"SUM(P849:P869)","v":0},null,{"$f":"SUM(R849:R869)","v":0}]
[{"$f":"'Stammdaten Betrieb & Abteilung'!D$1","v":"  "},null,null,null,null,null,null,null,null,null,null,null,{"$f":"Übersetzungstexte!A$239","v":"Betrieb / Betriebsabteilung"},{"$f":"'Stammdaten Betrieb & Abteilung'!D$13","v":" "}]
[{"$f":"'Stammdaten Betrieb & Abteilung'!D$3","v":" "},null,null,null,null,null,null,null,null,null,null,null,{"$f":"Übersetzungstexte!A$240","v":"Abrechnungsperiode"},{"$f":"'Stammdaten Betrieb & Abteilung'!D$14","v":""},null,{"$f":"'Stammdaten Betrieb & Abteilung'!D$12","v":{"$error":"#VALUE!"}}]
[{"$f":"'Stammdaten Betrieb & Abteilung'!D$4","v":" "},null,null,null,null,null,null,null,null,null,null,null,{"$f":"Übersetzungstexte!A$241","v":"Beginn / Ende der Kurzarbeit"},{"$f":"'Stammdaten Betrieb & Abteilung'!D$16","v":""}]
[]
[1,2,3,4,5,6,null,7,null,8,9,10,11,12,13,null,14,15,null,null,null,"Regel 7","Regel 8",null,"Regel 9","Regel 10","Regel 11","Regel 12","Regel 13","Regel 14","Regel 15","Regel 17",null,"Regel 19/20",null,null,null,null,"AHV-pflichtiger","AHV-pflichtiger",null,null,"AHV-pflichtige"]
[{"$f":"Übersetzungstexte!A$242","v":""},{"$f":"Übersetzungstexte!A$245","v":"anrechen-"},{"$f":"Übersetzungstexte!A$248","v":"Wöchentl."},{"$f":"Übersetzungstexte!A$251","v":"Sollstd. Abr.-"},{"$f":"Übersetzungstexte!A$254","v":""},{"$f":"Übersetzungstexte!A$257","v":"Bezahlte/"},null,{"$f":"Übersetzungstexte!A$263","v":"(nur für Gleitzeit)"},null,{"$f":"Übersetzungstexte!A$269","v":"Ausfall-"},{"$f":"Übersetzungstexte!A$272","v":"Saldo"},{"$f":"Übersetzungstexte!A$275","v":"Saisonale"},{"$f":"Übersetzungstexte!A$278","v":"Anrechen-"},{"$f":"Übersetzungstexte!A$281","v":"Verdienst-"},{"$f":"Übersetzungstexte!A$284","v":"Verdienst-"},{"$f":"Übersetzungstexte!A$287","v":"Verdienst"},{"$f":"AE$4","v":"Abzug "},{"$f":"Übersetzungstexte!A$293","v":""},null,null,"anrechen-","Gleitzeit","Ausfall-","Max(D12,0)","Prozentualer","Saisonale","Proz. Wirts. Bed.","Anrechen-","Verdienst-","Verdienst-","Abzug","Abzug","Verdienst",null,"Anzahl","Anzahl","Sollstd.","Absenzen","Verdienst-","Verdienst","Sollstd.","bezahlte/","Abzugsbasis"]
[{"$f":"Übersetzungstexte!A$243","v":""},{"$f":"Übersetzungstexte!A$246","v":"barer Std.-"},{"$f":"Übersetzungstexte!A$249","v":"Arbeitszeit"},{"$f":"Übersetzungstexte!A$252","v":"Periode Inkl."},{"$f":"Übersetzungstexte!A$255","v":""},{"$f":"Übersetzungstexte!A$258","v":"Unbezahlte"},{"$f":"Übersetzungstexte!A$261","v":"Saldo Ende Per."},null,null,{"$f":"Übersetzungstexte!A$270","v":"stunden"},{"$f":"Übersetzungstexte!A$273","v":"Mehrstd."},{"$f":"Übersetzungstexte!A$276","v":"Ausfall-"},{"$f":"Übersetzungstexte!A$279","v":"bare Aus-"},{"$f":"Übersetzungstexte!A$282","v":"ausfall"},{"$f":"Übersetzungstexte!A$285","v":"ausfall"},{"$f":"Übersetzungstexte!A$288","v":"Zwischen-"},{"$f":"Übersetzungstexte!A$291","v":"Karenztage"},{"$f":"Übersetzungstexte!A$294","v":"Beantragte"},null,null,"barer Std.-","c","stunden",null,"Arbeitsausfall","Ausfall-","Arbeitsausfall","bare ","ausfall","ausfall","Karenztage","Zwischen-","Zwischen-","Beantragte","bezugsber.","betroffene","bezugsber.","bezugsber.","ausfall","Zwischen-","inkl","unbezahlte"]
[{"$f":"Übersetzungstexte!A$244","v":"Name,Vorname"},{"$f":"Übersetzungstexte!A$247","v":"Verdienst"},{"$f":"Übersetzungstexte!A$250","v":"in der AP"},{"$f":"Übersetzungstexte!A$253","v":"Vorholzeit"},{"$f":"Übersetzungstexte!A$256","v":"Istzeit"},{"$f":"Übersetzungstexte!A$259","v":"Absenzen"},{"$f":"Übersetzungstexte!A$262","v":"vorherg."},{"$f":"Übersetzungstexte!A$265","v":"laufend"},{"$f":"Übersetzungstexte!A$268","v":"Diff."},{"$f":"Übersetzungstexte!A$271","v":"total"},{"$f":"Übersetzungstexte!A$274","v":"Vormonate"},{"$f":"Übersetzungstexte!A$277","v":"stunden"},{"$f":"Übersetzungstexte!A$280","v":"fall-Std."},{"$f":"Übersetzungstexte!A$283","v":"100%"},{"$f":"Übersetzungstexte!A$286","v":"80%"},{"$f":"Übersetzungstexte!A$289","v":"Beschäftigung"},{"$f":"Übersetzungstexte!A$292","v":"80%"},{"$f":"Übersetzungstexte!A$295","v":"Vergütung"},null,null,"Verdienst",null,"Total",null,"pAA","stunden","pwAA","Ausfall-Std.","100%","80%","80%","beschäftigung","beschäftigung","Vergütung","Mitarbeiter","Mitarbeiter","Mitarbeiter","Mitarbeiter","100%","beschäftigung","Vorholzeit","Ansenzen"]
[{"$f":"'Stammdaten Mitarbeitende'!AA879","v":""},{"$f":"U879","v":""},null,null,null,null,null,null,{"$f":"V879","v":0},{"$f":"W879","v":""},null,{"$f":"Z879","v":""},{"$f":"AB879","v":""},{"$f":"AC879","v":""},{"$f":"AD879","v":""},null,{"$f":"AE879","v":""},{"$f":"AH879","v":""},null,null,{"$f":"IF($A879=\"\",\"\",'Stammdaten Mitarbeitende'!L879)","v":""},{"$f":"IF(AND(G879=\"\",H879=\"\"),0,G879-H879)","v":0},{"$f":"IF(OR($A879=\"\",D879=\"\",E879=\"\",F879=\"\",V879=\"\"),\"\",D879-(E879+F879+V879))","v":""},{"$f":"IF(W879=\"\",\"\",MAX(W879,0))","v":""},{"$f":"IF(J879=\"\",\"\",Y$4)","v":""},{"$f":"IF(J879=\"\",\"\",J879*Z$4)","v":""},{"$f":"IF(Y879=\"\",\"\",AA$4)","v":""},{"$f":"IF(J879=\"\",\"\",ROUND(J879*AB$4 - MAX(K879-L879,0),2))","v":""},{"$f":"IF(OR($A879=\"\",J879=\"\",B879=\"\",M879<0),\"\",MAX(ROUND(M879*B879*2,1)/2,0))","v":""},{"$f":"IF(OR($A879=\"\",N879=\"\"),\"\",ROUND(N879*8/5,1)/2)","v":""},{"$f":"IF(OR($A879=\"\",B879=\"\",N879=\"\"),\"\",ROUND(AE$3*C879*B879*16/50,1)/2)","v":""},{"$f":"IF(OR($A879=\"\",J879=\"\",N879=\"\"),\"\",MAX(O879+P879-N879,0))","v":""},{"$f":"P879","v":0},{"$f":"IF(OR($A879=\"\",N879=\"\"),\"\",ROUND((MAX(O879-Q879-AF879,0))*2,1)/2)","v":""},{"$f":"IF(D879=\"\",0,1)","v":0},{"$f":"IF(J879=\"\",0,IF(ROUND(J879,2)<=0,0,1))","v":0},{"$f":"IF(D879=\"\",0,D879)","v":0},{"$f":"IF(D879=\"\",0,F879)","v":0},{"$f":"IF('Stammdaten Mitarbeitende'!N879>0,AC879,0)","v":0},{"$f":"IF('Stammdaten Mitarbeitende'!N879>0,P879,0)","v":0},{"$f":"D879","v":0},{"$f":"F879","v":0},{"$f":"IF(AM879=\"\",0,MAX(AM879-AN879,0))","v":0}]
[{"$f":"'Stammdaten Mitarbeitende'!AA880","v":""},"",null,null,null,null,null,null,0,"",null,"","","","",null,"","",null,null,{"$f":"IF($A880=\"\",\"\",'Stammdaten Mitarbeitende'!L880)","v":""},0,"","","","","","","","","","",0,"",0,{"$f":"IF(J880=\"\",0,IF(ROUND(J880,2)<=0,0,1))","v":0},0,0,{"$f":"IF('Stammdaten Mitarbeitende'!N880>0,AC880,0)","v":0},{"$f":"IF('Stammdaten Mitarbeitende'!N880>0,P880,0)","v":0},0,0,0]
[{"$f":"'Stammdaten Mitarbeitende'!AA881","v":""},"",null,null,null,null,null,null,0,"",null,"","","","",null,"","",null,null,{"$f":"IF($A881=\"\",\"\",'Stammdaten Mitarbeitende'!L881)","v":""},0,"","","","","","","","","","",0,"",0,0,0,0,{"$f":"IF('Stammdaten Mitarbeitende'!N881>0,AC881,0)","v":0},{"$f":"IF('Stammdaten Mitarbeitende'!N881>0,P881,0)","v":0},0,0,0]
[{"$f":"'Stammdaten Mitarbeitende'!AA882","v":""},"",null,null,null,null,null,null,0,"",null,"","","","",null,"","",null,null,{"$f":"IF($A882=\"\",\"\",'Stammdaten Mitarbeitende'!L882)","v":""},0,"","","","","","","","","","",0,"",0,0,0,0,{"$f":"IF('Stammdaten Mitarbeitende'!N882>0,AC882,0)","v":0},{"$f":"IF('Stammdaten Mitarbeitende'!N882>0,P882,0)","v":0},0,0,0]
[{"$f":"'Stammdaten Mitarbeitende'!AA883","v":""},"",null,null,null,null,null,null,0,"",null,"","","","",null,"","",null,null,{"$f":"IF($A883=\"\",\"\",'Stammdaten Mitarbeitende'!L883)","v":""},0,"","","","","","","","","","",0,"",0,0,0,0,{"$f":"IF('Stammdaten Mitarbeitende'!N883>0,AC883,0)","v":0},{"$f":"IF('Stammdaten Mitarbeitende'!N883>0,P883,0)","v":0},0,0,0]
[{"$f":"'Stammdaten Mitarbeitende'!AA884","v":""},"",null,null,null,null,null,null,0,"",null,"","","","",null,"","",null,null,{"$f":"IF($A884=\"\",\"\",'Stammdaten Mitarbeitende'!L884)","v":""},0,"","","","","","","","","","",0,"",0,0,0,0,{"$f":"IF('Stammdaten Mitarbeitende'!N884>0,AC884,0)","v":0},{"$f":"IF('Stammdaten Mitarbeitende'!N884>0,P884,0)","v":0},0,0,0]
[{"$f":"'Stammdaten Mitarbeitende'!AA885","v":""},"",null,null,null,null,null,null,0,"",null,"","","","",null,"","",null,null,{"$f":"IF($A885=\"\",\"\",'Stammdaten Mitarbeitende'!L885)","v":""},0,"","","","","","","","","","",0,"",0,0,0,0,{"$f":"IF('Stammdaten Mitarbeitende'!N885>0,AC885,0)","v":0},{"$f":"IF('Stammdaten Mitarbeitende'!N885>0,P885,0)","v":0},0,0,0]
[{"$f":"'Stammdaten Mitarbeitende'!AA886","v":""},"",null,null,null,null,null,null,0,"",null,"","","","",null,"","",null,null,{"$f":"IF($A886=\"\",\"\",'Stammdaten Mitarbeitende'!L886)","v":""},0,"","","","","","","","","","",0,"",0,0,0,0,{"$f":"IF('Stammdaten Mitarbeitende'!N886>0,AC886,0)","v":0},{"$f":"IF('Stammdaten Mitarbeitende'!N886>0,P886,0)","v":0},0,0,0]
[{"$f":"'Stammdaten Mitarbeitende'!AA887","v":""},"",null,null,null,null,null,null,0,"",null,"","","","",null,"","",null,null,{"$f":"IF($A887=\"\",\"\",'Stammdaten Mitarbeitende'!L887)","v":""},0,"","","","","","","","","","",0,"",0,0,0,0,{"$f":"IF('Stammdaten Mitarbeitende'!N887>0,AC887,0)","v":0},{"$f":"IF('Stammdaten Mitarbeitende'!N887>0,P887,0)","v":0},0,0,0]
[{"$f":"'Stammdaten Mitarbeitende'!AA888","v":""},"",null,null,null,null,null,null,0,"",null,"","","","",null,"","",null,null,{"$f":"IF($A888=\"\",\"\",'Stammdaten Mitarbeitende'!L888)","v":""},0,"","","","","","","","","","",0,"",0,0,0,0,{"$f":"IF('Stammdaten Mitarbeitende'!N888>0,AC888,0)","v":0},{"$f":"IF('Stammdaten Mitarbeitende'!N888>0,P888,0)","v":0},0,0,0]
[{"$f":"'Stammdaten Mitarbeitende'!AA889","v":""},"",null,null,null,null,null,null,0,"",null,"","","","",null,"","",null,null,{"$f":"IF($A889=\"\",\"\",'Stammdaten Mitarbeitende'!L889)","v":""},0,"","","","","","","","","","",0,"",0,0,0,0,{"$f":"IF('Stammdaten Mitarbeitende'!N889>0,AC889,0)","v":0},{"$f":"IF('Stammdaten Mitarbeitende'!N889>0,P889,0)","v":0},0,0,0]
[{"$f":"'Stammdaten Mitarbeitende'!AA890","v":""},"",null,null,null,null,null,null,0,"",null,"","","","",null,"","",null,null,{"$f":"IF($A890=\"\",\"\",'Stammdaten Mitarbeitende'!L890)","v":""},0,"","","","","","","","","","",0,"",0,0,0,0,{"$f":"IF('Stammdaten Mitarbeitende'!N890>0,AC890,0)","v":0},{"$f":"IF('Stammdaten Mitarbeitende'!N890>0,P890,0)","v":0},0,0,0]
[{"$f":"'Stammdaten Mitarbeitende'!AA891","v":""},"",null,null,null,null,null,null,0,"",null,"","","","",null,"","",null,null,{"$f":"IF($A891=\"\",\"\",'Stammdaten Mitarbeitende'!L891)","v":""},0,"","","","","","","","","","",0,"",0,0,0,0,{"$f":"IF('Stammdaten Mitarbeitende'!N891>0,AC891,0)","v":0},{"$f":"IF('Stammdaten Mitarbeitende'!N891>0,P891,0)","v":0},0,0,0]
[{"$f":"'Stammdaten Mitarbeitende'!AA892","v":""},"",null,null,null,null,null,null,0,"",null,"","","","",null,"","",null,null,{"$f":"IF($A892=\"\",\"\",'Stammdaten Mitarbeitende'!L892)","v":""},0,"","","","","","","","","","",0,"",0,0,0,0,{"$f":"IF('Stammdaten Mitarbeitende'!N892>0,AC892,0)","v":0},{"$f":"IF('Stammdaten Mitarbeitende'!N892>0,P892,0)","v":0},0,0,0]
[{"$f":"'Stammdaten Mitarbeitende'!AA893","v":""},"",null,null,null,null,null,null,0,"",null,"","","","",null,"","",null,null,{"$f":"IF($A893=\"\",\"\",'Stammdaten Mitarbeitende'!L893)","v":""},0,"","","","","","","","","","",0,"",0,0,0,0,{"$f":"IF('Stammdaten Mitarbeitende'!N893>0,AC893,0)","v":0},{"$f":"IF('Stammdaten Mitarbeitende'!N893>0,P893,0)","v":0},0,0,0]
[{"$f":"'Stammdaten Mitarbeitende'!AA894","v":""},"",null,null,null,null,null,null,0,"",null,"","","","",null,"","",null,null,{"$f":"IF($A894=\"\",\"\",'Stammdaten Mitarbeitende'!L894)","v":""},0,"","","","","","","","","","",0,"",0,0,0,0,{"$f":"IF('Stammdaten Mitarbeitende'!N894>0,AC894,0)","v":0},{"$f":"IF('Stammdaten Mitarbeitende'!N894>0,P894,0)","v":0},0,0,0]
[{"$f":"'Stammdaten Mitarbeitende'!AA895","v":""},"",null,null,null,null,null,null,0,"",null,"","","","",null,"","",null,null,{"$f":"IF($A895=\"\",\"\",'Stammdaten Mitarbeitende'!L895)","v":""},0,"","","","","","","","","","",0,"",0,0,0,0,{"$f":"IF('Stammdaten Mitarbeitende'!N895>0,AC895,0)","v":0},{"$f":"IF('Stammdaten Mitarbeitende'!N895>0,P895,0)","v":0},0,0,0]
[{"$f":"'Stammdaten Mitarbeitende'!AA896","v":""},"",null,null,null,null,null,null,0,"",null,"","","","",null,"","",null,null,{"$f":"IF($A896=\"\",\"\",'Stammdaten Mitarbeitende'!L896)","v":""},0,"","","","","","","","","","",0,"",0,0,0,0,{"$f":"IF('Stammdaten Mitarbeitende'!N896>0,AC896,0)","v":0},{"$f":"IF('Stammdaten Mitarbeitende'!N896>0,P896,0)","v":0},0,0,0]
[{"$f":"'Stammdaten Mitarbeitende'!AA897","v":""},"",null,null,null,null,null,null,0,"",null,"","","","",null,"","",null,null,{"$f":"IF($A897=\"\",\"\",'Stammdaten Mitarbeitende'!L897)","v":""},0,"","","","","","","","","","",0,"",0,0,0,0,{"$f":"IF('Stammdaten Mitarbeitende'!N897>0,AC897,0)","v":0},{"$f":"IF('Stammdaten Mitarbeitende'!N897>0,P897,0)","v":0},0,0,0]
[{"$f":"'Stammdaten Mitarbeitende'!AA898","v":""},"",null,null,null,null,null,null,0,"",null,"","","","",null,"","",null,null,{"$f":"IF($A898=\"\",\"\",'Stammdaten Mitarbeitende'!L898)","v":""},0,"","","","","","","","","","",0,"",0,0,0,0,{"$f":"IF('Stammdaten Mitarbeitende'!N898>0,AC898,0)","v":0},{"$f":"IF('Stammdaten Mitarbeitende'!N898>0,P898,0)","v":0},0,0,0]
[{"$f":"'Stammdaten Mitarbeitende'!AA899","v":""},"",null,null,null,null,null,null,0,"",null,"","","","",null,"","",null,null,{"$f":"IF($A899=\"\",\"\",'Stammdaten Mitarbeitende'!L899)","v":""},0,"","","","","","","","","","",0,"",0,0,0,0,{"$f":"IF('Stammdaten Mitarbeitende'!N899>0,AC899,0)","v":0},{"$f":"IF('Stammdaten Mitarbeitende'!N899>0,P899,0)","v":0},0,0,0]
[{"$f":"Übersetzungstexte!A$296","v":"Seitentotal"},null,null,{"$f":"SUM(D879:D899)","v":0},null,{"$f":"SUM(F879:F899)","v":0},null,null,null,{"$f":"SUM(J879:J899)","v":0},null,null,null,{"$f":"SUM(N879:N899)","v":0},null,{"$f":"SUM(P879:P899)","v":0},null,{"$f":"SUM(R879:R899)","v":0}]
[{"$f":"'Stammdaten Betrieb & Abteilung'!D$1","v":"  "},null,null,null,null,null,null,null,null,null,null,null,{"$f":"Übersetzungstexte!A$239","v":"Betrieb / Betriebsabteilung"},{"$f":"'Stammdaten Betrieb & Abteilung'!D$13","v":" "}]
[{"$f":"'Stammdaten Betrieb & Abteilung'!D$3","v":" "},null,null,null,null,null,null,null,null,null,null,null,{"$f":"Übersetzungstexte!A$240","v":"Abrechnungsperiode"},{"$f":"'Stammdaten Betrieb & Abteilung'!D$14","v":""},null,{"$f":"'Stammdaten Betrieb & Abteilung'!D$12","v":{"$error":"#VALUE!"}}]
[{"$f":"'Stammdaten Betrieb & Abteilung'!D$4","v":" "},null,null,null,null,null,null,null,null,null,null,null,{"$f":"Übersetzungstexte!A$241","v":"Beginn / Ende der Kurzarbeit"},{"$f":"'Stammdaten Betrieb & Abteilung'!D$16","v":""}]
[]
[1,2,3,4,5,6,null,7,null,8,9,10,11,12,13,null,14,15,null,null,null,"Regel 7","Regel 8",null,"Regel 9","Regel 10","Regel 11","Regel 12","Regel 13","Regel 14","Regel 15","Regel 17",null,"Regel 19/20",null,null,null,null,"AHV-pflichtiger","AHV-pflichtiger",null,null,"AHV-pflichtige"]
[{"$f":"Übersetzungstexte!A$242","v":""},{"$f":"Übersetzungstexte!A$245","v":"anrechen-"},{"$f":"Übersetzungstexte!A$248","v":"Wöchentl."},{"$f":"Übersetzungstexte!A$251","v":"Sollstd. Abr.-"},{"$f":"Übersetzungstexte!A$254","v":""},{"$f":"Übersetzungstexte!A$257","v":"Bezahlte/"},null,{"$f":"Übersetzungstexte!A$263","v":"(nur für Gleitzeit)"},null,{"$f":"Übersetzungstexte!A$269","v":"Ausfall-"},{"$f":"Übersetzungstexte!A$272","v":"Saldo"},{"$f":"Übersetzungstexte!A$275","v":"Saisonale"},{"$f":"Übersetzungstexte!A$278","v":"Anrechen-"},{"$f":"Übersetzungstexte!A$281","v":"Verdienst-"},{"$f":"Übersetzungstexte!A$284","v":"Verdienst-"},{"$f":"Übersetzungstexte!A$287","v":"Verdienst"},{"$f":"AE$4","v":"Abzug "},{"$f":"Übersetzungstexte!A$293","v":""},null,null,"anrechen-","Gleitzeit","Ausfall-","Max(D12,0)","Prozentualer","Saisonale","Proz. Wirts. Bed.","Anrechen-","Verdienst-","Verdienst-","Abzug","Abzug","Verdienst",null,"Anzahl","Anzahl","Sollstd.","Absenzen","Verdienst-","Verdienst","Sollstd.","bezahlte/","Abzugsbasis"]
[{"$f":"Übersetzungstexte!A$243","v":""},{"$f":"Übersetzungstexte!A$246","v":"barer Std.-"},{"$f":"Übersetzungstexte!A$249","v":"Arbeitszeit"},{"$f":"Übersetzungstexte!A$252","v":"Periode Inkl."},{"$f":"Übersetzungstexte!A$255","v":""},{"$f":"Übersetzungstexte!A$258","v":"Unbezahlte"},{"$f":"Übersetzungstexte!A$261","v":"Saldo Ende Per."},null,null,{"$f":"Übersetzungstexte!A$270","v":"stunden"},{"$f":"Übersetzungstexte!A$273","v":"Mehrstd."},{"$f":"Übersetzungstexte!A$276","v":"Ausfall-"},{"$f":"Übersetzungstexte!A$279","v":"bare Aus-"},{"$f":"Übersetzungstexte!A$282","v":"ausfall"},{"$f":"Übersetzungstexte!A$285","v":"ausfall"},{"$f":"Übersetzungstexte!A$288","v":"Zwischen-"},{"$f":"Übersetzungstexte!A$291","v":"Karenztage"},{"$f":"Übersetzungstexte!A$294","v":"Beantragte"},null,null,"barer Std.-","c","stunden",null,"Arbeitsausfall","Ausfall-","Arbeitsausfall","bare ","ausfall","ausfall","Karenztage","Zwischen-","Zwischen-","Beantragte","bezugsber.","betroffene","bezugsber.","bezugsber.","ausfall","Zwischen-","inkl","unbezahlte"]
[{"$f":"Übersetzungstexte!A$244","v":"Name,Vorname"},{"$f":"Übersetzungstexte!A$247","v":"Verdienst"},{"$f":"Übersetzungstexte!A$250","v":"in der AP"},{"$f":"Übersetzungstexte!A$253","v":"Vorholzeit"},{"$f":"Übersetzungstexte!A$256","v":"Istzeit"},{"$f":"Übersetzungstexte!A$259","v":"Absenzen"},{"$f":"Übersetzungstexte!A$262","v":"vorherg."},{"$f":"Übersetzungstexte!A$265","v":"laufend"},{"$f":"Übersetzungstexte!A$268","v":"Diff."},{"$f":"Übersetzungstexte!A$271","v":"total"},{"$f":"Übersetzungstexte!A$274","v":"Vormonate"},{"$f":"Übersetzungstexte!A$277","v":"stunden"},{"$f":"Übersetzungstexte!A$280","v":"fall-Std."},{"$f":"Übersetzungstexte!A$283","v":"100%"},{"$f":"Übersetzungstexte!A$286","v":"80%"},{"$f":"Übersetzungstexte!A$289","v":"Beschäftigung"},{"$f":"Übersetzungstexte!A$292","v":"80%"},{"$f":"Übersetzungstexte!A$295","v":"Vergütung"},null,null,"Verdienst",null,"Total",null,"pAA","stunden","pwAA","Ausfall-Std.","100%","80%","80%","beschäftigung","beschäftigung","Vergütung","Mitarbeiter","Mitarbeiter","Mitarbeiter","Mitarbeiter","100%","beschäftigung","Vorholzeit","Ansenzen"]
[{"$f":"'Stammdaten Mitarbeitende'!AA909","v":""},{"$f":"U909","v":""},null,null,null,null,null,null,{"$f":"V909","v":0},{"$f":"W909","v":""},null,{"$f":"Z909","v":""},{"$f":"AB909","v":""},{"$f":"AC909","v":""},{"$f":"AD909","v":""},null,{"$f":"AE909","v":""},{"$f":"AH909","v":""},null,null,{"$f":"IF($A909=\"\",\"\",'Stammdaten Mitarbeitende'!L909)","v":""},{"$f":"IF(AND(G909=\"\",H909=\"\"),0,G909-H909)","v":0},{"$f":"IF(OR($A909=\"\",D909=\"\",E909=\"\",F909=\"\",V909=\"\"),\"\",D909-(E909+F909+V909))","v":""},{"$f":"IF(W909=\"\",\"\",MAX(W909,0))","v":""},{"$f":"IF(J909=\"\",\"\",Y$4)","v":""},{"$f":"IF(J909=\"\",\"\",J909*Z$4)","v":""},{"$f":"IF(Y909=\"\",\"\",AA$4)","v":""},{"$f":"IF(J909=\"\",\"\",ROUND(J909*AB$4 - MAX(K909-L909,0),2))","v":""},{"$f":"IF(OR($A909=\"\",J909=\"\",B909=\"\",M909<0),\"\",MAX(ROUND(M909*B909*2,1)/2,0))","v":""},{"$f":"IF(OR($A909=\"\",N909=\"\"),\"\",ROUND(N909*8/5,1)/2)","v":""},{"$f":"IF(OR($A909=\"\",B909=\"\",N909=\"\"),\"\",ROUND(AE$3*C909*B909*16/50,1)/2)","v":""},{"$f":"IF(OR($A909=\"\",J909=\"\",N909=\"\"),\"\",MAX(O909+P909-N909,0))","v":""},{"$f":"P909","v":0},{"$f":"IF(OR($A909=\"\",N909=\"\"),\"\",ROUND((MAX(O909-Q909-AF909,0))*2,1)/2)","v":""},{"$f":"IF(D909=\"\",0,1)","v":0},{"$f":"IF(J909=\"\",0,IF(ROUND(J909,2)<=0,0,1))","v":0},{"$f":"IF(D909=\"\",0,D909)","v":0},{"$f":"IF(D909=\"\",0,F909)","v":0},{"$f":"IF('Stammdaten Mitarbeitende'!N909>0,AC909,0)","v":0},{"$f":"IF('Stammdaten Mitarbeitende'!N909>0,P909,0)","v":0},{"$f":"D909","v":0},{"$f":"F909","v":0},{"$f":"IF(AM909=\"\",0,MAX(AM909-AN909,0))","v":0}]
[{"$f":"'Stammdaten Mitarbeitende'!AA910","v":""},"",null,null,null,null,null,null,0,"",null,"","","","",null,"","",null,null,{"$f":"IF($A910=\"\",\"\",'Stammdaten Mitarbeitende'!L910)","v":""},0,"","","","","","","","","","",0,"",0,{"$f":"IF(J910=\"\",0,IF(ROUND(J910,2)<=0,0,1))","v":0},0,0,{"$f":"IF('Stammdaten Mitarbeitende'!N910>0,AC910,0)","v":0},{"$f":"IF('Stammdaten Mitarbeitende'!N910>0,P910,0)","v":0},0,0,0]
[{"$f":"'Stammdaten Mitarbeitende'!AA911","v":""},"",null,null,null,null,null,null,0,"",null,"","","","",null,"","",null,null,{"$f":"IF($A911=\"\",\"\",'Stammdaten Mitarbeitende'!L911)","v":""},0,"","","","","","","","","","",0,"",0,0,0,0,{"$f":"IF('Stammdaten Mitarbeitende'!N911>0,AC911,0)","v":0},{"$f":"IF('Stammdaten Mitarbeitende'!N911>0,P911,0)","v":0},0,0,0]
[{"$f":"'Stammdaten Mitarbeitende'!AA912","v":""},"",null,null,null,null,null,null,0,"",null,"","","","",null,"","",null,null,{"$f":"IF($A912=\"\",\"\",'Stammdaten Mitarbeitende'!L912)","v":""},0,"","","","","","","","","","",0,"",0,0,0,0,{"$f":"IF('Stammdaten Mitarbeitende'!N912>0,AC912,0)","v":0},{"$f":"IF('Stammdaten Mitarbeitende'!N912>0,P912,0)","v":0},0,0,0]
[{"$f":"'Stammdaten Mitarbeitende'!AA913","v":""},"",null,null,null,null,null,null,0,"",null,"","","","",null,"","",null,null,{"$f":"IF($A913=\"\",\"\",'Stammdaten Mitarbeitende'!L913)","v":""},0,"","","","","","","","","","",0,"",0,0,0,0,{"$f":"IF('Stammdaten Mitarbeitende'!N913>0,AC913,0)","v":0},{"$f":"IF('Stammdaten Mitarbeitende'!N913>0,P913,0)","v":0},0,0,0]
[{"$f":"'Stammdaten Mitarbeitende'!AA914","v":""},"",null,null,null,null,null,null,0,"",null,"","","","",null,"","",null,null,{"$f":"IF($A914=\"\",\"\",'Stammdaten Mitarbeitende'!L914)","v":""},0,"","","","","","","","","","",0,"",0,0,0,0,{"$f":"IF('Stammdaten Mitarbeitende'!N914>0,AC914,0)","v":0},{"$f":"IF('Stammdaten Mitarbeitende'!N914>0,P914,0)","v":0},0,0,0]
[{"$f":"'Stammdaten Mitarbeitende'!AA915","v":""},"",null,null,null,null,null,null,0,"",null,"","","","",null,"","",null,null,{"$f":"IF($A915=\"\",\"\",'Stammdaten Mitarbeitende'!L915)","v":""},0,"","","","","","","","","","",0,"",0,0,0,0,{"$f":"IF('Stammdaten Mitarbeitende'!N915>0,AC915,0)","v":0},{"$f":"IF('Stammdaten Mitarbeitende'!N915>0,P915,0)","v":0},0,0,0]
[{"$f":"'Stammdaten Mitarbeitende'!AA916","v":""},"",null,null,null,null,null,null,0,"",null,"","","","",null,"","",null,null,{"$f":"IF($A916=\"\",\"\",'Stammdaten Mitarbeitende'!L916)","v":""},0,"","","","","","","","","","",0,"",0,0,0,0,{"$f":"IF('Stammdaten Mitarbeitende'!N916>0,AC916,0)","v":0},{"$f":"IF('Stammdaten Mitarbeitende'!N916>0,P916,0)","v":0},0,0,0]
[{"$f":"'Stammdaten Mitarbeitende'!AA917","v":""},"",null,null,null,null,null,null,0,"",null,"","","","",null,"","",null,null,{"$f":"IF($A917=\"\",\"\",'Stammdaten Mitarbeitende'!L917)","v":""},0,"","","","","","","","","","",0,"",0,0,0,0,{"$f":"IF('Stammdaten Mitarbeitende'!N917>0,AC917,0)","v":0},{"$f":"IF('Stammdaten Mitarbeitende'!N917>0,P917,0)","v":0},0,0,0]
[{"$f":"'Stammdaten Mitarbeitende'!AA918","v":""},"",null,null,null,null,null,null,0,"",null,"","","","",null,"","",null,null,{"$f":"IF($A918=\"\",\"\",'Stammdaten Mitarbeitende'!L918)","v":""},0,"","","","","","","","","","",0,"",0,0,0,0,{"$f":"IF('Stammdaten Mitarbeitende'!N918>0,AC918,0)","v":0},{"$f":"IF('Stammdaten Mitarbeitende'!N918>0,P918,0)","v":0},0,0,0]
[{"$f":"'Stammdaten Mitarbeitende'!AA919","v":""},"",null,null,null,null,null,null,0,"",null,"","","","",null,"","",null,null,{"$f":"IF($A919=\"\",\"\",'Stammdaten Mitarbeitende'!L919)","v":""},0,"","","","","","","","","","",0,"",0,0,0,0,{"$f":"IF('Stammdaten Mitarbeitende'!N919>0,AC919,0)","v":0},{"$f":"IF('Stammdaten Mitarbeitende'!N919>0,P919,0)","v":0},0,0,0]
[{"$f":"'Stammdaten Mitarbeitende'!AA920","v":""},"",null,null,null,null,null,null,0,"",null,"","","","",null,"","",null,null,{"$f":"IF($A920=\"\",\"\",'Stammdaten Mitarbeitende'!L920)","v":""},0,"","","","","","","","","","",0,"",0,0,0,0,{"$f":"IF('Stammdaten Mitarbeitende'!N920>0,AC920,0)","v":0},{"$f":"IF('Stammdaten Mitarbeitende'!N920>0,P920,0)","v":0},0,0,0]
[{"$f":"'Stammdaten Mitarbeitende'!AA921","v":""},"",null,null,null,null,null,null,0,"",null,"","","","",null,"","",null,null,{"$f":"IF($A921=\"\",\"\",'Stammdaten Mitarbeitende'!L921)","v":""},0,"","","","","","","","","","",0,"",0,0,0,0,{"$f":"IF('Stammdaten Mitarbeitende'!N921>0,AC921,0)","v":0},{"$f":"IF('Stammdaten Mitarbeitende'!N921>0,P921,0)","v":0},0,0,0]
[{"$f":"'Stammdaten Mitarbeitende'!AA922","v":""},"",null,null,null,null,null,null,0,"",null,"","","","",null,"","",null,null,{"$f":"IF($A922=\"\",\"\",'Stammdaten Mitarbeitende'!L922)","v":""},0,"","","","","","","","","","",0,"",0,0,0,0,{"$f":"IF('Stammdaten Mitarbeitende'!N922>0,AC922,0)","v":0},{"$f":"IF('Stammdaten Mitarbeitende'!N922>0,P922,0)","v":0},0,0,0]
[{"$f":"'Stammdaten Mitarbeitende'!AA923","v":""},"",null,null,null,null,null,null,0,"",null,"","","","",null,"","",null,null,{"$f":"IF($A923=\"\",\"\",'Stammdaten Mitarbeitende'!L923)","v":""},0,"","","","","","","","","","",0,"",0,0,0,0,{"$f":"IF('Stammdaten Mitarbeitende'!N923>0,AC923,0)","v":0},{"$f":"IF('Stammdaten Mitarbeitende'!N923>0,P923,0)","v":0},0,0,0]
[{"$f":"'Stammdaten Mitarbeitende'!AA924","v":""},"",null,null,null,null,null,null,0,"",null,"","","","",null,"","",null,null,{"$f":"IF($A924=\"\",\"\",'Stammdaten Mitarbeitende'!L924)","v":""},0,"","","","","","","","","","",0,"",0,0,0,0,{"$f":"IF('Stammdaten Mitarbeitende'!N924>0,AC924,0)","v":0},{"$f":"IF('Stammdaten Mitarbeitende'!N924>0,P924,0)","v":0},0,0,0]
[{"$f":"'Stammdaten Mitarbeitende'!AA925","v":""},"",null,null,null,null,null,null,0,"",null,"","","","",null,"","",null,null,{"$f":"IF($A925=\"\",\"\",'Stammdaten Mitarbeitende'!L925)","v":""},0,"","","","","","","","","","",0,"",0,0,0,0,{"$f":"IF('Stammdaten Mitarbeitende'!N925>0,AC925,0)","v":0},{"$f":"IF('Stammdaten Mitarbeitende'!N925>0,P925,0)","v":0},0,0,0]
[{"$f":"'Stammdaten Mitarbeitende'!AA926","v":""},"",null,null,null,null,null,null,0,"",null,"","","","",null,"","",null,null,{"$f":"IF($A926=\"\",\"\",'Stammdaten Mitarbeitende'!L926)","v":""},0,"","","","","","","","","","",0,"",0,0,0,0,{"$f":"IF('Stammdaten Mitarbeitende'!N926>0,AC926,0)","v":0},{"$f":"IF('Stammdaten Mitarbeitende'!N926>0,P926,0)","v":0},0,0,0]
[{"$f":"'Stammdaten Mitarbeitende'!AA927","v":""},"",null,null,null,null,null,null,0,"",null,"","","","",null,"","",null,null,{"$f":"IF($A927=\"\",\"\",'Stammdaten Mitarbeitende'!L927)","v":""},0,"","","","","","","","","","",0,"",0,0,0,0,{"$f":"IF('Stammdaten Mitarbeitende'!N927>0,AC927,0)","v":0},{"$f":"IF('Stammdaten Mitarbeitende'!N927>0,P927,0)","v":0},0,0,0]
[{"$f":"'Stammdaten Mitarbeitende'!AA928","v":""},"",null,null,null,null,null,null,0,"",null,"","","","",null,"","",null,null,{"$f":"IF($A928=\"\",\"\",'Stammdaten Mitarbeitende'!L928)","v":""},0,"","","","","","","","","","",0,"",0,0,0,0,{"$f":"IF('Stammdaten Mitarbeitende'!N928>0,AC928,0)","v":0},{"$f":"IF('Stammdaten Mitarbeitende'!N928>0,P928,0)","v":0},0,0,0]
[{"$f":"'Stammdaten Mitarbeitende'!AA929","v":""},"",null,null,null,null,null,null,0,"",null,"","","","",null,"","",null,null,{"$f":"IF($A929=\"\",\"\",'Stammdaten Mitarbeitende'!L929)","v":""},0,"","","","","","","","","","",0,"",0,0,0,0,{"$f":"IF('Stammdaten Mitarbeitende'!N929>0,AC929,0)","v":0},{"$f":"IF('Stammdaten Mitarbeitende'!N929>0,P929,0)","v":0},0,0,0]
[{"$f":"Übersetzungstexte!A$296","v":"Seitentotal"},null,null,{"$f":"SUM(D909:D929)","v":0},null,{"$f":"SUM(F909:F929)","v":0},null,null,null,{"$f":"SUM(J909:J929)","v":0},null,null,null,{"$f":"SUM(N909:N929)","v":0},null,{"$f":"SUM(P909:P929)","v":0},null,{"$f":"SUM(R909:R929)","v":0}]
[{"$f":"'Stammdaten Betrieb & Abteilung'!D$1","v":"  "},null,null,null,null,null,null,null,null,null,null,null,{"$f":"Übersetzungstexte!A$239","v":"Betrieb / Betriebsabteilung"},{"$f":"'Stammdaten Betrieb & Abteilung'!D$13","v":" "}]
[{"$f":"'Stammdaten Betrieb & Abteilung'!D$3","v":" "},null,null,null,null,null,null,null,null,null,null,null,{"$f":"Übersetzungstexte!A$240","v":"Abrechnungsperiode"},{"$f":"'Stammdaten Betrieb & Abteilung'!D$14","v":""},null,{"$f":"'Stammdaten Betrieb & Abteilung'!D$12","v":{"$error":"#VALUE!"}}]
[{"$f":"'Stammdaten Betrieb & Abteilung'!D$4","v":" "},null,null,null,null,null,null,null,null,null,null,null,{"$f":"Übersetzungstexte!A$241","v":"Beginn / Ende der Kurzarbeit"},{"$f":"'Stammdaten Betrieb & Abteilung'!D$16","v":""}]
[]
[1,2,3,4,5,6,null,7,null,8,9,10,11,12,13,null,14,15,null,null,null,"Regel 7","Regel 8",null,"Regel 9","Regel 10","Regel 11","Regel 12","Regel 13","Regel 14","Regel 15","Regel 17",null,"Regel 19/20",null,null,null,null,"AHV-pflichtiger","AHV-pflichtiger",null,null,"AHV-pflichtige"]
[{"$f":"Übersetzungstexte!A$242","v":""},{"$f":"Übersetzungstexte!A$245","v":"anrechen-"},{"$f":"Übersetzungstexte!A$248","v":"Wöchentl."},{"$f":"Übersetzungstexte!A$251","v":"Sollstd. Abr.-"},{"$f":"Übersetzungstexte!A$254","v":""},{"$f":"Übersetzungstexte!A$257","v":"Bezahlte/"},null,{"$f":"Übersetzungstexte!A$263","v":"(nur für Gleitzeit)"},null,{"$f":"Übersetzungstexte!A$269","v":"Ausfall-"},{"$f":"Übersetzungstexte!A$272","v":"Saldo"},{"$f":"Übersetzungstexte!A$275","v":"Saisonale"},{"$f":"Übersetzungstexte!A$278","v":"Anrechen-"},{"$f":"Übersetzungstexte!A$281","v":"Verdienst-"},{"$f":"Übersetzungstexte!A$284","v":"Verdienst-"},{"$f":"Übersetzungstexte!A$287","v":"Verdienst"},{"$f":"AE$4","v":"Abzug "},{"$f":"Übersetzungstexte!A$293","v":""},null,null,"anrechen-","Gleitzeit","Ausfall-","Max(D12,0)","Prozentualer","Saisonale","Proz. Wirts. Bed.","Anrechen-","Verdienst-","Verdienst-","Abzug","Abzug","Verdienst",null,"Anzahl","Anzahl","Sollstd.","Absenzen","Verdienst-","Verdienst","Sollstd.","bezahlte/","Abzugsbasis"]
[{"$f":"Übersetzungstexte!A$243","v":""},{"$f":"Übersetzungstexte!A$246","v":"barer Std.-"},{"$f":"Übersetzungstexte!A$249","v":"Arbeitszeit"},{"$f":"Übersetzungstexte!A$252","v":"Periode Inkl."},{"$f":"Übersetzungstexte!A$255","v":""},{"$f":"Übersetzungstexte!A$258","v":"Unbezahlte"},{"$f":"Übersetzungstexte!A$261","v":"Saldo Ende Per."},null,null,{"$f":"Übersetzungstexte!A$270","v":"stunden"},{"$f":"Übersetzungstexte!A$273","v":"Mehrstd."},{"$f":"Übersetzungstexte!A$276","v":"Ausfall-"},{"$f":"Übersetzungstexte!A$279","v":"bare Aus-"},{"$f":"Übersetzungstexte!A$282","v":"ausfall"},{"$f":"Übersetzungstexte!A$285","v":"ausfall"},{"$f":"Übersetzungstexte!A$288","v":"Zwischen-"},{"$f":"Übersetzungstexte!A$291","v":"Karenztage"},{"$f":"Übersetzungstexte!A$294","v":"Beantragte"},null,null,"barer Std.-","c","stunden",null,"Arbeitsausfall","Ausfall-","Arbeitsausfall","bare ","ausfall","ausfall","Karenztage","Zwischen-","Zwischen-","Beantragte","bezugsber.","betroffene","bezugsber.","bezugsber.","ausfall","Zwischen-","inkl","unbezahlte"]
[{"$f":"Übersetzungstexte!A$244","v":"Name,Vorname"},{"$f":"Übersetzungstexte!A$247","v":"Verdienst"},{"$f":"Übersetzungstexte!A$250","v":"in der AP"},{"$f":"Übersetzungstexte!A$253","v":"Vorholzeit"},{"$f":"Übersetzungstexte!A$256","v":"Istzeit"},{"$f":"Übersetzungstexte!A$259","v":"Absenzen"},{"$f":"Übersetzungstexte!A$262","v":"vorherg."},{"$f":"Übersetzungstexte!A$265","v":"laufend"},{"$f":"Übersetzungstexte!A$268","v":"Diff."},{"$f":"Übersetzungstexte!A$271","v":"total"},{"$f":"Übersetzungstexte!A$274","v":"Vormonate"},{"$f":"Übersetzungstexte!A$277","v":"stunden"},{"$f":"Übersetzungstexte!A$280","v":"fall-Std."},{"$f":"Übersetzungstexte!A$283","v":"100%"},{"$f":"Übersetzungstexte!A$286","v":"80%"},{"$f":"Übersetzungstexte!A$289","v":"Beschäftigung"},{"$f":"Übersetzungstexte!A$292","v":"80%"},{"$f":"Übersetzungstexte!A$295","v":"Vergütung"},null,null,"Verdienst",null,"Total",null,"pAA","stunden","pwAA","Ausfall-Std.","100%","80%","80%","beschäftigung","beschäftigung","Vergütung","Mitarbeiter","Mitarbeiter","Mitarbeiter","Mitarbeiter","100%","beschäftigung","Vorholzeit","Ansenzen"]
[{"$f":"'Stammdaten Mitarbeitende'!AA939","v":""},{"$f":"U939","v":""},null,null,null,null,null,null,{"$f":"V939","v":0},{"$f":"W939","v":""},null,{"$f":"Z939","v":""},{"$f":"AB939","v":""},{"$f":"AC939","v":""},{"$f":"AD939","v":""},null,{"$f":"AE939","v":""},{"$f":"AH939","v":""},null,null,{"$f":"IF($A939=\"\",\"\",'Stammdaten Mitarbeitende'!L939)","v":""},{"$f":"IF(AND(G939=\"\",H939=\"\"),0,G939-H939)","v":0},{"$f":"IF(OR($A939=\"\",D939=\"\",E939=\"\",F939=\"\",V939=\"\"),\"\",D939-(E939+F939+V939))","v":""},{"$f":"IF(W939=\"\",\"\",MAX(W939,0))","v":""},{"$f":"IF(J939=\"\",\"\",Y$4)","v":""},{"$f":"IF(J939=\"\",\"\",J939*Z$4)","v":""},{"$f":"IF(Y939=\"\",\"\",AA$4)","v":""},{"$f":"IF(J939=\"\",\"\",ROUND(J939*AB$4 - MAX(K939-L939,0),2))","v":""},{"$f":"IF(OR($A939=\"\",J939=\"\",B939=\"\",M939<0),\"\",MAX(ROUND(M939*B939*2,1)/2,0))","v":""},{"$f":"IF(OR($A939=\"\",N939=\"\"),\"\",ROUND(N939*8/5,1)/2)","v":""},{"$f":"IF(OR($A939=\"\",B939=\"\",N939=\"\"),\"\",ROUND(AE$3*C939*B939*16/50,1)/2)","v":""},{"$f":"IF(OR($A939=\"\",J939=\"\",N939=\"\"),\"\",MAX(O939+P939-N939,0))","v":""},{"$f":"P939","v":0},{"$f":"IF(OR($A939=\"\",N939=\"\"),\"\",ROUND((MAX(O939-Q939-AF939,0))*2,1)/2)","v":""},{"$f":"IF(D939=\"\",0,1)","v":0},{"$f":"IF(J939=\"\",0,IF(ROUND(J939,2)<=0,0,1))","v":0},{"$f":"IF(D939=\"\",0,D939)","v":0},{"$f":"IF(D939=\"\",0,F939)","v":0},{"$f":"IF('Stammdaten Mitarbeitende'!N939>0,AC939,0)","v":0},{"$f":"IF('Stammdaten Mitarbeitende'!N939>0,P939,0)","v":0},{"$f":"D939","v":0},{"$f":"F939","v":0},{"$f":"IF(AM939=\"\",0,MAX(AM939-AN939,0))","v":0}]
[{"$f":"'Stammdaten Mitarbeitende'!AA940","v":""},"",null,null,null,null,null,null,0,"",null,"","","","",null,"","",null,null,{"$f":"IF($A940=\"\",\"\",'Stammdaten Mitarbeitende'!L940)","v":""},0,"","","","","","","","","","",0,"",0,{"$f":"IF(J940=\"\",0,IF(ROUND(J940,2)<=0,0,1))","v":0},0,0,{"$f":"IF('Stammdaten Mitarbeitende'!N940>0,AC940,0)","v":0},{"$f":"IF('Stammdaten Mitarbeitende'!N940>0,P940,0)","v":0},0,0,0]
[{"$f":"'Stammdaten Mitarbeitende'!AA941","v":""},"",null,null,null,null,null,null,0,"",null,"","","","",null,"","",null,null,{"$f":"IF($A941=\"\",\"\",'Stammdaten Mitarbeitende'!L941)","v":""},0,"","","","","","","","","","",0,"",0,0,0,0,{"$f":"IF('Stammdaten Mitarbeitende'!N941>0,AC941,0)","v":0},{"$f":"IF('Stammdaten Mitarbeitende'!N941>0,P941,0)","v":0},0,0,0]
[{"$f":"'Stammdaten Mitarbeitende'!AA942","v":""},"",null,null,null,null,null,null,0,"",null,"","","","",null,"","",null,null,{"$f":"IF($A942=\"\",\"\",'Stammdaten Mitarbeitende'!L942)","v":""},0,"","","","","","","","","","",0,"",0,0,0,0,{"$f":"IF('Stammdaten Mitarbeitende'!N942>0,AC942,0)","v":0},{"$f":"IF('Stammdaten Mitarbeitende'!N942>0,P942,0)","v":0},0,0,0]
[{"$f":"'Stammdaten Mitarbeitende'!AA943","v":""},"",null,null,null,null,null,null,0,"",null,"","","","",null,"","",null,null,{"$f":"IF($A943=\"\",\"\",'Stammdaten Mitarbeitende'!L943)","v":""},0,"","","","","","","","","","",0,"",0,0,0,0,{"$f":"IF('Stammdaten Mitarbeitende'!N943>0,AC943,0)","v":0},{"$f":"IF('Stammdaten Mitarbeitende'!N943>0,P943,0)","v":0},0,0,0]
[{"$f":"'Stammdaten Mitarbeitende'!AA944","v":""},"",null,null,null,null,null,null,0,"",null,"","","","",null,"","",null,null,{"$f":"IF($A944=\"\",\"\",'Stammdaten Mitarbeitende'!L944)","v":""},0,"","","","","","","","","","",0,"",0,0,0,0,{"$f":"IF('Stammdaten Mitarbeitende'!N944>0,AC944,0)","v":0},{"$f":"IF('Stammdaten Mitarbeitende'!N944>0,P944,0)","v":0},0,0,0]
[{"$f":"'Stammdaten Mitarbeitende'!AA945","v":""},"",null,null,null,null,null,null,0,"",null,"","","","",null,"","",null,null,{"$f":"IF($A945=\"\",\"\",'Stammdaten Mitarbeitende'!L945)","v":""},0,"","","","","","","","","","",0,"",0,0,0,0,{"$f":"IF('Stammdaten Mitarbeitende'!N945>0,AC945,0)","v":0},{"$f":"IF('Stammdaten Mitarbeitende'!N945>0,P945,0)","v":0},0,0,0]
[{"$f":"'Stammdaten Mitarbeitende'!AA946","v":""},"",null,null,null,null,null,null,0,"",null,"","","","",null,"","",null,null,{"$f":"IF($A946=\"\",\"\",'Stammdaten Mitarbeitende'!L946)","v":""},0,"","","","","","","","","","",0,"",0,0,0,0,{"$f":"IF('Stammdaten Mitarbeitende'!N946>0,AC946,0)","v":0},{"$f":"IF('Stammdaten Mitarbeitende'!N946>0,P946,0)","v":0},0,0,0]
[{"$f":"'Stammdaten Mitarbeitende'!AA947","v":""},"",null,null,null,null,null,null,0,"",null,"","","","",null,"","",null,null,{"$f":"IF($A947=\"\",\"\",'Stammdaten Mitarbeitende'!L947)","v":""},0,"","","","","","","","","","",0,"",0,0,0,0,{"$f":"IF('Stammdaten Mitarbeitende'!N947>0,AC947,0)","v":0},{"$f":"IF('Stammdaten Mitarbeitende'!N947>0,P947,0)","v":0},0,0,0]
[{"$f":"'Stammdaten Mitarbeitende'!AA948","v":""},"",null,null,null,null,null,null,0,"",null,"","","","",null,"","",null,null,{"$f":"IF($A948=\"\",\"\",'Stammdaten Mitarbeitende'!L948)","v":""},0,"","","","","","","","","","",0,"",0,0,0,0,{"$f":"IF('Stammdaten Mitarbeitende'!N948>0,AC948,0)","v":0},{"$f":"IF('Stammdaten Mitarbeitende'!N948>0,P948,0)","v":0},0,0,0]
[{"$f":"'Stammdaten Mitarbeitende'!AA949","v":""},"",null,null,null,null,null,null,0,"",null,"","","","",null,"","",null,null,{"$f":"IF($A949=\"\",\"\",'Stammdaten Mitarbeitende'!L949)","v":""},0,"","","","","","","","","","",0,"",0,0,0,0,{"$f":"IF('Stammdaten Mitarbeitende'!N949>0,AC949,0)","v":0},{"$f":"IF('Stammdaten Mitarbeitende'!N949>0,P949,0)","v":0},0,0,0]
[{"$f":"'Stammdaten Mitarbeitende'!AA950","v":""},"",null,null,null,null,null,null,0,"",null,"","","","",null,"","",null,null,{"$f":"IF($A950=\"\",\"\",'Stammdaten Mitarbeitende'!L950)","v":""},0,"","","","","","","","","","",0,"",0,0,0,0,{"$f":"IF('Stammdaten Mitarbeitende'!N950>0,AC950,0)","v":0},{"$f":"IF('Stammdaten Mitarbeitende'!N950>0,P950,0)","v":0},0,0,0]
[{"$f":"'Stammdaten Mitarbeitende'!AA951","v":""},"",null,null,null,null,null,null,0,"",null,"","","","",null,"","",null,null,{"$f":"IF($A951=\"\",\"\",'Stammdaten Mitarbeitende'!L951)","v":""},0,"","","","","","","","","","",0,"",0,0,0,0,{"$f":"IF('Stammdaten Mitarbeitende'!N951>0,AC951,0)","v":0},{"$f":"IF('Stammdaten Mitarbeitende'!N951>0,P951,0)","v":0},0,0,0]
[{"$f":"'Stammdaten Mitarbeitende'!AA952","v":""},"",null,null,null,null,null,null,0,"",null,"","","","",null,"","",null,null,{"$f":"IF($A952=\"\",\"\",'Stammdaten Mitarbeitende'!L952)","v":""},0,"","","","","","","","","","",0,"",0,0,0,0,{"$f":"IF('Stammdaten Mitarbeitende'!N952>0,AC952,0)","v":0},{"$f":"IF('Stammdaten Mitarbeitende'!N952>0,P952,0)","v":0},0,0,0]
[{"$f":"'Stammdaten Mitarbeitende'!AA953","v":""},"",null,null,null,null,null,null,0,"",null,"","","","",null,"","",null,null,{"$f":"IF($A953=\"\",\"\",'Stammdaten Mitarbeitende'!L953)","v":""},0,"","","","","","","","","","",0,"",0,0,0,0,{"$f":"IF('Stammdaten Mitarbeitende'!N953>0,AC953,0)","v":0},{"$f":"IF('Stammdaten Mitarbeitende'!N953>0,P953,0)","v":0},0,0,0]
[{"$f":"'Stammdaten Mitarbeitende'!AA954","v":""},"",null,null,null,null,null,null,0,"",null,"","","","",null,"","",null,null,{"$f":"IF($A954=\"\",\"\",'Stammdaten Mitarbeitende'!L954)","v":""},0,"","","","","","","","","","",0,"",0,0,0,0,{"$f":"IF('Stammdaten Mitarbeitende'!N954>0,AC954,0)","v":0},{"$f":"IF('Stammdaten Mitarbeitende'!N954>0,P954,0)","v":0},0,0,0]
[{"$f":"'Stammdaten Mitarbeitende'!AA955","v":""},"",null,null,null,null,null,null,0,"",null,"","","","",null,"","",null,null,{"$f":"IF($A955=\"\",\"\",'Stammdaten Mitarbeitende'!L955)","v":""},0,"","","","","","","","","","",0,"",0,0,0,0,{"$f":"IF('Stammdaten Mitarbeitende'!N955>0,AC955,0)","v":0},{"$f":"IF('Stammdaten Mitarbeitende'!N955>0,P955,0)","v":0},0,0,0]
[{"$f":"'Stammdaten Mitarbeitende'!AA956","v":""},"",null,null,null,null,null,null,0,"",null,"","","","",null,"","",null,null,{"$f":"IF($A956=\"\",\"\",'Stammdaten Mitarbeitende'!L956)","v":""},0,"","","","","","","","","","",0,"",0,0,0,0,{"$f":"IF('Stammdaten Mitarbeitende'!N956>0,AC956,0)","v":0},{"$f":"IF('Stammdaten Mitarbeitende'!N956>0,P956,0)","v":0},0,0,0]
[{"$f":"'Stammdaten Mitarbeitende'!AA957","v":""},"",null,null,null,null,null,null,0,"",null,"","","","",null,"","",null,null,{"$f":"IF($A957=\"\",\"\",'Stammdaten Mitarbeitende'!L957)","v":""},0,"","","","","","","","","","",0,"",0,0,0,0,{"$f":"IF('Stammdaten Mitarbeitende'!N957>0,AC957,0)","v":0},{"$f":"IF('Stammdaten Mitarbeitende'!N957>0,P957,0)","v":0},0,0,0]
[{"$f":"'Stammdaten Mitarbeitende'!AA958","v":""},"",null,null,null,null,null,null,0,"",null,"","","","",null,"","",null,null,{"$f":"IF($A958=\"\",\"\",'Stammdaten Mitarbeitende'!L958)","v":""},0,"","","","","","","","","","",0,"",0,0,0,0,{"$f":"IF('Stammdaten Mitarbeitende'!N958>0,AC958,0)","v":0},{"$f":"IF('Stammdaten Mitarbeitende'!N958>0,P958,0)","v":0},0,0,0]
[{"$f":"'Stammdaten Mitarbeitende'!AA959","v":""},"",null,null,null,null,null,null,0,"",null,"","","","",null,"","",null,null,{"$f":"IF($A959=\"\",\"\",'Stammdaten Mitarbeitende'!L959)","v":""},0,"","","","","","","","","","",0,"",0,0,0,0,{"$f":"IF('Stammdaten Mitarbeitende'!N959>0,AC959,0)","v":0},{"$f":"IF('Stammdaten Mitarbeitende'!N959>0,P959,0)","v":0},0,0,0]
[{"$f":"Übersetzungstexte!A$296","v":"Seitentotal"},null,null,{"$f":"SUM(D939:D959)","v":0},null,{"$f":"SUM(F939:F959)","v":0},null,null,null,{"$f":"SUM(J939:J959)","v":0},null,null,null,{"$f":"SUM(N939:N959)","v":0},null,{"$f":"SUM(P939:P959)","v":0},null,{"$f":"SUM(R939:R959)","v":0}]
[{"$f":"'Stammdaten Betrieb & Abteilung'!D$1","v":"  "},null,null,null,null,null,null,null,null,null,null,null,{"$f":"Übersetzungstexte!A$239","v":"Betrieb / Betriebsabteilung"},{"$f":"'Stammdaten Betrieb & Abteilung'!D$13","v":" "}]
[{"$f":"'Stammdaten Betrieb & Abteilung'!D$3","v":" "},null,null,null,null,null,null,null,null,null,null,null,{"$f":"Übersetzungstexte!A$240","v":"Abrechnungsperiode"},{"$f":"'Stammdaten Betrieb & Abteilung'!D$14","v":""},null,{"$f":"'Stammdaten Betrieb & Abteilung'!D$12","v":{"$error":"#VALUE!"}}]
[{"$f":"'Stammdaten Betrieb & Abteilung'!D$4","v":" "},null,null,null,null,null,null,null,null,null,null,null,{"$f":"Übersetzungstexte!A$241","v":"Beginn / Ende der Kurzarbeit"},{"$f":"'Stammdaten Betrieb & Abteilung'!D$16","v":""}]
[]
[1,2,3,4,5,6,null,7,null,8,9,10,11,12,13,null,14,15,null,null,null,"Regel 7","Regel 8",null,"Regel 9","Regel 10","Regel 11","Regel 12","Regel 13","Regel 14","Regel 15","Regel 17",null,"Regel 19/20",null,null,null,null,"AHV-pflichtiger","AHV-pflichtiger",null,null,"AHV-pflichtige"]
[{"$f":"Übersetzungstexte!A$242","v":""},{"$f":"Übersetzungstexte!A$245","v":"anrechen-"},{"$f":"Übersetzungstexte!A$248","v":"Wöchentl."},{"$f":"Übersetzungstexte!A$251","v":"Sollstd. Abr.-"},{"$f":"Übersetzungstexte!A$254","v":""},{"$f":"Übersetzungstexte!A$257","v":"Bezahlte/"},null,{"$f":"Übersetzungstexte!A$263","v":"(nur für Gleitzeit)"},null,{"$f":"Übersetzungstexte!A$269","v":"Ausfall-"},{"$f":"Übersetzungstexte!A$272","v":"Saldo"},{"$f":"Übersetzungstexte!A$275","v":"Saisonale"},{"$f":"Übersetzungstexte!A$278","v":"Anrechen-"},{"$f":"Übersetzungstexte!A$281","v":"Verdienst-"},{"$f":"Übersetzungstexte!A$284","v":"Verdienst-"},{"$f":"Übersetzungstexte!A$287","v":"Verdienst"},{"$f":"AE$4","v":"Abzug "},{"$f":"Übersetzungstexte!A$293","v":""},null,null,"anrechen-","Gleitzeit","Ausfall-","Max(D12,0)","Prozentualer","Saisonale","Proz. Wirts. Bed.","Anrechen-","Verdienst-","Verdienst-","Abzug","Abzug","Verdienst",null,"Anzahl","Anzahl","Sollstd.","Absenzen","Verdienst-","Verdienst","Sollstd.","bezahlte/","Abzugsbasis"]
[{"$f":"Übersetzungstexte!A$243","v":""},{"$f":"Übersetzungstexte!A$246","v":"barer Std.-"},{"$f":"Übersetzungstexte!A$249","v":"Arbeitszeit"},{"$f":"Übersetzungstexte!A$252","v":"Periode Inkl."},{"$f":"Übersetzungstexte!A$255","v":""},{"$f":"Übersetzungstexte!A$258","v":"Unbezahlte"},{"$f":"Übersetzungstexte!A$261","v":"Saldo Ende Per."},null,null,{"$f":"Übersetzungstexte!A$270","v":"stunden"},{"$f":"Übersetzungstexte!A$273","v":"Mehrstd."},{"$f":"Übersetzungstexte!A$276","v":"Ausfall-"},{"$f":"Übersetzungstexte!A$279","v":"bare Aus-"},{"$f":"Übersetzungstexte!A$282","v":"ausfall"},{"$f":"Übersetzungstexte!A$285","v":"ausfall"},{"$f":"Übersetzungstexte!A$288","v":"Zwischen-"},{"$f":"Übersetzungstexte!A$291","v":"Karenztage"},{"$f":"Übersetzungstexte!A$294","v":"Beantragte"},null,null,"barer Std.-","c","stunden",null,"Arbeitsausfall","Ausfall-","Arbeitsausfall","bare ","ausfall","ausfall","Karenztage","Zwischen-","Zwischen-","Beantragte","bezugsber.","betroffene","bezugsber.","bezugsber.","ausfall","Zwischen-","inkl","unbezahlte"]
[{"$f":"Übersetzungstexte!A$244","v":"Name,Vorname"},{"$f":"Übersetzungstexte!A$247","v":"Verdienst"},{"$f":"Übersetzungstexte!A$250","v":"in der AP"},{"$f":"Übersetzungstexte!A$253","v":"Vorholzeit"},{"$f":"Übersetzungstexte!A$256","v":"Istzeit"},{"$f":"Übersetzungstexte!A$259","v":"Absenzen"},{"$f":"Übersetzungstexte!A$262","v":"vorherg."},{"$f":"Übersetzungstexte!A$265","v":"laufend"},{"$f":"Übersetzungstexte!A$268","v":"Diff."},{"$f":"Übersetzungstexte!A$271","v":"total"},{"$f":"Übersetzungstexte!A$274","v":"Vormonate"},{"$f":"Übersetzungstexte!A$277","v":"stunden"},{"$f":"Übersetzungstexte!A$280","v":"fall-Std."},{"$f":"Übersetzungstexte!A$283","v":"100%"},{"$f":"Übersetzungstexte!A$286","v":"80%"},{"$f":"Übersetzungstexte!A$289","v":"Beschäftigung"},{"$f":"Übersetzungstexte!A$292","v":"80%"},{"$f":"Übersetzungstexte!A$295","v":"Vergütung"},null,null,"Verdienst",null,"Total",null,"pAA","stunden","pwAA","Ausfall-Std.","100%","80%","80%","beschäftigung","beschäftigung","Vergütung","Mitarbeiter","Mitarbeiter","Mitarbeiter","Mitarbeiter","100%","beschäftigung","Vorholzeit","Ansenzen"]
[{"$f":"'Stammdaten Mitarbeitende'!AA969","v":""},{"$f":"U969","v":""},null,null,null,null,null,null,{"$f":"V969","v":0},{"$f":"W969","v":""},null,{"$f":"Z969","v":""},{"$f":"AB969","v":""},{"$f":"AC969","v":""},{"$f":"AD969","v":""},null,{"$f":"AE969","v":""},{"$f":"AH969","v":""},null,null,{"$f":"IF($A969=\"\",\"\",'Stammdaten Mitarbeitende'!L969)","v":""},{"$f":"IF(AND(G969=\"\",H969=\"\"),0,G969-H969)","v":0},{"$f":"IF(OR($A969=\"\",D969=\"\",E969=\"\",F969=\"\",V969=\"\"),\"\",D969-(E969+F969+V969))","v":""},{"$f":"IF(W969=\"\",\"\",MAX(W969,0))","v":""},{"$f":"IF(J969=\"\",\"\",Y$4)","v":""},{"$f":"IF(J969=\"\",\"\",J969*Z$4)","v":""},{"$f":"IF(Y969=\"\",\"\",AA$4)","v":""},{"$f":"IF(J969=\"\",\"\",ROUND(J969*AB$4 - MAX(K969-L969,0),2))","v":""},{"$f":"IF(OR($A969=\"\",J969=\"\",B969=\"\",M969<0),\"\",MAX(ROUND(M969*B969*2,1)/2,0))","v":""},{"$f":"IF(OR($A969=\"\",N969=\"\"),\"\",ROUND(N969*8/5,1)/2)","v":""},{"$f":"IF(OR($A969=\"\",B969=\"\",N969=\"\"),\"\",ROUND(AE$3*C969*B969*16/50,1)/2)","v":""},{"$f":"IF(OR($A969=\"\",J969=\"\",N969=\"\"),\"\",MAX(O969+P969-N969,0))","v":""},{"$f":"P969","v":0},{"$f":"IF(OR($A969=\"\",N969=\"\"),\"\",ROUND((MAX(O969-Q969-AF969,0))*2,1)/2)","v":""},{"$f":"IF(D969=\"\",0,1)","v":0},{"$f":"IF(J969=\"\",0,IF(ROUND(J969,2)<=0,0,1))","v":0},{"$f":"IF(D969=\"\",0,D969)","v":0},{"$f":"IF(D969=\"\",0,F969)","v":0},{"$f":"IF('Stammdaten Mitarbeitende'!N969>0,AC969,0)","v":0},{"$f":"IF('Stammdaten Mitarbeitende'!N969>0,P969,0)","v":0},{"$f":"D969","v":0},{"$f":"F969","v":0},{"$f":"IF(AM969=\"\",0,MAX(AM969-AN969,0))","v":0}]
[{"$f":"'Stammdaten Mitarbeitende'!AA970","v":""},"",null,null,null,null,null,null,0,"",null,"","","","",null,"","",null,null,{"$f":"IF($A970=\"\",\"\",'Stammdaten Mitarbeitende'!L970)","v":""},0,"","","","","","","","","","",0,"",0,{"$f":"IF(J970=\"\",0,IF(ROUND(J970,2)<=0,0,1))","v":0},0,0,{"$f":"IF('Stammdaten Mitarbeitende'!N970>0,AC970,0)","v":0},{"$f":"IF('Stammdaten Mitarbeitende'!N970>0,P970,0)","v":0},0,0,0]
[{"$f":"'Stammdaten Mitarbeitende'!AA971","v":""},"",null,null,null,null,null,null,0,"",null,"","","","",null,"","",null,null,{"$f":"IF($A971=\"\",\"\",'Stammdaten Mitarbeitende'!L971)","v":""},0,"","","","","","","","","","",0,"",0,0,0,0,{"$f":"IF('Stammdaten Mitarbeitende'!N971>0,AC971,0)","v":0},{"$f":"IF('Stammdaten Mitarbeitende'!N971>0,P971,0)","v":0},0,0,0]
[{"$f":"'Stammdaten Mitarbeitende'!AA972","v":""},"",null,null,null,null,null,null,0,"",null,"","","","",null,"","",null,null,{"$f":"IF($A972=\"\",\"\",'Stammdaten Mitarbeitende'!L972)","v":""},0,"","","","","","","","","","",0,"",0,0,0,0,{"$f":"IF('Stammdaten Mitarbeitende'!N972>0,AC972,0)","v":0},{"$f":"IF('Stammdaten Mitarbeitende'!N972>0,P972,0)","v":0},0,0,0]
[{"$f":"'Stammdaten Mitarbeitende'!AA973","v":""},"",null,null,null,null,null,null,0,"",null,"","","","",null,"","",null,null,{"$f":"IF($A973=\"\",\"\",'Stammdaten Mitarbeitende'!L973)","v":""},0,"","","","","","","","","","",0,"",0,0,0,0,{"$f":"IF('Stammdaten Mitarbeitende'!N973>0,AC973,0)","v":0},{"$f":"IF('Stammdaten Mitarbeitende'!N973>0,P973,0)","v":0},0,0,0]
[{"$f":"'Stammdaten Mitarbeitende'!AA974","v":""},"",null,null,null,null,null,null,0,"",null,"","","","",null,"","",null,null,{"$f":"IF($A974=\"\",\"\",'Stammdaten Mitarbeitende'!L974)","v":""},0,"","","","","","","","","","",0,"",0,0,0,0,{"$f":"IF('Stammdaten Mitarbeitende'!N974>0,AC974,0)","v":0},{"$f":"IF('Stammdaten Mitarbeitende'!N974>0,P974,0)","v":0},0,0,0]
[{"$f":"'Stammdaten Mitarbeitende'!AA975","v":""},"",null,null,null,null,null,null,0,"",null,"","","","",null,"","",null,null,{"$f":"IF($A975=\"\",\"\",'Stammdaten Mitarbeitende'!L975)","v":""},0,"","","","","","","","","","",0,"",0,0,0,0,{"$f":"IF('Stammdaten Mitarbeitende'!N975>0,AC975,0)","v":0},{"$f":"IF('Stammdaten Mitarbeitende'!N975>0,P975,0)","v":0},0,0,0]
[{"$f":"'Stammdaten Mitarbeitende'!AA976","v":""},"",null,null,null,null,null,null,0,"",null,"","","","",null,"","",null,null,{"$f":"IF($A976=\"\",\"\",'Stammdaten Mitarbeitende'!L976)","v":""},0,"","","","","","","","","","",0,"",0,0,0,0,{"$f":"IF('Stammdaten Mitarbeitende'!N976>0,AC976,0)","v":0},{"$f":"IF('Stammdaten Mitarbeitende'!N976>0,P976,0)","v":0},0,0,0]
[{"$f":"'Stammdaten Mitarbeitende'!AA977","v":""},"",null,null,null,null,null,null,0,"",null,"","","","",null,"","",null,null,{"$f":"IF($A977=\"\",\"\",'Stammdaten Mitarbeitende'!L977)","v":""},0,"","","","","","","","","","",0,"",0,0,0,0,{"$f":"IF('Stammdaten Mitarbeitende'!N977>0,AC977,0)","v":0},{"$f":"IF('Stammdaten Mitarbeitende'!N977>0,P977,0)","v":0},0,0,0]
[{"$f":"'Stammdaten Mitarbeitende'!AA978","v":""},"",null,null,null,null,null,null,0,"",null,"","","","",null,"","",null,null,{"$f":"IF($A978=\"\",\"\",'Stammdaten Mitarbeitende'!L978)","v":""},0,"","","","","","","","","","",0,"",0,0,0,0,{"$f":"IF('Stammdaten Mitarbeitende'!N978>0,AC978,0)","v":0},{"$f":"IF('Stammdaten Mitarbeitende'!N978>0,P978,0)","v":0},0,0,0]
[{"$f":"'Stammdaten Mitarbeitende'!AA979","v":""},"",null,null,null,null,null,null,0,"",null,"","","","",null,"","",null,null,{"$f":"IF($A979=\"\",\"\",'Stammdaten Mitarbeitende'!L979)","v":""},0,"","","","","","","","","","",0,"",0,0,0,0,{"$f":"IF('Stammdaten Mitarbeitende'!N979>0,AC979,0)","v":0},{"$f":"IF('Stammdaten Mitarbeitende'!N979>0,P979,0)","v":0},0,0,0]
[{"$f":"'Stammdaten Mitarbeitende'!AA980","v":""},"",null,null,null,null,null,null,0,"",null,"","","","",null,"","",null,null,{"$f":"IF($A980=\"\",\"\",'Stammdaten Mitarbeitende'!L980)","v":""},0,"","","","","","","","","","",0,"",0,0,0,0,{"$f":"IF('Stammdaten Mitarbeitende'!N980>0,AC980,0)","v":0},{"$f":"IF('Stammdaten Mitarbeitende'!N980>0,P980,0)","v":0},0,0,0]
[{"$f":"'Stammdaten Mitarbeitende'!AA981","v":""},"",null,null,null,null,null,null,0,"",null,"","","","",null,"","",null,null,{"$f":"IF($A981=\"\",\"\",'Stammdaten Mitarbeitende'!L981)","v":""},0,"","","","","","","","","","",0,"",0,0,0,0,{"$f":"IF('Stammdaten Mitarbeitende'!N981>0,AC981,0)","v":0},{"$f":"IF('Stammdaten Mitarbeitende'!N981>0,P981,0)","v":0},0,0,0]
[{"$f":"'Stammdaten Mitarbeitende'!AA982","v":""},"",null,null,null,null,null,null,0,"",null,"","","","",null,"","",null,null,{"$f":"IF($A982=\"\",\"\",'Stammdaten Mitarbeitende'!L982)","v":""},0,"","","","","","","","","","",0,"",0,0,0,0,{"$f":"IF('Stammdaten Mitarbeitende'!N982>0,AC982,0)","v":0},{"$f":"IF('Stammdaten Mitarbeitende'!N982>0,P982,0)","v":0},0,0,0]
[{"$f":"'Stammdaten Mitarbeitende'!AA983","v":""},"",null,null,null,null,null,null,0,"",null,"","","","",null,"","",null,null,{"$f":"IF($A983=\"\",\"\",'Stammdaten Mitarbeitende'!L983)","v":""},0,"","","","","","","","","","",0,"",0,0,0,0,{"$f":"IF('Stammdaten Mitarbeitende'!N983>0,AC983,0)","v":0},{"$f":"IF('Stammdaten Mitarbeitende'!N983>0,P983,0)","v":0},0,0,0]
[{"$f":"'Stammdaten Mitarbeitende'!AA984","v":""},"",null,null,null,null,null,null,0,"",null,"","","","",null,"","",null,null,{"$f":"IF($A984=\"\",\"\",'Stammdaten Mitarbeitende'!L984)","v":""},0,"","","","","","","","","","",0,"",0,0,0,0,{"$f":"IF('Stammdaten Mitarbeitende'!N984>0,AC984,0)","v":0},{"$f":"IF('Stammdaten Mitarbeitende'!N984>0,P984,0)","v":0},0,0,0]
[{"$f":"'Stammdaten Mitarbeitende'!AA985","v":""},"",null,null,null,null,null,null,0,"",null,"","","","",null,"","",null,null,{"$f":"IF($A985=\"\",\"\",'Stammdaten Mitarbeitende'!L985)","v":""},0,"","","","","","","","","","",0,"",0,0,0,0,{"$f":"IF('Stammdaten Mitarbeitende'!N985>0,AC985,0)","v":0},{"$f":"IF('Stammdaten Mitarbeitende'!N985>0,P985,0)","v":0},0,0,0]
[{"$f":"'Stammdaten Mitarbeitende'!AA986","v":""},"",null,null,null,null,null,null,0,"",null,"","","","",null,"","",null,null,{"$f":"IF($A986=\"\",\"\",'Stammdaten Mitarbeitende'!L986)","v":""},0,"","","","","","","","","","",0,"",0,0,0,0,{"$f":"IF('Stammdaten Mitarbeitende'!N986>0,AC986,0)","v":0},{"$f":"IF('Stammdaten Mitarbeitende'!N986>0,P986,0)","v":0},0,0,0]
[{"$f":"'Stammdaten Mitarbeitende'!AA987","v":""},"",null,null,null,null,null,null,0,"",null,"","","","",null,"","",null,null,{"$f":"IF($A987=\"\",\"\",'Stammdaten Mitarbeitende'!L987)","v":""},0,"","","","","","","","","","",0,"",0,0,0,0,{"$f":"IF('Stammdaten Mitarbeitende'!N987>0,AC987,0)","v":0},{"$f":"IF('Stammdaten Mitarbeitende'!N987>0,P987,0)","v":0},0,0,0]
[{"$f":"'Stammdaten Mitarbeitende'!AA988","v":""},"",null,null,null,null,null,null,0,"",null,"","","","",null,"","",null,null,{"$f":"IF($A988=\"\",\"\",'Stammdaten Mitarbeitende'!L988)","v":""},0,"","","","","","","","","","",0,"",0,0,0,0,{"$f":"IF('Stammdaten Mitarbeitende'!N988>0,AC988,0)","v":0},{"$f":"IF('Stammdaten Mitarbeitende'!N988>0,P988,0)","v":0},0,0,0]
[{"$f":"'Stammdaten Mitarbeitende'!AA989","v":""},"",null,null,null,null,null,null,0,"",null,"","","","",null,"","",null,null,{"$f":"IF($A989=\"\",\"\",'Stammdaten Mitarbeitende'!L989)","v":""},0,"","","","","","","","","","",0,"",0,0,0,0,{"$f":"IF('Stammdaten Mitarbeitende'!N989>0,AC989,0)","v":0},{"$f":"IF('Stammdaten Mitarbeitende'!N989>0,P989,0)","v":0},0,0,0]
[{"$f":"Übersetzungstexte!A$296","v":"Seitentotal"},null,null,{"$f":"SUM(D969:D989)","v":0},null,{"$f":"SUM(F969:F989)","v":0},null,null,null,{"$f":"SUM(J969:J989)","v":0},null,null,null,{"$f":"SUM(N969:N989)","v":0},null,{"$f":"SUM(P969:P989)","v":0},null,{"$f":"SUM(R969:R989)","v":0}]
[{"$f":"'Stammdaten Betrieb & Abteilung'!D$1","v":"  "},null,null,null,null,null,null,null,null,null,null,null,{"$f":"Übersetzungstexte!A$239","v":"Betrieb / Betriebsabteilung"},{"$f":"'Stammdaten Betrieb & Abteilung'!D$13","v":" "}]
[{"$f":"'Stammdaten Betrieb & Abteilung'!D$3","v":" "},null,null,null,null,null,null,null,null,null,null,null,{"$f":"Übersetzungstexte!A$240","v":"Abrechnungsperiode"},{"$f":"'Stammdaten Betrieb & Abteilung'!D$14","v":""},null,{"$f":"'Stammdaten Betrieb & Abteilung'!D$12","v":{"$error":"#VALUE!"}}]
[{"$f":"'Stammdaten Betrieb & Abteilung'!D$4","v":" "},null,null,null,null,null,null,null,null,null,null,null,{"$f":"Übersetzungstexte!A$241","v":"Beginn / Ende der Kurzarbeit"},{"$f":"'Stammdaten Betrieb & Abteilung'!D$16","v":""}]
[]
[1,2,3,4,5,6,null,7,null,8,9,10,11,12,13,null,14,15,null,null,null,"Regel 7","Regel 8",null,"Regel 9","Regel 10","Regel 11","Regel 12","Regel 13","Regel 14","Regel 15","Regel 17",null,"Regel 19/20",null,null,null,null,"AHV-pflichtiger","AHV-pflichtiger",null,null,"AHV-pflichtige"]
[{"$f":"Übersetzungstexte!A$242","v":""},{"$f":"Übersetzungstexte!A$245","v":"anrechen-"},{"$f":"Übersetzungstexte!A$248","v":"Wöchentl."},{"$f":"Übersetzungstexte!A$251","v":"Sollstd. Abr.-"},{"$f":"Übersetzungstexte!A$254","v":""},{"$f":"Übersetzungstexte!A$257","v":"Bezahlte/"},null,{"$f":"Übersetzungstexte!A$263","v":"(nur für Gleitzeit)"},null,{"$f":"Übersetzungstexte!A$269","v":"Ausfall-"},{"$f":"Übersetzungstexte!A$272","v":"Saldo"},{"$f":"Übersetzungstexte!A$275","v":"Saisonale"},{"$f":"Übersetzungstexte!A$278","v":"Anrechen-"},{"$f":"Übersetzungstexte!A$281","v":"Verdienst-"},{"$f":"Übersetzungstexte!A$284","v":"Verdienst-"},{"$f":"Übersetzungstexte!A$287","v":"Verdienst"},{"$f":"AE$4","v":"Abzug "},{"$f":"Übersetzungstexte!A$293","v":""},null,null,"anrechen-","Gleitzeit","Ausfall-","Max(D12,0)","Prozentualer","Saisonale","Proz. Wirts. Bed.","Anrechen-","Verdienst-","Verdienst-","Abzug","Abzug","Verdienst",null,"Anzahl","Anzahl","Sollstd.","Absenzen","Verdienst-","Verdienst","Sollstd.","bezahlte/","Abzugsbasis"]
[{"$f":"Übersetzungstexte!A$243","v":""},{"$f":"Übersetzungstexte!A$246","v":"barer Std.-"},{"$f":"Übersetzungstexte!A$249","v":"Arbeitszeit"},{"$f":"Übersetzungstexte!A$252","v":"Periode Inkl."},{"$f":"Übersetzungstexte!A$255","v":""},{"$f":"Übersetzungstexte!A$258","v":"Unbezahlte"},{"$f":"Übersetzungstexte!A$261","v":"Saldo Ende Per."},null,null,{"$f":"Übersetzungstexte!A$270","v":"stunden"},{"$f":"Übersetzungstexte!A$273","v":"Mehrstd."},{"$f":"Übersetzungstexte!A$276","v":"Ausfall-"},{"$f":"Übersetzungstexte!A$279","v":"bare Aus-"},{"$f":"Übersetzungstexte!A$282","v":"ausfall"},{"$f":"Übersetzungstexte!A$285","v":"ausfall"},{"$f":"Übersetzungstexte!A$288","v":"Zwischen-"},{"$f":"Übersetzungstexte!A$291","v":"Karenztage"},{"$f":"Übersetzungstexte!A$294","v":"Beantragte"},null,null,"barer Std.-","c","stunden",null,"Arbeitsausfall","Ausfall-","Arbeitsausfall","bare ","ausfall","ausfall","Karenztage","Zwischen-","Zwischen-","Beantragte","bezugsber.","betroffene","bezugsber.","bezugsber.","ausfall","Zwischen-","inkl","unbezahlte"]
[{"$f":"Übersetzungstexte!A$244","v":"Name,Vorname"},{"$f":"Übersetzungstexte!A$247","v":"Verdienst"},{"$f":"Übersetzungstexte!A$250","v":"in der AP"},{"$f":"Übersetzungstexte!A$253","v":"Vorholzeit"},{"$f":"Übersetzungstexte!A$256","v":"Istzeit"},{"$f":"Übersetzungstexte!A$259","v":"Absenzen"},{"$f":"Übersetzungstexte!A$262","v":"vorherg."},{"$f":"Übersetzungstexte!A$265","v":"laufend"},{"$f":"Übersetzungstexte!A$268","v":"Diff."},{"$f":"Übersetzungstexte!A$271","v":"total"},{"$f":"Übersetzungstexte!A$274","v":"Vormonate"},{"$f":"Übersetzungstexte!A$277","v":"stunden"},{"$f":"Übersetzungstexte!A$280","v":"fall-Std."},{"$f":"Übersetzungstexte!A$283","v":"100%"},{"$f":"Übersetzungstexte!A$286","v":"80%"},{"$f":"Übersetzungstexte!A$289","v":"Beschäftigung"},{"$f":"Übersetzungstexte!A$292","v":"80%"},{"$f":"Übersetzungstexte!A$295","v":"Vergütung"},null,null,"Verdienst",null,"Total",null,"pAA","stunden","pwAA","Ausfall-Std.","100%","80%","80%","beschäftigung","beschäftigung","Vergütung","Mitarbeiter","Mitarbeiter","Mitarbeiter","Mitarbeiter","100%","beschäftigung","Vorholzeit","Ansenzen"]
[{"$f":"'Stammdaten Mitarbeitende'!AA999","v":""},{"$f":"U999","v":""},null,null,null,null,null,null,{"$f":"V999","v":0},{"$f":"W999","v":""},null,{"$f":"Z999","v":""},{"$f":"AB999","v":""},{"$f":"AC999","v":""},{"$f":"AD999","v":""},null,{"$f":"AE999","v":""},{"$f":"AH999","v":""},null,null,{"$f":"IF($A999=\"\",\"\",'Stammdaten Mitarbeitende'!L999)","v":""},{"$f":"IF(AND(G999=\"\",H999=\"\"),0,G999-H999)","v":0},{"$f":"IF(OR($A999=\"\",D999=\"\",E999=\"\",F999=\"\",V999=\"\"),\"\",D999-(E999+F999+V999))","v":""},{"$f":"IF(W999=\"\",\"\",MAX(W999,0))","v":""},{"$f":"IF(J999=\"\",\"\",Y$4)","v":""},{"$f":"IF(J999=\"\",\"\",J999*Z$4)","v":""},{"$f":"IF(Y999=\"\",\"\",AA$4)","v":""},{"$f":"IF(J999=\"\",\"\",ROUND(J999*AB$4 - MAX(K999-L999,0),2))","v":""},{"$f":"IF(OR($A999=\"\",J999=\"\",B999=\"\",M999<0),\"\",MAX(ROUND(M999*B999*2,1)/2,0))","v":""},{"$f":"IF(OR($A999=\"\",N999=\"\"),\"\",ROUND(N999*8/5,1)/2)","v":""},{"$f":"IF(OR($A999=\"\",B999=\"\",N999=\"\"),\"\",ROUND(AE$3*C999*B999*16/50,1)/2)","v":""},{"$f":"IF(OR($A999=\"\",J999=\"\",N999=\"\"),\"\",MAX(O999+P999-N999,0))","v":""},{"$f":"P999","v":0},{"$f":"IF(OR($A999=\"\",N999=\"\"),\"\",ROUND((MAX(O999-Q999-AF999,0))*2,1)/2)","v":""},{"$f":"IF(D999=\"\",0,1)","v":0},{"$f":"IF(J999=\"\",0,IF(ROUND(J999,2)<=0,0,1))","v":0},{"$f":"IF(D999=\"\",0,D999)","v":0},{"$f":"IF(D999=\"\",0,F999)","v":0},{"$f":"IF('Stammdaten Mitarbeitende'!N999>0,AC999,0)","v":0},{"$f":"IF('Stammdaten Mitarbeitende'!N999>0,P999,0)","v":0},{"$f":"D999","v":0},{"$f":"F999","v":0},{"$f":"IF(AM999=\"\",0,MAX(AM999-AN999,0))","v":0}]
[{"$f":"'Stammdaten Mitarbeitende'!AA1000","v":""},"",null,null,null,null,null,null,0,"",null,"","","","",null,"","",null,null,{"$f":"IF($A1000=\"\",\"\",'Stammdaten Mitarbeitende'!L1000)","v":""},0,"","","","","","","","","","",0,"",0,{"$f":"IF(J1000=\"\",0,IF(ROUND(J1000,2)<=0,0,1))","v":0},0,0,{"$f":"IF('Stammdaten Mitarbeitende'!N1000>0,AC1000,0)","v":0},{"$f":"IF('Stammdaten Mitarbeitende'!N1000>0,P1000,0)","v":0},0,0,0]
[{"$f":"'Stammdaten Mitarbeitende'!AA1001","v":""},"",null,null,null,null,null,null,0,"",null,"","","","",null,"","",null,null,{"$f":"IF($A1001=\"\",\"\",'Stammdaten Mitarbeitende'!L1001)","v":""},0,"","","","","","","","","","",0,"",0,0,0,0,{"$f":"IF('Stammdaten Mitarbeitende'!N1001>0,AC1001,0)","v":0},{"$f":"IF('Stammdaten Mitarbeitende'!N1001>0,P1001,0)","v":0},0,0,0]
[{"$f":"'Stammdaten Mitarbeitende'!AA1002","v":""},"",null,null,null,null,null,null,0,"",null,"","","","",null,"","",null,null,{"$f":"IF($A1002=\"\",\"\",'Stammdaten Mitarbeitende'!L1002)","v":""},0,"","","","","","","","","","",0,"",0,0,0,0,{"$f":"IF('Stammdaten Mitarbeitende'!N1002>0,AC1002,0)","v":0},{"$f":"IF('Stammdaten Mitarbeitende'!N1002>0,P1002,0)","v":0},0,0,0]
[{"$f":"'Stammdaten Mitarbeitende'!AA1003","v":""},"",null,null,null,null,null,null,0,"",null,"","","","",null,"","",null,null,{"$f":"IF($A1003=\"\",\"\",'Stammdaten Mitarbeitende'!L1003)","v":""},0,"","","","","","","","","","",0,"",0,0,0,0,{"$f":"IF('Stammdaten Mitarbeitende'!N1003>0,AC1003,0)","v":0},{"$f":"IF('Stammdaten Mitarbeitende'!N1003>0,P1003,0)","v":0},0,0,0]
[{"$f":"'Stammdaten Mitarbeitende'!AA1004","v":""},"",null,null,null,null,null,null,0,"",null,"","","","",null,"","",null,null,{"$f":"IF($A1004=\"\",\"\",'Stammdaten Mitarbeitende'!L1004)","v":""},0,"","","","","","","","","","",0,"",0,0,0,0,{"$f":"IF('Stammdaten Mitarbeitende'!N1004>0,AC1004,0)","v":0},{"$f":"IF('Stammdaten Mitarbeitende'!N1004>0,P1004,0)","v":0},0,0,0]
[{"$f":"'Stammdaten Mitarbeitende'!AA1005","v":""},"",null,null,null,null,null,null,0,"",null,"","","","",null,"","",null,null,{"$f":"IF($A1005=\"\",\"\",'Stammdaten Mitarbeitende'!L1005)","v":""},0,"","","","","","","","","","",0,"",0,0,0,0,{"$f":"IF('Stammdaten Mitarbeitende'!N1005>0,AC1005,0)","v":0},{"$f":"IF('Stammdaten Mitarbeitende'!N1005>0,P1005,0)","v":0},0,0,0]
[{"$f":"'Stammdaten Mitarbeitende'!AA1006","v":""},"",null,null,null,null,null,null,0,"",null,"","","","",null,"","",null,null,{"$f":"IF($A1006=\"\",\"\",'Stammdaten Mitarbeitende'!L1006)","v":""},0,"","","","","","","","","","",0,"",0,0,0,0,{"$f":"IF('Stammdaten Mitarbeitende'!N1006>0,AC1006,0)","v":0},{"$f":"IF('Stammdaten Mitarbeitende'!N1006>0,P1006,0)","v":0},0,0,0]
[{"$f":"'Stammdaten Mitarbeitende'!AA1007","v":""},"",null,null,null,null,null,null,0,"",null,"","","","",null,"","",null,null,{"$f":"IF($A1007=\"\",\"\",'Stammdaten Mitarbeitende'!L1007)","v":""},0,"","","","","","","","","","",0,"",0,0,0,0,{"$f":"IF('Stammdaten Mitarbeitende'!N1007>0,AC1007,0)","v":0},{"$f":"IF('Stammdaten Mitarbeitende'!N1007>0,P1007,0)","v":0},0,0,0]
[{"$f":"'Stammdaten Mitarbeitende'!AA1008","v":""},"",null,null,null,null,null,null,0,"",null,"","","","",null,"","",null,null,{"$f":"IF($A1008=\"\",\"\",'Stammdaten Mitarbeitende'!L1008)","v":""},0,"","","","","","","","","","",0,"",0,0,0,0,{"$f":"IF('Stammdaten Mitarbeitende'!N1008>0,AC1008,0)","v":0},{"$f":"IF('Stammdaten Mitarbeitende'!N1008>0,P1008,0)","v":0},0,0,0]
[{"$f":"'Stammdaten Mitarbeitende'!AA1009","v":""},"",null,null,null,null,null,null,0,"",null,"","","","",null,"","",null,null,{"$f":"IF($A1009=\"\",\"\",'Stammdaten Mitarbeitende'!L1009)","v":""},0,"","","","","","","","","","",0,"",0,0,0,0,{"$f":"IF('Stammdaten Mitarbeitende'!N1009>0,AC1009,0)","v":0},{"$f":"IF('Stammdaten Mitarbeitende'!N1009>0,P1009,0)","v":0},0,0,0]
[{"$f":"'Stammdaten Mitarbeitende'!AA1010","v":""},"",null,null,null,null,null,null,0,"",null,"","","","",null,"","",null,null,{"$f":"IF($A1010=\"\",\"\",'Stammdaten Mitarbeitende'!L1010)","v":""},0,"","","","","","","","","","",0,"",0,0,0,0,{"$f":"IF('Stammdaten Mitarbeitende'!N1010>0,AC1010,0)","v":0},{"$f":"IF('Stammdaten Mitarbeitende'!N1010>0,P1010,0)","v":0},0,0,0]
[{"$f":"'Stammdaten Mitarbeitende'!AA1011","v":""},"",null,null,null,null,null,null,0,"",null,"","","","",null,"","",null,null,{"$f":"IF($A1011=\"\",\"\",'Stammdaten Mitarbeitende'!L1011)","v":""},0,"","","","","","","","","","",0,"",0,0,0,0,{"$f":"IF('Stammdaten Mitarbeitende'!N1011>0,AC1011,0)","v":0},{"$f":"IF('Stammdaten Mitarbeitende'!N1011>0,P1011,0)","v":0},0,0,0]
[{"$f":"'Stammdaten Mitarbeitende'!AA1012","v":""},"",null,null,null,null,null,null,0,"",null,"","","","",null,"","",null,null,{"$f":"IF($A1012=\"\",\"\",'Stammdaten Mitarbeitende'!L1012)","v":""},0,"","","","","","","","","","",0,"",0,0,0,0,{"$f":"IF('Stammdaten Mitarbeitende'!N1012>0,AC1012,0)","v":0},{"$f":"IF('Stammdaten Mitarbeitende'!N1012>0,P1012,0)","v":0},0,0,0]
[{"$f":"'Stammdaten Mitarbeitende'!AA1013","v":""},"",null,null,null,null,null,null,0,"",null,"","","","",null,"","",null,null,{"$f":"IF($A1013=\"\",\"\",'Stammdaten Mitarbeitende'!L1013)","v":""},0,"","","","","","","","","","",0,"",0,0,0,0,{"$f":"IF('Stammdaten Mitarbeitende'!N1013>0,AC1013,0)","v":0},{"$f":"IF('Stammdaten Mitarbeitende'!N1013>0,P1013,0)","v":0},0,0,0]
[{"$f":"'Stammdaten Mitarbeitende'!AA1014","v":""},"",null,null,null,null,null,null,0,"",null,"","","","",null,"","",null,null,{"$f":"IF($A1014=\"\",\"\",'Stammdaten Mitarbeitende'!L1014)","v":""},0,"","","","","","","","","","",0,"",0,0,0,0,{"$f":"IF('Stammdaten Mitarbeitende'!N1014>0,AC1014,0)","v":0},{"$f":"IF('Stammdaten Mitarbeitende'!N1014>0,P1014,0)","v":0},0,0,0]
[{"$f":"'Stammdaten Mitarbeitende'!AA1015","v":""},"",null,null,null,null,null,null,0,"",null,"","","","",null,"","",null,null,{"$f":"IF($A1015=\"\",\"\",'Stammdaten Mitarbeitende'!L1015)","v":""},0,"","","","","","","","","","",0,"",0,0,0,0,{"$f":"IF('Stammdaten Mitarbeitende'!N1015>0,AC1015,0)","v":0},{"$f":"IF('Stammdaten Mitarbeitende'!N1015>0,P1015,0)","v":0},0,0,0]
[{"$f":"'Stammdaten Mitarbeitende'!AA1016","v":""},"",null,null,null,null,null,null,0,"",null,"","","","",null,"","",null,null,{"$f":"IF($A1016=\"\",\"\",'Stammdaten Mitarbeitende'!L1016)","v":""},0,"","","","","","","","","","",0,"",0,0,0,0,{"$f":"IF('Stammdaten Mitarbeitende'!N1016>0,AC1016,0)","v":0},{"$f":"IF('Stammdaten Mitarbeitende'!N1016>0,P1016,0)","v":0},0,0,0]
[{"$f":"'Stammdaten Mitarbeitende'!AA1017","v":""},"",null,null,null,null,null,null,0,"",null,"","","","",null,"","",null,null,{"$f":"IF($A1017=\"\",\"\",'Stammdaten Mitarbeitende'!L1017)","v":""},0,"","","","","","","","","","",0,"",0,0,0,0,{"$f":"IF('Stammdaten Mitarbeitende'!N1017>0,AC1017,0)","v":0},{"$f":"IF('Stammdaten Mitarbeitende'!N1017>0,P1017,0)","v":0},0,0,0]
[{"$f":"'Stammdaten Mitarbeitende'!AA1018","v":""},"",null,null,null,null,null,null,0,"",null,"","","","",null,"","",null,null,{"$f":"IF($A1018=\"\",\"\",'Stammdaten Mitarbeitende'!L1018)","v":""},0,"","","","","","","","","","",0,"",0,0,0,0,{"$f":"IF('Stammdaten Mitarbeitende'!N1018>0,AC1018,0)","v":0},{"$f":"IF('Stammdaten Mitarbeitende'!N1018>0,P1018,0)","v":0},0,0,0]
[{"$f":"'Stammdaten Mitarbeitende'!AA1019","v":""},"",null,null,null,null,null,null,0,"",null,"","","","",null,"","",null,null,{"$f":"IF($A1019=\"\",\"\",'Stammdaten Mitarbeitende'!L1019)","v":""},0,"","","","","","","","","","",0,"",0,0,0,0,{"$f":"IF('Stammdaten Mitarbeitende'!N1019>0,AC1019,0)","v":0},{"$f":"IF('Stammdaten Mitarbeitende'!N1019>0,P1019,0)","v":0},0,0,0]
[{"$f":"Übersetzungstexte!A$296","v":"Seitentotal"},null,null,{"$f":"SUM(D999:D1019)","v":0},null,{"$f":"SUM(F999:F1019)","v":0},null,null,null,{"$f":"SUM(J999:J1019)","v":0},null,null,null,{"$f":"SUM(N999:N1019)","v":0},null,{"$f":"SUM(P999:P1019)","v":0},null,{"$f":"SUM(R999:R1019)","v":0}]
[{"$f":"'Stammdaten Betrieb & Abteilung'!D$1","v":"  "},null,null,null,null,null,null,null,null,null,null,null,{"$f":"Übersetzungstexte!A$239","v":"Betrieb / Betriebsabteilung"},{"$f":"'Stammdaten Betrieb & Abteilung'!D$13","v":" "}]
[{"$f":"'Stammdaten Betrieb & Abteilung'!D$3","v":" "},null,null,null,null,null,null,null,null,null,null,null,{"$f":"Übersetzungstexte!A$240","v":"Abrechnungsperiode"},{"$f":"'Stammdaten Betrieb & Abteilung'!D$14","v":""},null,{"$f":"'Stammdaten Betrieb & Abteilung'!D$12","v":{"$error":"#VALUE!"}}]
[{"$f":"'Stammdaten Betrieb & Abteilung'!D$4","v":" "},null,null,null,null,null,null,null,null,null,null,null,{"$f":"Übersetzungstexte!A$241","v":"Beginn / Ende der Kurzarbeit"},{"$f":"'Stammdaten Betrieb & Abteilung'!D$16","v":""}]
[]
[1,2,3,4,5,6,null,7,null,8,9,10,11,12,13,null,14,15,null,null,null,"Regel 7","Regel 8",null,"Regel 9","Regel 10","Regel 11","Regel 12","Regel 13","Regel 14","Regel 15","Regel 17",null,"Regel 19/20",null,null,null,null,"AHV-pflichtiger","AHV-pflichtiger",null,null,"AHV-pflichtige"]
[{"$f":"Übersetzungstexte!A$242","v":""},{"$f":"Übersetzungstexte!A$245","v":"anrechen-"},{"$f":"Übersetzungstexte!A$248","v":"Wöchentl."},{"$f":"Übersetzungstexte!A$251","v":"Sollstd. Abr.-"},{"$f":"Übersetzungstexte!A$254","v":""},{"$f":"Übersetzungstexte!A$257","v":"Bezahlte/"},null,{"$f":"Übersetzungstexte!A$263","v":"(nur für Gleitzeit)"},null,{"$f":"Übersetzungstexte!A$269","v":"Ausfall-"},{"$f":"Übersetzungstexte!A$272","v":"Saldo"},{"$f":"Übersetzungstexte!A$275","v":"Saisonale"},{"$f":"Übersetzungstexte!A$278","v":"Anrechen-"},{"$f":"Übersetzungstexte!A$281","v":"Verdienst-"},{"$f":"Übersetzungstexte!A$284","v":"Verdienst-"},{"$f":"Übersetzungstexte!A$287","v":"Verdienst"},{"$f":"AE$4","v":"Abzug "},{"$f":"Übersetzungstexte!A$293","v":""},null,null,"anrechen-","Gleitzeit","Ausfall-","Max(D12,0)","Prozentualer","Saisonale","Proz. Wirts. Bed.","Anrechen-","Verdienst-","Verdienst-","Abzug","Abzug","Verdienst",null,"Anzahl","Anzahl","Sollstd.","Absenzen","Verdienst-","Verdienst","Sollstd.","bezahlte/","Abzugsbasis"]
[{"$f":"Übersetzungstexte!A$243","v":""},{"$f":"Übersetzungstexte!A$246","v":"barer Std.-"},{"$f":"Übersetzungstexte!A$249","v":"Arbeitszeit"},{"$f":"Übersetzungstexte!A$252","v":"Periode Inkl."},{"$f":"Übersetzungstexte!A$255","v":""},{"$f":"Übersetzungstexte!A$258","v":"Unbezahlte"},{"$f":"Übersetzungstexte!A$261","v":"Saldo Ende Per."},null,null,{"$f":"Übersetzungstexte!A$270","v":"stunden"},{"$f":"Übersetzungstexte!A$273","v":"Mehrstd."},{"$f":"Übersetzungstexte!A$276","v":"Ausfall-"},{"$f":"Übersetzungstexte!A$279","v":"bare Aus-"},{"$f":"Übersetzungstexte!A$282","v":"ausfall"},{"$f":"Übersetzungstexte!A$285","v":"ausfall"},{"$f":"Übersetzungstexte!A$288","v":"Zwischen-"},{"$f":"Übersetzungstexte!A$291","v":"Karenztage"},{"$f":"Übersetzungstexte!A$294","v":"Beantragte"},null,null,"barer Std.-","c","stunden",null,"Arbeitsausfall","Ausfall-","Arbeitsausfall","bare ","ausfall","ausfall","Karenztage","Zwischen-","Zwischen-","Beantragte","bezugsber.","betroffene","bezugsber.","bezugsber.","ausfall","Zwischen-","inkl","unbezahlte"]
[{"$f":"Übersetzungstexte!A$244","v":"Name,Vorname"},{"$f":"Übersetzungstexte!A$247","v":"Verdienst"},{"$f":"Übersetzungstexte!A$250","v":"in der AP"},{"$f":"Übersetzungstexte!A$253","v":"Vorholzeit"},{"$f":"Übersetzungstexte!A$256","v":"Istzeit"},{"$f":"Übersetzungstexte!A$259","v":"Absenzen"},{"$f":"Übersetzungstexte!A$262","v":"vorherg."},{"$f":"Übersetzungstexte!A$265","v":"laufend"},{"$f":"Übersetzungstexte!A$268","v":"Diff."},{"$f":"Übersetzungstexte!A$271","v":"total"},{"$f":"Übersetzungstexte!A$274","v":"Vormonate"},{"$f":"Übersetzungstexte!A$277","v":"stunden"},{"$f":"Übersetzungstexte!A$280","v":"fall-Std."},{"$f":"Übersetzungstexte!A$283","v":"100%"},{"$f":"Übersetzungstexte!A$286","v":"80%"},{"$f":"Übersetzungstexte!A$289","v":"Beschäftigung"},{"$f":"Übersetzungstexte!A$292","v":"80%"},{"$f":"Übersetzungstexte!A$295","v":"Vergütung"},null,null,"Verdienst",null,"Total",null,"pAA","stunden","pwAA","Ausfall-Std.","100%","80%","80%","beschäftigung","beschäftigung","Vergütung","Mitarbeiter","Mitarbeiter","Mitarbeiter","Mitarbeiter","100%","beschäftigung","Vorholzeit","Ansenzen"]
[{"$f":"'Stammdaten Mitarbeitende'!AA1029","v":""},{"$f":"U1029","v":""},null,null,null,null,null,null,{"$f":"V1029","v":0},{"$f":"W1029","v":""},null,{"$f":"Z1029","v":""},{"$f":"AB1029","v":""},{"$f":"AC1029","v":""},{"$f":"AD1029","v":""},null,{"$f":"AE1029","v":""},{"$f":"AH1029","v":""},null,null,{"$f":"IF($A1029=\"\",\"\",'Stammdaten Mitarbeitende'!L1029)","v":""},{"$f":"IF(AND(G1029=\"\",H1029=\"\"),0,G1029-H1029)","v":0},{"$f":"IF(OR($A1029=\"\",D1029=\"\",E1029=\"\",F1029=\"\",V1029=\"\"),\"\",D1029-(E1029+F1029+V1029))","v":""},{"$f":"IF(W1029=\"\",\"\",MAX(W1029,0))","v":""},{"$f":"IF(J1029=\"\",\"\",Y$4)","v":""},{"$f":"IF(J1029=\"\",\"\",J1029*Z$4)","v":""},{"$f":"IF(Y1029=\"\",\"\",AA$4)","v":""},{"$f":"IF(J1029=\"\",\"\",ROUND(J1029*AB$4 - MAX(K1029-L1029,0),2))","v":""},{"$f":"IF(OR($A1029=\"\",J1029=\"\",B1029=\"\",M1029<0),\"\",MAX(ROUND(M1029*B1029*2,1)/2,0))","v":""},{"$f":"IF(OR($A1029=\"\",N1029=\"\"),\"\",ROUND(N1029*8/5,1)/2)","v":""},{"$f":"IF(OR($A1029=\"\",B1029=\"\",N1029=\"\"),\"\",ROUND(AE$3*C1029*B1029*16/50,1)/2)","v":""},{"$f":"IF(OR($A1029=\"\",J1029=\"\",N1029=\"\"),\"\",MAX(O1029+P1029-N1029,0))","v":""},{"$f":"P1029","v":0},{"$f":"IF(OR($A1029=\"\",N1029=\"\"),\"\",ROUND((MAX(O1029-Q1029-AF1029,0))*2,1)/2)","v":""},{"$f":"IF(D1029=\"\",0,1)","v":0},{"$f":"IF(J1029=\"\",0,IF(ROUND(J1029,2)<=0,0,1))","v":0},{"$f":"IF(D1029=\"\",0,D1029)","v":0},{"$f":"IF(D1029=\"\",0,F1029)","v":0},{"$f":"IF('Stammdaten Mitarbeitende'!N1029>0,AC1029,0)","v":0},{"$f":"IF('Stammdaten Mitarbeitende'!N1029>0,P1029,0)","v":0},{"$f":"D1029","v":0},{"$f":"F1029","v":0},{"$f":"IF(AM1029=\"\",0,MAX(AM1029-AN1029,0))","v":0}]
[{"$f":"'Stammdaten Mitarbeitende'!AA1030","v":""},"",null,null,null,null,null,null,0,"",null,"","","","",null,"","",null,null,{"$f":"IF($A1030=\"\",\"\",'Stammdaten Mitarbeitende'!L1030)","v":""},0,"","","","","","","","","","",0,"",0,{"$f":"IF(J1030=\"\",0,IF(ROUND(J1030,2)<=0,0,1))","v":0},0,0,{"$f":"IF('Stammdaten Mitarbeitende'!N1030>0,AC1030,0)","v":0},{"$f":"IF('Stammdaten Mitarbeitende'!N1030>0,P1030,0)","v":0},0,0,0]
[{"$f":"'Stammdaten Mitarbeitende'!AA1031","v":""},"",null,null,null,null,null,null,0,"",null,"","","","",null,"","",null,null,{"$f":"IF($A1031=\"\",\"\",'Stammdaten Mitarbeitende'!L1031)","v":""},0,"","","","","","","","","","",0,"",0,0,0,0,{"$f":"IF('Stammdaten Mitarbeitende'!N1031>0,AC1031,0)","v":0},{"$f":"IF('Stammdaten Mitarbeitende'!N1031>0,P1031,0)","v":0},0,0,0]
[{"$f":"'Stammdaten Mitarbeitende'!AA1032","v":""},"",null,null,null,null,null,null,0,"",null,"","","","",null,"","",null,null,{"$f":"IF($A1032=\"\",\"\",'Stammdaten Mitarbeitende'!L1032)","v":""},0,"","","","","","","","","","",0,"",0,0,0,0,{"$f":"IF('Stammdaten Mitarbeitende'!N1032>0,AC1032,0)","v":0},{"$f":"IF('Stammdaten Mitarbeitende'!N1032>0,P1032,0)","v":0},0,0,0]
[{"$f":"'Stammdaten Mitarbeitende'!AA1033","v":""},"",null,null,null,null,null,null,0,"",null,"","","","",null,"","",null,null,{"$f":"IF($A1033=\"\",\"\",'Stammdaten Mitarbeitende'!L1033)","v":""},0,"","","","","","","","","","",0,"",0,0,0,0,{"$f":"IF('Stammdaten Mitarbeitende'!N1033>0,AC1033,0)","v":0},{"$f":"IF('Stammdaten Mitarbeitende'!N1033>0,P1033,0)","v":0},0,0,0]
[{"$f":"'Stammdaten Mitarbeitende'!AA1034","v":""},"",null,null,null,null,null,null,0,"",null,"","","","",null,"","",null,null,{"$f":"IF($A1034=\"\",\"\",'Stammdaten Mitarbeitende'!L1034)","v":""},0,"","","","","","","","","","",0,"",0,0,0,0,{"$f":"IF('Stammdaten Mitarbeitende'!N1034>0,AC1034,0)","v":0},{"$f":"IF('Stammdaten Mitarbeitende'!N1034>0,P1034,0)","v":0},0,0,0]
[{"$f":"'Stammdaten Mitarbeitende'!AA1035","v":""},"",null,null,null,null,null,null,0,"",null,"","","","",null,"","",null,null,{"$f":"IF($A1035=\"\",\"\",'Stammdaten Mitarbeitende'!L1035)","v":""},0,"","","","","","","","","","",0,"",0,0,0,0,{"$f":"IF('Stammdaten Mitarbeitende'!N1035>0,AC1035,0)","v":0},{"$f":"IF('Stammdaten Mitarbeitende'!N1035>0,P1035,0)","v":0},0,0,0]
[{"$f":"'Stammdaten Mitarbeitende'!AA1036","v":""},"",null,null,null,null,null,null,0,"",null,"","","","",null,"","",null,null,{"$f":"IF($A1036=\"\",\"\",'Stammdaten Mitarbeitende'!L1036)","v":""},0,"","","","","","","","","","",0,"",0,0,0,0,{"$f":"IF('Stammdaten Mitarbeitende'!N1036>0,AC1036,0)","v":0},{"$f":"IF('Stammdaten Mitarbeitende'!N1036>0,P1036,0)","v":0},0,0,0]
[{"$f":"'Stammdaten Mitarbeitende'!AA1037","v":""},"",null,null,null,null,null,null,0,"",null,"","","","",null,"","",null,null,{"$f":"IF($A1037=\"\",\"\",'Stammdaten Mitarbeitende'!L1037)","v":""},0,"","","","","","","","","","",0,"",0,0,0,0,{"$f":"IF('Stammdaten Mitarbeitende'!N1037>0,AC1037,0)","v":0},{"$f":"IF('Stammdaten Mitarbeitende'!N1037>0,P1037,0)","v":0},0,0,0]
[{"$f":"'Stammdaten Mitarbeitende'!AA1038","v":""},"",null,null,null,null,null,null,0,"",null,"","","","",null,"","",null,null,{"$f":"IF($A1038=\"\",\"\",'Stammdaten Mitarbeitende'!L1038)","v":""},0,"","","","","","","","","","",0,"",0,0,0,0,{"$f":"IF('Stammdaten Mitarbeitende'!N1038>0,AC1038,0)","v":0},{"$f":"IF('Stammdaten Mitarbeitende'!N1038>0,P1038,0)","v":0},0,0,0]
[{"$f":"'Stammdaten Mitarbeitende'!AA1039","v":""},"",null,null,null,null,null,null,0,"",null,"","","","",null,"","",null,null,{"$f":"IF($A1039=\"\",\"\",'Stammdaten Mitarbeitende'!L1039)","v":""},0,"","","","","","","","","","",0,"",0,0,0,0,{"$f":"IF('Stammdaten Mitarbeitende'!N1039>0,AC1039,0)","v":0},{"$f":"IF('Stammdaten Mitarbeitende'!N1039>0,P1039,0)","v":0},0,0,0]
[{"$f":"'Stammdaten Mitarbeitende'!AA1040","v":""},"",null,null,null,null,null,null,0,"",null,"","","","",null,"","",null,null,{"$f":"IF($A1040=\"\",\"\",'Stammdaten Mitarbeitende'!L1040)","v":""},0,"","","","","","","","","","",0,"",0,0,0,0,{"$f":"IF('Stammdaten Mitarbeitende'!N1040>0,AC1040,0)","v":0},{"$f":"IF('Stammdaten Mitarbeitende'!N1040>0,P1040,0)","v":0},0,0,0]
[{"$f":"'Stammdaten Mitarbeitende'!AA1041","v":""},"",null,null,null,null,null,null,0,"",null,"","","","",null,"","",null,null,{"$f":"IF($A1041=\"\",\"\",'Stammdaten Mitarbeitende'!L1041)","v":""},0,"","","","","","","","","","",0,"",0,0,0,0,{"$f":"IF('Stammdaten Mitarbeitende'!N1041>0,AC1041,0)","v":0},{"$f":"IF('Stammdaten Mitarbeitende'!N1041>0,P1041,0)","v":0},0,0,0]
[{"$f":"'Stammdaten Mitarbeitende'!AA1042","v":""},"",null,null,null,null,null,null,0,"",null,"","","","",null,"","",null,null,{"$f":"IF($A1042=\"\",\"\",'Stammdaten Mitarbeitende'!L1042)","v":""},0,"","","","","","","","","","",0,"",0,0,0,0,{"$f":"IF('Stammdaten Mitarbeitende'!N1042>0,AC1042,0)","v":0},{"$f":"IF('Stammdaten Mitarbeitende'!N1042>0,P1042,0)","v":0},0,0,0]
[{"$f":"'Stammdaten Mitarbeitende'!AA1043","v":""},"",null,null,null,null,null,null,0,"",null,"","","","",null,"","",null,null,{"$f":"IF($A1043=\"\",\"\",'Stammdaten Mitarbeitende'!L1043)","v":""},0,"","","","","","","","","","",0,"",0,0,0,0,{"$f":"IF('Stammdaten Mitarbeitende'!N1043>0,AC1043,0)","v":0},{"$f":"IF('Stammdaten Mitarbeitende'!N1043>0,P1043,0)","v":0},0,0,0]
[{"$f":"'Stammdaten Mitarbeitende'!AA1044","v":""},"",null,null,null,null,null,null,0,"",null,"","","","",null,"","",null,null,{"$f":"IF($A1044=\"\",\"\",'Stammdaten Mitarbeitende'!L1044)","v":""},0,"","","","","","","","","","",0,"",0,0,0,0,{"$f":"IF('Stammdaten Mitarbeitende'!N1044>0,AC1044,0)","v":0},{"$f":"IF('Stammdaten Mitarbeitende'!N1044>0,P1044,0)","v":0},0,0,0]
[{"$f":"'Stammdaten Mitarbeitende'!AA1045","v":""},"",null,null,null,null,null,null,0,"",null,"","","","",null,"","",null,null,{"$f":"IF($A1045=\"\",\"\",'Stammdaten Mitarbeitende'!L1045)","v":""},0,"","","","","","","","","","",0,"",0,0,0,0,{"$f":"IF('Stammdaten Mitarbeitende'!N1045>0,AC1045,0)","v":0},{"$f":"IF('Stammdaten Mitarbeitende'!N1045>0,P1045,0)","v":0},0,0,0]
[{"$f":"'Stammdaten Mitarbeitende'!AA1046","v":""},"",null,null,null,null,null,null,0,"",null,"","","","",null,"","",null,null,{"$f":"IF($A1046=\"\",\"\",'Stammdaten Mitarbeitende'!L1046)","v":""},0,"","","","","","","","","","",0,"",0,0,0,0,{"$f":"IF('Stammdaten Mitarbeitende'!N1046>0,AC1046,0)","v":0},{"$f":"IF('Stammdaten Mitarbeitende'!N1046>0,P1046,0)","v":0},0,0,0]
[{"$f":"'Stammdaten Mitarbeitende'!AA1047","v":""},"",null,null,null,null,null,null,0,"",null,"","","","",null,"","",null,null,{"$f":"IF($A1047=\"\",\"\",'Stammdaten Mitarbeitende'!L1047)","v":""},0,"","","","","","","","","","",0,"",0,0,0,0,{"$f":"IF('Stammdaten Mitarbeitende'!N1047>0,AC1047,0)","v":0},{"$f":"IF('Stammdaten Mitarbeitende'!N1047>0,P1047,0)","v":0},0,0,0]
[{"$f":"'Stammdaten Mitarbeitende'!AA1048","v":""},"",null,null,null,null,null,null,0,"",null,"","","","",null,"","",null,null,{"$f":"IF($A1048=\"\",\"\",'Stammdaten Mitarbeitende'!L1048)","v":""},0,"","","","","","","","","","",0,"",0,0,0,0,{"$f":"IF('Stammdaten Mitarbeitende'!N1048>0,AC1048,0)","v":0},{"$f":"IF('Stammdaten Mitarbeitende'!N1048>0,P1048,0)","v":0},0,0,0]
[{"$f":"'Stammdaten Mitarbeitende'!AA1049","v":""},"",null,null,null,null,null,null,0,"",null,"","","","",null,"","",null,null,{"$f":"IF($A1049=\"\",\"\",'Stammdaten Mitarbeitende'!L1049)","v":""},0,"","","","","","","","","","",0,"",0,0,0,0,{"$f":"IF('Stammdaten Mitarbeitende'!N1049>0,AC1049,0)","v":0},{"$f":"IF('Stammdaten Mitarbeitende'!N1049>0,P1049,0)","v":0},0,0,0]
[{"$f":"Übersetzungstexte!A$296","v":"Seitentotal"},null,null,{"$f":"SUM(D1029:D1049)","v":0},null,{"$f":"SUM(F1029:F1049)","v":0},null,null,null,{"$f":"SUM(J1029:J1049)","v":0},null,null,null,{"$f":"SUM(N1029:N1049)","v":0},null,{"$f":"SUM(P1029:P1049)","v":0},null,{"$f":"SUM(R1029:R1049)","v":0}]
[{"$f":"'Stammdaten Betrieb & Abteilung'!D$1","v":"  "},null,null,null,null,null,null,null,null,null,null,null,{"$f":"Übersetzungstexte!A$239","v":"Betrieb / Betriebsabteilung"},{"$f":"'Stammdaten Betrieb & Abteilung'!D$13","v":" "}]
[{"$f":"'Stammdaten Betrieb & Abteilung'!D$3","v":" "},null,null,null,null,null,null,null,null,null,null,null,{"$f":"Übersetzungstexte!A$240","v":"Abrechnungsperiode"},{"$f":"'Stammdaten Betrieb & Abteilung'!D$14","v":""},null,{"$f":"'Stammdaten Betrieb & Abteilung'!D$12","v":{"$error":"#VALUE!"}}]
[{"$f":"'Stammdaten Betrieb & Abteilung'!D$4","v":" "},null,null,null,null,null,null,null,null,null,null,null,{"$f":"Übersetzungstexte!A$241","v":"Beginn / Ende der Kurzarbeit"},{"$f":"'Stammdaten Betrieb & Abteilung'!D$16","v":""}]
[]
[1,2,3,4,5,6,null,7,null,8,9,10,11,12,13,null,14,15,null,null,null,"Regel 7","Regel 8",null,"Regel 9","Regel 10","Regel 11","Regel 12","Regel 13","Regel 14","Regel 15","Regel 17",null,"Regel 19/20",null,null,null,null,"AHV-pflichtiger","AHV-pflichtiger",null,null,"AHV-pflichtige"]
[{"$f":"Übersetzungstexte!A$242","v":""},{"$f":"Übersetzungstexte!A$245","v":"anrechen-"},{"$f":"Übersetzungstexte!A$248","v":"Wöchentl."},{"$f":"Übersetzungstexte!A$251","v":"Sollstd. Abr.-"},{"$f":"Übersetzungstexte!A$254","v":""},{"$f":"Übersetzungstexte!A$257","v":"Bezahlte/"},null,{"$f":"Übersetzungstexte!A$263","v":"(nur für Gleitzeit)"},null,{"$f":"Übersetzungstexte!A$269","v":"Ausfall-"},{"$f":"Übersetzungstexte!A$272","v":"Saldo"},{"$f":"Übersetzungstexte!A$275","v":"Saisonale"},{"$f":"Übersetzungstexte!A$278","v":"Anrechen-"},{"$f":"Übersetzungstexte!A$281","v":"Verdienst-"},{"$f":"Übersetzungstexte!A$284","v":"Verdienst-"},{"$f":"Übersetzungstexte!A$287","v":"Verdienst"},{"$f":"AE$4","v":"Abzug "},{"$f":"Übersetzungstexte!A$293","v":""},null,null,"anrechen-","Gleitzeit","Ausfall-","Max(D12,0)","Prozentualer","Saisonale","Proz. Wirts. Bed.","Anrechen-","Verdienst-","Verdienst-","Abzug","Abzug","Verdienst",null,"Anzahl","Anzahl","Sollstd.","Absenzen","Verdienst-","Verdienst","Sollstd.","bezahlte/","Abzugsbasis"]
[{"$f":"Übersetzungstexte!A$243","v":""},{"$f":"Übersetzungstexte!A$246","v":"barer Std.-"},{"$f":"Übersetzungstexte!A$249","v":"Arbeitszeit"},{"$f":"Übersetzungstexte!A$252","v":"Periode Inkl."},{"$f":"Übersetzungstexte!A$255","v":""},{"$f":"Übersetzungstexte!A$258","v":"Unbezahlte"},{"$f":"Übersetzungstexte!A$261","v":"Saldo Ende Per."},null,null,{"$f":"Übersetzungstexte!A$270","v":"stunden"},{"$f":"Übersetzungstexte!A$273","v":"Mehrstd."},{"$f":"Übersetzungstexte!A$276","v":"Ausfall-"},{"$f":"Übersetzungstexte!A$279","v":"bare Aus-"},{"$f":"Übersetzungstexte!A$282","v":"ausfall"},{"$f":"Übersetzungstexte!A$285","v":"ausfall"},{"$f":"Übersetzungstexte!A$288","v":"Zwischen-"},{"$f":"Übersetzungstexte!A$291","v":"Karenztage"},{"$f":"Übersetzungstexte!A$294","v":"Beantragte"},null,null,"barer Std.-","c","stunden",null,"Arbeitsausfall","Ausfall-","Arbeitsausfall","bare ","ausfall","ausfall","Karenztage","Zwischen-","Zwischen-","Beantragte","bezugsber.","betroffene","bezugsber.","bezugsber.","ausfall","Zwischen-","inkl","unbezahlte"]
[{"$f":"Übersetzungstexte!A$244","v":"Name,Vorname"},{"$f":"Übersetzungstexte!A$247","v":"Verdienst"},{"$f":"Übersetzungstexte!A$250","v":"in der AP"},{"$f":"Übersetzungstexte!A$253","v":"Vorholzeit"},{"$f":"Übersetzungstexte!A$256","v":"Istzeit"},{"$f":"Übersetzungstexte!A$259","v":"Absenzen"},{"$f":"Übersetzungstexte!A$262","v":"vorherg."},{"$f":"Übersetzungstexte!A$265","v":"laufend"},{"$f":"Übersetzungstexte!A$268","v":"Diff."},{"$f":"Übersetzungstexte!A$271","v":"total"},{"$f":"Übersetzungstexte!A$274","v":"Vormonate"},{"$f":"Übersetzungstexte!A$277","v":"stunden"},{"$f":"Übersetzungstexte!A$280","v":"fall-Std."},{"$f":"Übersetzungstexte!A$283","v":"100%"},{"$f":"Übersetzungstexte!A$286","v":"80%"},{"$f":"Übersetzungstexte!A$289","v":"Beschäftigung"},{"$f":"Übersetzungstexte!A$292","v":"80%"},{"$f":"Übersetzungstexte!A$295","v":"Vergütung"},null,null,"Verdienst",null,"Total",null,"pAA","stunden","pwAA","Ausfall-Std.","100%","80%","80%","beschäftigung","beschäftigung","Vergütung","Mitarbeiter","Mitarbeiter","Mitarbeiter","Mitarbeiter","100%","beschäftigung","Vorholzeit","Ansenzen"]
[{"$f":"'Stammdaten Mitarbeitende'!AA1059","v":""},{"$f":"U1059","v":""},null,null,null,null,null,null,{"$f":"V1059","v":0},{"$f":"W1059","v":""},null,{"$f":"Z1059","v":""},{"$f":"AB1059","v":""},{"$f":"AC1059","v":""},{"$f":"AD1059","v":""},null,{"$f":"AE1059","v":""},{"$f":"AH1059","v":""},null,null,{"$f":"IF($A1059=\"\",\"\",'Stammdaten Mitarbeitende'!L1059)","v":""},{"$f":"IF(AND(G1059=\"\",H1059=\"\"),0,G1059-H1059)","v":0},{"$f":"IF(OR($A1059=\"\",D1059=\"\",E1059=\"\",F1059=\"\",V1059=\"\"),\"\",D1059-(E1059+F1059+V1059))","v":""},{"$f":"IF(W1059=\"\",\"\",MAX(W1059,0))","v":""},{"$f":"IF(J1059=\"\",\"\",Y$4)","v":""},{"$f":"IF(J1059=\"\",\"\",J1059*Z$4)","v":""},{"$f":"IF(Y1059=\"\",\"\",AA$4)","v":""},{"$f":"IF(J1059=\"\",\"\",ROUND(J1059*AB$4 - MAX(K1059-L1059,0),2))","v":""},{"$f":"IF(OR($A1059=\"\",J1059=\"\",B1059=\"\",M1059<0),\"\",MAX(ROUND(M1059*B1059*2,1)/2,0))","v":""},{"$f":"IF(OR($A1059=\"\",N1059=\"\"),\"\",ROUND(N1059*8/5,1)/2)","v":""},{"$f":"IF(OR($A1059=\"\",B1059=\"\",N1059=\"\"),\"\",ROUND(AE$3*C1059*B1059*16/50,1)/2)","v":""},{"$f":"IF(OR($A1059=\"\",J1059=\"\",N1059=\"\"),\"\",MAX(O1059+P1059-N1059,0))","v":""},{"$f":"P1059","v":0},{"$f":"IF(OR($A1059=\"\",N1059=\"\"),\"\",ROUND((MAX(O1059-Q1059-AF1059,0))*2,1)/2)","v":""},{"$f":"IF(D1059=\"\",0,1)","v":0},{"$f":"IF(J1059=\"\",0,IF(ROUND(J1059,2)<=0,0,1))","v":0},{"$f":"IF(D1059=\"\",0,D1059)","v":0},{"$f":"IF(D1059=\"\",0,F1059)","v":0},{"$f":"IF('Stammdaten Mitarbeitende'!N1059>0,AC1059,0)","v":0},{"$f":"IF('Stammdaten Mitarbeitende'!N1059>0,P1059,0)","v":0},{"$f":"D1059","v":0},{"$f":"F1059","v":0},{"$f":"IF(AM1059=\"\",0,MAX(AM1059-AN1059,0))","v":0}]
[{"$f":"'Stammdaten Mitarbeitende'!AA1060","v":""},"",null,null,null,null,null,null,0,"",null,"","","","",null,"","",null,null,{"$f":"IF($A1060=\"\",\"\",'Stammdaten Mitarbeitende'!L1060)","v":""},0,"","","","","","","","","","",0,"",0,{"$f":"IF(J1060=\"\",0,IF(ROUND(J1060,2)<=0,0,1))","v":0},0,0,{"$f":"IF('Stammdaten Mitarbeitende'!N1060>0,AC1060,0)","v":0},{"$f":"IF('Stammdaten Mitarbeitende'!N1060>0,P1060,0)","v":0},0,0,0]
[{"$f":"'Stammdaten Mitarbeitende'!AA1061","v":""},"",null,null,null,null,null,null,0,"",null,"","","","",null,"","",null,null,{"$f":"IF($A1061=\"\",\"\",'Stammdaten Mitarbeitende'!L1061)","v":""},0,"","","","","","","","","","",0,"",0,0,0,0,{"$f":"IF('Stammdaten Mitarbeitende'!N1061>0,AC1061,0)","v":0},{"$f":"IF('Stammdaten Mitarbeitende'!N1061>0,P1061,0)","v":0},0,0,0]
[{"$f":"'Stammdaten Mitarbeitende'!AA1062","v":""},"",null,null,null,null,null,null,0,"",null,"","","","",null,"","",null,null,{"$f":"IF($A1062=\"\",\"\",'Stammdaten Mitarbeitende'!L1062)","v":""},0,"","","","","","","","","","",0,"",0,0,0,0,{"$f":"IF('Stammdaten Mitarbeitende'!N1062>0,AC1062,0)","v":0},{"$f":"IF('Stammdaten Mitarbeitende'!N1062>0,P1062,0)","v":0},0,0,0]
[{"$f":"'Stammdaten Mitarbeitende'!AA1063","v":""},"",null,null,null,null,null,null,0,"",null,"","","","",null,"","",null,null,{"$f":"IF($A1063=\"\",\"\",'Stammdaten Mitarbeitende'!L1063)","v":""},0,"","","","","","","","","","",0,"",0,0,0,0,{"$f":"IF('Stammdaten Mitarbeitende'!N1063>0,AC1063,0)","v":0},{"$f":"IF('Stammdaten Mitarbeitende'!N1063>0,P1063,0)","v":0},0,0,0]
[{"$f":"'Stammdaten Mitarbeitende'!AA1064","v":""},"",null,null,null,null,null,null,0,"",null,"","","","",null,"","",null,null,{"$f":"IF($A1064=\"\",\"\",'Stammdaten Mitarbeitende'!L1064)","v":""},0,"","","","","","","","","","",0,"",0,0,0,0,{"$f":"IF('Stammdaten Mitarbeitende'!N1064>0,AC1064,0)","v":0},{"$f":"IF('Stammdaten Mitarbeitende'!N1064>0,P1064,0)","v":0},0,0,0]
[{"$f":"'Stammdaten Mitarbeitende'!AA1065","v":""},"",null,null,null,null,null,null,0,"",null,"","","","",null,"","",null,null,{"$f":"IF($A1065=\"\",\"\",'Stammdaten Mitarbeitende'!L1065)","v":""},0,"","","","","","","","","","",0,"",0,0,0,0,{"$f":"IF('Stammdaten Mitarbeitende'!N1065>0,AC1065,0)","v":0},{"$f":"IF('Stammdaten Mitarbeitende'!N1065>0,P1065,0)","v":0},0,0,0]
[{"$f":"'Stammdaten Mitarbeitende'!AA1066","v":""},"",null,null,null,null,null,null,0,"",null,"","","","",null,"","",null,null,{"$f":"IF($A1066=\"\",\"\",'Stammdaten Mitarbeitende'!L1066)","v":""},0,"","","","","","","","","","",0,"",0,0,0,0,{"$f":"IF('Stammdaten Mitarbeitende'!N1066>0,AC1066,0)","v":0},{"$f":"IF('Stammdaten Mitarbeitende'!N1066>0,P1066,0)","v":0},0,0,0]
[{"$f":"'Stammdaten Mitarbeitende'!AA1067","v":""},"",null,null,null,null,null,null,0,"",null,"","","","",null,"","",null,null,{"$f":"IF($A1067=\"\",\"\",'Stammdaten Mitarbeitende'!L1067)","v":""},0,"","","","","","","","","","",0,"",0,0,0,0,{"$f":"IF('Stammdaten Mitarbeitende'!N1067>0,AC1067,0)","v":0},{"$f":"IF('Stammdaten Mitarbeitende'!N1067>0,P1067,0)","v":0},0,0,0]
[{"$f":"'Stammdaten Mitarbeitende'!AA1068","v":""},"",null,null,null,null,null,null,0,"",null,"","","","",null,"","",null,null,{"$f":"IF($A1068=\"\",\"\",'Stammdaten Mitarbeitende'!L1068)","v":""},0,"","","","","","","","","","",0,"",0,0,0,0,{"$f":"IF('Stammdaten Mitarbeitende'!N1068>0,AC1068,0)","v":0},{"$f":"IF('Stammdaten Mitarbeitende'!N1068>0,P1068,0)","v":0},0,0,0]
[{"$f":"'Stammdaten Mitarbeitende'!AA1069","v":""},"",null,null,null,null,null,null,0,"",null,"","","","",null,"","",null,null,{"$f":"IF($A1069=\"\",\"\",'Stammdaten Mitarbeitende'!L1069)","v":""},0,"","","","","","","","","","",0,"",0,0,0,0,{"$f":"IF('Stammdaten Mitarbeitende'!N1069>0,AC1069,0)","v":0},{"$f":"IF('Stammdaten Mitarbeitende'!N1069>0,P1069,0)","v":0},0,0,0]
[{"$f":"'Stammdaten Mitarbeitende'!AA1070","v":""},"",null,null,null,null,null,null,0,"",null,"","","","",null,"","",null,null,{"$f":"IF($A1070=\"\",\"\",'Stammdaten Mitarbeitende'!L1070)","v":""},0,"","","","","","","","","","",0,"",0,0,0,0,{"$f":"IF('Stammdaten Mitarbeitende'!N1070>0,AC1070,0)","v":0},{"$f":"IF('Stammdaten Mitarbeitende'!N1070>0,P1070,0)","v":0},0,0,0]
[{"$f":"'Stammdaten Mitarbeitende'!AA1071","v":""},"",null,null,null,null,null,null,0,"",null,"","","","",null,"","",null,null,{"$f":"IF($A1071=\"\",\"\",'Stammdaten Mitarbeitende'!L1071)","v":""},0,"","","","","","","","","","",0,"",0,0,0,0,{"$f":"IF('Stammdaten Mitarbeitende'!N1071>0,AC1071,0)","v":0},{"$f":"IF('Stammdaten Mitarbeitende'!N1071>0,P1071,0)","v":0},0,0,0]
[{"$f":"'Stammdaten Mitarbeitende'!AA1072","v":""},"",null,null,null,null,null,null,0,"",null,"","","","",null,"","",null,null,{"$f":"IF($A1072=\"\",\"\",'Stammdaten Mitarbeitende'!L1072)","v":""},0,"","","","","","","","","","",0,"",0,0,0,0,{"$f":"IF('Stammdaten Mitarbeitende'!N1072>0,AC1072,0)","v":0},{"$f":"IF('Stammdaten Mitarbeitende'!N1072>0,P1072,0)","v":0},0,0,0]
[{"$f":"'Stammdaten Mitarbeitende'!AA1073","v":""},"",null,null,null,null,null,null,0,"",null,"","","","",null,"","",null,null,{"$f":"IF($A1073=\"\",\"\",'Stammdaten Mitarbeitende'!L1073)","v":""},0,"","","","","","","","","","",0,"",0,0,0,0,{"$f":"IF('Stammdaten Mitarbeitende'!N1073>0,AC1073,0)","v":0},{"$f":"IF('Stammdaten Mitarbeitende'!N1073>0,P1073,0)","v":0},0,0,0]
[{"$f":"'Stammdaten Mitarbeitende'!AA1074","v":""},"",null,null,null,null,null,null,0,"",null,"","","","",null,"","",null,null,{"$f":"IF($A1074=\"\",\"\",'Stammdaten Mitarbeitende'!L1074)","v":""},0,"","","","","","","","","","",0,"",0,0,0,0,{"$f":"IF('Stammdaten Mitarbeitende'!N1074>0,AC1074,0)","v":0},{"$f":"IF('Stammdaten Mitarbeitende'!N1074>0,P1074,0)","v":0},0,0,0]
[{"$f":"'Stammdaten Mitarbeitende'!AA1075","v":""},"",null,null,null,null,null,null,0,"",null,"","","","",null,"","",null,null,{"$f":"IF($A1075=\"\",\"\",'Stammdaten Mitarbeitende'!L1075)","v":""},0,"","","","","","","","","","",0,"",0,0,0,0,{"$f":"IF('Stammdaten Mitarbeitende'!N1075>0,AC1075,0)","v":0},{"$f":"IF('Stammdaten Mitarbeitende'!N1075>0,P1075,0)","v":0},0,0,0]
[{"$f":"'Stammdaten Mitarbeitende'!AA1076","v":""},"",null,null,null,null,null,null,0,"",null,"","","","",null,"","",null,null,{"$f":"IF($A1076=\"\",\"\",'Stammdaten Mitarbeitende'!L1076)","v":""},0,"","","","","","","","","","",0,"",0,0,0,0,{"$f":"IF('Stammdaten Mitarbeitende'!N1076>0,AC1076,0)","v":0},{"$f":"IF('Stammdaten Mitarbeitende'!N1076>0,P1076,0)","v":0},0,0,0]
[{"$f":"'Stammdaten Mitarbeitende'!AA1077","v":""},"",null,null,null,null,null,null,0,"",null,"","","","",null,"","",null,null,{"$f":"IF($A1077=\"\",\"\",'Stammdaten Mitarbeitende'!L1077)","v":""},0,"","","","","","","","","","",0,"",0,0,0,0,{"$f":"IF('Stammdaten Mitarbeitende'!N1077>0,AC1077,0)","v":0},{"$f":"IF('Stammdaten Mitarbeitende'!N1077>0,P1077,0)","v":0},0,0,0]
[{"$f":"'Stammdaten Mitarbeitende'!AA1078","v":""},"",null,null,null,null,null,null,0,"",null,"","","","",null,"","",null,null,{"$f":"IF($A1078=\"\",\"\",'Stammdaten Mitarbeitende'!L1078)","v":""},0,"","","","","","","","","","",0,"",0,0,0,0,{"$f":"IF('Stammdaten Mitarbeitende'!N1078>0,AC1078,0)","v":0},{"$f":"IF('Stammdaten Mitarbeitende'!N1078>0,P1078,0)","v":0},0,0,0]
[{"$f":"'Stammdaten Mitarbeitende'!AA1079","v":""},"",null,null,null,null,null,null,0,"",null,"","","","",null,"","",null,null,{"$f":"IF($A1079=\"\",\"\",'Stammdaten Mitarbeitende'!L1079)","v":""},0,"","","","","","","","","","",0,"",0,0,0,0,{"$f":"IF('Stammdaten Mitarbeitende'!N1079>0,AC1079,0)","v":0},{"$f":"IF('Stammdaten Mitarbeitende'!N1079>0,P1079,0)","v":0},0,0,0]
[{"$f":"Übersetzungstexte!A$296","v":"Seitentotal"},null,null,{"$f":"SUM(D1059:D1079)","v":0},null,{"$f":"SUM(F1059:F1079)","v":0},null,null,null,{"$f":"SUM(J1059:J1079)","v":0},null,null,null,{"$f":"SUM(N1059:N1079)","v":0},null,{"$f":"SUM(P1059:P1079)","v":0},null,{"$f":"SUM(R1059:R1079)","v":0}]
[{"$f":"'Stammdaten Betrieb & Abteilung'!D$1","v":"  "},null,null,null,null,null,null,null,null,null,null,null,{"$f":"Übersetzungstexte!A$239","v":"Betrieb / Betriebsabteilung"},{"$f":"'Stammdaten Betrieb & Abteilung'!D$13","v":" "}]
[{"$f":"'Stammdaten Betrieb & Abteilung'!D$3","v":" "},null,null,null,null,null,null,null,null,null,null,null,{"$f":"Übersetzungstexte!A$240","v":"Abrechnungsperiode"},{"$f":"'Stammdaten Betrieb & Abteilung'!D$14","v":""},null,{"$f":"'Stammdaten Betrieb & Abteilung'!D$12","v":{"$error":"#VALUE!"}}]
[{"$f":"'Stammdaten Betrieb & Abteilung'!D$4","v":" "},null,null,null,null,null,null,null,null,null,null,null,{"$f":"Übersetzungstexte!A$241","v":"Beginn / Ende der Kurzarbeit"},{"$f":"'Stammdaten Betrieb & Abteilung'!D$16","v":""}]
[]
[1,2,3,4,5,6,null,7,null,8,9,10,11,12,13,null,14,15,null,null,null,"Regel 7","Regel 8",null,"Regel 9","Regel 10","Regel 11","Regel 12","Regel 13","Regel 14","Regel 15","Regel 17",null,"Regel 19/20",null,null,null,null,"AHV-pflichtiger","AHV-pflichtiger",null,null,"AHV-pflichtige"]
[{"$f":"Übersetzungstexte!A$242","v":""},{"$f":"Übersetzungstexte!A$245","v":"anrechen-"},{"$f":"Übersetzungstexte!A$248","v":"Wöchentl."},{"$f":"Übersetzungstexte!A$251","v":"Sollstd. Abr.-"},{"$f":"Übersetzungstexte!A$254","v":""},{"$f":"Übersetzungstexte!A$257","v":"Bezahlte/"},null,{"$f":"Übersetzungstexte!A$263","v":"(nur für Gleitzeit)"},null,{"$f":"Übersetzungstexte!A$269","v":"Ausfall-"},{"$f":"Übersetzungstexte!A$272","v":"Saldo"},{"$f":"Übersetzungstexte!A$275","v":"Saisonale"},{"$f":"Übersetzungstexte!A$278","v":"Anrechen-"},{"$f":"Übersetzungstexte!A$281","v":"Verdienst-"},{"$f":"Übersetzungstexte!A$284","v":"Verdienst-"},{"$f":"Übersetzungstexte!A$287","v":"Verdienst"},{"$f":"AE$4","v":"Abzug "},{"$f":"Übersetzungstexte!A$293","v":""},null,null,"anrechen-","Gleitzeit","Ausfall-","Max(D12,0)","Prozentualer","Saisonale","Proz. Wirts. Bed.","Anrechen-","Verdienst-","Verdienst-","Abzug","Abzug","Verdienst",null,"Anzahl","Anzahl","Sollstd.","Absenzen","Verdienst-","Verdienst","Sollstd.","bezahlte/","Abzugsbasis"]
[{"$f":"Übersetzungstexte!A$243","v":""},{"$f":"Übersetzungstexte!A$246","v":"barer Std.-"},{"$f":"Übersetzungstexte!A$249","v":"Arbeitszeit"},{"$f":"Übersetzungstexte!A$252","v":"Periode Inkl."},{"$f":"Übersetzungstexte!A$255","v":""},{"$f":"Übersetzungstexte!A$258","v":"Unbezahlte"},{"$f":"Übersetzungstexte!A$261","v":"Saldo Ende Per."},null,null,{"$f":"Übersetzungstexte!A$270","v":"stunden"},{"$f":"Übersetzungstexte!A$273","v":"Mehrstd."},{"$f":"Übersetzungstexte!A$276","v":"Ausfall-"},{"$f":"Übersetzungstexte!A$279","v":"bare Aus-"},{"$f":"Übersetzungstexte!A$282","v":"ausfall"},{"$f":"Übersetzungstexte!A$285","v":"ausfall"},{"$f":"Übersetzungstexte!A$288","v":"Zwischen-"},{"$f":"Übersetzungstexte!A$291","v":"Karenztage"},{"$f":"Übersetzungstexte!A$294","v":"Beantragte"},null,null,"barer Std.-","c","stunden",null,"Arbeitsausfall","Ausfall-","Arbeitsausfall","bare ","ausfall","ausfall","Karenztage","Zwischen-","Zwischen-","Beantragte","bezugsber.","betroffene","bezugsber.","bezugsber.","ausfall","Zwischen-","inkl","unbezahlte"]
[{"$f":"Übersetzungstexte!A$244","v":"Name,Vorname"},{"$f":"Übersetzungstexte!A$247","v":"Verdienst"},{"$f":"Übersetzungstexte!A$250","v":"in der AP"},{"$f":"Übersetzungstexte!A$253","v":"Vorholzeit"},{"$f":"Übersetzungstexte!A$256","v":"Istzeit"},{"$f":"Übersetzungstexte!A$259","v":"Absenzen"},{"$f":"Übersetzungstexte!A$262","v":"vorherg."},{"$f":"Übersetzungstexte!A$265","v":"laufend"},{"$f":"Übersetzungstexte!A$268","v":"Diff."},{"$f":"Übersetzungstexte!A$271","v":"total"},{"$f":"Übersetzungstexte!A$274","v":"Vormonate"},{"$f":"Übersetzungstexte!A$277","v":"stunden"},{"$f":"Übersetzungstexte!A$280","v":"fall-Std."},{"$f":"Übersetzungstexte!A$283","v":"100%"},{"$f":"Übersetzungstexte!A$286","v":"80%"},{"$f":"Übersetzungstexte!A$289","v":"Beschäftigung"},{"$f":"Übersetzungstexte!A$292","v":"80%"},{"$f":"Übersetzungstexte!A$295","v":"Vergütung"},null,null,"Verdienst",null,"Total",null,"pAA","stunden","pwAA","Ausfall-Std.","100%","80%","80%","beschäftigung","beschäftigung","Vergütung","Mitarbeiter","Mitarbeiter","Mitarbeiter","Mitarbeiter","100%","beschäftigung","Vorholzeit","Ansenzen"]
[{"$f":"'Stammdaten Mitarbeitende'!AA1089","v":""},{"$f":"U1089","v":""},null,null,null,null,null,null,{"$f":"V1089","v":0},{"$f":"W1089","v":""},null,{"$f":"Z1089","v":""},{"$f":"AB1089","v":""},{"$f":"AC1089","v":""},{"$f":"AD1089","v":""},null,{"$f":"AE1089","v":""},{"$f":"AH1089","v":""},null,null,{"$f":"IF($A1089=\"\",\"\",'Stammdaten Mitarbeitende'!L1089)","v":""},{"$f":"IF(AND(G1089=\"\",H1089=\"\"),0,G1089-H1089)","v":0},{"$f":"IF(OR($A1089=\"\",D1089=\"\",E1089=\"\",F1089=\"\",V1089=\"\"),\"\",D1089-(E1089+F1089+V1089))","v":""},{"$f":"IF(W1089=\"\",\"\",MAX(W1089,0))","v":""},{"$f":"IF(J1089=\"\",\"\",Y$4)","v":""},{"$f":"IF(J1089=\"\",\"\",J1089*Z$4)","v":""},{"$f":"IF(Y1089=\"\",\"\",AA$4)","v":""},{"$f":"IF(J1089=\"\",\"\",ROUND(J1089*AB$4 - MAX(K1089-L1089,0),2))","v":""},{"$f":"IF(OR($A1089=\"\",J1089=\"\",B1089=\"\",M1089<0),\"\",MAX(ROUND(M1089*B1089*2,1)/2,0))","v":""},{"$f":"IF(OR($A1089=\"\",N1089=\"\"),\"\",ROUND(N1089*8/5,1)/2)","v":""},{"$f":"IF(OR($A1089=\"\",B1089=\"\",N1089=\"\"),\"\",ROUND(AE$3*C1089*B1089*16/50,1)/2)","v":""},{"$f":"IF(OR($A1089=\"\",J1089=\"\",N1089=\"\"),\"\",MAX(O1089+P1089-N1089,0))","v":""},{"$f":"P1089","v":0},{"$f":"IF(OR($A1089=\"\",N1089=\"\"),\"\",ROUND((MAX(O1089-Q1089-AF1089,0))*2,1)/2)","v":""},{"$f":"IF(D1089=\"\",0,1)","v":0},{"$f":"IF(J1089=\"\",0,IF(ROUND(J1089,2)<=0,0,1))","v":0},{"$f":"IF(D1089=\"\",0,D1089)","v":0},{"$f":"IF(D1089=\"\",0,F1089)","v":0},{"$f":"IF('Stammdaten Mitarbeitende'!N1089>0,AC1089,0)","v":0},{"$f":"IF('Stammdaten Mitarbeitende'!N1089>0,P1089,0)","v":0},{"$f":"D1089","v":0},{"$f":"F1089","v":0},{"$f":"IF(AM1089=\"\",0,MAX(AM1089-AN1089,0))","v":0}]
[{"$f":"'Stammdaten Mitarbeitende'!AA1090","v":""},"",null,null,null,null,null,null,0,"",null,"","","","",null,"","",null,null,{"$f":"IF($A1090=\"\",\"\",'Stammdaten Mitarbeitende'!L1090)","v":""},0,"","","","","","","","","","",0,"",0,{"$f":"IF(J1090=\"\",0,IF(ROUND(J1090,2)<=0,0,1))","v":0},0,0,{"$f":"IF('Stammdaten Mitarbeitende'!N1090>0,AC1090,0)","v":0},{"$f":"IF('Stammdaten Mitarbeitende'!N1090>0,P1090,0)","v":0},0,0,0]
[{"$f":"'Stammdaten Mitarbeitende'!AA1091","v":""},"",null,null,null,null,null,null,0,"",null,"","","","",null,"","",null,null,{"$f":"IF($A1091=\"\",\"\",'Stammdaten Mitarbeitende'!L1091)","v":""},0,"","","","","","","","","","",0,"",0,0,0,0,{"$f":"IF('Stammdaten Mitarbeitende'!N1091>0,AC1091,0)","v":0},{"$f":"IF('Stammdaten Mitarbeitende'!N1091>0,P1091,0)","v":0},0,0,0]
[{"$f":"'Stammdaten Mitarbeitende'!AA1092","v":""},"",null,null,null,null,null,null,0,"",null,"","","","",null,"","",null,null,{"$f":"IF($A1092=\"\",\"\",'Stammdaten Mitarbeitende'!L1092)","v":""},0,"","","","","","","","","","",0,"",0,0,0,0,{"$f":"IF('Stammdaten Mitarbeitende'!N1092>0,AC1092,0)","v":0},{"$f":"IF('Stammdaten Mitarbeitende'!N1092>0,P1092,0)","v":0},0,0,0]
[{"$f":"'Stammdaten Mitarbeitende'!AA1093","v":""},"",null,null,null,null,null,null,0,"",null,"","","","",null,"","",null,null,{"$f":"IF($A1093=\"\",\"\",'Stammdaten Mitarbeitende'!L1093)","v":""},0,"","","","","","","","","","",0,"",0,0,0,0,{"$f":"IF('Stammdaten Mitarbeitende'!N1093>0,AC1093,0)","v":0},{"$f":"IF('Stammdaten Mitarbeitende'!N1093>0,P1093,0)","v":0},0,0,0]
[{"$f":"'Stammdaten Mitarbeitende'!AA1094","v":""},"",null,null,null,null,null,null,0,"",null,"","","","",null,"","",null,null,{"$f":"IF($A1094=\"\",\"\",'Stammdaten Mitarbeitende'!L1094)","v":""},0,"","","","","","","","","","",0,"",0,0,0,0,{"$f":"IF('Stammdaten Mitarbeitende'!N1094>0,AC1094,0)","v":0},{"$f":"IF('Stammdaten Mitarbeitende'!N1094>0,P1094,0)","v":0},0,0,0]
[{"$f":"'Stammdaten Mitarbeitende'!AA1095","v":""},"",null,null,null,null,null,null,0,"",null,"","","","",null,"","",null,null,{"$f":"IF($A1095=\"\",\"\",'Stammdaten Mitarbeitende'!L1095)","v":""},0,"","","","","","","","","","",0,"",0,0,0,0,{"$f":"IF('Stammdaten Mitarbeitende'!N1095>0,AC1095,0)","v":0},{"$f":"IF('Stammdaten Mitarbeitende'!N1095>0,P1095,0)","v":0},0,0,0]
[{"$f":"'Stammdaten Mitarbeitende'!AA1096","v":""},"",null,null,null,null,null,null,0,"",null,"","","","",null,"","",null,null,{"$f":"IF($A1096=\"\",\"\",'Stammdaten Mitarbeitende'!L1096)","v":""},0,"","","","","","","","","","",0,"",0,0,0,0,{"$f":"IF('Stammdaten Mitarbeitende'!N1096>0,AC1096,0)","v":0},{"$f":"IF('Stammdaten Mitarbeitende'!N1096>0,P1096,0)","v":0},0,0,0]
[{"$f":"'Stammdaten Mitarbeitende'!AA1097","v":""},"",null,null,null,null,null,null,0,"",null,"","","","",null,"","",null,null,{"$f":"IF($A1097=\"\",\"\",'Stammdaten Mitarbeitende'!L1097)","v":""},0,"","","","","","","","","","",0,"",0,0,0,0,{"$f":"IF('Stammdaten Mitarbeitende'!N1097>0,AC1097,0)","v":0},{"$f":"IF('Stammdaten Mitarbeitende'!N1097>0,P1097,0)","v":0},0,0,0]
[{"$f":"'Stammdaten Mitarbeitende'!AA1098","v":""},"",null,null,null,null,null,null,0,"",null,"","","","",null,"","",null,null,{"$f":"IF($A1098=\"\",\"\",'Stammdaten Mitarbeitende'!L1098)","v":""},0,"","","","","","","","","","",0,"",0,0,0,0,{"$f":"IF('Stammdaten Mitarbeitende'!N1098>0,AC1098,0)","v":0},{"$f":"IF('Stammdaten Mitarbeitende'!N1098>0,P1098,0)","v":0},0,0,0]
[{"$f":"'Stammdaten Mitarbeitende'!AA1099","v":""},"",null,null,null,null,null,null,0,"",null,"","","","",null,"","",null,null,{"$f":"IF($A1099=\"\",\"\",'Stammdaten Mitarbeitende'!L1099)","v":""},0,"","","","","","","","","","",0,"",0,0,0,0,{"$f":"IF('Stammdaten Mitarbeitende'!N1099>0,AC1099,0)","v":0},{"$f":"IF('Stammdaten Mitarbeitende'!N1099>0,P1099,0)","v":0},0,0,0]
[{"$f":"'Stammdaten Mitarbeitende'!AA1100","v":""},"",null,null,null,null,null,null,0,"",null,"","","","",null,"","",null,null,{"$f":"IF($A1100=\"\",\"\",'Stammdaten Mitarbeitende'!L1100)","v":""},0,"","","","","","","","","","",0,"",0,0,0,0,{"$f":"IF('Stammdaten Mitarbeitende'!N1100>0,AC1100,0)","v":0},{"$f":"IF('Stammdaten Mitarbeitende'!N1100>0,P1100,0)","v":0},0,0,0]
[{"$f":"'Stammdaten Mitarbeitende'!AA1101","v":""},"",null,null,null,null,null,null,0,"",null,"","","","",null,"","",null,null,{"$f":"IF($A1101=\"\",\"\",'Stammdaten Mitarbeitende'!L1101)","v":""},0,"","","","","","","","","","",0,"",0,0,0,0,{"$f":"IF('Stammdaten Mitarbeitende'!N1101>0,AC1101,0)","v":0},{"$f":"IF('Stammdaten Mitarbeitende'!N1101>0,P1101,0)","v":0},0,0,0]
[{"$f":"'Stammdaten Mitarbeitende'!AA1102","v":""},"",null,null,null,null,null,null,0,"",null,"","","","",null,"","",null,null,{"$f":"IF($A1102=\"\",\"\",'Stammdaten Mitarbeitende'!L1102)","v":""},0,"","","","","","","","","","",0,"",0,0,0,0,{"$f":"IF('Stammdaten Mitarbeitende'!N1102>0,AC1102,0)","v":0},{"$f":"IF('Stammdaten Mitarbeitende'!N1102>0,P1102,0)","v":0},0,0,0]
[{"$f":"'Stammdaten Mitarbeitende'!AA1103","v":""},"",null,null,null,null,null,null,0,"",null,"","","","",null,"","",null,null,{"$f":"IF($A1103=\"\",\"\",'Stammdaten Mitarbeitende'!L1103)","v":""},0,"","","","","","","","","","",0,"",0,0,0,0,{"$f":"IF('Stammdaten Mitarbeitende'!N1103>0,AC1103,0)","v":0},{"$f":"IF('Stammdaten Mitarbeitende'!N1103>0,P1103,0)","v":0},0,0,0]
[{"$f":"'Stammdaten Mitarbeitende'!AA1104","v":""},"",null,null,null,null,null,null,0,"",null,"","","","",null,"","",null,null,{"$f":"IF($A1104=\"\",\"\",'Stammdaten Mitarbeitende'!L1104)","v":""},0,"","","","","","","","","","",0,"",0,0,0,0,{"$f":"IF('Stammdaten Mitarbeitende'!N1104>0,AC1104,0)","v":0},{"$f":"IF('Stammdaten Mitarbeitende'!N1104>0,P1104,0)","v":0},0,0,0]
[{"$f":"'Stammdaten Mitarbeitende'!AA1105","v":""},"",null,null,null,null,null,null,0,"",null,"","","","",null,"","",null,null,{"$f":"IF($A1105=\"\",\"\",'Stammdaten Mitarbeitende'!L1105)","v":""},0,"","","","","","","","","","",0,"",0,0,0,0,{"$f":"IF('Stammdaten Mitarbeitende'!N1105>0,AC1105,0)","v":0},{"$f":"IF('Stammdaten Mitarbeitende'!N1105>0,P1105,0)","v":0},0,0,0]
[{"$f":"'Stammdaten Mitarbeitende'!AA1106","v":""},"",null,null,null,null,null,null,0,"",null,"","","","",null,"","",null,null,{"$f":"IF($A1106=\"\",\"\",'Stammdaten Mitarbeitende'!L1106)","v":""},0,"","","","","","","","","","",0,"",0,0,0,0,{"$f":"IF('Stammdaten Mitarbeitende'!N1106>0,AC1106,0)","v":0},{"$f":"IF('Stammdaten Mitarbeitende'!N1106>0,P1106,0)","v":0},0,0,0]
[{"$f":"'Stammdaten Mitarbeitende'!AA1107","v":""},"",null,null,null,null,null,null,0,"",null,"","","","",null,"","",null,null,{"$f":"IF($A1107=\"\",\"\",'Stammdaten Mitarbeitende'!L1107)","v":""},0,"","","","","","","","","","",0,"",0,0,0,0,{"$f":"IF('Stammdaten Mitarbeitende'!N1107>0,AC1107,0)","v":0},{"$f":"IF('Stammdaten Mitarbeitende'!N1107>0,P1107,0)","v":0},0,0,0]
[{"$f":"'Stammdaten Mitarbeitende'!AA1108","v":""},"",null,null,null,null,null,null,0,"",null,"","","","",null,"","",null,null,{"$f":"IF($A1108=\"\",\"\",'Stammdaten Mitarbeitende'!L1108)","v":""},0,"","","","","","","","","","",0,"",0,0,0,0,{"$f":"IF('Stammdaten Mitarbeitende'!N1108>0,AC1108,0)","v":0},{"$f":"IF('Stammdaten Mitarbeitende'!N1108>0,P1108,0)","v":0},0,0,0]
[{"$f":"'Stammdaten Mitarbeitende'!AA1109","v":""},"",null,null,null,null,null,null,0,"",null,"","","","",null,"","",null,null,{"$f":"IF($A1109=\"\",\"\",'Stammdaten Mitarbeitende'!L1109)","v":""},0,"","","","","","","","","","",0,"",0,0,0,0,{"$f":"IF('Stammdaten Mitarbeitende'!N1109>0,AC1109,0)","v":0},{"$f":"IF('Stammdaten Mitarbeitende'!N1109>0,P1109,0)","v":0},0,0,0]
[{"$f":"Übersetzungstexte!A$296","v":"Seitentotal"},null,null,{"$f":"SUM(D1089:D1109)","v":0},null,{"$f":"SUM(F1089:F1109)","v":0},null,null,null,{"$f":"SUM(J1089:J1109)","v":0},null,null,null,{"$f":"SUM(N1089:N1109)","v":0},null,{"$f":"SUM(P1089:P1109)","v":0},null,{"$f":"SUM(R1089:R1109)","v":0}]
[{"$f":"'Stammdaten Betrieb & Abteilung'!D$1","v":"  "},null,null,null,null,null,null,null,null,null,null,null,{"$f":"Übersetzungstexte!A$239","v":"Betrieb / Betriebsabteilung"},{"$f":"'Stammdaten Betrieb & Abteilung'!D$13","v":" "}]
[{"$f":"'Stammdaten Betrieb & Abteilung'!D$3","v":" "},null,null,null,null,null,null,null,null,null,null,null,{"$f":"Übersetzungstexte!A$240","v":"Abrechnungsperiode"},{"$f":"'Stammdaten Betrieb & Abteilung'!D$14","v":""},null,{"$f":"'Stammdaten Betrieb & Abteilung'!D$12","v":{"$error":"#VALUE!"}}]
[{"$f":"'Stammdaten Betrieb & Abteilung'!D$4","v":" "},null,null,null,null,null,null,null,null,null,null,null,{"$f":"Übersetzungstexte!A$241","v":"Beginn / Ende der Kurzarbeit"},{"$f":"'Stammdaten Betrieb & Abteilung'!D$16","v":""}]
[]
[1,2,3,4,5,6,null,7,null,8,9,10,11,12,13,null,14,15,null,null,null,"Regel 7","Regel 8",null,"Regel 9","Regel 10","Regel 11","Regel 12","Regel 13","Regel 14","Regel 15","Regel 17",null,"Regel 19/20",null,null,null,null,"AHV-pflichtiger","AHV-pflichtiger",null,null,"AHV-pflichtige"]
[{"$f":"Übersetzungstexte!A$242","v":""},{"$f":"Übersetzungstexte!A$245","v":"anrechen-"},{"$f":"Übersetzungstexte!A$248","v":"Wöchentl."},{"$f":"Übersetzungstexte!A$251","v":"Sollstd. Abr.-"},{"$f":"Übersetzungstexte!A$254","v":""},{"$f":"Übersetzungstexte!A$257","v":"Bezahlte/"},null,{"$f":"Übersetzungstexte!A$263","v":"(nur für Gleitzeit)"},null,{"$f":"Übersetzungstexte!A$269","v":"Ausfall-"},{"$f":"Übersetzungstexte!A$272","v":"Saldo"},{"$f":"Übersetzungstexte!A$275","v":"Saisonale"},{"$f":"Übersetzungstexte!A$278","v":"Anrechen-"},{"$f":"Übersetzungstexte!A$281","v":"Verdienst-"},{"$f":"Übersetzungstexte!A$284","v":"Verdienst-"},{"$f":"Übersetzungstexte!A$287","v":"Verdienst"},{"$f":"AE$4","v":"Abzug "},{"$f":"Übersetzungstexte!A$293","v":""},null,null,"anrechen-","Gleitzeit","Ausfall-","Max(D12,0)","Prozentualer","Saisonale","Proz. Wirts. Bed.","Anrechen-","Verdienst-","Verdienst-","Abzug","Abzug","Verdienst",null,"Anzahl","Anzahl","Sollstd.","Absenzen","Verdienst-","Verdienst","Sollstd.","bezahlte/","Abzugsbasis"]
[{"$f":"Übersetzungstexte!A$243","v":""},{"$f":"Übersetzungstexte!A$246","v":"barer Std.-"},{"$f":"Übersetzungstexte!A$249","v":"Arbeitszeit"},{"$f":"Übersetzungstexte!A$252","v":"Periode Inkl."},{"$f":"Übersetzungstexte!A$255","v":""},{"$f":"Übersetzungstexte!A$258","v":"Unbezahlte"},{"$f":"Übersetzungstexte!A$261","v":"Saldo Ende Per."},null,null,{"$f":"Übersetzungstexte!A$270","v":"stunden"},{"$f":"Übersetzungstexte!A$273","v":"Mehrstd."},{"$f":"Übersetzungstexte!A$276","v":"Ausfall-"},{"$f":"Übersetzungstexte!A$279","v":"bare Aus-"},{"$f":"Übersetzungstexte!A$282","v":"ausfall"},{"$f":"Übersetzungstexte!A$285","v":"ausfall"},{"$f":"Übersetzungstexte!A$288","v":"Zwischen-"},{"$f":"Übersetzungstexte!A$291","v":"Karenztage"},{"$f":"Übersetzungstexte!A$294","v":"Beantragte"},null,null,"barer Std.-","c","stunden",null,"Arbeitsausfall","Ausfall-","Arbeitsausfall","bare ","ausfall","ausfall","Karenztage","Zwischen-","Zwischen-","Beantragte","bezugsber.","betroffene","bezugsber.","bezugsber.","ausfall","Zwischen-","inkl","unbezahlte"]
[{"$f":"Übersetzungstexte!A$244","v":"Name,Vorname"},{"$f":"Übersetzungstexte!A$247","v":"Verdienst"},{"$f":"Übersetzungstexte!A$250","v":"in der AP"},{"$f":"Übersetzungstexte!A$253","v":"Vorholzeit"},{"$f":"Übersetzungstexte!A$256","v":"Istzeit"},{"$f":"Übersetzungstexte!A$259","v":"Absenzen"},{"$f":"Übersetzungstexte!A$262","v":"vorherg."},{"$f":"Übersetzungstexte!A$265","v":"laufend"},{"$f":"Übersetzungstexte!A$268","v":"Diff."},{"$f":"Übersetzungstexte!A$271","v":"total"},{"$f":"Übersetzungstexte!A$274","v":"Vormonate"},{"$f":"Übersetzungstexte!A$277","v":"stunden"},{"$f":"Übersetzungstexte!A$280","v":"fall-Std."},{"$f":"Übersetzungstexte!A$283","v":"100%"},{"$f":"Übersetzungstexte!A$286","v":"80%"},{"$f":"Übersetzungstexte!A$289","v":"Beschäftigung"},{"$f":"Übersetzungstexte!A$292","v":"80%"},{"$f":"Übersetzungstexte!A$295","v":"Vergütung"},null,null,"Verdienst",null,"Total",null,"pAA","stunden","pwAA","Ausfall-Std.","100%","80%","80%","beschäftigung","beschäftigung","Vergütung","Mitarbeiter","Mitarbeiter","Mitarbeiter","Mitarbeiter","100%","beschäftigung","Vorholzeit","Ansenzen"]
[{"$f":"'Stammdaten Mitarbeitende'!AA1119","v":""},{"$f":"U1119","v":""},null,null,null,null,null,null,{"$f":"V1119","v":0},{"$f":"W1119","v":""},null,{"$f":"Z1119","v":""},{"$f":"AB1119","v":""},{"$f":"AC1119","v":""},{"$f":"AD1119","v":""},null,{"$f":"AE1119","v":""},{"$f":"AH1119","v":""},null,null,{"$f":"IF($A1119=\"\",\"\",'Stammdaten Mitarbeitende'!L1119)","v":""},{"$f":"IF(AND(G1119=\"\",H1119=\"\"),0,G1119-H1119)","v":0},{"$f":"IF(OR($A1119=\"\",D1119=\"\",E1119=\"\",F1119=\"\",V1119=\"\"),\"\",D1119-(E1119+F1119+V1119))","v":""},{"$f":"IF(W1119=\"\",\"\",MAX(W1119,0))","v":""},{"$f":"IF(J1119=\"\",\"\",Y$4)","v":""},{"$f":"IF(J1119=\"\",\"\",J1119*Z$4)","v":""},{"$f":"IF(Y1119=\"\",\"\",AA$4)","v":""},{"$f":"IF(J1119=\"\",\"\",ROUND(J1119*AB$4 - MAX(K1119-L1119,0),2))","v":""},{"$f":"IF(OR($A1119=\"\",J1119=\"\",B1119=\"\",M1119<0),\"\",MAX(ROUND(M1119*B1119*2,1)/2,0))","v":""},{"$f":"IF(OR($A1119=\"\",N1119=\"\"),\"\",ROUND(N1119*8/5,1)/2)","v":""},{"$f":"IF(OR($A1119=\"\",B1119=\"\",N1119=\"\"),\"\",ROUND(AE$3*C1119*B1119*16/50,1)/2)","v":""},{"$f":"IF(OR($A1119=\"\",J1119=\"\",N1119=\"\"),\"\",MAX(O1119+P1119-N1119,0))","v":""},{"$f":"P1119","v":0},{"$f":"IF(OR($A1119=\"\",N1119=\"\"),\"\",ROUND((MAX(O1119-Q1119-AF1119,0))*2,1)/2)","v":""},{"$f":"IF(D1119=\"\",0,1)","v":0},{"$f":"IF(J1119=\"\",0,IF(ROUND(J1119,2)<=0,0,1))","v":0},{"$f":"IF(D1119=\"\",0,D1119)","v":0},{"$f":"IF(D1119=\"\",0,F1119)","v":0},{"$f":"IF('Stammdaten Mitarbeitende'!N1119>0,AC1119,0)","v":0},{"$f":"IF('Stammdaten Mitarbeitende'!N1119>0,P1119,0)","v":0},{"$f":"D1119","v":0},{"$f":"F1119","v":0},{"$f":"IF(AM1119=\"\",0,MAX(AM1119-AN1119,0))","v":0}]
[{"$f":"'Stammdaten Mitarbeitende'!AA1120","v":""},"",null,null,null,null,null,null,0,"",null,"","","","",null,"","",null,null,{"$f":"IF($A1120=\"\",\"\",'Stammdaten Mitarbeitende'!L1120)","v":""},0,"","","","","","","","","","",0,"",0,{"$f":"IF(J1120=\"\",0,IF(ROUND(J1120,2)<=0,0,1))","v":0},0,0,{"$f":"IF('Stammdaten Mitarbeitende'!N1120>0,AC1120,0)","v":0},{"$f":"IF('Stammdaten Mitarbeitende'!N1120>0,P1120,0)","v":0},0,0,0]
[{"$f":"'Stammdaten Mitarbeitende'!AA1121","v":""},"",null,null,null,null,null,null,0,"",null,"","","","",null,"","",null,null,{"$f":"IF($A1121=\"\",\"\",'Stammdaten Mitarbeitende'!L1121)","v":""},0,"","","","","","","","","","",0,"",0,0,0,0,{"$f":"IF('Stammdaten Mitarbeitende'!N1121>0,AC1121,0)","v":0},{"$f":"IF('Stammdaten Mitarbeitende'!N1121>0,P1121,0)","v":0},0,0,0]
[{"$f":"'Stammdaten Mitarbeitende'!AA1122","v":""},"",null,null,null,null,null,null,0,"",null,"","","","",null,"","",null,null,{"$f":"IF($A1122=\"\",\"\",'Stammdaten Mitarbeitende'!L1122)","v":""},0,"","","","","","","","","","",0,"",0,0,0,0,{"$f":"IF('Stammdaten Mitarbeitende'!N1122>0,AC1122,0)","v":0},{"$f":"IF('Stammdaten Mitarbeitende'!N1122>0,P1122,0)","v":0},0,0,0]
[{"$f":"'Stammdaten Mitarbeitende'!AA1123","v":""},"",null,null,null,null,null,null,0,"",null,"","","","",null,"","",null,null,{"$f":"IF($A1123=\"\",\"\",'Stammdaten Mitarbeitende'!L1123)","v":""},0,"","","","","","","","","","",0,"",0,0,0,0,{"$f":"IF('Stammdaten Mitarbeitende'!N1123>0,AC1123,0)","v":0},{"$f":"IF('Stammdaten Mitarbeitende'!N1123>0,P1123,0)","v":0},0,0,0]
[{"$f":"'Stammdaten Mitarbeitende'!AA1124","v":""},"",null,null,null,null,null,null,0,"",null,"","","","",null,"","",null,null,{"$f":"IF($A1124=\"\",\"\",'Stammdaten Mitarbeitende'!L1124)","v":""},0,"","","","","","","","","","",0,"",0,0,0,0,{"$f":"IF('Stammdaten Mitarbeitende'!N1124>0,AC1124,0)","v":0},{"$f":"IF('Stammdaten Mitarbeitende'!N1124>0,P1124,0)","v":0},0,0,0]
[{"$f":"'Stammdaten Mitarbeitende'!AA1125","v":""},"",null,null,null,null,null,null,0,"",null,"","","","",null,"","",null,null,{"$f":"IF($A1125=\"\",\"\",'Stammdaten Mitarbeitende'!L1125)","v":""},0,"","","","","","","","","","",0,"",0,0,0,0,{"$f":"IF('Stammdaten Mitarbeitende'!N1125>0,AC1125,0)","v":0},{"$f":"IF('Stammdaten Mitarbeitende'!N1125>0,P1125,0)","v":0},0,0,0]
[{"$f":"'Stammdaten Mitarbeitende'!AA1126","v":""},"",null,null,null,null,null,null,0,"",null,"","","","",null,"","",null,null,{"$f":"IF($A1126=\"\",\"\",'Stammdaten Mitarbeitende'!L1126)","v":""},0,"","","","","","","","","","",0,"",0,0,0,0,{"$f":"IF('Stammdaten Mitarbeitende'!N1126>0,AC1126,0)","v":0},{"$f":"IF('Stammdaten Mitarbeitende'!N1126>0,P1126,0)","v":0},0,0,0]
[{"$f":"'Stammdaten Mitarbeitende'!AA1127","v":""},"",null,null,null,null,null,null,0,"",null,"","","","",null,"","",null,null,{"$f":"IF($A1127=\"\",\"\",'Stammdaten Mitarbeitende'!L1127)","v":""},0,"","","","","","","","","","",0,"",0,0,0,0,{"$f":"IF('Stammdaten Mitarbeitende'!N1127>0,AC1127,0)","v":0},{"$f":"IF('Stammdaten Mitarbeitende'!N1127>0,P1127,0)","v":0},0,0,0]
[{"$f":"'Stammdaten Mitarbeitende'!AA1128","v":""},"",null,null,null,null,null,null,0,"",null,"","","","",null,"","",null,null,{"$f":"IF($A1128=\"\",\"\",'Stammdaten Mitarbeitende'!L1128)","v":""},0,"","","","","","","","","","",0,"",0,0,0,0,{"$f":"IF('Stammdaten Mitarbeitende'!N1128>0,AC1128,0)","v":0},{"$f":"IF('Stammdaten Mitarbeitende'!N1128>0,P1128,0)","v":0},0,0,0]
[{"$f":"'Stammdaten Mitarbeitende'!AA1129","v":""},"",null,null,null,null,null,null,0,"",null,"","","","",null,"","",null,null,{"$f":"IF($A1129=\"\",\"\",'Stammdaten Mitarbeitende'!L1129)","v":""},0,"","","","","","","","","","",0,"",0,0,0,0,{"$f":"IF('Stammdaten Mitarbeitende'!N1129>0,AC1129,0)","v":0},{"$f":"IF('Stammdaten Mitarbeitende'!N1129>0,P1129,0)","v":0},0,0,0]
[{"$f":"'Stammdaten Mitarbeitende'!AA1130","v":""},"",null,null,null,null,null,null,0,"",null,"","","","",null,"","",null,null,{"$f":"IF($A1130=\"\",\"\",'Stammdaten Mitarbeitende'!L1130)","v":""},0,"","","","","","","","","","",0,"",0,0,0,0,{"$f":"IF('Stammdaten Mitarbeitende'!N1130>0,AC1130,0)","v":0},{"$f":"IF('Stammdaten Mitarbeitende'!N1130>0,P1130,0)","v":0},0,0,0]
[{"$f":"'Stammdaten Mitarbeitende'!AA1131","v":""},"",null,null,null,null,null,null,0,"",null,"","","","",null,"","",null,null,{"$f":"IF($A1131=\"\",\"\",'Stammdaten Mitarbeitende'!L1131)","v":""},0,"","","","","","","","","","",0,"",0,0,0,0,{"$f":"IF('Stammdaten Mitarbeitende'!N1131>0,AC1131,0)","v":0},{"$f":"IF('Stammdaten Mitarbeitende'!N1131>0,P1131,0)","v":0},0,0,0]
[{"$f":"'Stammdaten Mitarbeitende'!AA1132","v":""},"",null,null,null,null,null,null,0,"",null,"","","","",null,"","",null,null,{"$f":"IF($A1132=\"\",\"\",'Stammdaten Mitarbeitende'!L1132)","v":""},0,"","","","","","","","","","",0,"",0,0,0,0,{"$f":"IF('Stammdaten Mitarbeitende'!N1132>0,AC1132,0)","v":0},{"$f":"IF('Stammdaten Mitarbeitende'!N1132>0,P1132,0)","v":0},0,0,0]
[{"$f":"'Stammdaten Mitarbeitende'!AA1133","v":""},"",null,null,null,null,null,null,0,"",null,"","","","",null,"","",null,null,{"$f":"IF($A1133=\"\",\"\",'Stammdaten Mitarbeitende'!L1133)","v":""},0,"","","","","","","","","","",0,"",0,0,0,0,{"$f":"IF('Stammdaten Mitarbeitende'!N1133>0,AC1133,0)","v":0},{"$f":"IF('Stammdaten Mitarbeitende'!N1133>0,P1133,0)","v":0},0,0,0]
[{"$f":"'Stammdaten Mitarbeitende'!AA1134","v":""},"",null,null,null,null,null,null,0,"",null,"","","","",null,"","",null,null,{"$f":"IF($A1134=\"\",\"\",'Stammdaten Mitarbeitende'!L1134)","v":""},0,"","","","","","","","","","",0,"",0,0,0,0,{"$f":"IF('Stammdaten Mitarbeitende'!N1134>0,AC1134,0)","v":0},{"$f":"IF('Stammdaten Mitarbeitende'!N1134>0,P1134,0)","v":0},0,0,0]
[{"$f":"'Stammdaten Mitarbeitende'!AA1135","v":""},"",null,null,null,null,null,null,0,"",null,"","","","",null,"","",null,null,{"$f":"IF($A1135=\"\",\"\",'Stammdaten Mitarbeitende'!L1135)","v":""},0,"","","","","","","","","","",0,"",0,0,0,0,{"$f":"IF('Stammdaten Mitarbeitende'!N1135>0,AC1135,0)","v":0},{"$f":"IF('Stammdaten Mitarbeitende'!N1135>0,P1135,0)","v":0},0,0,0]
[{"$f":"'Stammdaten Mitarbeitende'!AA1136","v":""},"",null,null,null,null,null,null,0,"",null,"","","","",null,"","",null,null,{"$f":"IF($A1136=\"\",\"\",'Stammdaten Mitarbeitende'!L1136)","v":""},0,"","","","","","","","","","",0,"",0,0,0,0,{"$f":"IF('Stammdaten Mitarbeitende'!N1136>0,AC1136,0)","v":0},{"$f":"IF('Stammdaten Mitarbeitende'!N1136>0,P1136,0)","v":0},0,0,0]
[{"$f":"'Stammdaten Mitarbeitende'!AA1137","v":""},"",null,null,null,null,null,null,0,"",null,"","","","",null,"","",null,null,{"$f":"IF($A1137=\"\",\"\",'Stammdaten Mitarbeitende'!L1137)","v":""},0,"","","","","","","","","","",0,"",0,0,0,0,{"$f":"IF('Stammdaten Mitarbeitende'!N1137>0,AC1137,0)","v":0},{"$f":"IF('Stammdaten Mitarbeitende'!N1137>0,P1137,0)","v":0},0,0,0]
[{"$f":"'Stammdaten Mitarbeitende'!AA1138","v":""},"",null,null,null,null,null,null,0,"",null,"","","","",null,"","",null,null,{"$f":"IF($A1138=\"\",\"\",'Stammdaten Mitarbeitende'!L1138)","v":""},0,"","","","","","","","","","",0,"",0,0,0,0,{"$f":"IF('Stammdaten Mitarbeitende'!N1138>0,AC1138,0)","v":0},{"$f":"IF('Stammdaten Mitarbeitende'!N1138>0,P1138,0)","v":0},0,0,0]
[{"$f":"'Stammdaten Mitarbeitende'!AA1139","v":""},"",null,null,null,null,null,null,0,"",null,"","","","",null,"","",null,null,{"$f":"IF($A1139=\"\",\"\",'Stammdaten Mitarbeitende'!L1139)","v":""},0,"","","","","","","","","","",0,"",0,0,0,0,{"$f":"IF('Stammdaten Mitarbeitende'!N1139>0,AC1139,0)","v":0},{"$f":"IF('Stammdaten Mitarbeitende'!N1139>0,P1139,0)","v":0},0,0,0]
[{"$f":"Übersetzungstexte!A$296","v":"Seitentotal"},null,null,{"$f":"SUM(D1119:D1139)","v":0},null,{"$f":"SUM(F1119:F1139)","v":0},null,null,null,{"$f":"SUM(J1119:J1139)","v":0},null,null,null,{"$f":"SUM(N1119:N1139)","v":0},null,{"$f":"SUM(P1119:P1139)","v":0},null,{"$f":"SUM(R1119:R1139)","v":0}]
[{"$f":"'Stammdaten Betrieb & Abteilung'!D$1","v":"  "},null,null,null,null,null,null,null,null,null,null,null,{"$f":"Übersetzungstexte!A$239","v":"Betrieb / Betriebsabteilung"},{"$f":"'Stammdaten Betrieb & Abteilung'!D$13","v":" "}]
[{"$f":"'Stammdaten Betrieb & Abteilung'!D$3","v":" "},null,null,null,null,null,null,null,null,null,null,null,{"$f":"Übersetzungstexte!A$240","v":"Abrechnungsperiode"},{"$f":"'Stammdaten Betrieb & Abteilung'!D$14","v":""},null,{"$f":"'Stammdaten Betrieb & Abteilung'!D$12","v":{"$error":"#VALUE!"}}]
[{"$f":"'Stammdaten Betrieb & Abteilung'!D$4","v":" "},null,null,null,null,null,null,null,null,null,null,null,{"$f":"Übersetzungstexte!A$241","v":"Beginn / Ende der Kurzarbeit"},{"$f":"'Stammdaten Betrieb & Abteilung'!D$16","v":""}]
[]
[1,2,3,4,5,6,null,7,null,8,9,10,11,12,13,null,14,15,null,null,null,"Regel 7","Regel 8",null,"Regel 9","Regel 10","Regel 11","Regel 12","Regel 13","Regel 14","Regel 15","Regel 17",null,"Regel 19/20",null,null,null,null,"AHV-pflichtiger","AHV-pflichtiger",null,null,"AHV-pflichtige"]
[{"$f":"Übersetzungstexte!A$242","v":""},{"$f":"Übersetzungstexte!A$245","v":"anrechen-"},{"$f":"Übersetzungstexte!A$248","v":"Wöchentl."},{"$f":"Übersetzungstexte!A$251","v":"Sollstd. Abr.-"},{"$f":"Übersetzungstexte!A$254","v":""},{"$f":"Übersetzungstexte!A$257","v":"Bezahlte/"},null,{"$f":"Übersetzungstexte!A$263","v":"(nur für Gleitzeit)"},null,{"$f":"Übersetzungstexte!A$269","v":"Ausfall-"},{"$f":"Übersetzungstexte!A$272","v":"Saldo"},{"$f":"Übersetzungstexte!A$275","v":"Saisonale"},{"$f":"Übersetzungstexte!A$278","v":"Anrechen-"},{"$f":"Übersetzungstexte!A$281","v":"Verdienst-"},{"$f":"Übersetzungstexte!A$284","v":"Verdienst-"},{"$f":"Übersetzungstexte!A$287","v":"Verdienst"},{"$f":"AE$4","v":"Abzug "},{"$f":"Übersetzungstexte!A$293","v":""},null,null,"anrechen-","Gleitzeit","Ausfall-","Max(D12,0)","Prozentualer","Saisonale","Proz. Wirts. Bed.","Anrechen-","Verdienst-","Verdienst-","Abzug","Abzug","Verdienst",null,"Anzahl","Anzahl","Sollstd.","Absenzen","Verdienst-","Verdienst","Sollstd.","bezahlte/","Abzugsbasis"]
[{"$f":"Übersetzungstexte!A$243","v":""},{"$f":"Übersetzungstexte!A$246","v":"barer Std.-"},{"$f":"Übersetzungstexte!A$249","v":"Arbeitszeit"},{"$f":"Übersetzungstexte!A$252","v":"Periode Inkl."},{"$f":"Übersetzungstexte!A$255","v":""},{"$f":"Übersetzungstexte!A$258","v":"Unbezahlte"},{"$f":"Übersetzungstexte!A$261","v":"Saldo Ende Per."},null,null,{"$f":"Übersetzungstexte!A$270","v":"stunden"},{"$f":"Übersetzungstexte!A$273","v":"Mehrstd."},{"$f":"Übersetzungstexte!A$276","v":"Ausfall-"},{"$f":"Übersetzungstexte!A$279","v":"bare Aus-"},{"$f":"Übersetzungstexte!A$282","v":"ausfall"},{"$f":"Übersetzungstexte!A$285","v":"ausfall"},{"$f":"Übersetzungstexte!A$288","v":"Zwischen-"},{"$f":"Übersetzungstexte!A$291","v":"Karenztage"},{"$f":"Übersetzungstexte!A$294","v":"Beantragte"},null,null,"barer Std.-","c","stunden",null,"Arbeitsausfall","Ausfall-","Arbeitsausfall","bare ","ausfall","ausfall","Karenztage","Zwischen-","Zwischen-","Beantragte","bezugsber.","betroffene","bezugsber.","bezugsber.","ausfall","Zwischen-","inkl","unbezahlte"]
[{"$f":"Übersetzungstexte!A$244","v":"Name,Vorname"},{"$f":"Übersetzungstexte!A$247","v":"Verdienst"},{"$f":"Übersetzungstexte!A$250","v":"in der AP"},{"$f":"Übersetzungstexte!A$253","v":"Vorholzeit"},{"$f":"Übersetzungstexte!A$256","v":"Istzeit"},{"$f":"Übersetzungstexte!A$259","v":"Absenzen"},{"$f":"Übersetzungstexte!A$262","v":"vorherg."},{"$f":"Übersetzungstexte!A$265","v":"laufend"},{"$f":"Übersetzungstexte!A$268","v":"Diff."},{"$f":"Übersetzungstexte!A$271","v":"total"},{"$f":"Übersetzungstexte!A$274","v":"Vormonate"},{"$f":"Übersetzungstexte!A$277","v":"stunden"},{"$f":"Übersetzungstexte!A$280","v":"fall-Std."},{"$f":"Übersetzungstexte!A$283","v":"100%"},{"$f":"Übersetzungstexte!A$286","v":"80%"},{"$f":"Übersetzungstexte!A$289","v":"Beschäftigung"},{"$f":"Übersetzungstexte!A$292","v":"80%"},{"$f":"Übersetzungstexte!A$295","v":"Vergütung"},null,null,"Verdienst",null,"Total",null,"pAA","stunden","pwAA","Ausfall-Std.","100%","80%","80%","beschäftigung","beschäftigung","Vergütung","Mitarbeiter","Mitarbeiter","Mitarbeiter","Mitarbeiter","100%","beschäftigung","Vorholzeit","Ansenzen"]
[{"$f":"'Stammdaten Mitarbeitende'!AA1149","v":""},{"$f":"U1149","v":""},null,null,null,null,null,null,{"$f":"V1149","v":0},{"$f":"W1149","v":""},null,{"$f":"Z1149","v":""},{"$f":"AB1149","v":""},{"$f":"AC1149","v":""},{"$f":"AD1149","v":""},null,{"$f":"AE1149","v":""},{"$f":"AH1149","v":""},null,null,{"$f":"IF($A1149=\"\",\"\",'Stammdaten Mitarbeitende'!L1149)","v":""},{"$f":"IF(AND(G1149=\"\",H1149=\"\"),0,G1149-H1149)","v":0},{"$f":"IF(OR($A1149=\"\",D1149=\"\",E1149=\"\",F1149=\"\",V1149=\"\"),\"\",D1149-(E1149+F1149+V1149))","v":""},{"$f":"IF(W1149=\"\",\"\",MAX(W1149,0))","v":""},{"$f":"IF(J1149=\"\",\"\",Y$4)","v":""},{"$f":"IF(J1149=\"\",\"\",J1149*Z$4)","v":""},{"$f":"IF(Y1149=\"\",\"\",AA$4)","v":""},{"$f":"IF(J1149=\"\",\"\",ROUND(J1149*AB$4 - MAX(K1149-L1149,0),2))","v":""},{"$f":"IF(OR($A1149=\"\",J1149=\"\",B1149=\"\",M1149<0),\"\",MAX(ROUND(M1149*B1149*2,1)/2,0))","v":""},{"$f":"IF(OR($A1149=\"\",N1149=\"\"),\"\",ROUND(N1149*8/5,1)/2)","v":""},{"$f":"IF(OR($A1149=\"\",B1149=\"\",N1149=\"\"),\"\",ROUND(AE$3*C1149*B1149*16/50,1)/2)","v":""},{"$f":"IF(OR($A1149=\"\",J1149=\"\",N1149=\"\"),\"\",MAX(O1149+P1149-N1149,0))","v":""},{"$f":"P1149","v":0},{"$f":"IF(OR($A1149=\"\",N1149=\"\"),\"\",ROUND((MAX(O1149-Q1149-AF1149,0))*2,1)/2)","v":""},{"$f":"IF(D1149=\"\",0,1)","v":0},{"$f":"IF(J1149=\"\",0,IF(ROUND(J1149,2)<=0,0,1))","v":0},{"$f":"IF(D1149=\"\",0,D1149)","v":0},{"$f":"IF(D1149=\"\",0,F1149)","v":0},{"$f":"IF('Stammdaten Mitarbeitende'!N1149>0,AC1149,0)","v":0},{"$f":"IF('Stammdaten Mitarbeitende'!N1149>0,P1149,0)","v":0},{"$f":"D1149","v":0},{"$f":"F1149","v":0},{"$f":"IF(AM1149=\"\",0,MAX(AM1149-AN1149,0))","v":0}]
[{"$f":"'Stammdaten Mitarbeitende'!AA1150","v":""},"",null,null,null,null,null,null,0,"",null,"","","","",null,"","",null,null,{"$f":"IF($A1150=\"\",\"\",'Stammdaten Mitarbeitende'!L1150)","v":""},0,"","","","","","","","","","",0,"",0,{"$f":"IF(J1150=\"\",0,IF(ROUND(J1150,2)<=0,0,1))","v":0},0,0,{"$f":"IF('Stammdaten Mitarbeitende'!N1150>0,AC1150,0)","v":0},{"$f":"IF('Stammdaten Mitarbeitende'!N1150>0,P1150,0)","v":0},0,0,0]
[{"$f":"'Stammdaten Mitarbeitende'!AA1151","v":""},"",null,null,null,null,null,null,0,"",null,"","","","",null,"","",null,null,{"$f":"IF($A1151=\"\",\"\",'Stammdaten Mitarbeitende'!L1151)","v":""},0,"","","","","","","","","","",0,"",0,0,0,0,{"$f":"IF('Stammdaten Mitarbeitende'!N1151>0,AC1151,0)","v":0},{"$f":"IF('Stammdaten Mitarbeitende'!N1151>0,P1151,0)","v":0},0,0,0]
[{"$f":"'Stammdaten Mitarbeitende'!AA1152","v":""},"",null,null,null,null,null,null,0,"",null,"","","","",null,"","",null,null,{"$f":"IF($A1152=\"\",\"\",'Stammdaten Mitarbeitende'!L1152)","v":""},0,"","","","","","","","","","",0,"",0,0,0,0,{"$f":"IF('Stammdaten Mitarbeitende'!N1152>0,AC1152,0)","v":0},{"$f":"IF('Stammdaten Mitarbeitende'!N1152>0,P1152,0)","v":0},0,0,0]
[{"$f":"'Stammdaten Mitarbeitende'!AA1153","v":""},"",null,null,null,null,null,null,0,"",null,"","","","",null,"","",null,null,{"$f":"IF($A1153=\"\",\"\",'Stammdaten Mitarbeitende'!L1153)","v":""},0,"","","","","","","","","","",0,"",0,0,0,0,{"$f":"IF('Stammdaten Mitarbeitende'!N1153>0,AC1153,0)","v":0},{"$f":"IF('Stammdaten Mitarbeitende'!N1153>0,P1153,0)","v":0},0,0,0]
[{"$f":"'Stammdaten Mitarbeitende'!AA1154","v":""},"",null,null,null,null,null,null,0,"",null,"","","","",null,"","",null,null,{"$f":"IF($A1154=\"\",\"\",'Stammdaten Mitarbeitende'!L1154)","v":""},0,"","","","","","","","","","",0,"",0,0,0,0,{"$f":"IF('Stammdaten Mitarbeitende'!N1154>0,AC1154,0)","v":0},{"$f":"IF('Stammdaten Mitarbeitende'!N1154>0,P1154,0)","v":0},0,0,0]
[{"$f":"'Stammdaten Mitarbeitende'!AA1155","v":""},"",null,null,null,null,null,null,0,"",null,"","","","",null,"","",null,null,{"$f":"IF($A1155=\"\",\"\",'Stammdaten Mitarbeitende'!L1155)","v":""},0,"","","","","","","","","","",0,"",0,0,0,0,{"$f":"IF('Stammdaten Mitarbeitende'!N1155>0,AC1155,0)","v":0},{"$f":"IF('Stammdaten Mitarbeitende'!N1155>0,P1155,0)","v":0},0,0,0]
[{"$f":"'Stammdaten Mitarbeitende'!AA1156","v":""},"",null,null,null,null,null,null,0,"",null,"","","","",null,"","",null,null,{"$f":"IF($A1156=\"\",\"\",'Stammdaten Mitarbeitende'!L1156)","v":""},0,"","","","","","","","","","",0,"",0,0,0,0,{"$f":"IF('Stammdaten Mitarbeitende'!N1156>0,AC1156,0)","v":0},{"$f":"IF('Stammdaten Mitarbeitende'!N1156>0,P1156,0)","v":0},0,0,0]
[{"$f":"'Stammdaten Mitarbeitende'!AA1157","v":""},"",null,null,null,null,null,null,0,"",null,"","","","",null,"","",null,null,{"$f":"IF($A1157=\"\",\"\",'Stammdaten Mitarbeitende'!L1157)","v":""},0,"","","","","","","","","","",0,"",0,0,0,0,{"$f":"IF('Stammdaten Mitarbeitende'!N1157>0,AC1157,0)","v":0},{"$f":"IF('Stammdaten Mitarbeitende'!N1157>0,P1157,0)","v":0},0,0,0]
[{"$f":"'Stammdaten Mitarbeitende'!AA1158","v":""},"",null,null,null,null,null,null,0,"",null,"","","","",null,"","",null,null,{"$f":"IF($A1158=\"\",\"\",'Stammdaten Mitarbeitende'!L1158)","v":""},0,"","","","","","","","","","",0,"",0,0,0,0,{"$f":"IF('Stammdaten Mitarbeitende'!N1158>0,AC1158,0)","v":0},{"$f":"IF('Stammdaten Mitarbeitende'!N1158>0,P1158,0)","v":0},0,0,0]
[{"$f":"'Stammdaten Mitarbeitende'!AA1159","v":""},"",null,null,null,null,null,null,0,"",null,"","","","",null,"","",null,null,{"$f":"IF($A1159=\"\",\"\",'Stammdaten Mitarbeitende'!L1159)","v":""},0,"","","","","","","","","","",0,"",0,0,0,0,{"$f":"IF('Stammdaten Mitarbeitende'!N1159>0,AC1159,0)","v":0},{"$f":"IF('Stammdaten Mitarbeitende'!N1159>0,P1159,0)","v":0},0,0,0]
[{"$f":"'Stammdaten Mitarbeitende'!AA1160","v":""},"",null,null,null,null,null,null,0,"",null,"","","","",null,"","",null,null,{"$f":"IF($A1160=\"\",\"\",'Stammdaten Mitarbeitende'!L1160)","v":""},0,"","","","","","","","","","",0,"",0,0,0,0,{"$f":"IF('Stammdaten Mitarbeitende'!N1160>0,AC1160,0)","v":0},{"$f":"IF('Stammdaten Mitarbeitende'!N1160>0,P1160,0)","v":0},0,0,0]
[{"$f":"'Stammdaten Mitarbeitende'!AA1161","v":""},"",null,null,null,null,null,null,0,"",null,"","","","",null,"","",null,null,{"$f":"IF($A1161=\"\",\"\",'Stammdaten Mitarbeitende'!L1161)","v":""},0,"","","","","","","","","","",0,"",0,0,0,0,{"$f":"IF('Stammdaten Mitarbeitende'!N1161>0,AC1161,0)","v":0},{"$f":"IF('Stammdaten Mitarbeitende'!N1161>0,P1161,0)","v":0},0,0,0]
[{"$f":"'Stammdaten Mitarbeitende'!AA1162","v":""},"",null,null,null,null,null,null,0,"",null,"","","","",null,"","",null,null,{"$f":"IF($A1162=\"\",\"\",'Stammdaten Mitarbeitende'!L1162)","v":""},0,"","","","","","","","","","",0,"",0,0,0,0,{"$f":"IF('Stammdaten Mitarbeitende'!N1162>0,AC1162,0)","v":0},{"$f":"IF('Stammdaten Mitarbeitende'!N1162>0,P1162,0)","v":0},0,0,0]
[{"$f":"'Stammdaten Mitarbeitende'!AA1163","v":""},"",null,null,null,null,null,null,0,"",null,"","","","",null,"","",null,null,{"$f":"IF($A1163=\"\",\"\",'Stammdaten Mitarbeitende'!L1163)","v":""},0,"","","","","","","","","","",0,"",0,0,0,0,{"$f":"IF('Stammdaten Mitarbeitende'!N1163>0,AC1163,0)","v":0},{"$f":"IF('Stammdaten Mitarbeitende'!N1163>0,P1163,0)","v":0},0,0,0]
[{"$f":"'Stammdaten Mitarbeitende'!AA1164","v":""},"",null,null,null,null,null,null,0,"",null,"","","","",null,"","",null,null,{"$f":"IF($A1164=\"\",\"\",'Stammdaten Mitarbeitende'!L1164)","v":""},0,"","","","","","","","","","",0,"",0,0,0,0,{"$f":"IF('Stammdaten Mitarbeitende'!N1164>0,AC1164,0)","v":0},{"$f":"IF('Stammdaten Mitarbeitende'!N1164>0,P1164,0)","v":0},0,0,0]
[{"$f":"'Stammdaten Mitarbeitende'!AA1165","v":""},"",null,null,null,null,null,null,0,"",null,"","","","",null,"","",null,null,{"$f":"IF($A1165=\"\",\"\",'Stammdaten Mitarbeitende'!L1165)","v":""},0,"","","","","","","","","","",0,"",0,0,0,0,{"$f":"IF('Stammdaten Mitarbeitende'!N1165>0,AC1165,0)","v":0},{"$f":"IF('Stammdaten Mitarbeitende'!N1165>0,P1165,0)","v":0},0,0,0]
[{"$f":"'Stammdaten Mitarbeitende'!AA1166","v":""},"",null,null,null,null,null,null,0,"",null,"","","","",null,"","",null,null,{"$f":"IF($A1166=\"\",\"\",'Stammdaten Mitarbeitende'!L1166)","v":""},0,"","","","","","","","","","",0,"",0,0,0,0,{"$f":"IF('Stammdaten Mitarbeitende'!N1166>0,AC1166,0)","v":0},{"$f":"IF('Stammdaten Mitarbeitende'!N1166>0,P1166,0)","v":0},0,0,0]
[{"$f":"'Stammdaten Mitarbeitende'!AA1167","v":""},"",null,null,null,null,null,null,0,"",null,"","","","",null,"","",null,null,{"$f":"IF($A1167=\"\",\"\",'Stammdaten Mitarbeitende'!L1167)","v":""},0,"","","","","","","","","","",0,"",0,0,0,0,{"$f":"IF('Stammdaten Mitarbeitende'!N1167>0,AC1167,0)","v":0},{"$f":"IF('Stammdaten Mitarbeitende'!N1167>0,P1167,0)","v":0},0,0,0]
[{"$f":"'Stammdaten Mitarbeitende'!AA1168","v":""},"",null,null,null,null,null,null,0,"",null,"","","","",null,"","",null,null,{"$f":"IF($A1168=\"\",\"\",'Stammdaten Mitarbeitende'!L1168)","v":""},0,"","","","","","","","","","",0,"",0,0,0,0,{"$f":"IF('Stammdaten Mitarbeitende'!N1168>0,AC1168,0)","v":0},{"$f":"IF('Stammdaten Mitarbeitende'!N1168>0,P1168,0)","v":0},0,0,0]
[{"$f":"'Stammdaten Mitarbeitende'!AA1169","v":""},"",null,null,null,null,null,null,0,"",null,"","","","",null,"","",null,null,{"$f":"IF($A1169=\"\",\"\",'Stammdaten Mitarbeitende'!L1169)","v":""},0,"","","","","","","","","","",0,"",0,0,0,0,{"$f":"IF('Stammdaten Mitarbeitende'!N1169>0,AC1169,0)","v":0},{"$f":"IF('Stammdaten Mitarbeitende'!N1169>0,P1169,0)","v":0},0,0,0]
[{"$f":"Übersetzungstexte!A$296","v":"Seitentotal"},null,null,{"$f":"SUM(D1149:D1169)","v":0},null,{"$f":"SUM(F1149:F1169)","v":0},null,null,null,{"$f":"SUM(J1149:J1169)","v":0},null,null,null,{"$f":"SUM(N1149:N1169)","v":0},null,{"$f":"SUM(P1149:P1169)","v":0},null,{"$f":"SUM(R1149:R1169)","v":0}]
[{"$f":"'Stammdaten Betrieb & Abteilung'!D$1","v":"  "},null,null,null,null,null,null,null,null,null,null,null,{"$f":"Übersetzungstexte!A$239","v":"Betrieb / Betriebsabteilung"},{"$f":"'Stammdaten Betrieb & Abteilung'!D$13","v":" "}]
[{"$f":"'Stammdaten Betrieb & Abteilung'!D$3","v":" "},null,null,null,null,null,null,null,null,null,null,null,{"$f":"Übersetzungstexte!A$240","v":"Abrechnungsperiode"},{"$f":"'Stammdaten Betrieb & Abteilung'!D$14","v":""},null,{"$f":"'Stammdaten Betrieb & Abteilung'!D$12","v":{"$error":"#VALUE!"}}]
[{"$f":"'Stammdaten Betrieb & Abteilung'!D$4","v":" "},null,null,null,null,null,null,null,null,null,null,null,{"$f":"Übersetzungstexte!A$241","v":"Beginn / Ende der Kurzarbeit"},{"$f":"'Stammdaten Betrieb & Abteilung'!D$16","v":""}]
[]
[1,2,3,4,5,6,null,7,null,8,9,10,11,12,13,null,14,15,null,null,null,"Regel 7","Regel 8",null,"Regel 9","Regel 10","Regel 11","Regel 12","Regel 13","Regel 14","Regel 15","Regel 17",null,"Regel 19/20",null,null,null,null,"AHV-pflichtiger","AHV-pflichtiger",null,null,"AHV-pflichtige"]
[{"$f":"Übersetzungstexte!A$242","v":""},{"$f":"Übersetzungstexte!A$245","v":"anrechen-"},{"$f":"Übersetzungstexte!A$248","v":"Wöchentl."},{"$f":"Übersetzungstexte!A$251","v":"Sollstd. Abr.-"},{"$f":"Übersetzungstexte!A$254","v":""},{"$f":"Übersetzungstexte!A$257","v":"Bezahlte/"},null,{"$f":"Übersetzungstexte!A$263","v":"(nur für Gleitzeit)"},null,{"$f":"Übersetzungstexte!A$269","v":"Ausfall-"},{"$f":"Übersetzungstexte!A$272","v":"Saldo"},{"$f":"Übersetzungstexte!A$275","v":"Saisonale"},{"$f":"Übersetzungstexte!A$278","v":"Anrechen-"},{"$f":"Übersetzungstexte!A$281","v":"Verdienst-"},{"$f":"Übersetzungstexte!A$284","v":"Verdienst-"},{"$f":"Übersetzungstexte!A$287","v":"Verdienst"},{"$f":"AE$4","v":"Abzug "},{"$f":"Übersetzungstexte!A$293","v":""},null,null,"anrechen-","Gleitzeit","Ausfall-","Max(D12,0)","Prozentualer","Saisonale","Proz. Wirts. Bed.","Anrechen-","Verdienst-","Verdienst-","Abzug","Abzug","Verdienst",null,"Anzahl","Anzahl","Sollstd.","Absenzen","Verdienst-","Verdienst","Sollstd.","bezahlte/","Abzugsbasis"]
[{"$f":"Übersetzungstexte!A$243","v":""},{"$f":"Übersetzungstexte!A$246","v":"barer Std.-"},{"$f":"Übersetzungstexte!A$249","v":"Arbeitszeit"},{"$f":"Übersetzungstexte!A$252","v":"Periode Inkl."},{"$f":"Übersetzungstexte!A$255","v":""},{"$f":"Übersetzungstexte!A$258","v":"Unbezahlte"},{"$f":"Übersetzungstexte!A$261","v":"Saldo Ende Per."},null,null,{"$f":"Übersetzungstexte!A$270","v":"stunden"},{"$f":"Übersetzungstexte!A$273","v":"Mehrstd."},{"$f":"Übersetzungstexte!A$276","v":"Ausfall-"},{"$f":"Übersetzungstexte!A$279","v":"bare Aus-"},{"$f":"Übersetzungstexte!A$282","v":"ausfall"},{"$f":"Übersetzungstexte!A$285","v":"ausfall"},{"$f":"Übersetzungstexte!A$288","v":"Zwischen-"},{"$f":"Übersetzungstexte!A$291","v":"Karenztage"},{"$f":"Übersetzungstexte!A$294","v":"Beantragte"},null,null,"barer Std.-","c","stunden",null,"Arbeitsausfall","Ausfall-","Arbeitsausfall","bare ","ausfall","ausfall","Karenztage","Zwischen-","Zwischen-","Beantragte","bezugsber.","betroffene","bezugsber.","bezugsber.","ausfall","Zwischen-","inkl","unbezahlte"]
[{"$f":"Übersetzungstexte!A$244","v":"Name,Vorname"},{"$f":"Übersetzungstexte!A$247","v":"Verdienst"},{"$f":"Übersetzungstexte!A$250","v":"in der AP"},{"$f":"Übersetzungstexte!A$253","v":"Vorholzeit"},{"$f":"Übersetzungstexte!A$256","v":"Istzeit"},{"$f":"Übersetzungstexte!A$259","v":"Absenzen"},{"$f":"Übersetzungstexte!A$262","v":"vorherg."},{"$f":"Übersetzungstexte!A$265","v":"laufend"},{"$f":"Übersetzungstexte!A$268","v":"Diff."},{"$f":"Übersetzungstexte!A$271","v":"total"},{"$f":"Übersetzungstexte!A$274","v":"Vormonate"},{"$f":"Übersetzungstexte!A$277","v":"stunden"},{"$f":"Übersetzungstexte!A$280","v":"fall-Std."},{"$f":"Übersetzungstexte!A$283","v":"100%"},{"$f":"Übersetzungstexte!A$286","v":"80%"},{"$f":"Übersetzungstexte!A$289","v":"Beschäftigung"},{"$f":"Übersetzungstexte!A$292","v":"80%"},{"$f":"Übersetzungstexte!A$295","v":"Vergütung"},null,null,"Verdienst",null,"Total",null,"pAA","stunden","pwAA","Ausfall-Std.","100%","80%","80%","beschäftigung","beschäftigung","Vergütung","Mitarbeiter","Mitarbeiter","Mitarbeiter","Mitarbeiter","100%","beschäftigung","Vorholzeit","Ansenzen"]
[{"$f":"'Stammdaten Mitarbeitende'!AA1179","v":""},{"$f":"U1179","v":""},null,null,null,null,null,null,{"$f":"V1179","v":0},{"$f":"W1179","v":""},null,{"$f":"Z1179","v":""},{"$f":"AB1179","v":""},{"$f":"AC1179","v":""},{"$f":"AD1179","v":""},null,{"$f":"AE1179","v":""},{"$f":"AH1179","v":""},null,null,{"$f":"IF($A1179=\"\",\"\",'Stammdaten Mitarbeitende'!L1179)","v":""},{"$f":"IF(AND(G1179=\"\",H1179=\"\"),0,G1179-H1179)","v":0},{"$f":"IF(OR($A1179=\"\",D1179=\"\",E1179=\"\",F1179=\"\",V1179=\"\"),\"\",D1179-(E1179+F1179+V1179))","v":""},{"$f":"IF(W1179=\"\",\"\",MAX(W1179,0))","v":""},{"$f":"IF(J1179=\"\",\"\",Y$4)","v":""},{"$f":"IF(J1179=\"\",\"\",J1179*Z$4)","v":""},{"$f":"IF(Y1179=\"\",\"\",AA$4)","v":""},{"$f":"IF(J1179=\"\",\"\",ROUND(J1179*AB$4 - MAX(K1179-L1179,0),2))","v":""},{"$f":"IF(OR($A1179=\"\",J1179=\"\",B1179=\"\",M1179<0),\"\",MAX(ROUND(M1179*B1179*2,1)/2,0))","v":""},{"$f":"IF(OR($A1179=\"\",N1179=\"\"),\"\",ROUND(N1179*8/5,1)/2)","v":""},{"$f":"IF(OR($A1179=\"\",B1179=\"\",N1179=\"\"),\"\",ROUND(AE$3*C1179*B1179*16/50,1)/2)","v":""},{"$f":"IF(OR($A1179=\"\",J1179=\"\",N1179=\"\"),\"\",MAX(O1179+P1179-N1179,0))","v":""},{"$f":"P1179","v":0},{"$f":"IF(OR($A1179=\"\",N1179=\"\"),\"\",ROUND((MAX(O1179-Q1179-AF1179,0))*2,1)/2)","v":""},{"$f":"IF(D1179=\"\",0,1)","v":0},{"$f":"IF(J1179=\"\",0,IF(ROUND(J1179,2)<=0,0,1))","v":0},{"$f":"IF(D1179=\"\",0,D1179)","v":0},{"$f":"IF(D1179=\"\",0,F1179)","v":0},{"$f":"IF('Stammdaten Mitarbeitende'!N1179>0,AC1179,0)","v":0},{"$f":"IF('Stammdaten Mitarbeitende'!N1179>0,P1179,0)","v":0},{"$f":"D1179","v":0},{"$f":"F1179","v":0},{"$f":"IF(AM1179=\"\",0,MAX(AM1179-AN1179,0))","v":0}]
[{"$f":"'Stammdaten Mitarbeitende'!AA1180","v":""},"",null,null,null,null,null,null,0,"",null,"","","","",null,"","",null,null,{"$f":"IF($A1180=\"\",\"\",'Stammdaten Mitarbeitende'!L1180)","v":""},0,"","","","","","","","","","",0,"",0,{"$f":"IF(J1180=\"\",0,IF(ROUND(J1180,2)<=0,0,1))","v":0},0,0,{"$f":"IF('Stammdaten Mitarbeitende'!N1180>0,AC1180,0)","v":0},{"$f":"IF('Stammdaten Mitarbeitende'!N1180>0,P1180,0)","v":0},0,0,0]
[{"$f":"'Stammdaten Mitarbeitende'!AA1181","v":""},"",null,null,null,null,null,null,0,"",null,"","","","",null,"","",null,null,{"$f":"IF($A1181=\"\",\"\",'Stammdaten Mitarbeitende'!L1181)","v":""},0,"","","","","","","","","","",0,"",0,0,0,0,{"$f":"IF('Stammdaten Mitarbeitende'!N1181>0,AC1181,0)","v":0},{"$f":"IF('Stammdaten Mitarbeitende'!N1181>0,P1181,0)","v":0},0,0,0]
[{"$f":"'Stammdaten Mitarbeitende'!AA1182","v":""},"",null,null,null,null,null,null,0,"",null,"","","","",null,"","",null,null,{"$f":"IF($A1182=\"\",\"\",'Stammdaten Mitarbeitende'!L1182)","v":""},0,"","","","","","","","","","",0,"",0,0,0,0,{"$f":"IF('Stammdaten Mitarbeitende'!N1182>0,AC1182,0)","v":0},{"$f":"IF('Stammdaten Mitarbeitende'!N1182>0,P1182,0)","v":0},0,0,0]
[{"$f":"'Stammdaten Mitarbeitende'!AA1183","v":""},"",null,null,null,null,null,null,0,"",null,"","","","",null,"","",null,null,{"$f":"IF($A1183=\"\",\"\",'Stammdaten Mitarbeitende'!L1183)","v":""},0,"","","","","","","","","","",0,"",0,0,0,0,{"$f":"IF('Stammdaten Mitarbeitende'!N1183>0,AC1183,0)","v":0},{"$f":"IF('Stammdaten Mitarbeitende'!N1183>0,P1183,0)","v":0},0,0,0]
[{"$f":"'Stammdaten Mitarbeitende'!AA1184","v":""},"",null,null,null,null,null,null,0,"",null,"","","","",null,"","",null,null,{"$f":"IF($A1184=\"\",\"\",'Stammdaten Mitarbeitende'!L1184)","v":""},0,"","","","","","","","","","",0,"",0,0,0,0,{"$f":"IF('Stammdaten Mitarbeitende'!N1184>0,AC1184,0)","v":0},{"$f":"IF('Stammdaten Mitarbeitende'!N1184>0,P1184,0)","v":0},0,0,0]
[{"$f":"'Stammdaten Mitarbeitende'!AA1185","v":""},"",null,null,null,null,null,null,0,"",null,"","","","",null,"","",null,null,{"$f":"IF($A1185=\"\",\"\",'Stammdaten Mitarbeitende'!L1185)","v":""},0,"","","","","","","","","","",0,"",0,0,0,0,{"$f":"IF('Stammdaten Mitarbeitende'!N1185>0,AC1185,0)","v":0},{"$f":"IF('Stammdaten Mitarbeitende'!N1185>0,P1185,0)","v":0},0,0,0]
[{"$f":"'Stammdaten Mitarbeitende'!AA1186","v":""},"",null,null,null,null,null,null,0,"",null,"","","","",null,"","",null,null,{"$f":"IF($A1186=\"\",\"\",'Stammdaten Mitarbeitende'!L1186)","v":""},0,"","","","","","","","","","",0,"",0,0,0,0,{"$f":"IF('Stammdaten Mitarbeitende'!N1186>0,AC1186,0)","v":0},{"$f":"IF('Stammdaten Mitarbeitende'!N1186>0,P1186,0)","v":0},0,0,0]
[{"$f":"'Stammdaten Mitarbeitende'!AA1187","v":""},"",null,null,null,null,null,null,0,"",null,"","","","",null,"","",null,null,{"$f":"IF($A1187=\"\",\"\",'Stammdaten Mitarbeitende'!L1187)","v":""},0,"","","","","","","","","","",0,"",0,0,0,0,{"$f":"IF('Stammdaten Mitarbeitende'!N1187>0,AC1187,0)","v":0},{"$f":"IF('Stammdaten Mitarbeitende'!N1187>0,P1187,0)","v":0},0,0,0]
[{"$f":"'Stammdaten Mitarbeitende'!AA1188","v":""},"",null,null,null,null,null,null,0,"",null,"","","","",null,"","",null,null,{"$f":"IF($A1188=\"\",\"\",'Stammdaten Mitarbeitende'!L1188)","v":""},0,"","","","","","","","","","",0,"",0,0,0,0,{"$f":"IF('Stammdaten Mitarbeitende'!N1188>0,AC1188,0)","v":0},{"$f":"IF('Stammdaten Mitarbeitende'!N1188>0,P1188,0)","v":0},0,0,0]
[{"$f":"'Stammdaten Mitarbeitende'!AA1189","v":""},"",null,null,null,null,null,null,0,"",null,"","","","",null,"","",null,null,{"$f":"IF($A1189=\"\",\"\",'Stammdaten Mitarbeitende'!L1189)","v":""},0,"","","","","","","","","","",0,"",0,0,0,0,{"$f":"IF('Stammdaten Mitarbeitende'!N1189>0,AC1189,0)","v":0},{"$f":"IF('Stammdaten Mitarbeitende'!N1189>0,P1189,0)","v":0},0,0,0]
[{"$f":"'Stammdaten Mitarbeitende'!AA1190","v":""},"",null,null,null,null,null,null,0,"",null,"","","","",null,"","",null,null,{"$f":"IF($A1190=\"\",\"\",'Stammdaten Mitarbeitende'!L1190)","v":""},0,"","","","","","","","","","",0,"",0,0,0,0,{"$f":"IF('Stammdaten Mitarbeitende'!N1190>0,AC1190,0)","v":0},{"$f":"IF('Stammdaten Mitarbeitende'!N1190>0,P1190,0)","v":0},0,0,0]
[{"$f":"'Stammdaten Mitarbeitende'!AA1191","v":""},"",null,null,null,null,null,null,0,"",null,"","","","",null,"","",null,null,{"$f":"IF($A1191=\"\",\"\",'Stammdaten Mitarbeitende'!L1191)","v":""},0,"","","","","","","","","","",0,"",0,0,0,0,{"$f":"IF('Stammdaten Mitarbeitende'!N1191>0,AC1191,0)","v":0},{"$f":"IF('Stammdaten Mitarbeitende'!N1191>0,P1191,0)","v":0},0,0,0]
[{"$f":"'Stammdaten Mitarbeitende'!AA1192","v":""},"",null,null,null,null,null,null,0,"",null,"","","","",null,"","",null,null,{"$f":"IF($A1192=\"\",\"\",'Stammdaten Mitarbeitende'!L1192)","v":""},0,"","","","","","","","","","",0,"",0,0,0,0,{"$f":"IF('Stammdaten Mitarbeitende'!N1192>0,AC1192,0)","v":0},{"$f":"IF('Stammdaten Mitarbeitende'!N1192>0,P1192,0)","v":0},0,0,0]
[{"$f":"'Stammdaten Mitarbeitende'!AA1193","v":""},"",null,null,null,null,null,null,0,"",null,"","","","",null,"","",null,null,{"$f":"IF($A1193=\"\",\"\",'Stammdaten Mitarbeitende'!L1193)","v":""},0,"","","","","","","","","","",0,"",0,0,0,0,{"$f":"IF('Stammdaten Mitarbeitende'!N1193>0,AC1193,0)","v":0},{"$f":"IF('Stammdaten Mitarbeitende'!N1193>0,P1193,0)","v":0},0,0,0]
[{"$f":"'Stammdaten Mitarbeitende'!AA1194","v":""},"",null,null,null,null,null,null,0,"",null,"","","","",null,"","",null,null,{"$f":"IF($A1194=\"\",\"\",'Stammdaten Mitarbeitende'!L1194)","v":""},0,"","","","","","","","","","",0,"",0,0,0,0,{"$f":"IF('Stammdaten Mitarbeitende'!N1194>0,AC1194,0)","v":0},{"$f":"IF('Stammdaten Mitarbeitende'!N1194>0,P1194,0)","v":0},0,0,0]
[{"$f":"'Stammdaten Mitarbeitende'!AA1195","v":""},"",null,null,null,null,null,null,0,"",null,"","","","",null,"","",null,null,{"$f":"IF($A1195=\"\",\"\",'Stammdaten Mitarbeitende'!L1195)","v":""},0,"","","","","","","","","","",0,"",0,0,0,0,{"$f":"IF('Stammdaten Mitarbeitende'!N1195>0,AC1195,0)","v":0},{"$f":"IF('Stammdaten Mitarbeitende'!N1195>0,P1195,0)","v":0},0,0,0]
[{"$f":"'Stammdaten Mitarbeitende'!AA1196","v":""},"",null,null,null,null,null,null,0,"",null,"","","","",null,"","",null,null,{"$f":"IF($A1196=\"\",\"\",'Stammdaten Mitarbeitende'!L1196)","v":""},0,"","","","","","","","","","",0,"",0,0,0,0,{"$f":"IF('Stammdaten Mitarbeitende'!N1196>0,AC1196,0)","v":0},{"$f":"IF('Stammdaten Mitarbeitende'!N1196>0,P1196,0)","v":0},0,0,0]
[{"$f":"'Stammdaten Mitarbeitende'!AA1197","v":""},"",null,null,null,null,null,null,0,"",null,"","","","",null,"","",null,null,{"$f":"IF($A1197=\"\",\"\",'Stammdaten Mitarbeitende'!L1197)","v":""},0,"","","","","","","","","","",0,"",0,0,0,0,{"$f":"IF('Stammdaten Mitarbeitende'!N1197>0,AC1197,0)","v":0},{"$f":"IF('Stammdaten Mitarbeitende'!N1197>0,P1197,0)","v":0},0,0,0]
[{"$f":"'Stammdaten Mitarbeitende'!AA1198","v":""},"",null,null,null,null,null,null,0,"",null,"","","","",null,"","",null,null,{"$f":"IF($A1198=\"\",\"\",'Stammdaten Mitarbeitende'!L1198)","v":""},0,"","","","","","","","","","",0,"",0,0,0,0,{"$f":"IF('Stammdaten Mitarbeitende'!N1198>0,AC1198,0)","v":0},{"$f":"IF('Stammdaten Mitarbeitende'!N1198>0,P1198,0)","v":0},0,0,0]
[{"$f":"'Stammdaten Mitarbeitende'!AA1199","v":""},"",null,null,null,null,null,null,0,"",null,"","","","",null,"","",null,null,{"$f":"IF($A1199=\"\",\"\",'Stammdaten Mitarbeitende'!L1199)","v":""},0,"","","","","","","","","","",0,"",0,0,0,0,{"$f":"IF('Stammdaten Mitarbeitende'!N1199>0,AC1199,0)","v":0},{"$f":"IF('Stammdaten Mitarbeitende'!N1199>0,P1199,0)","v":0},0,0,0]
[{"$f":"Übersetzungstexte!A$296","v":"Seitentotal"},null,null,{"$f":"SUM(D1179:D1199)","v":0},null,{"$f":"SUM(F1179:F1199)","v":0},null,null,null,{"$f":"SUM(J1179:J1199)","v":0},null,null,null,{"$f":"SUM(N1179:N1199)","v":0},null,{"$f":"SUM(P1179:P1199)","v":0},null,{"$f":"SUM(R1179:R1199)","v":0}]
[{"$f":"'Stammdaten Betrieb & Abteilung'!D$1","v":"  "},null,null,null,null,null,null,null,null,null,null,null,{"$f":"Übersetzungstexte!A$239","v":"Betrieb / Betriebsabteilung"},{"$f":"'Stammdaten Betrieb & Abteilung'!D$13","v":" "}]
[{"$f":"'Stammdaten Betrieb & Abteilung'!D$3","v":" "},null,null,null,null,null,null,null,null,null,null,null,{"$f":"Übersetzungstexte!A$240","v":"Abrechnungsperiode"},{"$f":"'Stammdaten Betrieb & Abteilung'!D$14","v":""},null,{"$f":"'Stammdaten Betrieb & Abteilung'!D$12","v":{"$error":"#VALUE!"}}]
[{"$f":"'Stammdaten Betrieb & Abteilung'!D$4","v":" "},null,null,null,null,null,null,null,null,null,null,null,{"$f":"Übersetzungstexte!A$241","v":"Beginn / Ende der Kurzarbeit"},{"$f":"'Stammdaten Betrieb & Abteilung'!D$16","v":""}]
[]
[1,2,3,4,5,6,null,7,null,8,9,10,11,12,13,null,14,15,null,null,null,"Regel 7","Regel 8",null,"Regel 9","Regel 10","Regel 11","Regel 12","Regel 13","Regel 14","Regel 15","Regel 17",null,"Regel 19/20",null,null,null,null,"AHV-pflichtiger","AHV-pflichtiger",null,null,"AHV-pflichtige"]
[{"$f":"Übersetzungstexte!A$242","v":""},{"$f":"Übersetzungstexte!A$245","v":"anrechen-"},{"$f":"Übersetzungstexte!A$248","v":"Wöchentl."},{"$f":"Übersetzungstexte!A$251","v":"Sollstd. Abr.-"},{"$f":"Übersetzungstexte!A$254","v":""},{"$f":"Übersetzungstexte!A$257","v":"Bezahlte/"},null,{"$f":"Übersetzungstexte!A$263","v":"(nur für Gleitzeit)"},null,{"$f":"Übersetzungstexte!A$269","v":"Ausfall-"},{"$f":"Übersetzungstexte!A$272","v":"Saldo"},{"$f":"Übersetzungstexte!A$275","v":"Saisonale"},{"$f":"Übersetzungstexte!A$278","v":"Anrechen-"},{"$f":"Übersetzungstexte!A$281","v":"Verdienst-"},{"$f":"Übersetzungstexte!A$284","v":"Verdienst-"},{"$f":"Übersetzungstexte!A$287","v":"Verdienst"},{"$f":"AE$4","v":"Abzug "},{"$f":"Übersetzungstexte!A$293","v":""},null,null,"anrechen-","Gleitzeit","Ausfall-","Max(D12,0)","Prozentualer","Saisonale","Proz. Wirts. Bed.","Anrechen-","Verdienst-","Verdienst-","Abzug","Abzug","Verdienst",null,"Anzahl","Anzahl","Sollstd.","Absenzen","Verdienst-","Verdienst","Sollstd.","bezahlte/","Abzugsbasis"]
[{"$f":"Übersetzungstexte!A$243","v":""},{"$f":"Übersetzungstexte!A$246","v":"barer Std.-"},{"$f":"Übersetzungstexte!A$249","v":"Arbeitszeit"},{"$f":"Übersetzungstexte!A$252","v":"Periode Inkl."},{"$f":"Übersetzungstexte!A$255","v":""},{"$f":"Übersetzungstexte!A$258","v":"Unbezahlte"},{"$f":"Übersetzungstexte!A$261","v":"Saldo Ende Per."},null,null,{"$f":"Übersetzungstexte!A$270","v":"stunden"},{"$f":"Übersetzungstexte!A$273","v":"Mehrstd."},{"$f":"Übersetzungstexte!A$276","v":"Ausfall-"},{"$f":"Übersetzungstexte!A$279","v":"bare Aus-"},{"$f":"Übersetzungstexte!A$282","v":"ausfall"},{"$f":"Übersetzungstexte!A$285","v":"ausfall"},{"$f":"Übersetzungstexte!A$288","v":"Zwischen-"},{"$f":"Übersetzungstexte!A$291","v":"Karenztage"},{"$f":"Übersetzungstexte!A$294","v":"Beantragte"},null,null,"barer Std.-","c","stunden",null,"Arbeitsausfall","Ausfall-","Arbeitsausfall","bare ","ausfall","ausfall","Karenztage","Zwischen-","Zwischen-","Beantragte","bezugsber.","betroffene","bezugsber.","bezugsber.","ausfall","Zwischen-","inkl","unbezahlte"]
[{"$f":"Übersetzungstexte!A$244","v":"Name,Vorname"},{"$f":"Übersetzungstexte!A$247","v":"Verdienst"},{"$f":"Übersetzungstexte!A$250","v":"in der AP"},{"$f":"Übersetzungstexte!A$253","v":"Vorholzeit"},{"$f":"Übersetzungstexte!A$256","v":"Istzeit"},{"$f":"Übersetzungstexte!A$259","v":"Absenzen"},{"$f":"Übersetzungstexte!A$262","v":"vorherg."},{"$f":"Übersetzungstexte!A$265","v":"laufend"},{"$f":"Übersetzungstexte!A$268","v":"Diff."},{"$f":"Übersetzungstexte!A$271","v":"total"},{"$f":"Übersetzungstexte!A$274","v":"Vormonate"},{"$f":"Übersetzungstexte!A$277","v":"stunden"},{"$f":"Übersetzungstexte!A$280","v":"fall-Std."},{"$f":"Übersetzungstexte!A$283","v":"100%"},{"$f":"Übersetzungstexte!A$286","v":"80%"},{"$f":"Übersetzungstexte!A$289","v":"Beschäftigung"},{"$f":"Übersetzungstexte!A$292","v":"80%"},{"$f":"Übersetzungstexte!A$295","v":"Vergütung"},null,null,"Verdienst",null,"Total",null,"pAA","stunden","pwAA","Ausfall-Std.","100%","80%","80%","beschäftigung","beschäftigung","Vergütung","Mitarbeiter","Mitarbeiter","Mitarbeiter","Mitarbeiter","100%","beschäftigung","Vorholzeit","Ansenzen"]
[{"$f":"'Stammdaten Mitarbeitende'!AA1209","v":""},{"$f":"U1209","v":""},null,null,null,null,null,null,{"$f":"V1209","v":0},{"$f":"W1209","v":""},null,{"$f":"Z1209","v":""},{"$f":"AB1209","v":""},{"$f":"AC1209","v":""},{"$f":"AD1209","v":""},null,{"$f":"AE1209","v":""},{"$f":"AH1209","v":""},null,null,{"$f":"IF($A1209=\"\",\"\",'Stammdaten Mitarbeitende'!L1209)","v":""},{"$f":"IF(AND(G1209=\"\",H1209=\"\"),0,G1209-H1209)","v":0},{"$f":"IF(OR($A1209=\"\",D1209=\"\",E1209=\"\",F1209=\"\",V1209=\"\"),\"\",D1209-(E1209+F1209+V1209))","v":""},{"$f":"IF(W1209=\"\",\"\",MAX(W1209,0))","v":""},{"$f":"IF(J1209=\"\",\"\",Y$4)","v":""},{"$f":"IF(J1209=\"\",\"\",J1209*Z$4)","v":""},{"$f":"IF(Y1209=\"\",\"\",AA$4)","v":""},{"$f":"IF(J1209=\"\",\"\",ROUND(J1209*AB$4 - MAX(K1209-L1209,0),2))","v":""},{"$f":"IF(OR($A1209=\"\",J1209=\"\",B1209=\"\",M1209<0),\"\",MAX(ROUND(M1209*B1209*2,1)/2,0))","v":""},{"$f":"IF(OR($A1209=\"\",N1209=\"\"),\"\",ROUND(N1209*8/5,1)/2)","v":""},{"$f":"IF(OR($A1209=\"\",B1209=\"\",N1209=\"\"),\"\",ROUND(AE$3*C1209*B1209*16/50,1)/2)","v":""},{"$f":"IF(OR($A1209=\"\",J1209=\"\",N1209=\"\"),\"\",MAX(O1209+P1209-N1209,0))","v":""},{"$f":"P1209","v":0},{"$f":"IF(OR($A1209=\"\",N1209=\"\"),\"\",ROUND((MAX(O1209-Q1209-AF1209,0))*2,1)/2)","v":""},{"$f":"IF(D1209=\"\",0,1)","v":0},{"$f":"IF(J1209=\"\",0,IF(ROUND(J1209,2)<=0,0,1))","v":0},{"$f":"IF(D1209=\"\",0,D1209)","v":0},{"$f":"IF(D1209=\"\",0,F1209)","v":0},{"$f":"IF('Stammdaten Mitarbeitende'!N1209>0,AC1209,0)","v":0},{"$f":"IF('Stammdaten Mitarbeitende'!N1209>0,P1209,0)","v":0},{"$f":"D1209","v":0},{"$f":"F1209","v":0},{"$f":"IF(AM1209=\"\",0,MAX(AM1209-AN1209,0))","v":0}]
[{"$f":"'Stammdaten Mitarbeitende'!AA1210","v":""},"",null,null,null,null,null,null,0,"",null,"","","","",null,"","",null,null,{"$f":"IF($A1210=\"\",\"\",'Stammdaten Mitarbeitende'!L1210)","v":""},0,"","","","","","","","","","",0,"",0,{"$f":"IF(J1210=\"\",0,IF(ROUND(J1210,2)<=0,0,1))","v":0},0,0,{"$f":"IF('Stammdaten Mitarbeitende'!N1210>0,AC1210,0)","v":0},{"$f":"IF('Stammdaten Mitarbeitende'!N1210>0,P1210,0)","v":0},0,0,0]
[{"$f":"'Stammdaten Mitarbeitende'!AA1211","v":""},"",null,null,null,null,null,null,0,"",null,"","","","",null,"","",null,null,{"$f":"IF($A1211=\"\",\"\",'Stammdaten Mitarbeitende'!L1211)","v":""},0,"","","","","","","","","","",0,"",0,0,0,0,{"$f":"IF('Stammdaten Mitarbeitende'!N1211>0,AC1211,0)","v":0},{"$f":"IF('Stammdaten Mitarbeitende'!N1211>0,P1211,0)","v":0},0,0,0]
[{"$f":"'Stammdaten Mitarbeitende'!AA1212","v":""},"",null,null,null,null,null,null,0,"",null,"","","","",null,"","",null,null,{"$f":"IF($A1212=\"\",\"\",'Stammdaten Mitarbeitende'!L1212)","v":""},0,"","","","","","","","","","",0,"",0,0,0,0,{"$f":"IF('Stammdaten Mitarbeitende'!N1212>0,AC1212,0)","v":0},{"$f":"IF('Stammdaten Mitarbeitende'!N1212>0,P1212,0)","v":0},0,0,0]
[{"$f":"'Stammdaten Mitarbeitende'!AA1213","v":""},"",null,null,null,null,null,null,0,"",null,"","","","",null,"","",null,null,{"$f":"IF($A1213=\"\",\"\",'Stammdaten Mitarbeitende'!L1213)","v":""},0,"","","","","","","","","","",0,"",0,0,0,0,{"$f":"IF('Stammdaten Mitarbeitende'!N1213>0,AC1213,0)","v":0},{"$f":"IF('Stammdaten Mitarbeitende'!N1213>0,P1213,0)","v":0},0,0,0]
[{"$f":"'Stammdaten Mitarbeitende'!AA1214","v":""},"",null,null,null,null,null,null,0,"",null,"","","","",null,"","",null,null,{"$f":"IF($A1214=\"\",\"\",'Stammdaten Mitarbeitende'!L1214)","v":""},0,"","","","","","","","","","",0,"",0,0,0,0,{"$f":"IF('Stammdaten Mitarbeitende'!N1214>0,AC1214,0)","v":0},{"$f":"IF('Stammdaten Mitarbeitende'!N1214>0,P1214,0)","v":0},0,0,0]
[{"$f":"'Stammdaten Mitarbeitende'!AA1215","v":""},"",null,null,null,null,null,null,0,"",null,"","","","",null,"","",null,null,{"$f":"IF($A1215=\"\",\"\",'Stammdaten Mitarbeitende'!L1215)","v":""},0,"","","","","","","","","","",0,"",0,0,0,0,{"$f":"IF('Stammdaten Mitarbeitende'!N1215>0,AC1215,0)","v":0},{"$f":"IF('Stammdaten Mitarbeitende'!N1215>0,P1215,0)","v":0},0,0,0]
[{"$f":"'Stammdaten Mitarbeitende'!AA1216","v":""},"",null,null,null,null,null,null,0,"",null,"","","","",null,"","",null,null,{"$f":"IF($A1216=\"\",\"\",'Stammdaten Mitarbeitende'!L1216)","v":""},0,"","","","","","","","","","",0,"",0,0,0,0,{"$f":"IF('Stammdaten Mitarbeitende'!N1216>0,AC1216,0)","v":0},{"$f":"IF('Stammdaten Mitarbeitende'!N1216>0,P1216,0)","v":0},0,0,0]
[{"$f":"'Stammdaten Mitarbeitende'!AA1217","v":""},"",null,null,null,null,null,null,0,"",null,"","","","",null,"","",null,null,{"$f":"IF($A1217=\"\",\"\",'Stammdaten Mitarbeitende'!L1217)","v":""},0,"","","","","","","","","","",0,"",0,0,0,0,{"$f":"IF('Stammdaten Mitarbeitende'!N1217>0,AC1217,0)","v":0},{"$f":"IF('Stammdaten Mitarbeitende'!N1217>0,P1217,0)","v":0},0,0,0]
[{"$f":"'Stammdaten Mitarbeitende'!AA1218","v":""},"",null,null,null,null,null,null,0,"",null,"","","","",null,"","",null,null,{"$f":"IF($A1218=\"\",\"\",'Stammdaten Mitarbeitende'!L1218)","v":""},0,"","","","","","","","","","",0,"",0,0,0,0,{"$f":"IF('Stammdaten Mitarbeitende'!N1218>0,AC1218,0)","v":0},{"$f":"IF('Stammdaten Mitarbeitende'!N1218>0,P1218,0)","v":0},0,0,0]
[{"$f":"'Stammdaten Mitarbeitende'!AA1219","v":""},"",null,null,null,null,null,null,0,"",null,"","","","",null,"","",null,null,{"$f":"IF($A1219=\"\",\"\",'Stammdaten Mitarbeitende'!L1219)","v":""},0,"","","","","","","","","","",0,"",0,0,0,0,{"$f":"IF('Stammdaten Mitarbeitende'!N1219>0,AC1219,0)","v":0},{"$f":"IF('Stammdaten Mitarbeitende'!N1219>0,P1219,0)","v":0},0,0,0]
[{"$f":"'Stammdaten Mitarbeitende'!AA1220","v":""},"",null,null,null,null,null,null,0,"",null,"","","","",null,"","",null,null,{"$f":"IF($A1220=\"\",\"\",'Stammdaten Mitarbeitende'!L1220)","v":""},0,"","","","","","","","","","",0,"",0,0,0,0,{"$f":"IF('Stammdaten Mitarbeitende'!N1220>0,AC1220,0)","v":0},{"$f":"IF('Stammdaten Mitarbeitende'!N1220>0,P1220,0)","v":0},0,0,0]
[{"$f":"'Stammdaten Mitarbeitende'!AA1221","v":""},"",null,null,null,null,null,null,0,"",null,"","","","",null,"","",null,null,{"$f":"IF($A1221=\"\",\"\",'Stammdaten Mitarbeitende'!L1221)","v":""},0,"","","","","","","","","","",0,"",0,0,0,0,{"$f":"IF('Stammdaten Mitarbeitende'!N1221>0,AC1221,0)","v":0},{"$f":"IF('Stammdaten Mitarbeitende'!N1221>0,P1221,0)","v":0},0,0,0]
[{"$f":"'Stammdaten Mitarbeitende'!AA1222","v":""},"",null,null,null,null,null,null,0,"",null,"","","","",null,"","",null,null,{"$f":"IF($A1222=\"\",\"\",'Stammdaten Mitarbeitende'!L1222)","v":""},0,"","","","","","","","","","",0,"",0,0,0,0,{"$f":"IF('Stammdaten Mitarbeitende'!N1222>0,AC1222,0)","v":0},{"$f":"IF('Stammdaten Mitarbeitende'!N1222>0,P1222,0)","v":0},0,0,0]
[{"$f":"'Stammdaten Mitarbeitende'!AA1223","v":""},"",null,null,null,null,null,null,0,"",null,"","","","",null,"","",null,null,{"$f":"IF($A1223=\"\",\"\",'Stammdaten Mitarbeitende'!L1223)","v":""},0,"","","","","","","","","","",0,"",0,0,0,0,{"$f":"IF('Stammdaten Mitarbeitende'!N1223>0,AC1223,0)","v":0},{"$f":"IF('Stammdaten Mitarbeitende'!N1223>0,P1223,0)","v":0},0,0,0]
[{"$f":"'Stammdaten Mitarbeitende'!AA1224","v":""},"",null,null,null,null,null,null,0,"",null,"","","","",null,"","",null,null,{"$f":"IF($A1224=\"\",\"\",'Stammdaten Mitarbeitende'!L1224)","v":""},0,"","","","","","","","","","",0,"",0,0,0,0,{"$f":"IF('Stammdaten Mitarbeitende'!N1224>0,AC1224,0)","v":0},{"$f":"IF('Stammdaten Mitarbeitende'!N1224>0,P1224,0)","v":0},0,0,0]
[{"$f":"'Stammdaten Mitarbeitende'!AA1225","v":""},"",null,null,null,null,null,null,0,"",null,"","","","",null,"","",null,null,{"$f":"IF($A1225=\"\",\"\",'Stammdaten Mitarbeitende'!L1225)","v":""},0,"","","","","","","","","","",0,"",0,0,0,0,{"$f":"IF('Stammdaten Mitarbeitende'!N1225>0,AC1225,0)","v":0},{"$f":"IF('Stammdaten Mitarbeitende'!N1225>0,P1225,0)","v":0},0,0,0]
[{"$f":"'Stammdaten Mitarbeitende'!AA1226","v":""},"",null,null,null,null,null,null,0,"",null,"","","","",null,"","",null,null,{"$f":"IF($A1226=\"\",\"\",'Stammdaten Mitarbeitende'!L1226)","v":""},0,"","","","","","","","","","",0,"",0,0,0,0,{"$f":"IF('Stammdaten Mitarbeitende'!N1226>0,AC1226,0)","v":0},{"$f":"IF('Stammdaten Mitarbeitende'!N1226>0,P1226,0)","v":0},0,0,0]
[{"$f":"'Stammdaten Mitarbeitende'!AA1227","v":""},"",null,null,null,null,null,null,0,"",null,"","","","",null,"","",null,null,{"$f":"IF($A1227=\"\",\"\",'Stammdaten Mitarbeitende'!L1227)","v":""},0,"","","","","","","","","","",0,"",0,0,0,0,{"$f":"IF('Stammdaten Mitarbeitende'!N1227>0,AC1227,0)","v":0},{"$f":"IF('Stammdaten Mitarbeitende'!N1227>0,P1227,0)","v":0},0,0,0]
[{"$f":"'Stammdaten Mitarbeitende'!AA1228","v":""},"",null,null,null,null,null,null,0,"",null,"","","","",null,"","",null,null,{"$f":"IF($A1228=\"\",\"\",'Stammdaten Mitarbeitende'!L1228)","v":""},0,"","","","","","","","","","",0,"",0,0,0,0,{"$f":"IF('Stammdaten Mitarbeitende'!N1228>0,AC1228,0)","v":0},{"$f":"IF('Stammdaten Mitarbeitende'!N1228>0,P1228,0)","v":0},0,0,0]
[{"$f":"'Stammdaten Mitarbeitende'!AA1229","v":""},"",null,null,null,null,null,null,0,"",null,"","","","",null,"","",null,null,{"$f":"IF($A1229=\"\",\"\",'Stammdaten Mitarbeitende'!L1229)","v":""},0,"","","","","","","","","","",0,"",0,0,0,0,{"$f":"IF('Stammdaten Mitarbeitende'!N1229>0,AC1229,0)","v":0},{"$f":"IF('Stammdaten Mitarbeitende'!N1229>0,P1229,0)","v":0},0,0,0]
[{"$f":"Übersetzungstexte!A$296","v":"Seitentotal"},null,null,{"$f":"SUM(D1209:D1229)","v":0},null,{"$f":"SUM(F1209:F1229)","v":0},null,null,null,{"$f":"SUM(J1209:J1229)","v":0},null,null,null,{"$f":"SUM(N1209:N1229)","v":0},null,{"$f":"SUM(P1209:P1229)","v":0},null,{"$f":"SUM(R1209:R1229)","v":0}]
[{"$f":"'Stammdaten Betrieb & Abteilung'!D$1","v":"  "},null,null,null,null,null,null,null,null,null,null,null,{"$f":"Übersetzungstexte!A$239","v":"Betrieb / Betriebsabteilung"},{"$f":"'Stammdaten Betrieb & Abteilung'!D$13","v":" "}]
[{"$f":"'Stammdaten Betrieb & Abteilung'!D$3","v":" "},null,null,null,null,null,null,null,null,null,null,null,{"$f":"Übersetzungstexte!A$240","v":"Abrechnungsperiode"},{"$f":"'Stammdaten Betrieb & Abteilung'!D$14","v":""},null,{"$f":"'Stammdaten Betrieb & Abteilung'!D$12","v":{"$error":"#VALUE!"}}]
[{"$f":"'Stammdaten Betrieb & Abteilung'!D$4","v":" "},null,null,null,null,null,null,null,null,null,null,null,{"$f":"Übersetzungstexte!A$241","v":"Beginn / Ende der Kurzarbeit"},{"$f":"'Stammdaten Betrieb & Abteilung'!D$16","v":""}]
[]
[1,2,3,4,5,6,null,7,null,8,9,10,11,12,13,null,14,15,null,null,null,"Regel 7","Regel 8",null,"Regel 9","Regel 10","Regel 11","Regel 12","Regel 13","Regel 14","Regel 15","Regel 17",null,"Regel 19/20",null,null,null,null,"AHV-pflichtiger","AHV-pflichtiger",null,null,"AHV-pflichtige"]
[{"$f":"Übersetzungstexte!A$242","v":""},{"$f":"Übersetzungstexte!A$245","v":"anrechen-"},{"$f":"Übersetzungstexte!A$248","v":"Wöchentl."},{"$f":"Übersetzungstexte!A$251","v":"Sollstd. Abr.-"},{"$f":"Übersetzungstexte!A$254","v":""},{"$f":"Übersetzungstexte!A$257","v":"Bezahlte/"},null,{"$f":"Übersetzungstexte!A$263","v":"(nur für Gleitzeit)"},null,{"$f":"Übersetzungstexte!A$269","v":"Ausfall-"},{"$f":"Übersetzungstexte!A$272","v":"Saldo"},{"$f":"Übersetzungstexte!A$275","v":"Saisonale"},{"$f":"Übersetzungstexte!A$278","v":"Anrechen-"},{"$f":"Übersetzungstexte!A$281","v":"Verdienst-"},{"$f":"Übersetzungstexte!A$284","v":"Verdienst-"},{"$f":"Übersetzungstexte!A$287","v":"Verdienst"},{"$f":"AE$4","v":"Abzug "},{"$f":"Übersetzungstexte!A$293","v":""},null,null,"anrechen-","Gleitzeit","Ausfall-","Max(D12,0)","Prozentualer","Saisonale","Proz. Wirts. Bed.","Anrechen-","Verdienst-","Verdienst-","Abzug","Abzug","Verdienst",null,"Anzahl","Anzahl","Sollstd.","Absenzen","Verdienst-","Verdienst","Sollstd.","bezahlte/","Abzugsbasis"]
[{"$f":"Übersetzungstexte!A$243","v":""},{"$f":"Übersetzungstexte!A$246","v":"barer Std.-"},{"$f":"Übersetzungstexte!A$249","v":"Arbeitszeit"},{"$f":"Übersetzungstexte!A$252","v":"Periode Inkl."},{"$f":"Übersetzungstexte!A$255","v":""},{"$f":"Übersetzungstexte!A$258","v":"Unbezahlte"},{"$f":"Übersetzungstexte!A$261","v":"Saldo Ende Per."},null,null,{"$f":"Übersetzungstexte!A$270","v":"stunden"},{"$f":"Übersetzungstexte!A$273","v":"Mehrstd."},{"$f":"Übersetzungstexte!A$276","v":"Ausfall-"},{"$f":"Übersetzungstexte!A$279","v":"bare Aus-"},{"$f":"Übersetzungstexte!A$282","v":"ausfall"},{"$f":"Übersetzungstexte!A$285","v":"ausfall"},{"$f":"Übersetzungstexte!A$288","v":"Zwischen-"},{"$f":"Übersetzungstexte!A$291","v":"Karenztage"},{"$f":"Übersetzungstexte!A$294","v":"Beantragte"},null,null,"barer Std.-","c","stunden",null,"Arbeitsausfall","Ausfall-","Arbeitsausfall","bare ","ausfall","ausfall","Karenztage","Zwischen-","Zwischen-","Beantragte","bezugsber.","betroffene","bezugsber.","bezugsber.","ausfall","Zwischen-","inkl","unbezahlte"]
[{"$f":"Übersetzungstexte!A$244","v":"Name,Vorname"},{"$f":"Übersetzungstexte!A$247","v":"Verdienst"},{"$f":"Übersetzungstexte!A$250","v":"in der AP"},{"$f":"Übersetzungstexte!A$253","v":"Vorholzeit"},{"$f":"Übersetzungstexte!A$256","v":"Istzeit"},{"$f":"Übersetzungstexte!A$259","v":"Absenzen"},{"$f":"Übersetzungstexte!A$262","v":"vorherg."},{"$f":"Übersetzungstexte!A$265","v":"laufend"},{"$f":"Übersetzungstexte!A$268","v":"Diff."},{"$f":"Übersetzungstexte!A$271","v":"total"},{"$f":"Übersetzungstexte!A$274","v":"Vormonate"},{"$f":"Übersetzungstexte!A$277","v":"stunden"},{"$f":"Übersetzungstexte!A$280","v":"fall-Std."},{"$f":"Übersetzungstexte!A$283","v":"100%"},{"$f":"Übersetzungstexte!A$286","v":"80%"},{"$f":"Übersetzungstexte!A$289","v":"Beschäftigung"},{"$f":"Übersetzungstexte!A$292","v":"80%"},{"$f":"Übersetzungstexte!A$295","v":"Vergütung"},null,null,"Verdienst",null,"Total",null,"pAA","stunden","pwAA","Ausfall-Std.","100%","80%","80%","beschäftigung","beschäftigung","Vergütung","Mitarbeiter","Mitarbeiter","Mitarbeiter","Mitarbeiter","100%","beschäftigung","Vorholzeit","Ansenzen"]
[{"$f":"'Stammdaten Mitarbeitende'!AA1239","v":""},{"$f":"U1239","v":""},null,null,null,null,null,null,{"$f":"V1239","v":0},{"$f":"W1239","v":""},null,{"$f":"Z1239","v":""},{"$f":"AB1239","v":""},{"$f":"AC1239","v":""},{"$f":"AD1239","v":""},null,{"$f":"AE1239","v":""},{"$f":"AH1239","v":""},null,null,{"$f":"IF($A1239=\"\",\"\",'Stammdaten Mitarbeitende'!L1239)","v":""},{"$f":"IF(AND(G1239=\"\",H1239=\"\"),0,G1239-H1239)","v":0},{"$f":"IF(OR($A1239=\"\",D1239=\"\",E1239=\"\",F1239=\"\",V1239=\"\"),\"\",D1239-(E1239+F1239+V1239))","v":""},{"$f":"IF(W1239=\"\",\"\",MAX(W1239,0))","v":""},{"$f":"IF(J1239=\"\",\"\",Y$4)","v":""},{"$f":"IF(J1239=\"\",\"\",J1239*Z$4)","v":""},{"$f":"IF(Y1239=\"\",\"\",AA$4)","v":""},{"$f":"IF(J1239=\"\",\"\",ROUND(J1239*AB$4 - MAX(K1239-L1239,0),2))","v":""},{"$f":"IF(OR($A1239=\"\",J1239=\"\",B1239=\"\",M1239<0),\"\",MAX(ROUND(M1239*B1239*2,1)/2,0))","v":""},{"$f":"IF(OR($A1239=\"\",N1239=\"\"),\"\",ROUND(N1239*8/5,1)/2)","v":""},{"$f":"IF(OR($A1239=\"\",B1239=\"\",N1239=\"\"),\"\",ROUND(AE$3*C1239*B1239*16/50,1)/2)","v":""},{"$f":"IF(OR($A1239=\"\",J1239=\"\",N1239=\"\"),\"\",MAX(O1239+P1239-N1239,0))","v":""},{"$f":"P1239","v":0},{"$f":"IF(OR($A1239=\"\",N1239=\"\"),\"\",ROUND((MAX(O1239-Q1239-AF1239,0))*2,1)/2)","v":""},{"$f":"IF(D1239=\"\",0,1)","v":0},{"$f":"IF(J1239=\"\",0,IF(ROUND(J1239,2)<=0,0,1))","v":0},{"$f":"IF(D1239=\"\",0,D1239)","v":0},{"$f":"IF(D1239=\"\",0,F1239)","v":0},{"$f":"IF('Stammdaten Mitarbeitende'!N1239>0,AC1239,0)","v":0},{"$f":"IF('Stammdaten Mitarbeitende'!N1239>0,P1239,0)","v":0},{"$f":"D1239","v":0},{"$f":"F1239","v":0},{"$f":"IF(AM1239=\"\",0,MAX(AM1239-AN1239,0))","v":0}]
[{"$f":"'Stammdaten Mitarbeitende'!AA1240","v":""},"",null,null,null,null,null,null,0,"",null,"","","","",null,"","",null,null,{"$f":"IF($A1240=\"\",\"\",'Stammdaten Mitarbeitende'!L1240)","v":""},0,"","","","","","","","","","",0,"",0,{"$f":"IF(J1240=\"\",0,IF(ROUND(J1240,2)<=0,0,1))","v":0},0,0,{"$f":"IF('Stammdaten Mitarbeitende'!N1240>0,AC1240,0)","v":0},{"$f":"IF('Stammdaten Mitarbeitende'!N1240>0,P1240,0)","v":0},0,0,0]
[{"$f":"'Stammdaten Mitarbeitende'!AA1241","v":""},"",null,null,null,null,null,null,0,"",null,"","","","",null,"","",null,null,{"$f":"IF($A1241=\"\",\"\",'Stammdaten Mitarbeitende'!L1241)","v":""},0,"","","","","","","","","","",0,"",0,0,0,0,{"$f":"IF('Stammdaten Mitarbeitende'!N1241>0,AC1241,0)","v":0},{"$f":"IF('Stammdaten Mitarbeitende'!N1241>0,P1241,0)","v":0},0,0,0]
[{"$f":"'Stammdaten Mitarbeitende'!AA1242","v":""},"",null,null,null,null,null,null,0,"",null,"","","","",null,"","",null,null,{"$f":"IF($A1242=\"\",\"\",'Stammdaten Mitarbeitende'!L1242)","v":""},0,"","","","","","","","","","",0,"",0,0,0,0,{"$f":"IF('Stammdaten Mitarbeitende'!N1242>0,AC1242,0)","v":0},{"$f":"IF('Stammdaten Mitarbeitende'!N1242>0,P1242,0)","v":0},0,0,0]
[{"$f":"'Stammdaten Mitarbeitende'!AA1243","v":""},"",null,null,null,null,null,null,0,"",null,"","","","",null,"","",null,null,{"$f":"IF($A1243=\"\",\"\",'Stammdaten Mitarbeitende'!L1243)","v":""},0,"","","","","","","","","","",0,"",0,0,0,0,{"$f":"IF('Stammdaten Mitarbeitende'!N1243>0,AC1243,0)","v":0},{"$f":"IF('Stammdaten Mitarbeitende'!N1243>0,P1243,0)","v":0},0,0,0]
[{"$f":"'Stammdaten Mitarbeitende'!AA1244","v":""},"",null,null,null,null,null,null,0,"",null,"","","","",null,"","",null,null,{"$f":"IF($A1244=\"\",\"\",'Stammdaten Mitarbeitende'!L1244)","v":""},0,"","","","","","","","","","",0,"",0,0,0,0,{"$f":"IF('Stammdaten Mitarbeitende'!N1244>0,AC1244,0)","v":0},{"$f":"IF('Stammdaten Mitarbeitende'!N1244>0,P1244,0)","v":0},0,0,0]
[{"$f":"'Stammdaten Mitarbeitende'!AA1245","v":""},"",null,null,null,null,null,null,0,"",null,"","","","",null,"","",null,null,{"$f":"IF($A1245=\"\",\"\",'Stammdaten Mitarbeitende'!L1245)","v":""},0,"","","","","","","","","","",0,"",0,0,0,0,{"$f":"IF('Stammdaten Mitarbeitende'!N1245>0,AC1245,0)","v":0},{"$f":"IF('Stammdaten Mitarbeitende'!N1245>0,P1245,0)","v":0},0,0,0]
[{"$f":"'Stammdaten Mitarbeitende'!AA1246","v":""},"",null,null,null,null,null,null,0,"",null,"","","","",null,"","",null,null,{"$f":"IF($A1246=\"\",\"\",'Stammdaten Mitarbeitende'!L1246)","v":""},0,"","","","","","","","","","",0,"",0,0,0,0,{"$f":"IF('Stammdaten Mitarbeitende'!N1246>0,AC1246,0)","v":0},{"$f":"IF('Stammdaten Mitarbeitende'!N1246>0,P1246,0)","v":0},0,0,0]
[{"$f":"'Stammdaten Mitarbeitende'!AA1247","v":""},"",null,null,null,null,null,null,0,"",null,"","","","",null,"","",null,null,{"$f":"IF($A1247=\"\",\"\",'Stammdaten Mitarbeitende'!L1247)","v":""},0,"","","","","","","","","","",0,"",0,0,0,0,{"$f":"IF('Stammdaten Mitarbeitende'!N1247>0,AC1247,0)","v":0},{"$f":"IF('Stammdaten Mitarbeitende'!N1247>0,P1247,0)","v":0},0,0,0]
[{"$f":"'Stammdaten Mitarbeitende'!AA1248","v":""},"",null,null,null,null,null,null,0,"",null,"","","","",null,"","",null,null,{"$f":"IF($A1248=\"\",\"\",'Stammdaten Mitarbeitende'!L1248)","v":""},0,"","","","","","","","","","",0,"",0,0,0,0,{"$f":"IF('Stammdaten Mitarbeitende'!N1248>0,AC1248,0)","v":0},{"$f":"IF('Stammdaten Mitarbeitende'!N1248>0,P1248,0)","v":0},0,0,0]
[{"$f":"'Stammdaten Mitarbeitende'!AA1249","v":""},"",null,null,null,null,null,null,0,"",null,"","","","",null,"","",null,null,{"$f":"IF($A1249=\"\",\"\",'Stammdaten Mitarbeitende'!L1249)","v":""},0,"","","","","","","","","","",0,"",0,0,0,0,{"$f":"IF('Stammdaten Mitarbeitende'!N1249>0,AC1249,0)","v":0},{"$f":"IF('Stammdaten Mitarbeitende'!N1249>0,P1249,0)","v":0},0,0,0]
[{"$f":"'Stammdaten Mitarbeitende'!AA1250","v":""},"",null,null,null,null,null,null,0,"",null,"","","","",null,"","",null,null,{"$f":"IF($A1250=\"\",\"\",'Stammdaten Mitarbeitende'!L1250)","v":""},0,"","","","","","","","","","",0,"",0,0,0,0,{"$f":"IF('Stammdaten Mitarbeitende'!N1250>0,AC1250,0)","v":0},{"$f":"IF('Stammdaten Mitarbeitende'!N1250>0,P1250,0)","v":0},0,0,0]
[{"$f":"'Stammdaten Mitarbeitende'!AA1251","v":""},"",null,null,null,null,null,null,0,"",null,"","","","",null,"","",null,null,{"$f":"IF($A1251=\"\",\"\",'Stammdaten Mitarbeitende'!L1251)","v":""},0,"","","","","","","","","","",0,"",0,0,0,0,{"$f":"IF('Stammdaten Mitarbeitende'!N1251>0,AC1251,0)","v":0},{"$f":"IF('Stammdaten Mitarbeitende'!N1251>0,P1251,0)","v":0},0,0,0]
[{"$f":"'Stammdaten Mitarbeitende'!AA1252","v":""},"",null,null,null,null,null,null,0,"",null,"","","","",null,"","",null,null,{"$f":"IF($A1252=\"\",\"\",'Stammdaten Mitarbeitende'!L1252)","v":""},0,"","","","","","","","","","",0,"",0,0,0,0,{"$f":"IF('Stammdaten Mitarbeitende'!N1252>0,AC1252,0)","v":0},{"$f":"IF('Stammdaten Mitarbeitende'!N1252>0,P1252,0)","v":0},0,0,0]
[{"$f":"'Stammdaten Mitarbeitende'!AA1253","v":""},"",null,null,null,null,null,null,0,"",null,"","","","",null,"","",null,null,{"$f":"IF($A1253=\"\",\"\",'Stammdaten Mitarbeitende'!L1253)","v":""},0,"","","","","","","","","","",0,"",0,0,0,0,{"$f":"IF('Stammdaten Mitarbeitende'!N1253>0,AC1253,0)","v":0},{"$f":"IF('Stammdaten Mitarbeitende'!N1253>0,P1253,0)","v":0},0,0,0]
[{"$f":"'Stammdaten Mitarbeitende'!AA1254","v":""},"",null,null,null,null,null,null,0,"",null,"","","","",null,"","",null,null,{"$f":"IF($A1254=\"\",\"\",'Stammdaten Mitarbeitende'!L1254)","v":""},0,"","","","","","","","","","",0,"",0,0,0,0,{"$f":"IF('Stammdaten Mitarbeitende'!N1254>0,AC1254,0)","v":0},{"$f":"IF('Stammdaten Mitarbeitende'!N1254>0,P1254,0)","v":0},0,0,0]
[{"$f":"'Stammdaten Mitarbeitende'!AA1255","v":""},"",null,null,null,null,null,null,0,"",null,"","","","",null,"","",null,null,{"$f":"IF($A1255=\"\",\"\",'Stammdaten Mitarbeitende'!L1255)","v":""},0,"","","","","","","","","","",0,"",0,0,0,0,{"$f":"IF('Stammdaten Mitarbeitende'!N1255>0,AC1255,0)","v":0},{"$f":"IF('Stammdaten Mitarbeitende'!N1255>0,P1255,0)","v":0},0,0,0]
[{"$f":"'Stammdaten Mitarbeitende'!AA1256","v":""},"",null,null,null,null,null,null,0,"",null,"","","","",null,"","",null,null,{"$f":"IF($A1256=\"\",\"\",'Stammdaten Mitarbeitende'!L1256)","v":""},0,"","","","","","","","","","",0,"",0,0,0,0,{"$f":"IF('Stammdaten Mitarbeitende'!N1256>0,AC1256,0)","v":0},{"$f":"IF('Stammdaten Mitarbeitende'!N1256>0,P1256,0)","v":0},0,0,0]
[{"$f":"'Stammdaten Mitarbeitende'!AA1257","v":""},"",null,null,null,null,null,null,0,"",null,"","","","",null,"","",null,null,{"$f":"IF($A1257=\"\",\"\",'Stammdaten Mitarbeitende'!L1257)","v":""},0,"","","","","","","","","","",0,"",0,0,0,0,{"$f":"IF('Stammdaten Mitarbeitende'!N1257>0,AC1257,0)","v":0},{"$f":"IF('Stammdaten Mitarbeitende'!N1257>0,P1257,0)","v":0},0,0,0]
[{"$f":"'Stammdaten Mitarbeitende'!AA1258","v":""},"",null,null,null,null,null,null,0,"",null,"","","","",null,"","",null,null,{"$f":"IF($A1258=\"\",\"\",'Stammdaten Mitarbeitende'!L1258)","v":""},0,"","","","","","","","","","",0,"",0,0,0,0,{"$f":"IF('Stammdaten Mitarbeitende'!N1258>0,AC1258,0)","v":0},{"$f":"IF('Stammdaten Mitarbeitende'!N1258>0,P1258,0)","v":0},0,0,0]
[{"$f":"'Stammdaten Mitarbeitende'!AA1259","v":""},"",null,null,null,null,null,null,0,"",null,"","","","",null,"","",null,null,{"$f":"IF($A1259=\"\",\"\",'Stammdaten Mitarbeitende'!L1259)","v":""},0,"","","","","","","","","","",0,"",0,0,0,0,{"$f":"IF('Stammdaten Mitarbeitende'!N1259>0,AC1259,0)","v":0},{"$f":"IF('Stammdaten Mitarbeitende'!N1259>0,P1259,0)","v":0},0,0,0]
[{"$f":"Übersetzungstexte!A$296","v":"Seitentotal"},null,null,{"$f":"SUM(D1239:D1259)","v":0},null,{"$f":"SUM(F1239:F1259)","v":0},null,null,null,{"$f":"SUM(J1239:J1259)","v":0},null,null,null,{"$f":"SUM(N1239:N1259)","v":0},null,{"$f":"SUM(P1239:P1259)","v":0},null,{"$f":"SUM(R1239:R1259)","v":0}]
[{"$f":"'Stammdaten Betrieb & Abteilung'!D$1","v":"  "},null,null,null,null,null,null,null,null,null,null,null,{"$f":"Übersetzungstexte!A$239","v":"Betrieb / Betriebsabteilung"},{"$f":"'Stammdaten Betrieb & Abteilung'!D$13","v":" "}]
[{"$f":"'Stammdaten Betrieb & Abteilung'!D$3","v":" "},null,null,null,null,null,null,null,null,null,null,null,{"$f":"Übersetzungstexte!A$240","v":"Abrechnungsperiode"},{"$f":"'Stammdaten Betrieb & Abteilung'!D$14","v":""},null,{"$f":"'Stammdaten Betrieb & Abteilung'!D$12","v":{"$error":"#VALUE!"}}]
[{"$f":"'Stammdaten Betrieb & Abteilung'!D$4","v":" "},null,null,null,null,null,null,null,null,null,null,null,{"$f":"Übersetzungstexte!A$241","v":"Beginn / Ende der Kurzarbeit"},{"$f":"'Stammdaten Betrieb & Abteilung'!D$16","v":""}]
[]
[1,2,3,4,5,6,null,7,null,8,9,10,11,12,13,null,14,15,null,null,null,"Regel 7","Regel 8",null,"Regel 9","Regel 10","Regel 11","Regel 12","Regel 13","Regel 14","Regel 15","Regel 17",null,"Regel 19/20",null,null,null,null,"AHV-pflichtiger","AHV-pflichtiger",null,null,"AHV-pflichtige"]
[{"$f":"Übersetzungstexte!A$242","v":""},{"$f":"Übersetzungstexte!A$245","v":"anrechen-"},{"$f":"Übersetzungstexte!A$248","v":"Wöchentl."},{"$f":"Übersetzungstexte!A$251","v":"Sollstd. Abr.-"},{"$f":"Übersetzungstexte!A$254","v":""},{"$f":"Übersetzungstexte!A$257","v":"Bezahlte/"},null,{"$f":"Übersetzungstexte!A$263","v":"(nur für Gleitzeit)"},null,{"$f":"Übersetzungstexte!A$269","v":"Ausfall-"},{"$f":"Übersetzungstexte!A$272","v":"Saldo"},{"$f":"Übersetzungstexte!A$275","v":"Saisonale"},{"$f":"Übersetzungstexte!A$278","v":"Anrechen-"},{"$f":"Übersetzungstexte!A$281","v":"Verdienst-"},{"$f":"Übersetzungstexte!A$284","v":"Verdienst-"},{"$f":"Übersetzungstexte!A$287","v":"Verdienst"},{"$f":"AE$4","v":"Abzug "},{"$f":"Übersetzungstexte!A$293","v":""},null,null,"anrechen-","Gleitzeit","Ausfall-","Max(D12,0)","Prozentualer","Saisonale","Proz. Wirts. Bed.","Anrechen-","Verdienst-","Verdienst-","Abzug","Abzug","Verdienst",null,"Anzahl","Anzahl","Sollstd.","Absenzen","Verdienst-","Verdienst","Sollstd.","bezahlte/","Abzugsbasis"]
[{"$f":"Übersetzungstexte!A$243","v":""},{"$f":"Übersetzungstexte!A$246","v":"barer Std.-"},{"$f":"Übersetzungstexte!A$249","v":"Arbeitszeit"},{"$f":"Übersetzungstexte!A$252","v":"Periode Inkl."},{"$f":"Übersetzungstexte!A$255","v":""},{"$f":"Übersetzungstexte!A$258","v":"Unbezahlte"},{"$f":"Übersetzungstexte!A$261","v":"Saldo Ende Per."},null,null,{"$f":"Übersetzungstexte!A$270","v":"stunden"},{"$f":"Übersetzungstexte!A$273","v":"Mehrstd."},{"$f":"Übersetzungstexte!A$276","v":"Ausfall-"},{"$f":"Übersetzungstexte!A$279","v":"bare Aus-"},{"$f":"Übersetzungstexte!A$282","v":"ausfall"},{"$f":"Übersetzungstexte!A$285","v":"ausfall"},{"$f":"Übersetzungstexte!A$288","v":"Zwischen-"},{"$f":"Übersetzungstexte!A$291","v":"Karenztage"},{"$f":"Übersetzungstexte!A$294","v":"Beantragte"},null,null,"barer Std.-","c","stunden",null,"Arbeitsausfall","Ausfall-","Arbeitsausfall","bare ","ausfall","ausfall","Karenztage","Zwischen-","Zwischen-","Beantragte","bezugsber.","betroffene","bezugsber.","bezugsber.","ausfall","Zwischen-","inkl","unbezahlte"]
[{"$f":"Übersetzungstexte!A$244","v":"Name,Vorname"},{"$f":"Übersetzungstexte!A$247","v":"Verdienst"},{"$f":"Übersetzungstexte!A$250","v":"in der AP"},{"$f":"Übersetzungstexte!A$253","v":"Vorholzeit"},{"$f":"Übersetzungstexte!A$256","v":"Istzeit"},{"$f":"Übersetzungstexte!A$259","v":"Absenzen"},{"$f":"Übersetzungstexte!A$262","v":"vorherg."},{"$f":"Übersetzungstexte!A$265","v":"laufend"},{"$f":"Übersetzungstexte!A$268","v":"Diff."},{"$f":"Übersetzungstexte!A$271","v":"total"},{"$f":"Übersetzungstexte!A$274","v":"Vormonate"},{"$f":"Übersetzungstexte!A$277","v":"stunden"},{"$f":"Übersetzungstexte!A$280","v":"fall-Std."},{"$f":"Übersetzungstexte!A$283","v":"100%"},{"$f":"Übersetzungstexte!A$286","v":"80%"},{"$f":"Übersetzungstexte!A$289","v":"Beschäftigung"},{"$f":"Übersetzungstexte!A$292","v":"80%"},{"$f":"Übersetzungstexte!A$295","v":"Vergütung"},null,null,"Verdienst",null,"Total",null,"pAA","stunden","pwAA","Ausfall-Std.","100%","80%","80%","beschäftigung","beschäftigung","Vergütung","Mitarbeiter","Mitarbeiter","Mitarbeiter","Mitarbeiter","100%","beschäftigung","Vorholzeit","Ansenzen"]
[{"$f":"'Stammdaten Mitarbeitende'!AA1269","v":""},{"$f":"U1269","v":""},null,null,null,null,null,null,{"$f":"V1269","v":0},{"$f":"W1269","v":""},null,{"$f":"Z1269","v":""},{"$f":"AB1269","v":""},{"$f":"AC1269","v":""},{"$f":"AD1269","v":""},null,{"$f":"AE1269","v":""},{"$f":"AH1269","v":""},null,null,{"$f":"IF($A1269=\"\",\"\",'Stammdaten Mitarbeitende'!L1269)","v":""},{"$f":"IF(AND(G1269=\"\",H1269=\"\"),0,G1269-H1269)","v":0},{"$f":"IF(OR($A1269=\"\",D1269=\"\",E1269=\"\",F1269=\"\",V1269=\"\"),\"\",D1269-(E1269+F1269+V1269))","v":""},{"$f":"IF(W1269=\"\",\"\",MAX(W1269,0))","v":""},{"$f":"IF(J1269=\"\",\"\",Y$4)","v":""},{"$f":"IF(J1269=\"\",\"\",J1269*Z$4)","v":""},{"$f":"IF(Y1269=\"\",\"\",AA$4)","v":""},{"$f":"IF(J1269=\"\",\"\",ROUND(J1269*AB$4 - MAX(K1269-L1269,0),2))","v":""},{"$f":"IF(OR($A1269=\"\",J1269=\"\",B1269=\"\",M1269<0),\"\",MAX(ROUND(M1269*B1269*2,1)/2,0))","v":""},{"$f":"IF(OR($A1269=\"\",N1269=\"\"),\"\",ROUND(N1269*8/5,1)/2)","v":""},{"$f":"IF(OR($A1269=\"\",B1269=\"\",N1269=\"\"),\"\",ROUND(AE$3*C1269*B1269*16/50,1)/2)","v":""},{"$f":"IF(OR($A1269=\"\",J1269=\"\",N1269=\"\"),\"\",MAX(O1269+P1269-N1269,0))","v":""},{"$f":"P1269","v":0},{"$f":"IF(OR($A1269=\"\",N1269=\"\"),\"\",ROUND((MAX(O1269-Q1269-AF1269,0))*2,1)/2)","v":""},{"$f":"IF(D1269=\"\",0,1)","v":0},{"$f":"IF(J1269=\"\",0,IF(ROUND(J1269,2)<=0,0,1))","v":0},{"$f":"IF(D1269=\"\",0,D1269)","v":0},{"$f":"IF(D1269=\"\",0,F1269)","v":0},{"$f":"IF('Stammdaten Mitarbeitende'!N1269>0,AC1269,0)","v":0},{"$f":"IF('Stammdaten Mitarbeitende'!N1269>0,P1269,0)","v":0},{"$f":"D1269","v":0},{"$f":"F1269","v":0},{"$f":"IF(AM1269=\"\",0,MAX(AM1269-AN1269,0))","v":0}]
[{"$f":"'Stammdaten Mitarbeitende'!AA1270","v":""},"",null,null,null,null,null,null,0,"",null,"","","","",null,"","",null,null,{"$f":"IF($A1270=\"\",\"\",'Stammdaten Mitarbeitende'!L1270)","v":""},0,"","","","","","","","","","",0,"",0,{"$f":"IF(J1270=\"\",0,IF(ROUND(J1270,2)<=0,0,1))","v":0},0,0,{"$f":"IF('Stammdaten Mitarbeitende'!N1270>0,AC1270,0)","v":0},{"$f":"IF('Stammdaten Mitarbeitende'!N1270>0,P1270,0)","v":0},0,0,0]
[{"$f":"'Stammdaten Mitarbeitende'!AA1271","v":""},"",null,null,null,null,null,null,0,"",null,"","","","",null,"","",null,null,{"$f":"IF($A1271=\"\",\"\",'Stammdaten Mitarbeitende'!L1271)","v":""},0,"","","","","","","","","","",0,"",0,{"$f":"IF(J1271=\"\",0,IF(ROUND(J1271,2)<=0,0,1))","v":0},0,0,{"$f":"IF('Stammdaten Mitarbeitende'!N1271>0,AC1271,0)","v":0},{"$f":"IF('Stammdaten Mitarbeitende'!N1271>0,P1271,0)","v":0},0,0,0]
[{"$f":"'Stammdaten Mitarbeitende'!AA1272","v":""},"",null,null,null,null,null,null,0,"",null,"","","","",null,"","",null,null,{"$f":"IF($A1272=\"\",\"\",'Stammdaten Mitarbeitende'!L1272)","v":""},0,"","","","","","","","","","",0,"",0,0,0,0,{"$f":"IF('Stammdaten Mitarbeitende'!N1272>0,AC1272,0)","v":0},{"$f":"IF('Stammdaten Mitarbeitende'!N1272>0,P1272,0)","v":0},0,0,0]
[{"$f":"'Stammdaten Mitarbeitende'!AA1273","v":""},"",null,null,null,null,null,null,0,"",null,"","","","",null,"","",null,null,{"$f":"IF($A1273=\"\",\"\",'Stammdaten Mitarbeitende'!L1273)","v":""},0,"","","","","","","","","","",0,"",0,0,0,0,{"$f":"IF('Stammdaten Mitarbeitende'!N1273>0,AC1273,0)","v":0},{"$f":"IF('Stammdaten Mitarbeitende'!N1273>0,P1273,0)","v":0},0,0,0]
[{"$f":"'Stammdaten Mitarbeitende'!AA1274","v":""},"",null,null,null,null,null,null,0,"",null,"","","","",null,"","",null,null,{"$f":"IF($A1274=\"\",\"\",'Stammdaten Mitarbeitende'!L1274)","v":""},0,"","","","","","","","","","",0,"",0,0,0,0,{"$f":"IF('Stammdaten Mitarbeitende'!N1274>0,AC1274,0)","v":0},{"$f":"IF('Stammdaten Mitarbeitende'!N1274>0,P1274,0)","v":0},0,0,0]
[{"$f":"'Stammdaten Mitarbeitende'!AA1275","v":""},"",null,null,null,null,null,null,0,"",null,"","","","",null,"","",null,null,{"$f":"IF($A1275=\"\",\"\",'Stammdaten Mitarbeitende'!L1275)","v":""},0,"","","","","","","","","","",0,"",0,0,0,0,{"$f":"IF('Stammdaten Mitarbeitende'!N1275>0,AC1275,0)","v":0},{"$f":"IF('Stammdaten Mitarbeitende'!N1275>0,P1275,0)","v":0},0,0,0]
[{"$f":"'Stammdaten Mitarbeitende'!AA1276","v":""},"",null,null,null,null,null,null,0,"",null,"","","","",null,"","",null,null,{"$f":"IF($A1276=\"\",\"\",'Stammdaten Mitarbeitende'!L1276)","v":""},0,"","","","","","","","","","",0,"",0,0,0,0,{"$f":"IF('Stammdaten Mitarbeitende'!N1276>0,AC1276,0)","v":0},{"$f":"IF('Stammdaten Mitarbeitende'!N1276>0,P1276,0)","v":0},0,0,0]
[{"$f":"'Stammdaten Mitarbeitende'!AA1277","v":""},"",null,null,null,null,null,null,0,"",null,"","","","",null,"","",null,null,{"$f":"IF($A1277=\"\",\"\",'Stammdaten Mitarbeitende'!L1277)","v":""},0,"","","","","","","","","","",0,"",0,0,0,0,{"$f":"IF('Stammdaten Mitarbeitende'!N1277>0,AC1277,0)","v":0},{"$f":"IF('Stammdaten Mitarbeitende'!N1277>0,P1277,0)","v":0},0,0,0]
[{"$f":"'Stammdaten Mitarbeitende'!AA1278","v":""},"",null,null,null,null,null,null,0,"",null,"","","","",null,"","",null,null,{"$f":"IF($A1278=\"\",\"\",'Stammdaten Mitarbeitende'!L1278)","v":""},0,"","","","","","","","","","",0,"",0,0,0,0,{"$f":"IF('Stammdaten Mitarbeitende'!N1278>0,AC1278,0)","v":0},{"$f":"IF('Stammdaten Mitarbeitende'!N1278>0,P1278,0)","v":0},0,0,0]
[{"$f":"'Stammdaten Mitarbeitende'!AA1279","v":""},"",null,null,null,null,null,null,0,"",null,"","","","",null,"","",null,null,{"$f":"IF($A1279=\"\",\"\",'Stammdaten Mitarbeitende'!L1279)","v":""},0,"","","","","","","","","","",0,"",0,0,0,0,{"$f":"IF('Stammdaten Mitarbeitende'!N1279>0,AC1279,0)","v":0},{"$f":"IF('Stammdaten Mitarbeitende'!N1279>0,P1279,0)","v":0},0,0,0]
[{"$f":"'Stammdaten Mitarbeitende'!AA1280","v":""},"",null,null,null,null,null,null,0,"",null,"","","","",null,"","",null,null,{"$f":"IF($A1280=\"\",\"\",'Stammdaten Mitarbeitende'!L1280)","v":""},0,"","","","","","","","","","",0,"",0,0,0,0,{"$f":"IF('Stammdaten Mitarbeitende'!N1280>0,AC1280,0)","v":0},{"$f":"IF('Stammdaten Mitarbeitende'!N1280>0,P1280,0)","v":0},0,0,0]
[{"$f":"'Stammdaten Mitarbeitende'!AA1281","v":""},"",null,null,null,null,null,null,0,"",null,"","","","",null,"","",null,null,{"$f":"IF($A1281=\"\",\"\",'Stammdaten Mitarbeitende'!L1281)","v":""},0,"","","","","","","","","","",0,"",0,0,0,0,{"$f":"IF('Stammdaten Mitarbeitende'!N1281>0,AC1281,0)","v":0},{"$f":"IF('Stammdaten Mitarbeitende'!N1281>0,P1281,0)","v":0},0,0,0]
[{"$f":"'Stammdaten Mitarbeitende'!AA1282","v":""},"",null,null,null,null,null,null,0,"",null,"","","","",null,"","",null,null,{"$f":"IF($A1282=\"\",\"\",'Stammdaten Mitarbeitende'!L1282)","v":""},0,"","","","","","","","","","",0,"",0,0,0,0,{"$f":"IF('Stammdaten Mitarbeitende'!N1282>0,AC1282,0)","v":0},{"$f":"IF('Stammdaten Mitarbeitende'!N1282>0,P1282,0)","v":0},0,0,0]
[{"$f":"'Stammdaten Mitarbeitende'!AA1283","v":""},"",null,null,null,null,null,null,0,"",null,"","","","",null,"","",null,null,{"$f":"IF($A1283=\"\",\"\",'Stammdaten Mitarbeitende'!L1283)","v":""},0,"","","","","","","","","","",0,"",0,0,0,0,{"$f":"IF('Stammdaten Mitarbeitende'!N1283>0,AC1283,0)","v":0},{"$f":"IF('Stammdaten Mitarbeitende'!N1283>0,P1283,0)","v":0},0,0,0]
[{"$f":"'Stammdaten Mitarbeitende'!AA1284","v":""},"",null,null,null,null,null,null,0,"",null,"","","","",null,"","",null,null,{"$f":"IF($A1284=\"\",\"\",'Stammdaten Mitarbeitende'!L1284)","v":""},0,"","","","","","","","","","",0,"",0,0,0,0,{"$f":"IF('Stammdaten Mitarbeitende'!N1284>0,AC1284,0)","v":0},{"$f":"IF('Stammdaten Mitarbeitende'!N1284>0,P1284,0)","v":0},0,0,0]
[{"$f":"'Stammdaten Mitarbeitende'!AA1285","v":""},"",null,null,null,null,null,null,0,"",null,"","","","",null,"","",null,null,{"$f":"IF($A1285=\"\",\"\",'Stammdaten Mitarbeitende'!L1285)","v":""},0,"","","","","","","","","","",0,"",0,0,0,0,{"$f":"IF('Stammdaten Mitarbeitende'!N1285>0,AC1285,0)","v":0},{"$f":"IF('Stammdaten Mitarbeitende'!N1285>0,P1285,0)","v":0},0,0,0]
[{"$f":"'Stammdaten Mitarbeitende'!AA1286","v":""},"",null,null,null,null,null,null,0,"",null,"","","","",null,"","",null,null,{"$f":"IF($A1286=\"\",\"\",'Stammdaten Mitarbeitende'!L1286)","v":""},0,"","","","","","","","","","",0,"",0,0,0,0,{"$f":"IF('Stammdaten Mitarbeitende'!N1286>0,AC1286,0)","v":0},{"$f":"IF('Stammdaten Mitarbeitende'!N1286>0,P1286,0)","v":0},0,0,0]
[{"$f":"'Stammdaten Mitarbeitende'!AA1287","v":""},"",null,null,null,null,null,null,0,"",null,"","","","",null,"","",null,null,{"$f":"IF($A1287=\"\",\"\",'Stammdaten Mitarbeitende'!L1287)","v":""},0,"","","","","","","","","","",0,"",0,0,0,0,{"$f":"IF('Stammdaten Mitarbeitende'!N1287>0,AC1287,0)","v":0},{"$f":"IF('Stammdaten Mitarbeitende'!N1287>0,P1287,0)","v":0},0,0,0]
[{"$f":"'Stammdaten Mitarbeitende'!AA1288","v":""},"",null,null,null,null,null,null,0,"",null,"","","","",null,"","",null,null,{"$f":"IF($A1288=\"\",\"\",'Stammdaten Mitarbeitende'!L1288)","v":""},0,"","","","","","","","","","",0,"",0,0,0,0,{"$f":"IF('Stammdaten Mitarbeitende'!N1288>0,AC1288,0)","v":0},{"$f":"IF('Stammdaten Mitarbeitende'!N1288>0,P1288,0)","v":0},0,0,0]
[{"$f":"'Stammdaten Mitarbeitende'!AA1289","v":""},"",null,null,null,null,null,null,0,"",null,"","","","",null,"","",null,null,{"$f":"IF($A1289=\"\",\"\",'Stammdaten Mitarbeitende'!L1289)","v":""},0,"","","","","","","","","","",0,"",0,0,0,0,{"$f":"IF('Stammdaten Mitarbeitende'!N1289>0,AC1289,0)","v":0},{"$f":"IF('Stammdaten Mitarbeitende'!N1289>0,P1289,0)","v":0},0,0,0]
[{"$f":"Übersetzungstexte!A$296","v":"Seitentotal"},null,null,{"$f":"SUM(D1269:D1289)","v":0},null,{"$f":"SUM(F1269:F1289)","v":0},null,null,null,{"$f":"SUM(J1269:J1289)","v":0},null,null,null,{"$f":"SUM(N1269:N1289)","v":0},null,{"$f":"SUM(P1269:P1289)","v":0},null,{"$f":"SUM(R1269:R1289)","v":0}]
[{"$f":"'Stammdaten Betrieb & Abteilung'!D$1","v":"  "},null,null,null,null,null,null,null,null,null,null,null,{"$f":"Übersetzungstexte!A$239","v":"Betrieb / Betriebsabteilung"},{"$f":"'Stammdaten Betrieb & Abteilung'!D$13","v":" "}]
[{"$f":"'Stammdaten Betrieb & Abteilung'!D$3","v":" "},null,null,null,null,null,null,null,null,null,null,null,{"$f":"Übersetzungstexte!A$240","v":"Abrechnungsperiode"},{"$f":"'Stammdaten Betrieb & Abteilung'!D$14","v":""},null,{"$f":"'Stammdaten Betrieb & Abteilung'!D$12","v":{"$error":"#VALUE!"}}]
[{"$f":"'Stammdaten Betrieb & Abteilung'!D$4","v":" "},null,null,null,null,null,null,null,null,null,null,null,{"$f":"Übersetzungstexte!A$241","v":"Beginn / Ende der Kurzarbeit"},{"$f":"'Stammdaten Betrieb & Abteilung'!D$16","v":""}]
[]
[1,2,3,4,5,6,null,7,null,8,9,10,11,12,13,null,14,15,null,null,null,"Regel 7","Regel 8",null,"Regel 9","Regel 10","Regel 11","Regel 12","Regel 13","Regel 14","Regel 15","Regel 17",null,"Regel 19/20",null,null,null,null,"AHV-pflichtiger","AHV-pflichtiger",null,null,"AHV-pflichtige"]
[{"$f":"Übersetzungstexte!A$242","v":""},{"$f":"Übersetzungstexte!A$245","v":"anrechen-"},{"$f":"Übersetzungstexte!A$248","v":"Wöchentl."},{"$f":"Übersetzungstexte!A$251","v":"Sollstd. Abr.-"},{"$f":"Übersetzungstexte!A$254","v":""},{"$f":"Übersetzungstexte!A$257","v":"Bezahlte/"},null,{"$f":"Übersetzungstexte!A$263","v":"(nur für Gleitzeit)"},null,{"$f":"Übersetzungstexte!A$269","v":"Ausfall-"},{"$f":"Übersetzungstexte!A$272","v":"Saldo"},{"$f":"Übersetzungstexte!A$275","v":"Saisonale"},{"$f":"Übersetzungstexte!A$278","v":"Anrechen-"},{"$f":"Übersetzungstexte!A$281","v":"Verdienst-"},{"$f":"Übersetzungstexte!A$284","v":"Verdienst-"},{"$f":"Übersetzungstexte!A$287","v":"Verdienst"},{"$f":"AE$4","v":"Abzug "},{"$f":"Übersetzungstexte!A$293","v":""},null,null,"anrechen-","Gleitzeit","Ausfall-","Max(D12,0)","Prozentualer","Saisonale","Proz. Wirts. Bed.","Anrechen-","Verdienst-","Verdienst-","Abzug","Abzug","Verdienst",null,"Anzahl","Anzahl","Sollstd.","Absenzen","Verdienst-","Verdienst","Sollstd.","bezahlte/","Abzugsbasis"]
[{"$f":"Übersetzungstexte!A$243","v":""},{"$f":"Übersetzungstexte!A$246","v":"barer Std.-"},{"$f":"Übersetzungstexte!A$249","v":"Arbeitszeit"},{"$f":"Übersetzungstexte!A$252","v":"Periode Inkl."},{"$f":"Übersetzungstexte!A$255","v":""},{"$f":"Übersetzungstexte!A$258","v":"Unbezahlte"},{"$f":"Übersetzungstexte!A$261","v":"Saldo Ende Per."},null,null,{"$f":"Übersetzungstexte!A$270","v":"stunden"},{"$f":"Übersetzungstexte!A$273","v":"Mehrstd."},{"$f":"Übersetzungstexte!A$276","v":"Ausfall-"},{"$f":"Übersetzungstexte!A$279","v":"bare Aus-"},{"$f":"Übersetzungstexte!A$282","v":"ausfall"},{"$f":"Übersetzungstexte!A$285","v":"ausfall"},{"$f":"Übersetzungstexte!A$288","v":"Zwischen-"},{"$f":"Übersetzungstexte!A$291","v":"Karenztage"},{"$f":"Übersetzungstexte!A$294","v":"Beantragte"},null,null,"barer Std.-","c","stunden",null,"Arbeitsausfall","Ausfall-","Arbeitsausfall","bare ","ausfall","ausfall","Karenztage","Zwischen-","Zwischen-","Beantragte","bezugsber.","betroffene","bezugsber.","bezugsber.","ausfall","Zwischen-","inkl","unbezahlte"]
[{"$f":"Übersetzungstexte!A$244","v":"Name,Vorname"},{"$f":"Übersetzungstexte!A$247","v":"Verdienst"},{"$f":"Übersetzungstexte!A$250","v":"in der AP"},{"$f":"Übersetzungstexte!A$253","v":"Vorholzeit"},{"$f":"Übersetzungstexte!A$256","v":"Istzeit"},{"$f":"Übersetzungstexte!A$259","v":"Absenzen"},{"$f":"Übersetzungstexte!A$262","v":"vorherg."},{"$f":"Übersetzungstexte!A$265","v":"laufend"},{"$f":"Übersetzungstexte!A$268","v":"Diff."},{"$f":"Übersetzungstexte!A$271","v":"total"},{"$f":"Übersetzungstexte!A$274","v":"Vormonate"},{"$f":"Übersetzungstexte!A$277","v":"stunden"},{"$f":"Übersetzungstexte!A$280","v":"fall-Std."},{"$f":"Übersetzungstexte!A$283","v":"100%"},{"$f":"Übersetzungstexte!A$286","v":"80%"},{"$f":"Übersetzungstexte!A$289","v":"Beschäftigung"},{"$f":"Übersetzungstexte!A$292","v":"80%"},{"$f":"Übersetzungstexte!A$295","v":"Vergütung"},null,null,"Verdienst",null,"Total",null,"pAA","stunden","pwAA","Ausfall-Std.","100%","80%","80%","beschäftigung","beschäftigung","Vergütung","Mitarbeiter","Mitarbeiter","Mitarbeiter","Mitarbeiter","100%","beschäftigung","Vorholzeit","Ansenzen"]
[{"$f":"'Stammdaten Mitarbeitende'!AA1299","v":""},{"$f":"U1299","v":""},null,null,null,null,null,null,{"$f":"V1299","v":0},{"$f":"W1299","v":""},null,{"$f":"Z1299","v":""},{"$f":"AB1299","v":""},{"$f":"AC1299","v":""},{"$f":"AD1299","v":""},null,{"$f":"AE1299","v":""},{"$f":"AH1299","v":""},null,null,{"$f":"IF($A1299=\"\",\"\",'Stammdaten Mitarbeitende'!L1299)","v":""},{"$f":"IF(AND(G1299=\"\",H1299=\"\"),0,G1299-H1299)","v":0},{"$f":"IF(OR($A1299=\"\",D1299=\"\",E1299=\"\",F1299=\"\",V1299=\"\"),\"\",D1299-(E1299+F1299+V1299))","v":""},{"$f":"IF(W1299=\"\",\"\",MAX(W1299,0))","v":""},{"$f":"IF(J1299=\"\",\"\",Y$4)","v":""},{"$f":"IF(J1299=\"\",\"\",J1299*Z$4)","v":""},{"$f":"IF(Y1299=\"\",\"\",AA$4)","v":""},{"$f":"IF(J1299=\"\",\"\",ROUND(J1299*AB$4 - MAX(K1299-L1299,0),2))","v":""},{"$f":"IF(OR($A1299=\"\",J1299=\"\",B1299=\"\",M1299<0),\"\",MAX(ROUND(M1299*B1299*2,1)/2,0))","v":""},{"$f":"IF(OR($A1299=\"\",N1299=\"\"),\"\",ROUND(N1299*8/5,1)/2)","v":""},{"$f":"IF(OR($A1299=\"\",B1299=\"\",N1299=\"\"),\"\",ROUND(AE$3*C1299*B1299*16/50,1)/2)","v":""},{"$f":"IF(OR($A1299=\"\",J1299=\"\",N1299=\"\"),\"\",MAX(O1299+P1299-N1299,0))","v":""},{"$f":"P1299","v":0},{"$f":"IF(OR($A1299=\"\",N1299=\"\"),\"\",ROUND((MAX(O1299-Q1299-AF1299,0))*2,1)/2)","v":""},{"$f":"IF(D1299=\"\",0,1)","v":0},{"$f":"IF(J1299=\"\",0,IF(ROUND(J1299,2)<=0,0,1))","v":0},{"$f":"IF(D1299=\"\",0,D1299)","v":0},{"$f":"IF(D1299=\"\",0,F1299)","v":0},{"$f":"IF('Stammdaten Mitarbeitende'!N1299>0,AC1299,0)","v":0},{"$f":"IF('Stammdaten Mitarbeitende'!N1299>0,P1299,0)","v":0},{"$f":"D1299","v":0},{"$f":"F1299","v":0},{"$f":"IF(AM1299=\"\",0,MAX(AM1299-AN1299,0))","v":0}]
[{"$f":"'Stammdaten Mitarbeitende'!AA1300","v":""},"",null,null,null,null,null,null,0,"",null,"","","","",null,"","",null,null,{"$f":"IF($A1300=\"\",\"\",'Stammdaten Mitarbeitende'!L1300)","v":""},0,"","","","","","","","","","",0,"",0,{"$f":"IF(J1300=\"\",0,IF(ROUND(J1300,2)<=0,0,1))","v":0},0,0,{"$f":"IF('Stammdaten Mitarbeitende'!N1300>0,AC1300,0)","v":0},{"$f":"IF('Stammdaten Mitarbeitende'!N1300>0,P1300,0)","v":0},0,0,0]
[{"$f":"'Stammdaten Mitarbeitende'!AA1301","v":""},"",null,null,null,null,null,null,0,"",null,"","","","",null,"","",null,null,{"$f":"IF($A1301=\"\",\"\",'Stammdaten Mitarbeitende'!L1301)","v":""},0,"","","","","","","","","","",0,"",0,0,0,0,{"$f":"IF('Stammdaten Mitarbeitende'!N1301>0,AC1301,0)","v":0},{"$f":"IF('Stammdaten Mitarbeitende'!N1301>0,P1301,0)","v":0},0,0,0]
[{"$f":"'Stammdaten Mitarbeitende'!AA1302","v":""},"",null,null,null,null,null,null,0,"",null,"","","","",null,"","",null,null,{"$f":"IF($A1302=\"\",\"\",'Stammdaten Mitarbeitende'!L1302)","v":""},0,"","","","","","","","","","",0,"",0,0,0,0,{"$f":"IF('Stammdaten Mitarbeitende'!N1302>0,AC1302,0)","v":0},{"$f":"IF('Stammdaten Mitarbeitende'!N1302>0,P1302,0)","v":0},0,0,0]
[{"$f":"'Stammdaten Mitarbeitende'!AA1303","v":""},"",null,null,null,null,null,null,0,"",null,"","","","",null,"","",null,null,{"$f":"IF($A1303=\"\",\"\",'Stammdaten Mitarbeitende'!L1303)","v":""},0,"","","","","","","","","","",0,"",0,0,0,0,{"$f":"IF('Stammdaten Mitarbeitende'!N1303>0,AC1303,0)","v":0},{"$f":"IF('Stammdaten Mitarbeitende'!N1303>0,P1303,0)","v":0},0,0,0]
[{"$f":"'Stammdaten Mitarbeitende'!AA1304","v":""},"",null,null,null,null,null,null,0,"",null,"","","","",null,"","",null,null,{"$f":"IF($A1304=\"\",\"\",'Stammdaten Mitarbeitende'!L1304)","v":""},0,"","","","","","","","","","",0,"",0,0,0,0,{"$f":"IF('Stammdaten Mitarbeitende'!N1304>0,AC1304,0)","v":0},{"$f":"IF('Stammdaten Mitarbeitende'!N1304>0,P1304,0)","v":0},0,0,0]
[{"$f":"'Stammdaten Mitarbeitende'!AA1305","v":""},"",null,null,null,null,null,null,0,"",null,"","","","",null,"","",null,null,{"$f":"IF($A1305=\"\",\"\",'Stammdaten Mitarbeitende'!L1305)","v":""},0,"","","","","","","","","","",0,"",0,0,0,0,{"$f":"IF('Stammdaten Mitarbeitende'!N1305>0,AC1305,0)","v":0},{"$f":"IF('Stammdaten Mitarbeitende'!N1305>0,P1305,0)","v":0},0,0,0]
[{"$f":"'Stammdaten Mitarbeitende'!AA1306","v":""},"",null,null,null,null,null,null,0,"",null,"","","","",null,"","",null,null,{"$f":"IF($A1306=\"\",\"\",'Stammdaten Mitarbeitende'!L1306)","v":""},0,"","","","","","","","","","",0,"",0,0,0,0,{"$f":"IF('Stammdaten Mitarbeitende'!N1306>0,AC1306,0)","v":0},{"$f":"IF('Stammdaten Mitarbeitende'!N1306>0,P1306,0)","v":0},0,0,0]
[{"$f":"'Stammdaten Mitarbeitende'!AA1307","v":""},"",null,null,null,null,null,null,0,"",null,"","","","",null,"","",null,null,{"$f":"IF($A1307=\"\",\"\",'Stammdaten Mitarbeitende'!L1307)","v":""},0,"","","","","","","","","","",0,"",0,0,0,0,{"$f":"IF('Stammdaten Mitarbeitende'!N1307>0,AC1307,0)","v":0},{"$f":"IF('Stammdaten Mitarbeitende'!N1307>0,P1307,0)","v":0},0,0,0]
[{"$f":"'Stammdaten Mitarbeitende'!AA1308","v":""},"",null,null,null,null,null,null,0,"",null,"","","","",null,"","",null,null,{"$f":"IF($A1308=\"\",\"\",'Stammdaten Mitarbeitende'!L1308)","v":""},0,"","","","","","","","","","",0,"",0,0,0,0,{"$f":"IF('Stammdaten Mitarbeitende'!N1308>0,AC1308,0)","v":0},{"$f":"IF('Stammdaten Mitarbeitende'!N1308>0,P1308,0)","v":0},0,0,0]
[{"$f":"'Stammdaten Mitarbeitende'!AA1309","v":""},"",null,null,null,null,null,null,0,"",null,"","","","",null,"","",null,null,{"$f":"IF($A1309=\"\",\"\",'Stammdaten Mitarbeitende'!L1309)","v":""},0,"","","","","","","","","","",0,"",0,0,0,0,{"$f":"IF('Stammdaten Mitarbeitende'!N1309>0,AC1309,0)","v":0},{"$f":"IF('Stammdaten Mitarbeitende'!N1309>0,P1309,0)","v":0},0,0,0]
[{"$f":"'Stammdaten Mitarbeitende'!AA1310","v":""},"",null,null,null,null,null,null,0,"",null,"","","","",null,"","",null,null,{"$f":"IF($A1310=\"\",\"\",'Stammdaten Mitarbeitende'!L1310)","v":""},0,"","","","","","","","","","",0,"",0,0,0,0,{"$f":"IF('Stammdaten Mitarbeitende'!N1310>0,AC1310,0)","v":0},{"$f":"IF('Stammdaten Mitarbeitende'!N1310>0,P1310,0)","v":0},0,0,0]
[{"$f":"'Stammdaten Mitarbeitende'!AA1311","v":""},"",null,null,null,null,null,null,0,"",null,"","","","",null,"","",null,null,{"$f":"IF($A1311=\"\",\"\",'Stammdaten Mitarbeitende'!L1311)","v":""},0,"","","","","","","","","","",0,"",0,0,0,0,{"$f":"IF('Stammdaten Mitarbeitende'!N1311>0,AC1311,0)","v":0},{"$f":"IF('Stammdaten Mitarbeitende'!N1311>0,P1311,0)","v":0},0,0,0]
[{"$f":"'Stammdaten Mitarbeitende'!AA1312","v":""},"",null,null,null,null,null,null,0,"",null,"","","","",null,"","",null,null,{"$f":"IF($A1312=\"\",\"\",'Stammdaten Mitarbeitende'!L1312)","v":""},0,"","","","","","","","","","",0,"",0,0,0,0,{"$f":"IF('Stammdaten Mitarbeitende'!N1312>0,AC1312,0)","v":0},{"$f":"IF('Stammdaten Mitarbeitende'!N1312>0,P1312,0)","v":0},0,0,0]
[{"$f":"'Stammdaten Mitarbeitende'!AA1313","v":""},"",null,null,null,null,null,null,0,"",null,"","","","",null,"","",null,null,{"$f":"IF($A1313=\"\",\"\",'Stammdaten Mitarbeitende'!L1313)","v":""},0,"","","","","","","","","","",0,"",0,0,0,0,{"$f":"IF('Stammdaten Mitarbeitende'!N1313>0,AC1313,0)","v":0},{"$f":"IF('Stammdaten Mitarbeitende'!N1313>0,P1313,0)","v":0},0,0,0]
[{"$f":"'Stammdaten Mitarbeitende'!AA1314","v":""},"",null,null,null,null,null,null,0,"",null,"","","","",null,"","",null,null,{"$f":"IF($A1314=\"\",\"\",'Stammdaten Mitarbeitende'!L1314)","v":""},0,"","","","","","","","","","",0,"",0,0,0,0,{"$f":"IF('Stammdaten Mitarbeitende'!N1314>0,AC1314,0)","v":0},{"$f":"IF('Stammdaten Mitarbeitende'!N1314>0,P1314,0)","v":0},0,0,0]
[{"$f":"'Stammdaten Mitarbeitende'!AA1315","v":""},"",null,null,null,null,null,null,0,"",null,"","","","",null,"","",null,null,{"$f":"IF($A1315=\"\",\"\",'Stammdaten Mitarbeitende'!L1315)","v":""},0,"","","","","","","","","","",0,"",0,0,0,0,{"$f":"IF('Stammdaten Mitarbeitende'!N1315>0,AC1315,0)","v":0},{"$f":"IF('Stammdaten Mitarbeitende'!N1315>0,P1315,0)","v":0},0,0,0]
[{"$f":"'Stammdaten Mitarbeitende'!AA1316","v":""},"",null,null,null,null,null,null,0,"",null,"","","","",null,"","",null,null,{"$f":"IF($A1316=\"\",\"\",'Stammdaten Mitarbeitende'!L1316)","v":""},0,"","","","","","","","","","",0,"",0,0,0,0,{"$f":"IF('Stammdaten Mitarbeitende'!N1316>0,AC1316,0)","v":0},{"$f":"IF('Stammdaten Mitarbeitende'!N1316>0,P1316,0)","v":0},0,0,0]
[{"$f":"'Stammdaten Mitarbeitende'!AA1317","v":""},"",null,null,null,null,null,null,0,"",null,"","","","",null,"","",null,null,{"$f":"IF($A1317=\"\",\"\",'Stammdaten Mitarbeitende'!L1317)","v":""},0,"","","","","","","","","","",0,"",0,0,0,0,{"$f":"IF('Stammdaten Mitarbeitende'!N1317>0,AC1317,0)","v":0},{"$f":"IF('Stammdaten Mitarbeitende'!N1317>0,P1317,0)","v":0},0,0,0]
[{"$f":"'Stammdaten Mitarbeitende'!AA1318","v":""},"",null,null,null,null,null,null,0,"",null,"","","","",null,"","",null,null,{"$f":"IF($A1318=\"\",\"\",'Stammdaten Mitarbeitende'!L1318)","v":""},0,"","","","","","","","","","",0,"",0,0,0,0,{"$f":"IF('Stammdaten Mitarbeitende'!N1318>0,AC1318,0)","v":0},{"$f":"IF('Stammdaten Mitarbeitende'!N1318>0,P1318,0)","v":0},0,0,0]
[{"$f":"'Stammdaten Mitarbeitende'!AA1319","v":""},"",null,null,null,null,null,null,0,"",null,"","","","",null,"","",null,null,{"$f":"IF($A1319=\"\",\"\",'Stammdaten Mitarbeitende'!L1319)","v":""},0,"","","","","","","","","","",0,"",0,0,0,0,{"$f":"IF('Stammdaten Mitarbeitende'!N1319>0,AC1319,0)","v":0},{"$f":"IF('Stammdaten Mitarbeitende'!N1319>0,P1319,0)","v":0},0,0,0]
[{"$f":"Übersetzungstexte!A$296","v":"Seitentotal"},null,null,{"$f":"SUM(D1299:D1319)","v":0},null,{"$f":"SUM(F1299:F1319)","v":0},null,null,null,{"$f":"SUM(J1299:J1319)","v":0},null,null,null,{"$f":"SUM(N1299:N1319)","v":0},null,{"$f":"SUM(P1299:P1319)","v":0},null,{"$f":"SUM(R1299:R1319)","v":0}]
[{"$f":"'Stammdaten Betrieb & Abteilung'!D$1","v":"  "},null,null,null,null,null,null,null,null,null,null,null,{"$f":"Übersetzungstexte!A$239","v":"Betrieb / Betriebsabteilung"},{"$f":"'Stammdaten Betrieb & Abteilung'!D$13","v":" "}]
[{"$f":"'Stammdaten Betrieb & Abteilung'!D$3","v":" "},null,null,null,null,null,null,null,null,null,null,null,{"$f":"Übersetzungstexte!A$240","v":"Abrechnungsperiode"},{"$f":"'Stammdaten Betrieb & Abteilung'!D$14","v":""},null,{"$f":"'Stammdaten Betrieb & Abteilung'!D$12","v":{"$error":"#VALUE!"}}]
[{"$f":"'Stammdaten Betrieb & Abteilung'!D$4","v":" "},null,null,null,null,null,null,null,null,null,null,null,{"$f":"Übersetzungstexte!A$241","v":"Beginn / Ende der Kurzarbeit"},{"$f":"'Stammdaten Betrieb & Abteilung'!D$16","v":""}]
[]
[1,2,3,4,5,6,null,7,null,8,9,10,11,12,13,null,14,15,null,null,null,"Regel 7","Regel 8",null,"Regel 9","Regel 10","Regel 11","Regel 12","Regel 13","Regel 14","Regel 15","Regel 17",null,"Regel 19/20",null,null,null,null,"AHV-pflichtiger","AHV-pflichtiger",null,null,"AHV-pflichtige"]
[{"$f":"Übersetzungstexte!A$242","v":""},{"$f":"Übersetzungstexte!A$245","v":"anrechen-"},{"$f":"Übersetzungstexte!A$248","v":"Wöchentl."},{"$f":"Übersetzungstexte!A$251","v":"Sollstd. Abr.-"},{"$f":"Übersetzungstexte!A$254","v":""},{"$f":"Übersetzungstexte!A$257","v":"Bezahlte/"},null,{"$f":"Übersetzungstexte!A$263","v":"(nur für Gleitzeit)"},null,{"$f":"Übersetzungstexte!A$269","v":"Ausfall-"},{"$f":"Übersetzungstexte!A$272","v":"Saldo"},{"$f":"Übersetzungstexte!A$275","v":"Saisonale"},{"$f":"Übersetzungstexte!A$278","v":"Anrechen-"},{"$f":"Übersetzungstexte!A$281","v":"Verdienst-"},{"$f":"Übersetzungstexte!A$284","v":"Verdienst-"},{"$f":"Übersetzungstexte!A$287","v":"Verdienst"},{"$f":"AE$4","v":"Abzug "},{"$f":"Übersetzungstexte!A$293","v":""},null,null,"anrechen-","Gleitzeit","Ausfall-","Max(D12,0)","Prozentualer","Saisonale","Proz. Wirts. Bed.","Anrechen-","Verdienst-","Verdienst-","Abzug","Abzug","Verdienst",null,"Anzahl","Anzahl","Sollstd.","Absenzen","Verdienst-","Verdienst","Sollstd.","bezahlte/","Abzugsbasis"]
[{"$f":"Übersetzungstexte!A$243","v":""},{"$f":"Übersetzungstexte!A$246","v":"barer Std.-"},{"$f":"Übersetzungstexte!A$249","v":"Arbeitszeit"},{"$f":"Übersetzungstexte!A$252","v":"Periode Inkl."},{"$f":"Übersetzungstexte!A$255","v":""},{"$f":"Übersetzungstexte!A$258","v":"Unbezahlte"},{"$f":"Übersetzungstexte!A$261","v":"Saldo Ende Per."},null,null,{"$f":"Übersetzungstexte!A$270","v":"stunden"},{"$f":"Übersetzungstexte!A$273","v":"Mehrstd."},{"$f":"Übersetzungstexte!A$276","v":"Ausfall-"},{"$f":"Übersetzungstexte!A$279","v":"bare Aus-"},{"$f":"Übersetzungstexte!A$282","v":"ausfall"},{"$f":"Übersetzungstexte!A$285","v":"ausfall"},{"$f":"Übersetzungstexte!A$288","v":"Zwischen-"},{"$f":"Übersetzungstexte!A$291","v":"Karenztage"},{"$f":"Übersetzungstexte!A$294","v":"Beantragte"},null,null,"barer Std.-","c","stunden",null,"Arbeitsausfall","Ausfall-","Arbeitsausfall","bare ","ausfall","ausfall","Karenztage","Zwischen-","Zwischen-","Beantragte","bezugsber.","betroffene","bezugsber.","bezugsber.","ausfall","Zwischen-","inkl","unbezahlte"]
[{"$f":"Übersetzungstexte!A$244","v":"Name,Vorname"},{"$f":"Übersetzungstexte!A$247","v":"Verdienst"},{"$f":"Übersetzungstexte!A$250","v":"in der AP"},{"$f":"Übersetzungstexte!A$253","v":"Vorholzeit"},{"$f":"Übersetzungstexte!A$256","v":"Istzeit"},{"$f":"Übersetzungstexte!A$259","v":"Absenzen"},{"$f":"Übersetzungstexte!A$262","v":"vorherg."},{"$f":"Übersetzungstexte!A$265","v":"laufend"},{"$f":"Übersetzungstexte!A$268","v":"Diff."},{"$f":"Übersetzungstexte!A$271","v":"total"},{"$f":"Übersetzungstexte!A$274","v":"Vormonate"},{"$f":"Übersetzungstexte!A$277","v":"stunden"},{"$f":"Übersetzungstexte!A$280","v":"fall-Std."},{"$f":"Übersetzungstexte!A$283","v":"100%"},{"$f":"Übersetzungstexte!A$286","v":"80%"},{"$f":"Übersetzungstexte!A$289","v":"Beschäftigung"},{"$f":"Übersetzungstexte!A$292","v":"80%"},{"$f":"Übersetzungstexte!A$295","v":"Vergütung"},null,null,"Verdienst",null,"Total",null,"pAA","stunden","pwAA","Ausfall-Std.","100%","80%","80%","beschäftigung","beschäftigung","Vergütung","Mitarbeiter","Mitarbeiter","Mitarbeiter","Mitarbeiter","100%","beschäftigung","Vorholzeit","Ansenzen"]
[{"$f":"'Stammdaten Mitarbeitende'!AA1329","v":""},{"$f":"U1329","v":""},null,null,null,null,null,null,{"$f":"V1329","v":0},{"$f":"W1329","v":""},null,{"$f":"Z1329","v":""},{"$f":"AB1329","v":""},{"$f":"AC1329","v":""},{"$f":"AD1329","v":""},null,{"$f":"AE1329","v":""},{"$f":"AH1329","v":""},null,null,{"$f":"IF($A1329=\"\",\"\",'Stammdaten Mitarbeitende'!L1329)","v":""},{"$f":"IF(AND(G1329=\"\",H1329=\"\"),0,G1329-H1329)","v":0},{"$f":"IF(OR($A1329=\"\",D1329=\"\",E1329=\"\",F1329=\"\",V1329=\"\"),\"\",D1329-(E1329+F1329+V1329))","v":""},{"$f":"IF(W1329=\"\",\"\",MAX(W1329,0))","v":""},{"$f":"IF(J1329=\"\",\"\",Y$4)","v":""},{"$f":"IF(J1329=\"\",\"\",J1329*Z$4)","v":""},{"$f":"IF(Y1329=\"\",\"\",AA$4)","v":""},{"$f":"IF(J1329=\"\",\"\",ROUND(J1329*AB$4 - MAX(K1329-L1329,0),2))","v":""},{"$f":"IF(OR($A1329=\"\",J1329=\"\",B1329=\"\",M1329<0),\"\",MAX(ROUND(M1329*B1329*2,1)/2,0))","v":""},{"$f":"IF(OR($A1329=\"\",N1329=\"\"),\"\",ROUND(N1329*8/5,1)/2)","v":""},{"$f":"IF(OR($A1329=\"\",B1329=\"\",N1329=\"\"),\"\",ROUND(AE$3*C1329*B1329*16/50,1)/2)","v":""},{"$f":"IF(OR($A1329=\"\",J1329=\"\",N1329=\"\"),\"\",MAX(O1329+P1329-N1329,0))","v":""},{"$f":"P1329","v":0},{"$f":"IF(OR($A1329=\"\",N1329=\"\"),\"\",ROUND((MAX(O1329-Q1329-AF1329,0))*2,1)/2)","v":""},{"$f":"IF(D1329=\"\",0,1)","v":0},{"$f":"IF(J1329=\"\",0,IF(ROUND(J1329,2)<=0,0,1))","v":0},{"$f":"IF(D1329=\"\",0,D1329)","v":0},{"$f":"IF(D1329=\"\",0,F1329)","v":0},{"$f":"IF('Stammdaten Mitarbeitende'!N1329>0,AC1329,0)","v":0},{"$f":"IF('Stammdaten Mitarbeitende'!N1329>0,P1329,0)","v":0},{"$f":"D1329","v":0},{"$f":"F1329","v":0},{"$f":"IF(AM1329=\"\",0,MAX(AM1329-AN1329,0))","v":0}]
[{"$f":"'Stammdaten Mitarbeitende'!AA1330","v":""},"",null,null,null,null,null,null,0,"",null,"","","","",null,"","",null,null,{"$f":"IF($A1330=\"\",\"\",'Stammdaten Mitarbeitende'!L1330)","v":""},0,"","","","","","","","","","",0,"",0,{"$f":"IF(J1330=\"\",0,IF(ROUND(J1330,2)<=0,0,1))","v":0},0,0,{"$f":"IF('Stammdaten Mitarbeitende'!N1330>0,AC1330,0)","v":0},{"$f":"IF('Stammdaten Mitarbeitende'!N1330>0,P1330,0)","v":0},0,0,0]
[{"$f":"'Stammdaten Mitarbeitende'!AA1331","v":""},"",null,null,null,null,null,null,0,"",null,"","","","",null,"","",null,null,{"$f":"IF($A1331=\"\",\"\",'Stammdaten Mitarbeitende'!L1331)","v":""},0,"","","","","","","","","","",0,"",0,0,0,0,{"$f":"IF('Stammdaten Mitarbeitende'!N1331>0,AC1331,0)","v":0},{"$f":"IF('Stammdaten Mitarbeitende'!N1331>0,P1331,0)","v":0},0,0,0]
[{"$f":"'Stammdaten Mitarbeitende'!AA1332","v":""},"",null,null,null,null,null,null,0,"",null,"","","","",null,"","",null,null,{"$f":"IF($A1332=\"\",\"\",'Stammdaten Mitarbeitende'!L1332)","v":""},0,"","","","","","","","","","",0,"",0,0,0,0,{"$f":"IF('Stammdaten Mitarbeitende'!N1332>0,AC1332,0)","v":0},{"$f":"IF('Stammdaten Mitarbeitende'!N1332>0,P1332,0)","v":0},0,0,0]
[{"$f":"'Stammdaten Mitarbeitende'!AA1333","v":""},"",null,null,null,null,null,null,0,"",null,"","","","",null,"","",null,null,{"$f":"IF($A1333=\"\",\"\",'Stammdaten Mitarbeitende'!L1333)","v":""},0,"","","","","","","","","","",0,"",0,0,0,0,{"$f":"IF('Stammdaten Mitarbeitende'!N1333>0,AC1333,0)","v":0},{"$f":"IF('Stammdaten Mitarbeitende'!N1333>0,P1333,0)","v":0},0,0,0]
[{"$f":"'Stammdaten Mitarbeitende'!AA1334","v":""},"",null,null,null,null,null,null,0,"",null,"","","","",null,"","",null,null,{"$f":"IF($A1334=\"\",\"\",'Stammdaten Mitarbeitende'!L1334)","v":""},0,"","","","","","","","","","",0,"",0,0,0,0,{"$f":"IF('Stammdaten Mitarbeitende'!N1334>0,AC1334,0)","v":0},{"$f":"IF('Stammdaten Mitarbeitende'!N1334>0,P1334,0)","v":0},0,0,0]
[{"$f":"'Stammdaten Mitarbeitende'!AA1335","v":""},"",null,null,null,null,null,null,0,"",null,"","","","",null,"","",null,null,{"$f":"IF($A1335=\"\",\"\",'Stammdaten Mitarbeitende'!L1335)","v":""},0,"","","","","","","","","","",0,"",0,0,0,0,{"$f":"IF('Stammdaten Mitarbeitende'!N1335>0,AC1335,0)","v":0},{"$f":"IF('Stammdaten Mitarbeitende'!N1335>0,P1335,0)","v":0},0,0,0]
[{"$f":"'Stammdaten Mitarbeitende'!AA1336","v":""},"",null,null,null,null,null,null,0,"",null,"","","","",null,"","",null,null,{"$f":"IF($A1336=\"\",\"\",'Stammdaten Mitarbeitende'!L1336)","v":""},0,"","","","","","","","","","",0,"",0,0,0,0,{"$f":"IF('Stammdaten Mitarbeitende'!N1336>0,AC1336,0)","v":0},{"$f":"IF('Stammdaten Mitarbeitende'!N1336>0,P1336,0)","v":0},0,0,0]
[{"$f":"'Stammdaten Mitarbeitende'!AA1337","v":""},"",null,null,null,null,null,null,0,"",null,"","","","",null,"","",null,null,{"$f":"IF($A1337=\"\",\"\",'Stammdaten Mitarbeitende'!L1337)","v":""},0,"","","","","","","","","","",0,"",0,0,0,0,{"$f":"IF('Stammdaten Mitarbeitende'!N1337>0,AC1337,0)","v":0},{"$f":"IF('Stammdaten Mitarbeitende'!N1337>0,P1337,0)","v":0},0,0,0]
[{"$f":"'Stammdaten Mitarbeitende'!AA1338","v":""},"",null,null,null,null,null,null,0,"",null,"","","","",null,"","",null,null,{"$f":"IF($A1338=\"\",\"\",'Stammdaten Mitarbeitende'!L1338)","v":""},0,"","","","","","","","","","",0,"",0,0,0,0,{"$f":"IF('Stammdaten Mitarbeitende'!N1338>0,AC1338,0)","v":0},{"$f":"IF('Stammdaten Mitarbeitende'!N1338>0,P1338,0)","v":0},0,0,0]
[{"$f":"'Stammdaten Mitarbeitende'!AA1339","v":""},"",null,null,null,null,null,null,0,"",null,"","","","",null,"","",null,null,{"$f":"IF($A1339=\"\",\"\",'Stammdaten Mitarbeitende'!L1339)","v":""},0,"","","","","","","","","","",0,"",0,0,0,0,{"$f":"IF('Stammdaten Mitarbeitende'!N1339>0,AC1339,0)","v":0},{"$f":"IF('Stammdaten Mitarbeitende'!N1339>0,P1339,0)","v":0},0,0,0]
[{"$f":"'Stammdaten Mitarbeitende'!AA1340","v":""},"",null,null,null,null,null,null,0,"",null,"","","","",null,"","",null,null,{"$f":"IF($A1340=\"\",\"\",'Stammdaten Mitarbeitende'!L1340)","v":""},0,"","","","","","","","","","",0,"",0,0,0,0,{"$f":"IF('Stammdaten Mitarbeitende'!N1340>0,AC1340,0)","v":0},{"$f":"IF('Stammdaten Mitarbeitende'!N1340>0,P1340,0)","v":0},0,0,0]
[{"$f":"'Stammdaten Mitarbeitende'!AA1341","v":""},"",null,null,null,null,null,null,0,"",null,"","","","",null,"","",null,null,{"$f":"IF($A1341=\"\",\"\",'Stammdaten Mitarbeitende'!L1341)","v":""},0,"","","","","","","","","","",0,"",0,0,0,0,{"$f":"IF('Stammdaten Mitarbeitende'!N1341>0,AC1341,0)","v":0},{"$f":"IF('Stammdaten Mitarbeitende'!N1341>0,P1341,0)","v":0},0,0,0]
[{"$f":"'Stammdaten Mitarbeitende'!AA1342","v":""},"",null,null,null,null,null,null,0,"",null,"","","","",null,"","",null,null,{"$f":"IF($A1342=\"\",\"\",'Stammdaten Mitarbeitende'!L1342)","v":""},0,"","","","","","","","","","",0,"",0,0,0,0,{"$f":"IF('Stammdaten Mitarbeitende'!N1342>0,AC1342,0)","v":0},{"$f":"IF('Stammdaten Mitarbeitende'!N1342>0,P1342,0)","v":0},0,0,0]
[{"$f":"'Stammdaten Mitarbeitende'!AA1343","v":""},"",null,null,null,null,null,null,0,"",null,"","","","",null,"","",null,null,{"$f":"IF($A1343=\"\",\"\",'Stammdaten Mitarbeitende'!L1343)","v":""},0,"","","","","","","","","","",0,"",0,0,0,0,{"$f":"IF('Stammdaten Mitarbeitende'!N1343>0,AC1343,0)","v":0},{"$f":"IF('Stammdaten Mitarbeitende'!N1343>0,P1343,0)","v":0},0,0,0]
[{"$f":"'Stammdaten Mitarbeitende'!AA1344","v":""},"",null,null,null,null,null,null,0,"",null,"","","","",null,"","",null,null,{"$f":"IF($A1344=\"\",\"\",'Stammdaten Mitarbeitende'!L1344)","v":""},0,"","","","","","","","","","",0,"",0,0,0,0,{"$f":"IF('Stammdaten Mitarbeitende'!N1344>0,AC1344,0)","v":0},{"$f":"IF('Stammdaten Mitarbeitende'!N1344>0,P1344,0)","v":0},0,0,0]
[{"$f":"'Stammdaten Mitarbeitende'!AA1345","v":""},"",null,null,null,null,null,null,0,"",null,"","","","",null,"","",null,null,{"$f":"IF($A1345=\"\",\"\",'Stammdaten Mitarbeitende'!L1345)","v":""},0,"","","","","","","","","","",0,"",0,0,0,0,{"$f":"IF('Stammdaten Mitarbeitende'!N1345>0,AC1345,0)","v":0},{"$f":"IF('Stammdaten Mitarbeitende'!N1345>0,P1345,0)","v":0},0,0,0]
[{"$f":"'Stammdaten Mitarbeitende'!AA1346","v":""},"",null,null,null,null,null,null,0,"",null,"","","","",null,"","",null,null,{"$f":"IF($A1346=\"\",\"\",'Stammdaten Mitarbeitende'!L1346)","v":""},0,"","","","","","","","","","",0,"",0,0,0,0,{"$f":"IF('Stammdaten Mitarbeitende'!N1346>0,AC1346,0)","v":0},{"$f":"IF('Stammdaten Mitarbeitende'!N1346>0,P1346,0)","v":0},0,0,0]
[{"$f":"'Stammdaten Mitarbeitende'!AA1347","v":""},"",null,null,null,null,null,null,0,"",null,"","","","",null,"","",null,null,{"$f":"IF($A1347=\"\",\"\",'Stammdaten Mitarbeitende'!L1347)","v":""},0,"","","","","","","","","","",0,"",0,0,0,0,{"$f":"IF('Stammdaten Mitarbeitende'!N1347>0,AC1347,0)","v":0},{"$f":"IF('Stammdaten Mitarbeitende'!N1347>0,P1347,0)","v":0},0,0,0]
[{"$f":"'Stammdaten Mitarbeitende'!AA1348","v":""},"",null,null,null,null,null,null,0,"",null,"","","","",null,"","",null,null,{"$f":"IF($A1348=\"\",\"\",'Stammdaten Mitarbeitende'!L1348)","v":""},0,"","","","","","","","","","",0,"",0,0,0,0,{"$f":"IF('Stammdaten Mitarbeitende'!N1348>0,AC1348,0)","v":0},{"$f":"IF('Stammdaten Mitarbeitende'!N1348>0,P1348,0)","v":0},0,0,0]
[{"$f":"'Stammdaten Mitarbeitende'!AA1349","v":""},"",null,null,null,null,null,null,0,"",null,"","","","",null,"","",null,null,{"$f":"IF($A1349=\"\",\"\",'Stammdaten Mitarbeitende'!L1349)","v":""},0,"","","","","","","","","","",0,"",0,0,0,0,{"$f":"IF('Stammdaten Mitarbeitende'!N1349>0,AC1349,0)","v":0},{"$f":"IF('Stammdaten Mitarbeitende'!N1349>0,P1349,0)","v":0},0,0,0]
[{"$f":"Übersetzungstexte!A$296","v":"Seitentotal"},null,null,{"$f":"SUM(D1329:D1349)","v":0},null,{"$f":"SUM(F1329:F1349)","v":0},null,null,null,{"$f":"SUM(J1329:J1349)","v":0},null,null,null,{"$f":"SUM(N1329:N1349)","v":0},null,{"$f":"SUM(P1329:P1349)","v":0},null,{"$f":"SUM(R1329:R1349)","v":0}]
[{"$f":"'Stammdaten Betrieb & Abteilung'!D$1","v":"  "},null,null,null,null,null,null,null,null,null,null,null,{"$f":"Übersetzungstexte!A$239","v":"Betrieb / Betriebsabteilung"},{"$f":"'Stammdaten Betrieb & Abteilung'!D$13","v":" "}]
[{"$f":"'Stammdaten Betrieb & Abteilung'!D$3","v":" "},null,null,null,null,null,null,null,null,null,null,null,{"$f":"Übersetzungstexte!A$240","v":"Abrechnungsperiode"},{"$f":"'Stammdaten Betrieb & Abteilung'!D$14","v":""},null,{"$f":"'Stammdaten Betrieb & Abteilung'!D$12","v":{"$error":"#VALUE!"}}]
[{"$f":"'Stammdaten Betrieb & Abteilung'!D$4","v":" "},null,null,null,null,null,null,null,null,null,null,null,{"$f":"Übersetzungstexte!A$241","v":"Beginn / Ende der Kurzarbeit"},{"$f":"'Stammdaten Betrieb & Abteilung'!D$16","v":""}]
[]
[1,2,3,4,5,6,null,7,null,8,9,10,11,12,13,null,14,15,null,null,null,"Regel 7","Regel 8",null,"Regel 9","Regel 10","Regel 11","Regel 12","Regel 13","Regel 14","Regel 15","Regel 17",null,"Regel 19/20",null,null,null,null,"AHV-pflichtiger","AHV-pflichtiger",null,null,"AHV-pflichtige"]
[{"$f":"Übersetzungstexte!A$242","v":""},{"$f":"Übersetzungstexte!A$245","v":"anrechen-"},{"$f":"Übersetzungstexte!A$248","v":"Wöchentl."},{"$f":"Übersetzungstexte!A$251","v":"Sollstd. Abr.-"},{"$f":"Übersetzungstexte!A$254","v":""},{"$f":"Übersetzungstexte!A$257","v":"Bezahlte/"},null,{"$f":"Übersetzungstexte!A$263","v":"(nur für Gleitzeit)"},null,{"$f":"Übersetzungstexte!A$269","v":"Ausfall-"},{"$f":"Übersetzungstexte!A$272","v":"Saldo"},{"$f":"Übersetzungstexte!A$275","v":"Saisonale"},{"$f":"Übersetzungstexte!A$278","v":"Anrechen-"},{"$f":"Übersetzungstexte!A$281","v":"Verdienst-"},{"$f":"Übersetzungstexte!A$284","v":"Verdienst-"},{"$f":"Übersetzungstexte!A$287","v":"Verdienst"},{"$f":"AE$4","v":"Abzug "},{"$f":"Übersetzungstexte!A$293","v":""},null,null,"anrechen-","Gleitzeit","Ausfall-","Max(D12,0)","Prozentualer","Saisonale","Proz. Wirts. Bed.","Anrechen-","Verdienst-","Verdienst-","Abzug","Abzug","Verdienst",null,"Anzahl","Anzahl","Sollstd.","Absenzen","Verdienst-","Verdienst","Sollstd.","bezahlte/","Abzugsbasis"]
[{"$f":"Übersetzungstexte!A$243","v":""},{"$f":"Übersetzungstexte!A$246","v":"barer Std.-"},{"$f":"Übersetzungstexte!A$249","v":"Arbeitszeit"},{"$f":"Übersetzungstexte!A$252","v":"Periode Inkl."},{"$f":"Übersetzungstexte!A$255","v":""},{"$f":"Übersetzungstexte!A$258","v":"Unbezahlte"},{"$f":"Übersetzungstexte!A$261","v":"Saldo Ende Per."},null,null,{"$f":"Übersetzungstexte!A$270","v":"stunden"},{"$f":"Übersetzungstexte!A$273","v":"Mehrstd."},{"$f":"Übersetzungstexte!A$276","v":"Ausfall-"},{"$f":"Übersetzungstexte!A$279","v":"bare Aus-"},{"$f":"Übersetzungstexte!A$282","v":"ausfall"},{"$f":"Übersetzungstexte!A$285","v":"ausfall"},{"$f":"Übersetzungstexte!A$288","v":"Zwischen-"},{"$f":"Übersetzungstexte!A$291","v":"Karenztage"},{"$f":"Übersetzungstexte!A$294","v":"Beantragte"},null,null,"barer Std.-","c","stunden",null,"Arbeitsausfall","Ausfall-","Arbeitsausfall","bare ","ausfall","ausfall","Karenztage","Zwischen-","Zwischen-","Beantragte","bezugsber.","betroffene","bezugsber.","bezugsber.","ausfall","Zwischen-","inkl","unbezahlte"]
[{"$f":"Übersetzungstexte!A$244","v":"Name,Vorname"},{"$f":"Übersetzungstexte!A$247","v":"Verdienst"},{"$f":"Übersetzungstexte!A$250","v":"in der AP"},{"$f":"Übersetzungstexte!A$253","v":"Vorholzeit"},{"$f":"Übersetzungstexte!A$256","v":"Istzeit"},{"$f":"Übersetzungstexte!A$259","v":"Absenzen"},{"$f":"Übersetzungstexte!A$262","v":"vorherg."},{"$f":"Übersetzungstexte!A$265","v":"laufend"},{"$f":"Übersetzungstexte!A$268","v":"Diff."},{"$f":"Übersetzungstexte!A$271","v":"total"},{"$f":"Übersetzungstexte!A$274","v":"Vormonate"},{"$f":"Übersetzungstexte!A$277","v":"stunden"},{"$f":"Übersetzungstexte!A$280","v":"fall-Std."},{"$f":"Übersetzungstexte!A$283","v":"100%"},{"$f":"Übersetzungstexte!A$286","v":"80%"},{"$f":"Übersetzungstexte!A$289","v":"Beschäftigung"},{"$f":"Übersetzungstexte!A$292","v":"80%"},{"$f":"Übersetzungstexte!A$295","v":"Vergütung"},null,null,"Verdienst",null,"Total",null,"pAA","stunden","pwAA","Ausfall-Std.","100%","80%","80%","beschäftigung","beschäftigung","Vergütung","Mitarbeiter","Mitarbeiter","Mitarbeiter","Mitarbeiter","100%","beschäftigung","Vorholzeit","Ansenzen"]
[{"$f":"'Stammdaten Mitarbeitende'!AA1359","v":""},{"$f":"U1359","v":""},null,null,null,null,null,null,{"$f":"V1359","v":0},{"$f":"W1359","v":""},null,{"$f":"Z1359","v":""},{"$f":"AB1359","v":""},{"$f":"AC1359","v":""},{"$f":"AD1359","v":""},null,{"$f":"AE1359","v":""},{"$f":"AH1359","v":""},null,null,{"$f":"IF($A1359=\"\",\"\",'Stammdaten Mitarbeitende'!L1359)","v":""},{"$f":"IF(AND(G1359=\"\",H1359=\"\"),0,G1359-H1359)","v":0},{"$f":"IF(OR($A1359=\"\",D1359=\"\",E1359=\"\",F1359=\"\",V1359=\"\"),\"\",D1359-(E1359+F1359+V1359))","v":""},{"$f":"IF(W1359=\"\",\"\",MAX(W1359,0))","v":""},{"$f":"IF(J1359=\"\",\"\",Y$4)","v":""},{"$f":"IF(J1359=\"\",\"\",J1359*Z$4)","v":""},{"$f":"IF(Y1359=\"\",\"\",AA$4)","v":""},{"$f":"IF(J1359=\"\",\"\",ROUND(J1359*AB$4 - MAX(K1359-L1359,0),2))","v":""},{"$f":"IF(OR($A1359=\"\",J1359=\"\",B1359=\"\",M1359<0),\"\",MAX(ROUND(M1359*B1359*2,1)/2,0))","v":""},{"$f":"IF(OR($A1359=\"\",N1359=\"\"),\"\",ROUND(N1359*8/5,1)/2)","v":""},{"$f":"IF(OR($A1359=\"\",B1359=\"\",N1359=\"\"),\"\",ROUND(AE$3*C1359*B1359*16/50,1)/2)","v":""},{"$f":"IF(OR($A1359=\"\",J1359=\"\",N1359=\"\"),\"\",MAX(O1359+P1359-N1359,0))","v":""},{"$f":"P1359","v":0},{"$f":"IF(OR($A1359=\"\",N1359=\"\"),\"\",ROUND((MAX(O1359-Q1359-AF1359,0))*2,1)/2)","v":""},{"$f":"IF(D1359=\"\",0,1)","v":0},{"$f":"IF(J1359=\"\",0,IF(ROUND(J1359,2)<=0,0,1))","v":0},{"$f":"IF(D1359=\"\",0,D1359)","v":0},{"$f":"IF(D1359=\"\",0,F1359)","v":0},{"$f":"IF('Stammdaten Mitarbeitende'!N1359>0,AC1359,0)","v":0},{"$f":"IF('Stammdaten Mitarbeitende'!N1359>0,P1359,0)","v":0},{"$f":"D1359","v":0},{"$f":"F1359","v":0},{"$f":"IF(AM1359=\"\",0,MAX(AM1359-AN1359,0))","v":0}]
[{"$f":"'Stammdaten Mitarbeitende'!AA1360","v":""},"",null,null,null,null,null,null,0,"",null,"","","","",null,"","",null,null,{"$f":"IF($A1360=\"\",\"\",'Stammdaten Mitarbeitende'!L1360)","v":""},0,"","","","","","","","","","",0,"",0,{"$f":"IF(J1360=\"\",0,IF(ROUND(J1360,2)<=0,0,1))","v":0},0,0,{"$f":"IF('Stammdaten Mitarbeitende'!N1360>0,AC1360,0)","v":0},{"$f":"IF('Stammdaten Mitarbeitende'!N1360>0,P1360,0)","v":0},0,0,0]
[{"$f":"'Stammdaten Mitarbeitende'!AA1361","v":""},"",null,null,null,null,null,null,0,"",null,"","","","",null,"","",null,null,{"$f":"IF($A1361=\"\",\"\",'Stammdaten Mitarbeitende'!L1361)","v":""},0,"","","","","","","","","","",0,"",0,0,0,0,{"$f":"IF('Stammdaten Mitarbeitende'!N1361>0,AC1361,0)","v":0},{"$f":"IF('Stammdaten Mitarbeitende'!N1361>0,P1361,0)","v":0},0,0,0]
[{"$f":"'Stammdaten Mitarbeitende'!AA1362","v":""},"",null,null,null,null,null,null,0,"",null,"","","","",null,"","",null,null,{"$f":"IF($A1362=\"\",\"\",'Stammdaten Mitarbeitende'!L1362)","v":""},0,"","","","","","","","","","",0,"",0,0,0,0,{"$f":"IF('Stammdaten Mitarbeitende'!N1362>0,AC1362,0)","v":0},{"$f":"IF('Stammdaten Mitarbeitende'!N1362>0,P1362,0)","v":0},0,0,0]
[{"$f":"'Stammdaten Mitarbeitende'!AA1363","v":""},"",null,null,null,null,null,null,0,"",null,"","","","",null,"","",null,null,{"$f":"IF($A1363=\"\",\"\",'Stammdaten Mitarbeitende'!L1363)","v":""},0,"","","","","","","","","","",0,"",0,0,0,0,{"$f":"IF('Stammdaten Mitarbeitende'!N1363>0,AC1363,0)","v":0},{"$f":"IF('Stammdaten Mitarbeitende'!N1363>0,P1363,0)","v":0},0,0,0]
[{"$f":"'Stammdaten Mitarbeitende'!AA1364","v":""},"",null,null,null,null,null,null,0,"",null,"","","","",null,"","",null,null,{"$f":"IF($A1364=\"\",\"\",'Stammdaten Mitarbeitende'!L1364)","v":""},0,"","","","","","","","","","",0,"",0,0,0,0,{"$f":"IF('Stammdaten Mitarbeitende'!N1364>0,AC1364,0)","v":0},{"$f":"IF('Stammdaten Mitarbeitende'!N1364>0,P1364,0)","v":0},0,0,0]
[{"$f":"'Stammdaten Mitarbeitende'!AA1365","v":""},"",null,null,null,null,null,null,0,"",null,"","","","",null,"","",null,null,{"$f":"IF($A1365=\"\",\"\",'Stammdaten Mitarbeitende'!L1365)","v":""},0,"","","","","","","","","","",0,"",0,0,0,0,{"$f":"IF('Stammdaten Mitarbeitende'!N1365>0,AC1365,0)","v":0},{"$f":"IF('Stammdaten Mitarbeitende'!N1365>0,P1365,0)","v":0},0,0,0]
[{"$f":"'Stammdaten Mitarbeitende'!AA1366","v":""},"",null,null,null,null,null,null,0,"",null,"","","","",null,"","",null,null,{"$f":"IF($A1366=\"\",\"\",'Stammdaten Mitarbeitende'!L1366)","v":""},0,"","","","","","","","","","",0,"",0,0,0,0,{"$f":"IF('Stammdaten Mitarbeitende'!N1366>0,AC1366,0)","v":0},{"$f":"IF('Stammdaten Mitarbeitende'!N1366>0,P1366,0)","v":0},0,0,0]
[{"$f":"'Stammdaten Mitarbeitende'!AA1367","v":""},"",null,null,null,null,null,null,0,"",null,"","","","",null,"","",null,null,{"$f":"IF($A1367=\"\",\"\",'Stammdaten Mitarbeitende'!L1367)","v":""},0,"","","","","","","","","","",0,"",0,0,0,0,{"$f":"IF('Stammdaten Mitarbeitende'!N1367>0,AC1367,0)","v":0},{"$f":"IF('Stammdaten Mitarbeitende'!N1367>0,P1367,0)","v":0},0,0,0]
[{"$f":"'Stammdaten Mitarbeitende'!AA1368","v":""},"",null,null,null,null,null,null,0,"",null,"","","","",null,"","",null,null,{"$f":"IF($A1368=\"\",\"\",'Stammdaten Mitarbeitende'!L1368)","v":""},0,"","","","","","","","","","",0,"",0,0,0,0,{"$f":"IF('Stammdaten Mitarbeitende'!N1368>0,AC1368,0)","v":0},{"$f":"IF('Stammdaten Mitarbeitende'!N1368>0,P1368,0)","v":0},0,0,0]
[{"$f":"'Stammdaten Mitarbeitende'!AA1369","v":""},"",null,null,null,null,null,null,0,"",null,"","","","",null,"","",null,null,{"$f":"IF($A1369=\"\",\"\",'Stammdaten Mitarbeitende'!L1369)","v":""},0,"","","","","","","","","","",0,"",0,0,0,0,{"$f":"IF('Stammdaten Mitarbeitende'!N1369>0,AC1369,0)","v":0},{"$f":"IF('Stammdaten Mitarbeitende'!N1369>0,P1369,0)","v":0},0,0,0]
[{"$f":"'Stammdaten Mitarbeitende'!AA1370","v":""},"",null,null,null,null,null,null,0,"",null,"","","","",null,"","",null,null,{"$f":"IF($A1370=\"\",\"\",'Stammdaten Mitarbeitende'!L1370)","v":""},0,"","","","","","","","","","",0,"",0,0,0,0,{"$f":"IF('Stammdaten Mitarbeitende'!N1370>0,AC1370,0)","v":0},{"$f":"IF('Stammdaten Mitarbeitende'!N1370>0,P1370,0)","v":0},0,0,0]
[{"$f":"'Stammdaten Mitarbeitende'!AA1371","v":""},"",null,null,null,null,null,null,0,"",null,"","","","",null,"","",null,null,{"$f":"IF($A1371=\"\",\"\",'Stammdaten Mitarbeitende'!L1371)","v":""},0,"","","","","","","","","","",0,"",0,0,0,0,{"$f":"IF('Stammdaten Mitarbeitende'!N1371>0,AC1371,0)","v":0},{"$f":"IF('Stammdaten Mitarbeitende'!N1371>0,P1371,0)","v":0},0,0,0]
[{"$f":"'Stammdaten Mitarbeitende'!AA1372","v":""},"",null,null,null,null,null,null,0,"",null,"","","","",null,"","",null,null,{"$f":"IF($A1372=\"\",\"\",'Stammdaten Mitarbeitende'!L1372)","v":""},0,"","","","","","","","","","",0,"",0,0,0,0,{"$f":"IF('Stammdaten Mitarbeitende'!N1372>0,AC1372,0)","v":0},{"$f":"IF('Stammdaten Mitarbeitende'!N1372>0,P1372,0)","v":0},0,0,0]
[{"$f":"'Stammdaten Mitarbeitende'!AA1373","v":""},"",null,null,null,null,null,null,0,"",null,"","","","",null,"","",null,null,{"$f":"IF($A1373=\"\",\"\",'Stammdaten Mitarbeitende'!L1373)","v":""},0,"","","","","","","","","","",0,"",0,0,0,0,{"$f":"IF('Stammdaten Mitarbeitende'!N1373>0,AC1373,0)","v":0},{"$f":"IF('Stammdaten Mitarbeitende'!N1373>0,P1373,0)","v":0},0,0,0]
[{"$f":"'Stammdaten Mitarbeitende'!AA1374","v":""},"",null,null,null,null,null,null,0,"",null,"","","","",null,"","",null,null,{"$f":"IF($A1374=\"\",\"\",'Stammdaten Mitarbeitende'!L1374)","v":""},0,"","","","","","","","","","",0,"",0,0,0,0,{"$f":"IF('Stammdaten Mitarbeitende'!N1374>0,AC1374,0)","v":0},{"$f":"IF('Stammdaten Mitarbeitende'!N1374>0,P1374,0)","v":0},0,0,0]
[{"$f":"'Stammdaten Mitarbeitende'!AA1375","v":""},"",null,null,null,null,null,null,0,"",null,"","","","",null,"","",null,null,{"$f":"IF($A1375=\"\",\"\",'Stammdaten Mitarbeitende'!L1375)","v":""},0,"","","","","","","","","","",0,"",0,0,0,0,{"$f":"IF('Stammdaten Mitarbeitende'!N1375>0,AC1375,0)","v":0},{"$f":"IF('Stammdaten Mitarbeitende'!N1375>0,P1375,0)","v":0},0,0,0]
[{"$f":"'Stammdaten Mitarbeitende'!AA1376","v":""},"",null,null,null,null,null,null,0,"",null,"","","","",null,"","",null,null,{"$f":"IF($A1376=\"\",\"\",'Stammdaten Mitarbeitende'!L1376)","v":""},0,"","","","","","","","","","",0,"",0,0,0,0,{"$f":"IF('Stammdaten Mitarbeitende'!N1376>0,AC1376,0)","v":0},{"$f":"IF('Stammdaten Mitarbeitende'!N1376>0,P1376,0)","v":0},0,0,0]
[{"$f":"'Stammdaten Mitarbeitende'!AA1377","v":""},"",null,null,null,null,null,null,0,"",null,"","","","",null,"","",null,null,{"$f":"IF($A1377=\"\",\"\",'Stammdaten Mitarbeitende'!L1377)","v":""},0,"","","","","","","","","","",0,"",0,0,0,0,{"$f":"IF('Stammdaten Mitarbeitende'!N1377>0,AC1377,0)","v":0},{"$f":"IF('Stammdaten Mitarbeitende'!N1377>0,P1377,0)","v":0},0,0,0]
[{"$f":"'Stammdaten Mitarbeitende'!AA1378","v":""},"",null,null,null,null,null,null,0,"",null,"","","","",null,"","",null,null,{"$f":"IF($A1378=\"\",\"\",'Stammdaten Mitarbeitende'!L1378)","v":""},0,"","","","","","","","","","",0,"",0,0,0,0,{"$f":"IF('Stammdaten Mitarbeitende'!N1378>0,AC1378,0)","v":0},{"$f":"IF('Stammdaten Mitarbeitende'!N1378>0,P1378,0)","v":0},0,0,0]
[{"$f":"'Stammdaten Mitarbeitende'!AA1379","v":""},"",null,null,null,null,null,null,0,"",null,"","","","",null,"","",null,null,{"$f":"IF($A1379=\"\",\"\",'Stammdaten Mitarbeitende'!L1379)","v":""},0,"","","","","","","","","","",0,"",0,0,0,0,{"$f":"IF('Stammdaten Mitarbeitende'!N1379>0,AC1379,0)","v":0},{"$f":"IF('Stammdaten Mitarbeitende'!N1379>0,P1379,0)","v":0},0,0,0]
[{"$f":"Übersetzungstexte!A$296","v":"Seitentotal"},null,null,{"$f":"SUM(D1359:D1379)","v":0},null,{"$f":"SUM(F1359:F1379)","v":0},null,null,null,{"$f":"SUM(J1359:J1379)","v":0},null,null,null,{"$f":"SUM(N1359:N1379)","v":0},null,{"$f":"SUM(P1359:P1379)","v":0},null,{"$f":"SUM(R1359:R1379)","v":0}]
[{"$f":"'Stammdaten Betrieb & Abteilung'!D$1","v":"  "},null,null,null,null,null,null,null,null,null,null,null,{"$f":"Übersetzungstexte!A$239","v":"Betrieb / Betriebsabteilung"},{"$f":"'Stammdaten Betrieb & Abteilung'!D$13","v":" "}]
[{"$f":"'Stammdaten Betrieb & Abteilung'!D$3","v":" "},null,null,null,null,null,null,null,null,null,null,null,{"$f":"Übersetzungstexte!A$240","v":"Abrechnungsperiode"},{"$f":"'Stammdaten Betrieb & Abteilung'!D$14","v":""},null,{"$f":"'Stammdaten Betrieb & Abteilung'!D$12","v":{"$error":"#VALUE!"}}]
[{"$f":"'Stammdaten Betrieb & Abteilung'!D$4","v":" "},null,null,null,null,null,null,null,null,null,null,null,{"$f":"Übersetzungstexte!A$241","v":"Beginn / Ende der Kurzarbeit"},{"$f":"'Stammdaten Betrieb & Abteilung'!D$16","v":""}]
[]
[1,2,3,4,5,6,null,7,null,8,9,10,11,12,13,null,14,15,null,null,null,"Regel 7","Regel 8",null,"Regel 9","Regel 10","Regel 11","Regel 12","Regel 13","Regel 14","Regel 15","Regel 17",null,"Regel 19/20",null,null,null,null,"AHV-pflichtiger","AHV-pflichtiger",null,null,"AHV-pflichtige"]
[{"$f":"Übersetzungstexte!A$242","v":""},{"$f":"Übersetzungstexte!A$245","v":"anrechen-"},{"$f":"Übersetzungstexte!A$248","v":"Wöchentl."},{"$f":"Übersetzungstexte!A$251","v":"Sollstd. Abr.-"},{"$f":"Übersetzungstexte!A$254","v":""},{"$f":"Übersetzungstexte!A$257","v":"Bezahlte/"},null,{"$f":"Übersetzungstexte!A$263","v":"(nur für Gleitzeit)"},null,{"$f":"Übersetzungstexte!A$269","v":"Ausfall-"},{"$f":"Übersetzungstexte!A$272","v":"Saldo"},{"$f":"Übersetzungstexte!A$275","v":"Saisonale"},{"$f":"Übersetzungstexte!A$278","v":"Anrechen-"},{"$f":"Übersetzungstexte!A$281","v":"Verdienst-"},{"$f":"Übersetzungstexte!A$284","v":"Verdienst-"},{"$f":"Übersetzungstexte!A$287","v":"Verdienst"},{"$f":"AE$4","v":"Abzug "},{"$f":"Übersetzungstexte!A$293","v":""},null,null,"anrechen-","Gleitzeit","Ausfall-","Max(D12,0)","Prozentualer","Saisonale","Proz. Wirts. Bed.","Anrechen-","Verdienst-","Verdienst-","Abzug","Abzug","Verdienst",null,"Anzahl","Anzahl","Sollstd.","Absenzen","Verdienst-","Verdienst","Sollstd.","bezahlte/","Abzugsbasis"]
[{"$f":"Übersetzungstexte!A$243","v":""},{"$f":"Übersetzungstexte!A$246","v":"barer Std.-"},{"$f":"Übersetzungstexte!A$249","v":"Arbeitszeit"},{"$f":"Übersetzungstexte!A$252","v":"Periode Inkl."},{"$f":"Übersetzungstexte!A$255","v":""},{"$f":"Übersetzungstexte!A$258","v":"Unbezahlte"},{"$f":"Übersetzungstexte!A$261","v":"Saldo Ende Per."},null,null,{"$f":"Übersetzungstexte!A$270","v":"stunden"},{"$f":"Übersetzungstexte!A$273","v":"Mehrstd."},{"$f":"Übersetzungstexte!A$276","v":"Ausfall-"},{"$f":"Übersetzungstexte!A$279","v":"bare Aus-"},{"$f":"Übersetzungstexte!A$282","v":"ausfall"},{"$f":"Übersetzungstexte!A$285","v":"ausfall"},{"$f":"Übersetzungstexte!A$288","v":"Zwischen-"},{"$f":"Übersetzungstexte!A$291","v":"Karenztage"},{"$f":"Übersetzungstexte!A$294","v":"Beantragte"},null,null,"barer Std.-","c","stunden",null,"Arbeitsausfall","Ausfall-","Arbeitsausfall","bare ","ausfall","ausfall","Karenztage","Zwischen-","Zwischen-","Beantragte","bezugsber.","betroffene","bezugsber.","bezugsber.","ausfall","Zwischen-","inkl","unbezahlte"]
[{"$f":"Übersetzungstexte!A$244","v":"Name,Vorname"},{"$f":"Übersetzungstexte!A$247","v":"Verdienst"},{"$f":"Übersetzungstexte!A$250","v":"in der AP"},{"$f":"Übersetzungstexte!A$253","v":"Vorholzeit"},{"$f":"Übersetzungstexte!A$256","v":"Istzeit"},{"$f":"Übersetzungstexte!A$259","v":"Absenzen"},{"$f":"Übersetzungstexte!A$262","v":"vorherg."},{"$f":"Übersetzungstexte!A$265","v":"laufend"},{"$f":"Übersetzungstexte!A$268","v":"Diff."},{"$f":"Übersetzungstexte!A$271","v":"total"},{"$f":"Übersetzungstexte!A$274","v":"Vormonate"},{"$f":"Übersetzungstexte!A$277","v":"stunden"},{"$f":"Übersetzungstexte!A$280","v":"fall-Std."},{"$f":"Übersetzungstexte!A$283","v":"100%"},{"$f":"Übersetzungstexte!A$286","v":"80%"},{"$f":"Übersetzungstexte!A$289","v":"Beschäftigung"},{"$f":"Übersetzungstexte!A$292","v":"80%"},{"$f":"Übersetzungstexte!A$295","v":"Vergütung"},null,null,"Verdienst",null,"Total",null,"pAA","stunden","pwAA","Ausfall-Std.","100%","80%","80%","beschäftigung","beschäftigung","Vergütung","Mitarbeiter","Mitarbeiter","Mitarbeiter","Mitarbeiter","100%","beschäftigung","Vorholzeit","Ansenzen"]
[{"$f":"'Stammdaten Mitarbeitende'!AA1389","v":""},{"$f":"U1389","v":""},null,null,null,null,null,null,{"$f":"V1389","v":0},{"$f":"W1389","v":""},null,{"$f":"Z1389","v":""},{"$f":"AB1389","v":""},{"$f":"AC1389","v":""},{"$f":"AD1389","v":""},null,{"$f":"AE1389","v":""},{"$f":"AH1389","v":""},null,null,{"$f":"IF($A1389=\"\",\"\",'Stammdaten Mitarbeitende'!L1389)","v":""},{"$f":"IF(AND(G1389=\"\",H1389=\"\"),0,G1389-H1389)","v":0},{"$f":"IF(OR($A1389=\"\",D1389=\"\",E1389=\"\",F1389=\"\",V1389=\"\"),\"\",D1389-(E1389+F1389+V1389))","v":""},{"$f":"IF(W1389=\"\",\"\",MAX(W1389,0))","v":""},{"$f":"IF(J1389=\"\",\"\",Y$4)","v":""},{"$f":"IF(J1389=\"\",\"\",J1389*Z$4)","v":""},{"$f":"IF(Y1389=\"\",\"\",AA$4)","v":""},{"$f":"IF(J1389=\"\",\"\",ROUND(J1389*AB$4 - MAX(K1389-L1389,0),2))","v":""},{"$f":"IF(OR($A1389=\"\",J1389=\"\",B1389=\"\",M1389<0),\"\",MAX(ROUND(M1389*B1389*2,1)/2,0))","v":""},{"$f":"IF(OR($A1389=\"\",N1389=\"\"),\"\",ROUND(N1389*8/5,1)/2)","v":""},{"$f":"IF(OR($A1389=\"\",B1389=\"\",N1389=\"\"),\"\",ROUND(AE$3*C1389*B1389*16/50,1)/2)","v":""},{"$f":"IF(OR($A1389=\"\",J1389=\"\",N1389=\"\"),\"\",MAX(O1389+P1389-N1389,0))","v":""},{"$f":"P1389","v":0},{"$f":"IF(OR($A1389=\"\",N1389=\"\"),\"\",ROUND((MAX(O1389-Q1389-AF1389,0))*2,1)/2)","v":""},{"$f":"IF(D1389=\"\",0,1)","v":0},{"$f":"IF(J1389=\"\",0,IF(ROUND(J1389,2)<=0,0,1))","v":0},{"$f":"IF(D1389=\"\",0,D1389)","v":0},{"$f":"IF(D1389=\"\",0,F1389)","v":0},{"$f":"IF('Stammdaten Mitarbeitende'!N1389>0,AC1389,0)","v":0},{"$f":"IF('Stammdaten Mitarbeitende'!N1389>0,P1389,0)","v":0},{"$f":"D1389","v":0},{"$f":"F1389","v":0},{"$f":"IF(AM1389=\"\",0,MAX(AM1389-AN1389,0))","v":0}]
[{"$f":"'Stammdaten Mitarbeitende'!AA1390","v":""},"",null,null,null,null,null,null,0,"",null,"","","","",null,"","",null,null,{"$f":"IF($A1390=\"\",\"\",'Stammdaten Mitarbeitende'!L1390)","v":""},0,"","","","","","","","","","",0,"",0,{"$f":"IF(J1390=\"\",0,IF(ROUND(J1390,2)<=0,0,1))","v":0},0,0,{"$f":"IF('Stammdaten Mitarbeitende'!N1390>0,AC1390,0)","v":0},{"$f":"IF('Stammdaten Mitarbeitende'!N1390>0,P1390,0)","v":0},0,0,0]
[{"$f":"'Stammdaten Mitarbeitende'!AA1391","v":""},"",null,null,null,null,null,null,0,"",null,"","","","",null,"","",null,null,{"$f":"IF($A1391=\"\",\"\",'Stammdaten Mitarbeitende'!L1391)","v":""},0,"","","","","","","","","","",0,"",0,0,0,0,{"$f":"IF('Stammdaten Mitarbeitende'!N1391>0,AC1391,0)","v":0},{"$f":"IF('Stammdaten Mitarbeitende'!N1391>0,P1391,0)","v":0},0,0,0]
[{"$f":"'Stammdaten Mitarbeitende'!AA1392","v":""},"",null,null,null,null,null,null,0,"",null,"","","","",null,"","",null,null,{"$f":"IF($A1392=\"\",\"\",'Stammdaten Mitarbeitende'!L1392)","v":""},0,"","","","","","","","","","",0,"",0,0,0,0,{"$f":"IF('Stammdaten Mitarbeitende'!N1392>0,AC1392,0)","v":0},{"$f":"IF('Stammdaten Mitarbeitende'!N1392>0,P1392,0)","v":0},0,0,0]
[{"$f":"'Stammdaten Mitarbeitende'!AA1393","v":""},"",null,null,null,null,null,null,0,"",null,"","","","",null,"","",null,null,{"$f":"IF($A1393=\"\",\"\",'Stammdaten Mitarbeitende'!L1393)","v":""},0,"","","","","","","","","","",0,"",0,0,0,0,{"$f":"IF('Stammdaten Mitarbeitende'!N1393>0,AC1393,0)","v":0},{"$f":"IF('Stammdaten Mitarbeitende'!N1393>0,P1393,0)","v":0},0,0,0]
[{"$f":"'Stammdaten Mitarbeitende'!AA1394","v":""},"",null,null,null,null,null,null,0,"",null,"","","","",null,"","",null,null,{"$f":"IF($A1394=\"\",\"\",'Stammdaten Mitarbeitende'!L1394)","v":""},0,"","","","","","","","","","",0,"",0,0,0,0,{"$f":"IF('Stammdaten Mitarbeitende'!N1394>0,AC1394,0)","v":0},{"$f":"IF('Stammdaten Mitarbeitende'!N1394>0,P1394,0)","v":0},0,0,0]
[{"$f":"'Stammdaten Mitarbeitende'!AA1395","v":""},"",null,null,null,null,null,null,0,"",null,"","","","",null,"","",null,null,{"$f":"IF($A1395=\"\",\"\",'Stammdaten Mitarbeitende'!L1395)","v":""},0,"","","","","","","","","","",0,"",0,0,0,0,{"$f":"IF('Stammdaten Mitarbeitende'!N1395>0,AC1395,0)","v":0},{"$f":"IF('Stammdaten Mitarbeitende'!N1395>0,P1395,0)","v":0},0,0,0]
[{"$f":"'Stammdaten Mitarbeitende'!AA1396","v":""},"",null,null,null,null,null,null,0,"",null,"","","","",null,"","",null,null,{"$f":"IF($A1396=\"\",\"\",'Stammdaten Mitarbeitende'!L1396)","v":""},0,"","","","","","","","","","",0,"",0,0,0,0,{"$f":"IF('Stammdaten Mitarbeitende'!N1396>0,AC1396,0)","v":0},{"$f":"IF('Stammdaten Mitarbeitende'!N1396>0,P1396,0)","v":0},0,0,0]
[{"$f":"'Stammdaten Mitarbeitende'!AA1397","v":""},"",null,null,null,null,null,null,0,"",null,"","","","",null,"","",null,null,{"$f":"IF($A1397=\"\",\"\",'Stammdaten Mitarbeitende'!L1397)","v":""},0,"","","","","","","","","","",0,"",0,0,0,0,{"$f":"IF('Stammdaten Mitarbeitende'!N1397>0,AC1397,0)","v":0},{"$f":"IF('Stammdaten Mitarbeitende'!N1397>0,P1397,0)","v":0},0,0,0]
[{"$f":"'Stammdaten Mitarbeitende'!AA1398","v":""},"",null,null,null,null,null,null,0,"",null,"","","","",null,"","",null,null,{"$f":"IF($A1398=\"\",\"\",'Stammdaten Mitarbeitende'!L1398)","v":""},0,"","","","","","","","","","",0,"",0,0,0,0,{"$f":"IF('Stammdaten Mitarbeitende'!N1398>0,AC1398,0)","v":0},{"$f":"IF('Stammdaten Mitarbeitende'!N1398>0,P1398,0)","v":0},0,0,0]
[{"$f":"'Stammdaten Mitarbeitende'!AA1399","v":""},"",null,null,null,null,null,null,0,"",null,"","","","",null,"","",null,null,{"$f":"IF($A1399=\"\",\"\",'Stammdaten Mitarbeitende'!L1399)","v":""},0,"","","","","","","","","","",0,"",0,0,0,0,{"$f":"IF('Stammdaten Mitarbeitende'!N1399>0,AC1399,0)","v":0},{"$f":"IF('Stammdaten Mitarbeitende'!N1399>0,P1399,0)","v":0},0,0,0]
[{"$f":"'Stammdaten Mitarbeitende'!AA1400","v":""},"",null,null,null,null,null,null,0,"",null,"","","","",null,"","",null,null,{"$f":"IF($A1400=\"\",\"\",'Stammdaten Mitarbeitende'!L1400)","v":""},0,"","","","","","","","","","",0,"",0,0,0,0,{"$f":"IF('Stammdaten Mitarbeitende'!N1400>0,AC1400,0)","v":0},{"$f":"IF('Stammdaten Mitarbeitende'!N1400>0,P1400,0)","v":0},0,0,0]
[{"$f":"'Stammdaten Mitarbeitende'!AA1401","v":""},"",null,null,null,null,null,null,0,"",null,"","","","",null,"","",null,null,{"$f":"IF($A1401=\"\",\"\",'Stammdaten Mitarbeitende'!L1401)","v":""},0,"","","","","","","","","","",0,"",0,0,0,0,{"$f":"IF('Stammdaten Mitarbeitende'!N1401>0,AC1401,0)","v":0},{"$f":"IF('Stammdaten Mitarbeitende'!N1401>0,P1401,0)","v":0},0,0,0]
[{"$f":"'Stammdaten Mitarbeitende'!AA1402","v":""},"",null,null,null,null,null,null,0,"",null,"","","","",null,"","",null,null,{"$f":"IF($A1402=\"\",\"\",'Stammdaten Mitarbeitende'!L1402)","v":""},0,"","","","","","","","","","",0,"",0,0,0,0,{"$f":"IF('Stammdaten Mitarbeitende'!N1402>0,AC1402,0)","v":0},{"$f":"IF('Stammdaten Mitarbeitende'!N1402>0,P1402,0)","v":0},0,0,0]
[{"$f":"'Stammdaten Mitarbeitende'!AA1403","v":""},"",null,null,null,null,null,null,0,"",null,"","","","",null,"","",null,null,{"$f":"IF($A1403=\"\",\"\",'Stammdaten Mitarbeitende'!L1403)","v":""},0,"","","","","","","","","","",0,"",0,0,0,0,{"$f":"IF('Stammdaten Mitarbeitende'!N1403>0,AC1403,0)","v":0},{"$f":"IF('Stammdaten Mitarbeitende'!N1403>0,P1403,0)","v":0},0,0,0]
[{"$f":"'Stammdaten Mitarbeitende'!AA1404","v":""},"",null,null,null,null,null,null,0,"",null,"","","","",null,"","",null,null,{"$f":"IF($A1404=\"\",\"\",'Stammdaten Mitarbeitende'!L1404)","v":""},0,"","","","","","","","","","",0,"",0,0,0,0,{"$f":"IF('Stammdaten Mitarbeitende'!N1404>0,AC1404,0)","v":0},{"$f":"IF('Stammdaten Mitarbeitende'!N1404>0,P1404,0)","v":0},0,0,0]
[{"$f":"'Stammdaten Mitarbeitende'!AA1405","v":""},"",null,null,null,null,null,null,0,"",null,"","","","",null,"","",null,null,{"$f":"IF($A1405=\"\",\"\",'Stammdaten Mitarbeitende'!L1405)","v":""},0,"","","","","","","","","","",0,"",0,0,0,0,{"$f":"IF('Stammdaten Mitarbeitende'!N1405>0,AC1405,0)","v":0},{"$f":"IF('Stammdaten Mitarbeitende'!N1405>0,P1405,0)","v":0},0,0,0]
[{"$f":"'Stammdaten Mitarbeitende'!AA1406","v":""},"",null,null,null,null,null,null,0,"",null,"","","","",null,"","",null,null,{"$f":"IF($A1406=\"\",\"\",'Stammdaten Mitarbeitende'!L1406)","v":""},0,"","","","","","","","","","",0,"",0,0,0,0,{"$f":"IF('Stammdaten Mitarbeitende'!N1406>0,AC1406,0)","v":0},{"$f":"IF('Stammdaten Mitarbeitende'!N1406>0,P1406,0)","v":0},0,0,0]
[{"$f":"'Stammdaten Mitarbeitende'!AA1407","v":""},"",null,null,null,null,null,null,0,"",null,"","","","",null,"","",null,null,{"$f":"IF($A1407=\"\",\"\",'Stammdaten Mitarbeitende'!L1407)","v":""},0,"","","","","","","","","","",0,"",0,0,0,0,{"$f":"IF('Stammdaten Mitarbeitende'!N1407>0,AC1407,0)","v":0},{"$f":"IF('Stammdaten Mitarbeitende'!N1407>0,P1407,0)","v":0},0,0,0]
[{"$f":"'Stammdaten Mitarbeitende'!AA1408","v":""},"",null,null,null,null,null,null,0,"",null,"","","","",null,"","",null,null,{"$f":"IF($A1408=\"\",\"\",'Stammdaten Mitarbeitende'!L1408)","v":""},0,"","","","","","","","","","",0,"",0,0,0,0,{"$f":"IF('Stammdaten Mitarbeitende'!N1408>0,AC1408,0)","v":0},{"$f":"IF('Stammdaten Mitarbeitende'!N1408>0,P1408,0)","v":0},0,0,0]
[{"$f":"'Stammdaten Mitarbeitende'!AA1409","v":""},"",null,null,null,null,null,null,0,"",null,"","","","",null,"","",null,null,{"$f":"IF($A1409=\"\",\"\",'Stammdaten Mitarbeitende'!L1409)","v":""},0,"","","","","","","","","","",0,"",0,0,0,0,{"$f":"IF('Stammdaten Mitarbeitende'!N1409>0,AC1409,0)","v":0},{"$f":"IF('Stammdaten Mitarbeitende'!N1409>0,P1409,0)","v":0},0,0,0]
[{"$f":"Übersetzungstexte!A$296","v":"Seitentotal"},null,null,{"$f":"SUM(D1389:D1409)","v":0},null,{"$f":"SUM(F1389:F1409)","v":0},null,null,null,{"$f":"SUM(J1389:J1409)","v":0},null,null,null,{"$f":"SUM(N1389:N1409)","v":0},null,{"$f":"SUM(P1389:P1409)","v":0},null,{"$f":"SUM(R1389:R1409)","v":0}]
[{"$f":"'Stammdaten Betrieb & Abteilung'!D$1","v":"  "},null,null,null,null,null,null,null,null,null,null,null,{"$f":"Übersetzungstexte!A$239","v":"Betrieb / Betriebsabteilung"},{"$f":"'Stammdaten Betrieb & Abteilung'!D$13","v":" "}]
[{"$f":"'Stammdaten Betrieb & Abteilung'!D$3","v":" "},null,null,null,null,null,null,null,null,null,null,null,{"$f":"Übersetzungstexte!A$240","v":"Abrechnungsperiode"},{"$f":"'Stammdaten Betrieb & Abteilung'!D$14","v":""},null,{"$f":"'Stammdaten Betrieb & Abteilung'!D$12","v":{"$error":"#VALUE!"}}]
[{"$f":"'Stammdaten Betrieb & Abteilung'!D$4","v":" "},null,null,null,null,null,null,null,null,null,null,null,{"$f":"Übersetzungstexte!A$241","v":"Beginn / Ende der Kurzarbeit"},{"$f":"'Stammdaten Betrieb & Abteilung'!D$16","v":""}]
[]
[1,2,3,4,5,6,null,7,null,8,9,10,11,12,13,null,14,15,null,null,null,"Regel 7","Regel 8",null,"Regel 9","Regel 10","Regel 11","Regel 12","Regel 13","Regel 14","Regel 15","Regel 17",null,"Regel 19/20",null,null,null,null,"AHV-pflichtiger","AHV-pflichtiger",null,null,"AHV-pflichtige"]
[{"$f":"Übersetzungstexte!A$242","v":""},{"$f":"Übersetzungstexte!A$245","v":"anrechen-"},{"$f":"Übersetzungstexte!A$248","v":"Wöchentl."},{"$f":"Übersetzungstexte!A$251","v":"Sollstd. Abr.-"},{"$f":"Übersetzungstexte!A$254","v":""},{"$f":"Übersetzungstexte!A$257","v":"Bezahlte/"},null,{"$f":"Übersetzungstexte!A$263","v":"(nur für Gleitzeit)"},null,{"$f":"Übersetzungstexte!A$269","v":"Ausfall-"},{"$f":"Übersetzungstexte!A$272","v":"Saldo"},{"$f":"Übersetzungstexte!A$275","v":"Saisonale"},{"$f":"Übersetzungstexte!A$278","v":"Anrechen-"},{"$f":"Übersetzungstexte!A$281","v":"Verdienst-"},{"$f":"Übersetzungstexte!A$284","v":"Verdienst-"},{"$f":"Übersetzungstexte!A$287","v":"Verdienst"},{"$f":"AE$4","v":"Abzug "},{"$f":"Übersetzungstexte!A$293","v":""},null,null,"anrechen-","Gleitzeit","Ausfall-","Max(D12,0)","Prozentualer","Saisonale","Proz. Wirts. Bed.","Anrechen-","Verdienst-","Verdienst-","Abzug","Abzug","Verdienst",null,"Anzahl","Anzahl","Sollstd.","Absenzen","Verdienst-","Verdienst","Sollstd.","bezahlte/","Abzugsbasis"]
[{"$f":"Übersetzungstexte!A$243","v":""},{"$f":"Übersetzungstexte!A$246","v":"barer Std.-"},{"$f":"Übersetzungstexte!A$249","v":"Arbeitszeit"},{"$f":"Übersetzungstexte!A$252","v":"Periode Inkl."},{"$f":"Übersetzungstexte!A$255","v":""},{"$f":"Übersetzungstexte!A$258","v":"Unbezahlte"},{"$f":"Übersetzungstexte!A$261","v":"Saldo Ende Per."},null,null,{"$f":"Übersetzungstexte!A$270","v":"stunden"},{"$f":"Übersetzungstexte!A$273","v":"Mehrstd."},{"$f":"Übersetzungstexte!A$276","v":"Ausfall-"},{"$f":"Übersetzungstexte!A$279","v":"bare Aus-"},{"$f":"Übersetzungstexte!A$282","v":"ausfall"},{"$f":"Übersetzungstexte!A$285","v":"ausfall"},{"$f":"Übersetzungstexte!A$288","v":"Zwischen-"},{"$f":"Übersetzungstexte!A$291","v":"Karenztage"},{"$f":"Übersetzungstexte!A$294","v":"Beantragte"},null,null,"barer Std.-","c","stunden",null,"Arbeitsausfall","Ausfall-","Arbeitsausfall","bare ","ausfall","ausfall","Karenztage","Zwischen-","Zwischen-","Beantragte","bezugsber.","betroffene","bezugsber.","bezugsber.","ausfall","Zwischen-","inkl","unbezahlte"]
[{"$f":"Übersetzungstexte!A$244","v":"Name,Vorname"},{"$f":"Übersetzungstexte!A$247","v":"Verdienst"},{"$f":"Übersetzungstexte!A$250","v":"in der AP"},{"$f":"Übersetzungstexte!A$253","v":"Vorholzeit"},{"$f":"Übersetzungstexte!A$256","v":"Istzeit"},{"$f":"Übersetzungstexte!A$259","v":"Absenzen"},{"$f":"Übersetzungstexte!A$262","v":"vorherg."},{"$f":"Übersetzungstexte!A$265","v":"laufend"},{"$f":"Übersetzungstexte!A$268","v":"Diff."},{"$f":"Übersetzungstexte!A$271","v":"total"},{"$f":"Übersetzungstexte!A$274","v":"Vormonate"},{"$f":"Übersetzungstexte!A$277","v":"stunden"},{"$f":"Übersetzungstexte!A$280","v":"fall-Std."},{"$f":"Übersetzungstexte!A$283","v":"100%"},{"$f":"Übersetzungstexte!A$286","v":"80%"},{"$f":"Übersetzungstexte!A$289","v":"Beschäftigung"},{"$f":"Übersetzungstexte!A$292","v":"80%"},{"$f":"Übersetzungstexte!A$295","v":"Vergütung"},null,null,"Verdienst",null,"Total",null,"pAA","stunden","pwAA","Ausfall-Std.","100%","80%","80%","beschäftigung","beschäftigung","Vergütung","Mitarbeiter","Mitarbeiter","Mitarbeiter","Mitarbeiter","100%","beschäftigung","Vorholzeit","Ansenzen"]
[{"$f":"'Stammdaten Mitarbeitende'!AA1419","v":""},{"$f":"U1419","v":""},null,null,null,null,null,null,{"$f":"V1419","v":0},{"$f":"W1419","v":""},null,{"$f":"Z1419","v":""},{"$f":"AB1419","v":""},{"$f":"AC1419","v":""},{"$f":"AD1419","v":""},null,{"$f":"AE1419","v":""},{"$f":"AH1419","v":""},null,null,{"$f":"IF($A1419=\"\",\"\",'Stammdaten Mitarbeitende'!L1419)","v":""},{"$f":"IF(AND(G1419=\"\",H1419=\"\"),0,G1419-H1419)","v":0},{"$f":"IF(OR($A1419=\"\",D1419=\"\",E1419=\"\",F1419=\"\",V1419=\"\"),\"\",D1419-(E1419+F1419+V1419))","v":""},{"$f":"IF(W1419=\"\",\"\",MAX(W1419,0))","v":""},{"$f":"IF(J1419=\"\",\"\",Y$4)","v":""},{"$f":"IF(J1419=\"\",\"\",J1419*Z$4)","v":""},{"$f":"IF(Y1419=\"\",\"\",AA$4)","v":""},{"$f":"IF(J1419=\"\",\"\",ROUND(J1419*AB$4 - MAX(K1419-L1419,0),2))","v":""},{"$f":"IF(OR($A1419=\"\",J1419=\"\",B1419=\"\",M1419<0),\"\",MAX(ROUND(M1419*B1419*2,1)/2,0))","v":""},{"$f":"IF(OR($A1419=\"\",N1419=\"\"),\"\",ROUND(N1419*8/5,1)/2)","v":""},{"$f":"IF(OR($A1419=\"\",B1419=\"\",N1419=\"\"),\"\",ROUND(AE$3*C1419*B1419*16/50,1)/2)","v":""},{"$f":"IF(OR($A1419=\"\",J1419=\"\",N1419=\"\"),\"\",MAX(O1419+P1419-N1419,0))","v":""},{"$f":"P1419","v":0},{"$f":"IF(OR($A1419=\"\",N1419=\"\"),\"\",ROUND((MAX(O1419-Q1419-AF1419,0))*2,1)/2)","v":""},{"$f":"IF(D1419=\"\",0,1)","v":0},{"$f":"IF(J1419=\"\",0,IF(ROUND(J1419,2)<=0,0,1))","v":0},{"$f":"IF(D1419=\"\",0,D1419)","v":0},{"$f":"IF(D1419=\"\",0,F1419)","v":0},{"$f":"IF('Stammdaten Mitarbeitende'!N1419>0,AC1419,0)","v":0},{"$f":"IF('Stammdaten Mitarbeitende'!N1419>0,P1419,0)","v":0},{"$f":"D1419","v":0},{"$f":"F1419","v":0},{"$f":"IF(AM1419=\"\",0,MAX(AM1419-AN1419,0))","v":0}]
[{"$f":"'Stammdaten Mitarbeitende'!AA1420","v":""},"",null,null,null,null,null,null,0,"",null,"","","","",null,"","",null,null,{"$f":"IF($A1420=\"\",\"\",'Stammdaten Mitarbeitende'!L1420)","v":""},0,"","","","","","","","","","",0,"",0,{"$f":"IF(J1420=\"\",0,IF(ROUND(J1420,2)<=0,0,1))","v":0},0,0,{"$f":"IF('Stammdaten Mitarbeitende'!N1420>0,AC1420,0)","v":0},{"$f":"IF('Stammdaten Mitarbeitende'!N1420>0,P1420,0)","v":0},0,0,0]
[{"$f":"'Stammdaten Mitarbeitende'!AA1421","v":""},"",null,null,null,null,null,null,0,"",null,"","","","",null,"","",null,null,{"$f":"IF($A1421=\"\",\"\",'Stammdaten Mitarbeitende'!L1421)","v":""},0,"","","","","","","","","","",0,"",0,0,0,0,{"$f":"IF('Stammdaten Mitarbeitende'!N1421>0,AC1421,0)","v":0},{"$f":"IF('Stammdaten Mitarbeitende'!N1421>0,P1421,0)","v":0},0,0,0]
[{"$f":"'Stammdaten Mitarbeitende'!AA1422","v":""},"",null,null,null,null,null,null,0,"",null,"","","","",null,"","",null,null,{"$f":"IF($A1422=\"\",\"\",'Stammdaten Mitarbeitende'!L1422)","v":""},0,"","","","","","","","","","",0,"",0,0,0,0,{"$f":"IF('Stammdaten Mitarbeitende'!N1422>0,AC1422,0)","v":0},{"$f":"IF('Stammdaten Mitarbeitende'!N1422>0,P1422,0)","v":0},0,0,0]
[{"$f":"'Stammdaten Mitarbeitende'!AA1423","v":""},"",null,null,null,null,null,null,0,"",null,"","","","",null,"","",null,null,{"$f":"IF($A1423=\"\",\"\",'Stammdaten Mitarbeitende'!L1423)","v":""},0,"","","","","","","","","","",0,"",0,0,0,0,{"$f":"IF('Stammdaten Mitarbeitende'!N1423>0,AC1423,0)","v":0},{"$f":"IF('Stammdaten Mitarbeitende'!N1423>0,P1423,0)","v":0},0,0,0]
[{"$f":"'Stammdaten Mitarbeitende'!AA1424","v":""},"",null,null,null,null,null,null,0,"",null,"","","","",null,"","",null,null,{"$f":"IF($A1424=\"\",\"\",'Stammdaten Mitarbeitende'!L1424)","v":""},0,"","","","","","","","","","",0,"",0,0,0,0,{"$f":"IF('Stammdaten Mitarbeitende'!N1424>0,AC1424,0)","v":0},{"$f":"IF('Stammdaten Mitarbeitende'!N1424>0,P1424,0)","v":0},0,0,0]
[{"$f":"'Stammdaten Mitarbeitende'!AA1425","v":""},{"$f":"U1425","v":""},null,null,null,null,null,null,{"$f":"V1425","v":0},{"$f":"W1425","v":""},null,{"$f":"Z1425","v":""},{"$f":"AB1425","v":""},{"$f":"AC1425","v":""},{"$f":"AD1425","v":""},null,{"$f":"AE1425","v":""},{"$f":"AH1425","v":""},null,null,{"$f":"IF($A1425=\"\",\"\",'Stammdaten Mitarbeitende'!L1425)","v":""},0,"","","","","","","","","","",0,"",0,0,0,0,{"$f":"IF('Stammdaten Mitarbeitende'!N1425>0,AC1425,0)","v":0},{"$f":"IF('Stammdaten Mitarbeitende'!N1425>0,P1425,0)","v":0},0,0,0]
[{"$f":"'Stammdaten Mitarbeitende'!AA1426","v":""},"",null,null,null,null,null,null,0,"",null,"","","","",null,"","",null,null,{"$f":"IF($A1426=\"\",\"\",'Stammdaten Mitarbeitende'!L1426)","v":""},0,"","","","","","","","","","",0,"",0,0,0,0,{"$f":"IF('Stammdaten Mitarbeitende'!N1426>0,AC1426,0)","v":0},{"$f":"IF('Stammdaten Mitarbeitende'!N1426>0,P1426,0)","v":0},0,0,0]
[{"$f":"'Stammdaten Mitarbeitende'!AA1427","v":""},"",null,null,null,null,null,null,0,"",null,"","","","",null,"","",null,null,{"$f":"IF($A1427=\"\",\"\",'Stammdaten Mitarbeitende'!L1427)","v":""},{"$f":"IF(AND(G1427=\"\",H1427=\"\"),0,G1427-H1427)","v":0},"","",{"$f":"IF(J1427=\"\",\"\",Y$4)","v":""},{"$f":"IF(J1427=\"\",\"\",J1427*Z$4)","v":""},{"$f":"IF(Y1427=\"\",\"\",AA$4)","v":""},{"$f":"IF(J1427=\"\",\"\",ROUND(J1427*AB$4 - MAX(K1427-L1427,0),2))","v":""},{"$f":"IF(OR($A1427=\"\",J1427=\"\",B1427=\"\",M1427<0),\"\",MAX(ROUND(M1427*B1427*2,1)/2,0))","v":""},{"$f":"IF(OR($A1427=\"\",N1427=\"\"),\"\",ROUND(N1427*8/5,1)/2)","v":""},{"$f":"IF(OR($A1427=\"\",B1427=\"\",N1427=\"\"),\"\",ROUND(AE$3*C1427*B1427*16/50,1)/2)","v":""},{"$f":"IF(OR($A1427=\"\",J1427=\"\",N1427=\"\"),\"\",MAX(O1427+P1427-N1427,0))","v":""},{"$f":"P1427","v":0},{"$f":"IF(OR($A1427=\"\",N1427=\"\"),\"\",ROUND((MAX(O1427-Q1427-AF1427,0))*2,1)/2)","v":""},0,0,0,0,{"$f":"IF('Stammdaten Mitarbeitende'!N1427>0,AC1427,0)","v":0},{"$f":"IF('Stammdaten Mitarbeitende'!N1427>0,P1427,0)","v":0},{"$f":"D1427","v":0},{"$f":"F1427","v":0},0]
[{"$f":"'Stammdaten Mitarbeitende'!AA1428","v":""},"",null,null,null,null,null,null,0,"",null,"","","","",null,"","",null,null,{"$f":"IF($A1428=\"\",\"\",'Stammdaten Mitarbeitende'!L1428)","v":""},0,"","","","","","","","","","",0,"",0,0,0,0,{"$f":"IF('Stammdaten Mitarbeitende'!N1428>0,AC1428,0)","v":0},{"$f":"IF('Stammdaten Mitarbeitende'!N1428>0,P1428,0)","v":0},0,0,0]
[{"$f":"'Stammdaten Mitarbeitende'!AA1429","v":""},"",null,null,null,null,null,null,0,"",null,"","","","",null,"","",null,null,{"$f":"IF($A1429=\"\",\"\",'Stammdaten Mitarbeitende'!L1429)","v":""},0,"","","","","","","","","","",0,"",0,0,0,0,{"$f":"IF('Stammdaten Mitarbeitende'!N1429>0,AC1429,0)","v":0},{"$f":"IF('Stammdaten Mitarbeitende'!N1429>0,P1429,0)","v":0},0,0,0]
[{"$f":"'Stammdaten Mitarbeitende'!AA1430","v":""},"",null,null,null,null,null,null,0,"",null,"","","","",null,"","",null,null,{"$f":"IF($A1430=\"\",\"\",'Stammdaten Mitarbeitende'!L1430)","v":""},0,"","","","","","","","","","",0,"",0,0,0,0,{"$f":"IF('Stammdaten Mitarbeitende'!N1430>0,AC1430,0)","v":0},{"$f":"IF('Stammdaten Mitarbeitende'!N1430>0,P1430,0)","v":0},0,0,0]
[{"$f":"'Stammdaten Mitarbeitende'!AA1431","v":""},"",null,null,null,null,null,null,0,"",null,"","","","",null,"","",null,null,{"$f":"IF($A1431=\"\",\"\",'Stammdaten Mitarbeitende'!L1431)","v":""},0,"","","","","","","","","","",0,"",0,0,0,0,{"$f":"IF('Stammdaten Mitarbeitende'!N1431>0,AC1431,0)","v":0},{"$f":"IF('Stammdaten Mitarbeitende'!N1431>0,P1431,0)","v":0},0,0,0]
[{"$f":"'Stammdaten Mitarbeitende'!AA1432","v":""},"",null,null,null,null,null,null,0,"",null,"","","","",null,"","",null,null,{"$f":"IF($A1432=\"\",\"\",'Stammdaten Mitarbeitende'!L1432)","v":""},0,"","","","","","","","","","",0,"",0,0,0,0,{"$f":"IF('Stammdaten Mitarbeitende'!N1432>0,AC1432,0)","v":0},{"$f":"IF('Stammdaten Mitarbeitende'!N1432>0,P1432,0)","v":0},0,0,0]
[{"$f":"'Stammdaten Mitarbeitende'!AA1433","v":""},"",null,null,null,null,null,null,0,"",null,"","","","",null,"","",null,null,{"$f":"IF($A1433=\"\",\"\",'Stammdaten Mitarbeitende'!L1433)","v":""},0,"","","","","","","","","","",0,"",0,0,0,0,{"$f":"IF('Stammdaten Mitarbeitende'!N1433>0,AC1433,0)","v":0},{"$f":"IF('Stammdaten Mitarbeitende'!N1433>0,P1433,0)","v":0},0,0,0]
[{"$f":"'Stammdaten Mitarbeitende'!AA1434","v":""},"",null,null,null,null,null,null,0,"",null,"","","","",null,"","",null,null,{"$f":"IF($A1434=\"\",\"\",'Stammdaten Mitarbeitende'!L1434)","v":""},0,"","","","","","","","","","",0,"",0,0,0,0,{"$f":"IF('Stammdaten Mitarbeitende'!N1434>0,AC1434,0)","v":0},{"$f":"IF('Stammdaten Mitarbeitende'!N1434>0,P1434,0)","v":0},0,0,0]
[{"$f":"'Stammdaten Mitarbeitende'!AA1435","v":""},"",null,null,null,null,null,null,0,"",null,"","","","",null,"","",null,null,{"$f":"IF($A1435=\"\",\"\",'Stammdaten Mitarbeitende'!L1435)","v":""},0,"","","","","","","","","","",0,"",0,0,0,0,{"$f":"IF('Stammdaten Mitarbeitende'!N1435>0,AC1435,0)","v":0},{"$f":"IF('Stammdaten Mitarbeitende'!N1435>0,P1435,0)","v":0},0,0,0]
[{"$f":"'Stammdaten Mitarbeitende'!AA1436","v":""},"",null,null,null,null,null,null,0,"",null,"","","","",null,"","",null,null,{"$f":"IF($A1436=\"\",\"\",'Stammdaten Mitarbeitende'!L1436)","v":""},0,"","","","","","","","","","",0,"",0,0,0,0,{"$f":"IF('Stammdaten Mitarbeitende'!N1436>0,AC1436,0)","v":0},{"$f":"IF('Stammdaten Mitarbeitende'!N1436>0,P1436,0)","v":0},0,0,0]
[{"$f":"'Stammdaten Mitarbeitende'!AA1437","v":""},"",null,null,null,null,null,null,0,"",null,"","","","",null,"","",null,null,{"$f":"IF($A1437=\"\",\"\",'Stammdaten Mitarbeitende'!L1437)","v":""},0,"","","","","","","","","","",0,"",0,0,0,0,{"$f":"IF('Stammdaten Mitarbeitende'!N1437>0,AC1437,0)","v":0},{"$f":"IF('Stammdaten Mitarbeitende'!N1437>0,P1437,0)","v":0},0,0,0]
[null,{"$f":"Übersetzungstexte!A$297","v":"Anzahl bezugsberechtigter Mitarbeiter:"},{"$f":"AI1438","v":0},{"$f":"AO1438","v":0},null,{"$f":"AP1438","v":0},null,null,null,{"$f":"X1438","v":0},null,null,null,{"$f":"AC1438","v":0},null,{"$f":"AG1438","v":0},{"$f":"Übersetzungstexte!A$310","v":"Total:"},{"$f":"AH1438","v":0},null,null,null,null,{"$f":"SUM(W10:W1437)","v":0},{"$f":"SUM(X10:X1437)","v":0},null,null,null,null,{"$f":"SUM(AC10:AC1437)","v":0},null,null,null,{"$f":"SUM(AG10:AG1437)","v":0},0,0,0,0,0,{"$f":"SUM(AM10:AM1437)","v":0},{"$f":"SUM(AN10:AN1437)","v":0},0,0,{"$f":"SUM(AQ10:AQ1437)","v":0}]
[null,{"$f":"Übersetzungstexte!A$298","v":"Anzahl betroffener Mitarbeiter:"},{"$f":"AJ1438","v":0},{"$f":"Übersetzungstexte!A$301","v":"Anspruch: 80%"},null,{"$f":"CONCATENATE(Übersetzungstexte!A$303,\" \",TEXT(MONTH('Saisonale Ausfallstunden'!P$3),\"00\"),\".\",YEAR('Saisonale Ausfallstunden'!P$3),\": \",TEXT('Saisonale Ausfallstunden'!F1439,\"0.00%\"))","v":"Ausfall 01.3799: 0.00%"},null,null,{"$f":"CONCATENATE(Übersetzungstexte!A$305,\" \",TEXT('Saisonale Ausfallstunden'!W1440,\"0.00%\"))","v":"Durchschnitt Vorjahre: 0.00%"},null,null,{"$f":"CONCATENATE(Übersetzungstexte!A$307,\" \",TEXT('Stammdaten Betrieb & Abteilung'!B25,\"0.000%\"))","v":"AHV/IV/EO/ALV: "},null,null,null,null,{"$f":"AG1439","v":"Mindestausfall 10%"},{"$f":"AH1439","v":""},null,null,null,null,null,null,null,null,null,null,{"$f":"Übersetzungstexte!A$313","v":"Mindestausfall 10%"},null,null,{"$f":"CONCATENATE(TEXT(AQ1438,\"#'##0.00\"),\" * \",TEXT('Stammdaten Betrieb & Abteilung'!B25,\"0.000%\"),\" =\")","v":"0.00 *  ="},{"$f":"IF(Y$4<10,AC1439,AF1439)","v":"Mindestausfall 10%"},{"$f":"IF(Y$4<10,\"\",IF(AH1438=0,0,MAX(ROUND((AQ1438)*'Stammdaten Betrieb & Abteilung'!B25*2,1)/2,0)))","v":""},{"$f":"IF(OR(AH1438=0,Y$4<10),0,MAX(ROUND((AM1438-AN1438)*'Stammdaten Betrieb & Abteilung'!B25*2,1)/2,0))","v":0}]
[null,{"$f":"Übersetzungstexte!A$299","v":"Arbeitsausfall in Prozent:"},{"$f":"W1440","v":0},{"$f":"CONCATENATE(Übersetzungstexte!A$302,\" \",TEXT('Stammdaten Betrieb & Abteilung'!B22,\"#'##0.00\"))","v":"Max. VV: "},null,{"$f":"CONCATENATE(Übersetzungstexte!A$304,\" \",TEXT(MONTH('Saisonale Ausfallstunden'!P$4),\"00\"),\".\",YEAR('Saisonale Ausfallstunden'!P$4),\": \",TEXT('Saisonale Ausfallstunden'!W1439,\"0.00%\"))","v":"Ausfall 01.3798: 0.00%"},null,null,{"$f":"CONCATENATE(Übersetzungstexte!A$306,\" \",TEXT(Y1440,\"0.00%\"))","v":"Relativer Mehrausfall: 0.00%"},null,null,{"$f":"CONCATENATE(Übersetzungstexte!A$308,\" \",TEXT('Stammdaten Betrieb & Abteilung'!B24,\"0.0\"),\" \",Übersetzungstexte!A$309)","v":"Karenzzeit:  Tag(e)"},null,null,null,null,{"$f":"AG1440","v":"nicht erreicht"},{"$f":"TEXT(AH1440,\"#'##0.00\")","v":""},null,null,null,null,{"$f":"IF(AK1438=AL1438,0,MIN(MAX(ROUND(X1438/(AK1438-AL1438),4),0),1))","v":0},null,{"$f":"W1440-'Saisonale Ausfallstunden'!M1440","v":0},null,null,null,{"$f":"Übersetzungstexte!A$314","v":"nicht erreicht"},null,null,{"$f":"Übersetzungstexte!A$312","v":"Kurzarbeitsentschädigung:"},{"$f":"IF(Y$4<10,AC1440,AF1440)","v":"nicht erreicht"},{"$f":"IF(Y$4>=10,AH1438+AH1439,\"\")","v":""}]

{"sheet":"Hilfsdaten","index":4,"n_rows":45,"n_cols":14,"rows_kept":45,"cut":false,"hidden":true,"merged":[]}
[{"$f":"Übersetzungstexte!A318","v":"Datum"},{"$f":"Übersetzungstexte!A321","v":"Arbeitstage"},{"$f":"Übersetzungstexte!A324","v":"Max. massgeb."},{"$f":"Übersetzungstexte!A327","v":"Beitragssatz"},null,{"$f":"Übersetzungstexte!A329","v":"Anzahl"},{"$f":"Übersetzungstexte!A356","v":"Sichtbar"},{"$f":"Übersetzungstexte!A359","v":"Erfasst"},null,null,null,null,{"$f":"Übersetzungstexte!A377","v":"Hilfetexte für Saisonale Ausfallstunden"}]
[{"$f":"Übersetzungstexte!A319","v":"Gültig ab"},{"$f":"Übersetzungstexte!A322","v":"pro jahr"},{"$f":"Übersetzungstexte!A325","v":"Verdienst"},null,null,{"$f":"Übersetzungstexte!A330","v":"Mitarbeiter"},{"$f":"Übersetzungstexte!A357","v":"Anfang"},null,null,null,null,null,{"$f":"Übersetzungstexte!A378","v":"Hilfetexttitel"},{"$f":"Übersetzungstexte!A379","v":"Hilfetext"}]
["1984-01-01",261,5800,5.2999999999999999E-2,null,{"$f":"Übersetzungstexte!A331","v":"a1: bis 18 Mitarbeiter"},27,{"$f":"SUM('Abrechnung von Kurzarbeit'!AO28:AO$1437)+SUM('Saisonale Ausfallstunden'!Z28:Z$1437)","v":0},null,null,null,null,{"$f":"Übersetzungstexte!A380","v":"Sp. 1: Name/Vorname"},{"$f":"Übersetzungstexte!A381","v":"In dieser Kolonne sind alle Arbeitnehmer des Betriebes oder der Betriebsabteilung aufzuführen."}]
["1987-01-01",261,6800,5.2999999999999999E-2,null,{"$f":"Übersetzungstexte!A332","v":"a2: bis 39 Mitarbeiter"},57,{"$f":"SUM('Abrechnung von Kurzarbeit'!AO58:AO$1437)+SUM('Saisonale Ausfallstunden'!Z58:Z$1437)","v":0},null,null,null,null,{"$f":"Übersetzungstexte!A383","v":"Sp. 2: Vertragliche wöchentliche Arbeitszeit"},{"$f":"Übersetzungstexte!A384","v":"Einzutragen ist die individuelle, vertraglich vereinbarte Arbeitszeit je Arbeitnehmer, ohne allfällige Vorholzeit. Bei unterschiedlich langen Arbeitszeiten innerhalb eines Jahres ist die für die betreffende Abrechnungsperiode gültige Arbeitszeit einzutragen."}]
["1988-01-01",261,6800,5.3499999999999999E-2,null,{"$f":"Übersetzungstexte!A333","v":"a3: bis 60 Mitarbeiter"},87,{"$f":"SUM('Abrechnung von Kurzarbeit'!AO88:AO$1437)+SUM('Saisonale Ausfallstunden'!Z88:Z$1437)","v":0},null,null,null,null,{"$f":"Übersetzungstexte!A386","v":"Sp. 3: Sollstunden in der zeitgleichen Periode"},{"$f":"Übersetzungstexte!A387","v":"Sollstunden in der zeitgleichen Periode des Vorjahres inklusive Vorholzeit."}]
["1989-01-01",260,6800,5.3499999999999999E-2,null,{"$f":"Übersetzungstexte!A334","v":"a4: bis 81 Mitarbeiter"},117,{"$f":"SUM('Abrechnung von Kurzarbeit'!AO118:AO$1437)+SUM('Saisonale Ausfallstunden'!Z118:Z$1437)","v":0},null,{"$f":"Übersetzungstexte!A363","v":"Erste Zeile:"},10,null,{"$f":"Übersetzungstexte!A389","v":"Sp. 4: Istzeit"},{"$f":"Übersetzungstexte!A390","v":"Einzutragen sind die tatsächlich gearbeiteten Stunden."}]
["1990-01-01",261,6800,5.2499999999999998E-2,null,{"$f":"Übersetzungstexte!A335","v":"a5: bis 102 Mitarbeiter"},147,{"$f":"SUM('Abrechnung von Kurzarbeit'!AO148:AO$1437)+SUM('Saisonale Ausfallstunden'!Z148:Z$1437)","v":0},null,{"$f":"Übersetzungstexte!A364","v":"Letzte Zeile:"},1437,null,{"$f":"Übersetzungstexte!A392","v":"Sp. 5: Bezahlte/unbezahlte Absenzen"},{"$f":"Übersetzungstexte!A393","v":"Einzutragen sind die bezahlten und unbezahlten Absenzstunden für Ferien, Feiertage, freiwilliges Fernbleiben von der Arbeit, Krankheit, Unfall, Militärdienst usw."}]
["1991-01-01",261,8100,5.2499999999999998E-2,null,{"$f":"Übersetzungstexte!A336","v":"b1: bis 144 Mitarbeiter"},207,{"$f":"SUM('Abrechnung von Kurzarbeit'!AO208:AO$1437)+SUM('Saisonale Ausfallstunden'!Z208:Z$1437)","v":0},null,null,null,null,{"$f":"Übersetzungstexte!A395","v":"Sp. 6: Ausfallstunden"},{"$f":"Übersetzungstexte!A396","v":"Ausgefallene Arbeitsstunden. Berechnung: Sp. 3 abzüglich Sp. 4 und 5."}]
["1992-01-01",262,8100,5.2499999999999998E-2,null,{"$f":"Übersetzungstexte!A337","v":"b2: bis 186 Mitarbeiter"},267,{"$f":"SUM('Abrechnung von Kurzarbeit'!AO268:AO$1437)+SUM('Saisonale Ausfallstunden'!Z268:Z$1437)","v":0},null,{"$f":"Übersetzungstexte!A365","v":"Schutzwort:"},"Kurzarbeit",null,{"$f":"Übersetzungstexte!A398","v":"Erläuterungen zum Ausfüllen dieses Arbeitsblattes"},{"$f":"Übersetzungstexte!A399","v":"Erläuterungen bekommen Sie, indem Sie den Cursor in die betreffende Spalte positionieren und gleichzeitig die Tasten \"STRG\" und \"h\" drücken. Auf englischen Tastaturen drücken Sie \"CTRL\" und \"h\".\r\rDamit die in einer Abrechnungsperiode geltend gemachten Ausfallstunden in saisonale (nicht entschädigbare) und wirtschaftlich bedingte (grundsätzlich entschädigbare) verteilt werden können, muss der durchschnittliche Arbeitsausfall in den zeitgleichen Perioden der beiden Vorjahre bekannt sein.\r\rZeitgleiche Perioden der Vorjahre: Wird z.B. Kurzarbeit für den Monat Januar 2009 geltend gemacht, dienen die Monate Januar 2007 und Januar 2008 als Vergleichsperioden.\r\rIn der geltend gemachten Abrechnungsperiode werden nur diejenigen Ausfallstunden entschädigt, welche den durchschnittlichen Ausfall der beiden Vergleichsmonate überschreiten."}]
["1993-01-01",261,8100,6.0499999999999998E-2,null,{"$f":"Übersetzungstexte!A338","v":"b3: bis 207 Mitarbeiter"},297,{"$f":"SUM('Abrechnung von Kurzarbeit'!AO298:AO$1437)+SUM('Saisonale Ausfallstunden'!Z298:Z$1437)","v":0},null,null,null,null,{"$f":"Übersetzungstexte!A404","v":"Sp. 1: Name/Vorname"},{"$f":"Übersetzungstexte!A405","v":"In dieser Kolonne sind alle Arbeitnehmer des Betriebes oder der Betriebsabteilung aufzuführen."}]
["1994-01-01",260,8100,6.0499999999999998E-2,null,{"$f":"Übersetzungstexte!A339","v":"b4: bis 249 Mitarbeiter"},357,{"$f":"SUM('Abrechnung von Kurzarbeit'!AO358:AO$1437)+SUM('Saisonale Ausfallstunden'!Z358:Z$1437)","v":0},null,{"$f":"Übersetzungstexte!A366","v":"AHV-Pflicht ab:"},18,null,{"$f":"Übersetzungstexte!A407","v":"Sp. 2: Vertragliche wöchentliche Arbeitszeit"},{"$f":"Übersetzungstexte!A408","v":"Einzutragen ist die individuelle, vertraglich vereinbarte Arbeitszeit je Arbeitnehmer, ohne allfällige Vorholzeit. Bei unterschiedlich langen Arbeitszeiten innerhalb eines Jahres ist die für die betreffende Abrechnungsperiode gültige Arbeitszeit einzutragen."}]
["1995-01-01",260,8100,6.5500000000000003E-2,null,{"$f":"Übersetzungstexte!A340","v":"b5: bis 291 Mitarbeiter"},417,{"$f":"SUM('Abrechnung von Kurzarbeit'!AO418:AO$1437)+SUM('Saisonale Ausfallstunden'!Z418:Z$1437)","v":0},null,null,null,null,{"$f":"Übersetzungstexte!A410","v":"Sp. 3: Sollstunden in der zeitgleichen Periode"},{"$f":"Übersetzungstexte!A411","v":"Sollstunden in der zeitgleichen Periode des vorletzten Jahres inklusive Vorholzeit."}]
["1996-01-01",262,8100,6.5500000000000003E-2,null,{"$f":"Übersetzungstexte!A341","v":"c1: bis 333 Mitarbeiter"},477,{"$f":"SUM('Abrechnung von Kurzarbeit'!AO478:AO$1437)+SUM('Saisonale Ausfallstunden'!Z478:Z$1437)","v":0},null,{"$f":"Übersetzungstexte!A367","v":"Version:"},"V4 (01.2023)",null,{"$f":"Übersetzungstexte!A413","v":"Sp. 4: Istzeit"},{"$f":"Übersetzungstexte!A414","v":"Einzutragen sind die tatsächlich gearbeiteten Stunden."}]
["1997-01-01",261,8100,6.5500000000000003E-2,null,{"$f":"Übersetzungstexte!A342","v":"c2: bis 375 Mitarbeiter"},537,{"$f":"SUM('Abrechnung von Kurzarbeit'!AO538:AO$1437)+SUM('Saisonale Ausfallstunden'!Z538:Z$1437)","v":0},null,null,null,null,{"$f":"Übersetzungstexte!A416","v":"Sp. 5: Bezahlte/unbezahlte Absenzen"},{"$f":"Übersetzungstexte!A417","v":"Einzutragen sind die bezahlten und unbezahlten Absenzstunden für Ferien, Feiertage, freiwilliges Fernbleiben von der Arbeit, Krankheit, Unfall, Militärdienst usw."}]
["1998-01-01",261,8100,6.5500000000000003E-2,null,{"$f":"Übersetzungstexte!A343","v":"c3: bis 417 Mitarbeiter"},597,{"$f":"SUM('Abrechnung von Kurzarbeit'!AO598:AO$1437)+SUM('Saisonale Ausfallstunden'!Z598:Z$1437)","v":0},null,{"$f":"Übersetzungstexte!A368","v":"TCRD (0=nein, 1=ja):"},0,null,{"$f":"Übersetzungstexte!A419","v":"Sp. 6: Ausfallstunden"},{"$f":"Übersetzungstexte!A420","v":"Ausgefallene Arbeitsstunden. Berechnung: Sp. 3 abzüglich Sp. 4 und 5."}]
["1999-01-01",261,8100,6.5500000000000003E-2,null,{"$f":"Übersetzungstexte!A344","v":"c4: bis 459 Mitarbeiter"},657,{"$f":"SUM('Abrechnung von Kurzarbeit'!AO658:AO$1437)+SUM('Saisonale Ausfallstunden'!Z658:Z$1437)","v":0},null,{"$f":"Übersetzungstexte!A369","v":"TCRD erste Zeile:"},27]
["2000-01-01",260,8900,6.5500000000000003E-2,null,{"$f":"Übersetzungstexte!A345","v":"c5: bis 501 Mitarbeiter"},717,{"$f":"SUM('Abrechnung von Kurzarbeit'!AO718:AO$1437)+SUM('Saisonale Ausfallstunden'!Z718:Z$1437)","v":0},null,{"$f":"Übersetzungstexte!A370","v":"TCRD letzte Zeile:"},29]
["2001-01-01",261,8900,6.5500000000000003E-2,null,{"$f":"Übersetzungstexte!A346","v":"d1: bis 564 Mitarbeiter"},807,{"$f":"SUM('Abrechnung von Kurzarbeit'!AO808:AO$1437)+SUM('Saisonale Ausfallstunden'!Z808:Z$1437)","v":0},null,null,null,null,{"$f":"Übersetzungstexte!A425","v":"Hilfetexte für Abrechnung von Kurzarbeit"}]
["2002-01-01",261,8900,6.5500000000000003E-2,null,{"$f":"Übersetzungstexte!A347","v":"d2: bis 627 Mitarbeiter"},897,{"$f":"SUM('Abrechnung von Kurzarbeit'!AO898:AO$1437)+SUM('Saisonale Ausfallstunden'!Z898:Z$1437)","v":0},null,{"$f":"Übersetzungstexte!A361","v":"Datum"},{"$f":"Übersetzungstexte!A373","v":"Karenztage"},null,{"$f":"Übersetzungstexte!A426","v":"Hilfetexttitel"},{"$f":"Übersetzungstexte!A427","v":"Hilfetext"}]
["2003-01-01",261,8900,6.3E-2,null,{"$f":"Übersetzungstexte!A348","v":"d3: bis 690 Mitarbeiter"},987,{"$f":"SUM('Abrechnung von Kurzarbeit'!AO988:AO$1437)+SUM('Saisonale Ausfallstunden'!Z988:Z$1437)","v":0},null,"1984-01-01",2,null,{"$f":"Übersetzungstexte!A428","v":"Allgemeine Erläuterungen"},{"$f":"Übersetzungstexte!A429","v":"Erläuterungen bekommen Sie, indem Sie den Cursor in die betreffende Spalte positionieren und gleichzeitig die Tasten \"STRG\" und \"h\" drücken. Auf englischen Tastaturen drücken Sie \"CTRL\" und \"h\"."}]
["2004-01-01",262,8900,6.0499999999999998E-2,null,{"$f":"Übersetzungstexte!A349","v":"d4: bis 753 Mitarbeiter"},1077,{"$f":"SUM('Abrechnung von Kurzarbeit'!AO1078:AO$1437)+SUM('Saisonale Ausfallstunden'!Z1078:Z$1437)","v":0},null,"2009-04-01",1,null,{"$f":"Übersetzungstexte!A430","v":"Sp. 1: Name/Vorname"},{"$f":"Übersetzungstexte!A431","v":"Auf der Abrechnung ist pro Abrechnungsperiode jede arbeitnehmende Person des Betriebes/der Betriebsabteilung aufzuführen, ungeachtet, ob er von Kurzarbeit betroffen ist oder nicht. Für die Nichtbetroffenen genügen die Angaben unter Sp. 1, Sp. 4 und Sp. 6."}]
["2005-01-01",260,8900,6.0499999999999998E-2,null,{"$f":"Übersetzungstexte!A350","v":"e1: bis 816 Mitarbeiter"},1167,{"$f":"SUM('Abrechnung von Kurzarbeit'!AO1168:AO$1437)+SUM('Saisonale Ausfallstunden'!Z1168:Z$1437)","v":0},null,"2014-01-01",2,null,{"$f":"Übersetzungstexte!A433","v":"Sp. 2: Anrechenbarer Stundenverdienst"},{"$f":"Übersetzungstexte!A434","v":"Massgebend ist der vertraglich vereinbarte Lohn in der letzten Zahltagsperiode vor Beginn der Arbeitsausfälle\r(max. Fr. 10’500.--). Eingeschlossen sind der Anteil des 13. Monatslohnes, die Ferien- und Feiertagsentschädigung, die vertraglich vereinbarten Zulagen, soweit sie nicht während der Kurzarbeit weiter bezahlt werden oder Entschädigungen für arbeitsbedingte Inkonvenienzen sind.\r\rErmittlung des anrechenbaren Stundenverdienstes siehe Broschüre „Info-Service Kurzarbeitsentschädigung“."}]
["2006-01-01",260,8900,6.0499999999999998E-2,null,{"$f":"Übersetzungstexte!A351","v":"e2: bis 879 Mitarbeiter"},1257,{"$f":"SUM('Abrechnung von Kurzarbeit'!AO1258:AO$1437)+SUM('Saisonale Ausfallstunden'!Z1258:Z$1437)","v":0},null,"2016-02-01",1,null,{"$f":"Übersetzungstexte!A438","v":"Sp. 3: Wöchentliche Arbeitszeit in der AP"},{"$f":"Übersetzungstexte!A439","v":"Einzutragen ist die individuelle, vertraglich vereinbarte Arbeitszeit je arbeitnehmende Person, ohne allfällige Vorholzeit. Bei unterschiedlich langen Arbeitszeiten innerhalb eines Jahres ist die für die betreffende Abrechnungsperiode gültige Arbeitszeit einzutragen."}]
["2007-01-01",261,8900,6.0499999999999998E-2,null,{"$f":"Übersetzungstexte!A352","v":"e3: bis 942 Mitarbeiter"},1347,{"$f":"SUM('Abrechnung von Kurzarbeit'!AO1348:AO$1437)+SUM('Saisonale Ausfallstunden'!Z1348:Z$1437)","v":0},null,"2019-01-01",2,null,{"$f":"Übersetzungstexte!A441","v":"Sp. 4: Sollstunden der Abrechnungsperiode inklusive Vorholzeit"},{"$f":"Übersetzungstexte!A442","v":"Umfasst die Zahltagsperiode eine, zwei oder vier Wochen, so beträgt die Abrechnungsperiode vier Wochen. In allen übrigen Fällen beträgt die Abrechnungsperiode einen Monat."}]
["2008-01-01",262,10500,6.0499999999999998E-2,null,{"$f":"Übersetzungstexte!A353","v":"e4: bis 1005 Mitarbeiter"},1437,0,null,"2020-03-01",1,null,{"$f":"Übersetzungstexte!A444","v":"Sp. 5: Istzeit"},{"$f":"Übersetzungstexte!A445","v":"Die tatsächlich gearbeiteten Stunden inkl. allfällige in dieser Abrechnungsperiode geleisteten Mehrstunden."}]
["2009-01-01",261,10500,6.0499999999999998E-2,null,null,null,null,null,"2020-10-01",2,null,{"$f":"Übersetzungstexte!A447","v":"Sp. 6: Bezahlte/unbezahlte Absenzen"},{"$f":"Übersetzungstexte!A448","v":"Sämtliche bezahlten und unbezahlten Absenzen (Ferien, Feiertage, freiwilliges Fernbleiben von der Arbeit, Krankheit, Unfall, Militärdienst usw.) in Stunden."}]
["2011-01-01",260,10500,6.25E-2,null,null,null,null,null,"2022-02-01",0,null,{"$f":"Übersetzungstexte!A450","v":"Sp. 7: Gleitzeit. Saldo Ende vorhergehende Abrechnungsperiode"},{"$f":"Übersetzungstexte!A451","v":"Zulässiger Plus-Stundensaldo gemäss betrieblicher Gleitzeitregelung, max. 20 Arbeitsstunden; darüber liegende Stunden gelten als Mehrstunden."}]
["2012-01-01",261,10500,6.25E-2,null,null,null,null,null,"2022-03-01",1,null,{"$f":"Übersetzungstexte!A453","v":"Sp. 7: Gleitzeit. Saldo Ende laufende Abrechnungsperiode"},{"$f":"Übersetzungstexte!A454","v":"Zulässiger Plus-Stundensaldo gemäss betrieblicher Gleitzeitregelung, max. 20 Arbeitsstunden; darüber liegende Stunden gelten als Mehrstunden."}]
["2016-01-01",261,12350,6.225E-2,null,null,null,null,null,null,null,null,{"$f":"Übersetzungstexte!A456","v":"Sp. 7: Gleitzeit. Differenz mit umgekehrten Vorzeichen"},{"$f":"Übersetzungstexte!A457","v":"Berechnung: Saldo Ende der vorhergehenden Periode abzüglich Saldo Ende der laufenden Periode."}]
["2017-01-01",260,12350,6.225E-2,null,null,null,null,null,null,null,null,{"$f":"Übersetzungstexte!A459","v":"Sp. 8: Ausfallstunden total"},{"$f":"Übersetzungstexte!A460","v":"Die tatsächlich ausgefallenen, angeordneten Kurzarbeitsstunden, höchstens jedoch die Anzahl Stunden, die sich aus folgender Berechnung ergeben: Sp. 4 abzüglich des Totals von Sp. 5, 6, und 7 (Differenz)."}]
["2018-01-01",261,12350,6.225E-2,null,null,null,null,null,null,null,null,{"$f":"Übersetzungstexte!A462","v":"Sp. 9: Saldo der ausbezahlten und noch nicht ausbezahlten Mehrstunden aus den Vormonaten"},{"$f":"Übersetzungstexte!A463","v":"Einzutragen sind alle in den sechs Monaten vor Beginn der zweijährigen Rahmenfrist geleisteten und zeitlich nicht ausgeglichenen Mehrstunden. Nach Beginn der Rahmenfrist sind alle innerhalb der Rahmenfrist geleisteten und zeitlich nicht ausgeglichenen Mehrstunden zu erfassen, soweit sie nicht länger als zwölf Monate zurückliegen. Diese Mehrstunden reduzieren die anrechenbaren Ausfallstunden (Sp. 11), soweit sie die nicht entschädigbaren saisonalen Ausfallstunden (Sp. 10) überschreiten; d.h. Mehrstundensaldi werden zuerst durch die saisonalen Ausfallstunden ausgeglichen, bevor die anrechenbaren Ausfallstunden reduziert werden. Mehrstundensaldi, die nicht vollständig durch die saisonalen und anrechenbaren Ausfallstunden ausgeglichen werden können, sind auf die nächste Abrechnungsperiode vorzutragen."}]
["2019-01-01",261,12350,6.225E-2,null,null,null,null,null,null,null,null,{"$f":"Übersetzungstexte!A465","v":"Sp. 10: Saisonale Ausfallstunden"},{"$f":"Übersetzungstexte!A466","v":"Diese Kolonne wird berechnet, wenn die kantonale Amtsstelle in ihrem Entscheid bezüglich der Saisonalität einen Vorbehalt angebracht hat, wonach die Ausfallstunden, die auf die Saisonalität zurückzuführen sind, nicht entschädigt werden können.\r\rDifferenz zwischen Ausfallstunden total (Sp. 8) und anrechenbaren Ausfallstunden (Sp. 11). Es handelt sich um eine Kontrollspalte, da die Mehrstunden-Saldi (Sp. 9) die anrechenbaren Ausfallstunden (Sp. 11) nur reduzieren, soweit sie noch nicht durch die saisonalen Ausfallstunden getilgt werden konnten."}]
["2020-01-01",262,12350,6.3750000000000001E-2,null,null,null,null,null,null,null,null,{"$f":"Übersetzungstexte!A469","v":"Sp. 11: Anrechenbare Ausfallstunden"},{"$f":"Übersetzungstexte!A470","v":"Hat die kantonale Amtsstelle in ihrem Entscheid bezüglich der Saisonalität einen Vorbehalt angebracht, ist aufgrund der ausgefallenen Arbeitsstunden in den gleichen Perioden der beiden Vorjahre ein Verteilschlüssel zu ermitteln, nach dem die Ausfallstunden in nicht entschädigbare (saisonale) und grundsätzlich entschädigbare zu verteilen sind. Berechnungsanleitung und Anwendung des Verteilschlüssels finden Sie in der Broschüre „Info-Service Kurzarbeitsentschädigung“ und auf dem Arbeitsblatt 'Saisonale Ausfallstunden'.\r\rDie anrechenbaren Ausfallstunden reduzieren sich zudem um die Mehrstundensaldi (Sp. 9), soweit diese nicht durch die saisonalen Ausfallstunden getilgt werden konnten.\r\rHat ein Betrieb weder Mehrstunden aus Vormonaten noch saisonale Ausfallstunden aufzuweisen, entspricht die Kolonne 11 der Kolonne 8."}]
["2021-01-01",261,12350,6.4000000000000001E-2,null,null,null,null,null,null,null,null,{"$f":"Übersetzungstexte!A474","v":"Sp. 12: Verdienstausfall 100 %"},{"$f":"Übersetzungstexte!A475","v":"Multiplikation der Sp. 11 mit Sp. 2. Das Total dieser Kolonne wird um das Total des Verdienstes aus Zwischenbeschäftigung reduziert und diese Differenz mit 6,05% multipliziert, was die Vergütung der Arbeitgeberbeiträge an die AHV/IV/EO/ALV ergibt. Diese Vergütung wird zum Total der Sp. 15 hinzugezählt."}]
["2022-01-01",260,12350,6.4000000000000001E-2,null,null,null,null,null,null,null,null,{"$f":"Übersetzungstexte!A477","v":"Sp. 13: Verdienstausfall 80 %"},{"$f":"Übersetzungstexte!A478","v":"Die Kurzarbeitsentschädigung beträgt für jede arbeitnehmende Person 80 % des Verdienstausfalles."}]
["2023-01-01",260,12350,6.4000000000000001E-2,null,null,null,null,null,null,null,null,{"$f":"Übersetzungstexte!A480","v":"Verdienst Zwischenbeschäftigung"},{"$f":"Übersetzungstexte!A481","v":"Als Einkommen aus Zwischenbeschäftigung gilt jeder Verdienst aus unselbständiger oder selbständiger Tätigkeit, den ein Kurzarbeitnehmer während seines Arbeitsausfalles zusätzlich erzielt.\r\rDer Arbeitgeber der Zwischenbeschäftigung hat dem ursprünglichen Arbeitgeber monatlich das Einkommen aus Zwischenbeschäftigung mitzuteilen (Art. 41 AVIG).\r\rAnrechenbarer Verdienstausfall 80% (Sp. 13 der Abrechnung)\r+ Verdienst aus Zwischenbeschäftigung (brutto)\r-  Verdienstausfall 100% (Sp. 12 der Abrechnung)\r= Kürzung von Sp. 15 der Abrechnung."}]
[null,null,null,null,null,null,null,null,null,null,null,null,{"$f":"Übersetzungstexte!A488","v":"Sp. 14: Abzug Karenztage 80 %"},{"$f":"Übersetzungstexte!A489","v":"Karenzzeit zulasten des Arbeitgebers."}]
[null,null,null,null,null,null,null,null,null,null,null,null,{"$f":"Übersetzungstexte!A491","v":"Sp. 15: Beantragte Vergütung"},{"$f":"Übersetzungstexte!A492","v":"Sofern alle Voraussetzungen erfüllt sind, vergütet die Kasse den Betrag der sich aus der Subtraktion der Sp. 14 und des Abzugs aus Zwischenbeschäftigung von der Sp. 13 ergibt. Zum Total dieser Kolonne wird die Vergütung der Arbeitgeberbeiträge an AHV/IV/EO/ALV hinzugezählt."}]
[]
[]
["Bis hier geht die Tabelle, wenn sie grösser wird, Bereich in VLOOKUP anpassen",null,null,null,null,null,null,null,null,null,null,null,"Zellen-Hilfetexte auf Blatt 1. Hier damit nicht Macro angepasst werden muss, wenn auf Hilfetexte verschoben"]
[null,null,null,null,null,null,null,null,null,null,null,null,{"$f":"Übersetzungstexte!A129","v":"Geben Sie eine Periode im Format MM.JJJJ ein. Beispiel: 02.2009"}]
[null,null,null,null,null,null,null,null,null,null,null,null,{"$f":"Übersetzungstexte!A130","v":"Geben Sie ein Datum im Format TT.MM.JJJJ ein."}]
[null,null,null,null,null,null,null,null,null,null,null,null,{"$f":"Übersetzungstexte!A131","v":"Wählen Sie die  Betriebsgrösse"}]
[null,null,null,null,null,null,null,null,null,null,null,null,{"$f":"Übersetzungstexte!A132","v":"Dieser Wert wird automatisch bestimmt, kann aber überschrieben werden"}]

{"sheet":"Übersetzungstexte","index":5,"n_rows":492,"n_cols":7,"rows_kept":492,"cut":false,"hidden":true,"merged":[]}
[1,null,null,"In diese Kolonne nicht übersetzen","deutsch","französisch","italienisch"]
[{"$f":"CONCATENATE(B2,CHAR(13),B3,CHAR(13),B4,CHAR(13),B5)","v":"Wählen Sprache / choisir langue / scegliere lingua\r1 = deutsch, allemand, tedesco\r2 = französisch, français, francese\r3 = italienisch, italien, italiano"},{"$f":"CONCATENATE(E2,\" / \",F2,\" / \",G2)","v":"Wählen Sprache / choisir langue / scegliere lingua"},null,null,"Wählen Sprache","choisir langue","scegliere lingua"]
[null,{"$f":"CONCATENATE(\"1 = \",E3,\", \",F3,\", \",G3)","v":"1 = deutsch, allemand, tedesco"},null,null,"deutsch","allemand","tedesco"]
[null,{"$f":"CONCATENATE(\"2 = \",E4,\", \",F4,\", \",G4)","v":"2 = französisch, français, francese"},null,null,"französisch","français","francese"]
[null,{"$f":"CONCATENATE(\"3 = \",E5,\", \",F5,\", \",G5)","v":"3 = italienisch, italien, italiano"},null,null,"italienisch","italien","italiano"]
[{"$f":"CONCATENATE(E6,\" / \",F6,\" / \",G6)","v":"Sprache / langue / lingua"},null,null,null,"Sprache","langue","lingua"]
[]
[]
[null,null,null,"Blattnamen maximal 31 Zeichen"]
[{"$f":"CONCATENATE(IF($A$1=3,G10,IF($A$1=2,F10,E10)))","v":"Stammdaten Betrieb & Abteilung"},null,null,null,"Stammdaten Betrieb & Abteilung","Données base entre.- se. d'exp.","Dati aziendale e del settore"]
["Stammdaten Mitarbeitende",null,null,null,"Stammdaten Mitarbeitende","Données de base travailleurs","Dati lavoratori"]
["Saisonale Ausfallstunden",null,null,null,"Saisonale Ausfallstunden","Hres perdues imput. fact. sais.","Perdita stagionale"]
["Abrechnung von Kurzarbeit",null,null,null,"Abrechnung von Kurzarbeit","Décompte rédu. horaire travail","Conteggio sul lavoro ridotto"]
["Hilfsdaten",null,null,null,"Hilfsdaten","Données auxiliaires","Dati help"]
["Übersetzungstexte",null,null,null,"Übersetzungstexte","Textes de traduction","Testi da tradurre"]
[]
[]
["Header & Footer (Left, Center, Right)"]
[null,null,null,"Header & Footer Blatt 1"]
[{"$f":"IF($A$1=3,CONCATENATE(B20,G20),IF($A$1=2,CONCATENATE(B20,F20),CONCATENATE(B20,E20)))","v":"&\"Arial\"&8Arbeitslosenversicherung"},"&\"Arial\"&8",null,null,"Arbeitslosenversicherung","Assurance-chômage","Assicurazione contro la disoccupazione"]
[{"$f":"IF($A$1=3,CONCATENATE(B21,G21),IF($A$1=2,CONCATENATE(B21,F21),CONCATENATE(B21,E21)))","v":"&\"Arial\"&10&BStammdaten Betrieb/Betriebsabteilung"},"&\"Arial\"&10&B",null,null,"Stammdaten Betrieb/Betriebsabteilung","Données de base de l‘entreprise et du secteur d'exploitation","Dati aziendali / del settore"]
[]
[{"$f":"IF($A$1=3,CONCATENATE(B23,CHAR(13),G23),IF($A$1=2,CONCATENATE(B23,CHAR(13),F23),CONCATENATE(B23,CHAR(13),E23)))","v":"&\"Arial\"&8\rFür Fragen dieses Arbeitsblatt betreffend wenden Sie sich bitte an Ihre Arbeitslosenkasse."},"&\"Arial\"&8",null,null,"Für Fragen dieses Arbeitsblatt betreffend wenden Sie sich bitte an Ihre Arbeitslosenkasse.","Si vous avez des questions concernant cette feuille de calcul, veuillez vous adresser à votre caisse de chômage","Per domande relative al presente foglio di lavoro rivolgersi alla cassa di disoccpuazione competente. "]
[]
[{"$f":"CONCATENATE(B25,\" \",Hilfsdaten!K$13)","v":"&\"Arial\"&8&D V4 (01.2023)"},"&\"Arial\"&8&D"]
[]
[null,null,null,"Header & Footer Blatt 2"]
[{"$f":"IF($A$1=3,CONCATENATE(B28,G28),IF($A$1=2,CONCATENATE(B28,F28),CONCATENATE(B28,E28)))","v":"&\"Arial\"&8Arbeitslosenversicherung "},"&\"Arial\"&8",null,null,"Arbeitslosenversicherung ","Assurance-chômage","Assicurazione contro la disoccupazione"]
[{"$f":"IF($A$1=3,CONCATENATE(B29,G29),IF($A$1=2,CONCATENATE(B29,F29),CONCATENATE(B29,E29)))","v":"&\"Arial\"&10&BStammdaten Mitarbeitende"},"&\"Arial\"&10&B",null,null,"Stammdaten Mitarbeitende","Données de base des travailleurs ","Dati lavoratori"]
[{"$f":"IF($A$1=3,CONCATENATE(B30,G30),IF($A$1=2,CONCATENATE(B30,F30),CONCATENATE(B30,E30)))","v":"&\"Arial\"&8Seite &P"},"&\"Arial\"&8",null,null,"Seite &P","Page &P","Pagina &P"]
[{"$f":"IF($A$1=3,CONCATENATE(B31,CHAR(13),G31),IF($A$1=2,CONCATENATE(B31,CHAR(13),F31),CONCATENATE(B31,CHAR(13),E31)))","v":"&\"Arial\"&8\rFür Fragen dieses Arbeitsblatt betreffend wenden Sie sich bitte an Ihre Arbeitslosenkasse."},"&\"Arial\"&8",null,null,"Für Fragen dieses Arbeitsblatt betreffend wenden Sie sich bitte an Ihre Arbeitslosenkasse.","Si vous avez des questions concernant cette feuille de calcul, veuillez vous adresser à votre caisse de chômage","Per domande relative al presente foglio di lavoro rivolgersi alla cassa di disoccpuazione competente. "]
[]
[{"$f":"CONCATENATE(B33,\" \",Hilfsdaten!K$13)","v":"&\"Arial\"&8&D V4 (01.2023)"},"&\"Arial\"&8&D"]
[null,null,null,null,null,null,"Perdita stagionale di ore di lavoro"]
[null,null,null,"Header & Footer Blatt 3"]
[{"$f":"IF($A$1=3,CONCATENATE(B36,G36),IF($A$1=2,CONCATENATE(B36,F36),CONCATENATE(B36,E36)))","v":"&\"Arial\"&8Arbeitslosenversicherung"},"&\"Arial\"&8",null,null,"Arbeitslosenversicherung","Assurance-chômage","Assicurazione contro la disoccupazione"]
[{"$f":"IF($A$1=3,CONCATENATE(B37,G37,CHAR(13),C37,G43),IF($A$1=2,CONCATENATE(B37,F37,CHAR(13),C37,F43),CONCATENATE(B37,E37,CHAR(13),C37,E43)))","v":"&\"Arial\"&10&BSaisonale Ausfallstunden\r&B&\"Arial\"&8(Formular 716.303.1) "},"&\"Arial\"&10&B","&B&\"Arial\"&8",null,"Saisonale Ausfallstunden","Heures perdues imputables à des facteurs saisonniers ","Perdita stagionale di ore di lavoro"]
[{"$f":"IF($A$1=3,CONCATENATE(B38,G38),IF($A$1=2,CONCATENATE(B38,F38),CONCATENATE(B38,E38)))","v":"&\"Arial\"&8Seite &P"},"&\"Arial\"&8",null,null,"Seite &P","Page &P","Pagina &P"]
[{"$f":"IF($A$1=3,CONCATENATE(B39,CHAR(13),G39),IF($A$1=2,CONCATENATE(B39,CHAR(13),F39),CONCATENATE(B39,CHAR(13),E39)))","v":"&\"Arial\"&8\rFür Fragen dieses Arbeitsblatt betreffend wenden Sie sich bitte an Ihre Arbeitslosenkasse."},"&\"Arial\"&8",null,null,"Für Fragen dieses Arbeitsblatt betreffend wenden Sie sich bitte an Ihre Arbeitslosenkasse.","Si vous avez des questions concernant cette feuille de calcul, veuillez vous adresser à votre caisse de chômage","Per domande relative al presente foglio di lavoro rivolgersi alla cassa di disoccpuazione competente. "]
[]
[{"$f":"CONCATENATE(B41,\" \",Hilfsdaten!K$13)","v":"&\"Arial\"&8&D V4 (01.2023)"},"&\"Arial\"&8&D"]
[]
[null,null,null,null,"(Formular 716.303.1) ","(Formulaire 716.303.1)","(Modulo 716.303.1)"]
[null,null,null,"Header & Footer Blatt 4"]
[{"$f":"IF($A$1=3,CONCATENATE(B45,G45),IF($A$1=2,CONCATENATE(B45,F45),CONCATENATE(B45,E45)))","v":"&\"Arial\"&8Arbeitslosenversicherung"},"&\"Arial\"&8",null,null,"Arbeitslosenversicherung","Assurance-chômage","Assicurazione contro la disoccupazione"]
[{"$f":"IF($A$1=3,CONCATENATE(B46,G46,CHAR(13),C46,G52),IF($A$1=2,CONCATENATE(B46,F46,CHAR(13),C46,F52),CONCATENATE(B46,E46,CHAR(13),C46,E52)))","v":"&\"Arial\"&10&BAbrechnung von Kurzarbeit\r&B&\"Arial\"&8(Formular 716.303)"},"&\"Arial\"&10&B","&B&\"Arial\"&8",null,"Abrechnung von Kurzarbeit","Décompte concernant la réduction de l’horaire de travail","Conteggio sul lavoro ridotto"]
[{"$f":"IF($A$1=3,CONCATENATE(B47,G47),IF($A$1=2,CONCATENATE(B47,F47),CONCATENATE(B47,E47)))","v":"&\"Arial\"&8Seite &P"},"&\"Arial\"&8",null,null,"Seite &P","Page &P","Pagina &P"]
[{"$f":"IF($A$1=3,CONCATENATE(B48,CHAR(13),G48),IF($A$1=2,CONCATENATE(B48,CHAR(13),F48),CONCATENATE(B48,CHAR(13),E48)))","v":"&\"Arial\"&8\rFür Fragen dieses Arbeitsblatt betreffend wenden Sie sich bitte an Ihre Arbeitslosenkasse."},"&\"Arial\"&8",null,null,"Für Fragen dieses Arbeitsblatt betreffend wenden Sie sich bitte an Ihre Arbeitslosenkasse.","Si vous avez des questions concernant cette feuille de calcul, veuillez vous adresser à votre caisse de chômage","Per domande relative al presente foglio di lavoro rivolgersi alla cassa di disoccpuazione competente. "]
[]
[{"$f":"CONCATENATE(B50,\" \",Hilfsdaten!K$13)","v":"&\"Arial\"&8&D V4 (01.2023)"},"&\"Arial\"&8&D"]
[]
[null,null,null,null,"(Formular 716.303)","(Formulaire 716.303)","(Modulo 716.303)"]
[]
[]
[null,null,null,"Header & Footer TCRD Blatt 1"]
[{"$f":"IF($A$1=3,CONCATENATE(B56,CHAR(13),CHAR(13),G56),IF($A$1=2,CONCATENATE(B56,CHAR(13),CHAR(13),F56),CONCATENATE(B56,CHAR(13),CHAR(13),E56)))","v":"&\"Arial\"&10\r\rKorrigierte Abrechnung des SECO"},"&\"Arial\"&10",null,null,"Korrigierte Abrechnung des SECO","Décompte du SECO corrigé","Conteggio corretto della SECO"]
[{"$f":"IF($A$1=3,CONCATENATE(B57,G57),IF($A$1=2,CONCATENATE(B57,F57),CONCATENATE(B57,E57)))","v":"&\"Arial\"&10&BStammdaten Betrieb/Betriebsabteilung"},"&\"Arial\"&10&B",null,null,"Stammdaten Betrieb/Betriebsabteilung","Données de base de l‘entreprise et du secteur d'exploitation","Dati aziendali / del settore"]
[null,null,{"$f":"'Stammdaten Betrieb & Abteilung'!B27","v":0},null,"Beilage ","Annexe ","Allegato "]
[{"$f":"IF($A$1=3,CONCATENATE(B59,CHAR(13),CHAR(13),G58,C58,G59,C59),IF($A$1=2,CONCATENATE(B59,CHAR(13),CHAR(13),F58,C58,F59,C59),CONCATENATE(B59,CHAR(13),CHAR(13),E58,C58,E59,C59)))","v":"&\"Arial\"&10\r\rBeilage 0 zu Revisionsverfügung AGK 0"},"&\"Arial\"&10",{"$f":"'Stammdaten Betrieb & Abteilung'!B28","v":0},null," zu Revisionsverfügung AGK "," de la décision sur révision AGK "," decisione revisione AGK "]
[{"$f":"IF($A$1=3,CONCATENATE(B60,CHAR(13),G60,C60),IF($A$1=2,CONCATENATE(B60,CHAR(13),F60,C60),CONCATENATE(B60,CHAR(13),E60,C60)))","v":"&\"Arial\"&10\rSECO/TCRD/0"},"&\"Arial\"&10",{"$f":"'Stammdaten Betrieb & Abteilung'!B29","v":0},null,"SECO/TCRD/","SECO/TCRD/","SECO/TCRD/"]
[{"$f":"IF($A$1=3,CONCATENATE(B61,G61),IF($A$1=2,CONCATENATE(B61,F61),CONCATENATE(B61,E61)))","v":"&\"Arial\"&10&D"},"&\"Arial\"&10",null,null,"&D","&D","&D"]
[{"$f":"IF($A$1=3,CONCATENATE(B62,G62),IF($A$1=2,CONCATENATE(B62,F62),CONCATENATE(B62,E62)))","v":"&\"Arial\"&10Seite &P von &N"},"&\"Arial\"&10",null,null,"Seite &P von &N","Page &P sur &N","Pagina &P di &N"]
[]
[null,null,null,"Header & Footer TCRD Blatt 2"]
[{"$f":"IF($A$1=3,CONCATENATE(B65,CHAR(13),CHAR(13),G65),IF($A$1=2,CONCATENATE(B65,CHAR(13),CHAR(13),F65),CONCATENATE(B65,CHAR(13),CHAR(13),E65)))","v":"&\"Arial\"&10\r\rKorrigierte Abrechnung des SECO"},"&\"Arial\"&10",null,null,"Korrigierte Abrechnung des SECO","Décompte du SECO corrigé","Conteggio corretto della SECO"]
[{"$f":"IF($A$1=3,CONCATENATE(B66,G66),IF($A$1=2,CONCATENATE(B66,F66),CONCATENATE(B66,E66)))","v":"&\"Arial\"&10&BStammdaten Mitarbeiter"},"&\"Arial\"&10&B",null,null,"Stammdaten Mitarbeiter","Données de base des travailleurs ","Dati lavoratori"]
[null,null,{"$f":"'Stammdaten Betrieb & Abteilung'!B27","v":0},null,"Beilage ","Annexe ","Allegato "]
[{"$f":"IF($A$1=3,CONCATENATE(B68,CHAR(13),CHAR(13),G67,C67,G68,C68),IF($A$1=2,CONCATENATE(B68,CHAR(13),CHAR(13),F67,C67,F68,C68),CONCATENATE(B68,CHAR(13),CHAR(13),E67,C67,E68,C68)))","v":"&\"Arial\"&10\r\rBeilage 0 zu Revisionsverfügung AGK 0"},"&\"Arial\"&10",{"$f":"'Stammdaten Betrieb & Abteilung'!B28","v":0},null," zu Revisionsverfügung AGK "," de la décision sur révision AGK "," decisione revisione AGK "]
[{"$f":"IF($A$1=3,CONCATENATE(B69,CHAR(13),G69,C69),IF($A$1=2,CONCATENATE(B69,CHAR(13),F69,C69),CONCATENATE(B69,CHAR(13),E69,C69)))","v":"&\"Arial\"&10\rSECO/TCRD/0"},"&\"Arial\"&10",{"$f":"'Stammdaten Betrieb & Abteilung'!B29","v":0},null,"SECO/TCRD/","SECO/TCRD/","SECO/TCRD/"]
[{"$f":"IF($A$1=3,CONCATENATE(B70,G70),IF($A$1=2,CONCATENATE(B70,F70),CONCATENATE(B70,E70)))","v":"&\"Arial\"&10&D"},"&\"Arial\"&10",null,null,"&D","&D","&D"]
[{"$f":"IF($A$1=3,CONCATENATE(B71,G71),IF($A$1=2,CONCATENATE(B71,F71),CONCATENATE(B71,E71)))","v":"&\"Arial\"&10Seite &P von &N"},"&\"Arial\"&10",null,null,"Seite &P von &N","Page &P sur &N","Pagina &P di &N"]
[]
[null,null,null,"Header & Footer TCRD Blatt 3"]
[{"$f":"IF($A$1=3,CONCATENATE(B74,CHAR(13),CHAR(13),G74),IF($A$1=2,CONCATENATE(B74,CHAR(13),CHAR(13),F74),CONCATENATE(B74,CHAR(13),CHAR(13),E74)))","v":"&\"Arial\"&10\r\rKorrigierte Abrechnung des SECO"},"&\"Arial\"&10",null,null,"Korrigierte Abrechnung des SECO","Décompte du SECO corrigé","Conteggio corretto della SECO"]
[{"$f":"IF($A$1=3,CONCATENATE(B75,G75,CHAR(13),C75,G43),IF($A$1=2,CONCATENATE(B75,F75,CHAR(13),C75,F43),CONCATENATE(B75,E75,CHAR(13),C75,E43)))","v":"&\"Arial\"&10&BSaisonale Ausfallstunden\r&B&\"Arial\"&8(Formular 716.303.1) "},"&\"Arial\"&10&B","&B&\"Arial\"&8",null,"Saisonale Ausfallstunden","Heures perdues imputables à des facteurs saisonniers ","Perdita stagionale di ore di lavoro"]
[null,null,{"$f":"'Stammdaten Betrieb & Abteilung'!B27","v":0},null,"Beilage ","Annexe ","Allegato "]
[{"$f":"IF($A$1=3,CONCATENATE(B77,CHAR(13),CHAR(13),G76,C76,G77,C77),IF($A$1=2,CONCATENATE(B77,CHAR(13),CHAR(13),F76,C76,F77,C77),CONCATENATE(B77,CHAR(13),CHAR(13),E76,C76,E77,C77)))","v":"&\"Arial\"&10\r\rBeilage 0 zu Revisionsverfügung AGK 0"},"&\"Arial\"&10",{"$f":"'Stammdaten Betrieb & Abteilung'!B28","v":0},null," zu Revisionsverfügung AGK "," de la décision sur révision AGK "," decisione revisione AGK "]
[{"$f":"IF($A$1=3,CONCATENATE(B78,CHAR(13),G78,C78),IF($A$1=2,CONCATENATE(B78,CHAR(13),F78,C78),CONCATENATE(B78,CHAR(13),E78,C78)))","v":"&\"Arial\"&10\rSECO/TCRD/0"},"&\"Arial\"&10",{"$f":"'Stammdaten Betrieb & Abteilung'!B29","v":0},null,"SECO/TCRD/","SECO/TCRD/","SECO/TCRD/"]
[{"$f":"IF($A$1=3,CONCATENATE(B79,G79),IF($A$1=2,CONCATENATE(B79,F79),CONCATENATE(B79,E79)))","v":"&\"Arial\"&10&D"},"&\"Arial\"&10",null,null,"&D","&D","&D"]
[{"$f":"IF($A$1=3,CONCATENATE(B80,G80),IF($A$1=2,CONCATENATE(B80,F80),CONCATENATE(B80,E80)))","v":"&\"Arial\"&10Seite &P von &N"},"&\"Arial\"&10",null,null,"Seite &P von &N","Page &P sur &N","Pagina &P di &N"]
[]
[null,null,null,"Header & Footer TCRD Blatt 4"]
[{"$f":"IF($A$1=3,CONCATENATE(B83,CHAR(13),CHAR(13),G83),IF($A$1=2,CONCATENATE(B83,CHAR(13),CHAR(13),F83),CONCATENATE(B83,CHAR(13),CHAR(13),E83)))","v":"&\"Arial\"&10\r\rKorrigierte Abrechnung des SECO"},"&\"Arial\"&10",null,null,"Korrigierte Abrechnung des SECO","Décompte du SECO corrigé","Conteggio corretto della SECO"]
[{"$f":"IF($A$1=3,CONCATENATE(B84,G84,CHAR(13),C84,G52),IF($A$1=2,CONCATENATE(B84,F84,CHAR(13),C84,F52),CONCATENATE(B84,E84,CHAR(13),C84,E52)))","v":"&\"Arial\"&10&BAbrechnung von Kurzarbeit\r&B&\"Arial\"&8(Formular 716.303)"},"&\"Arial\"&10&B","&B&\"Arial\"&8",null,"Abrechnung von Kurzarbeit","Décompte concernant la réduction de l’horaire de travail","Conteggio sul lavoro ridotto"]
[null,null,{"$f":"'Stammdaten Betrieb & Abteilung'!B27","v":0},null,"Beilage ","Annexe ","Allegato "]
[{"$f":"IF($A$1=3,CONCATENATE(B86,CHAR(13),CHAR(13),G85,C85,G86,C86),IF($A$1=2,CONCATENATE(B86,CHAR(13),CHAR(13),F85,C85,F86,C86),CONCATENATE(B86,CHAR(13),CHAR(13),E85,C85,E86,C86)))","v":"&\"Arial\"&10\r\rBeilage 0 zu Revisionsverfügung AGK 0"},"&\"Arial\"&10",{"$f":"'Stammdaten Betrieb & Abteilung'!B28","v":0},null," zu Revisionsverfügung AGK "," de la décision sur révision AGK "," decisione revisione AGK "]
[{"$f":"IF($A$1=3,CONCATENATE(B87,CHAR(13),G87,C87),IF($A$1=2,CONCATENATE(B87,CHAR(13),F87,C87),CONCATENATE(B87,CHAR(13),E87,C87)))","v":"&\"Arial\"&10\rSECO/TCRD/0"},"&\"Arial\"&10",{"$f":"'Stammdaten Betrieb & Abteilung'!B29","v":0},null,"SECO/TCRD/","SECO/TCRD/","SECO/TCRD/"]
[{"$f":"IF($A$1=3,CONCATENATE(B88,G88),IF($A$1=2,CONCATENATE(B88,F88),CONCATENATE(B88,E88)))","v":"&\"Arial\"&10&D"},"&\"Arial\"&10",null,null,"&D","&D","&D"]
[{"$f":"IF($A$1=3,CONCATENATE(B89,G89),IF($A$1=2,CONCATENATE(B89,F89),CONCATENATE(B89,E89)))","v":"&\"Arial\"&10Seite &P von &N"},"&\"Arial\"&10",null,null,"Seite &P von &N","Page &P sur &N","Pagina &P di &N"]
[]
[]
[]
[]
[null,null,null,"Konstanten Blatt 1"]
[{"$f":"CONCATENATE(IF($A$1=3,G95,IF($A$1=2,F95,E95)))","v":"BUR-Nr."},null,null,null,"BUR-Nr.","No REE","N. RIS"]
["Firmenname",null,null,null,"Firmenname","Nom de l'entreprise","Ragione sociale dell'azienda"]
["Strasse/Nr.",null,null,null,"Strasse/Nr.","Rue et No","Via/n."]
["PLZ",null,null,null,"PLZ","NPA","NPA"]
["Ort",null,null,null,"Ort","Localité","Località"]
["Ansprechperson",null,null,null,"Ansprechperson","Personne responsable","Persona responsabile"]
["Telefon",null,null,null,"Telefon","No de téléphone","Telefono"]
["Telefax",null,null,null,"Telefax","FAX","Telefax"]
["e-Mail",null,null,null,"e-Mail","Courriel","E-mail"]
["Zahlungsverbindung",null,null,null,"Zahlungsverbindung","Mode de paiement","Destinazione dei pagamenti"]
["Betrieb/Betriebsabteilung",null,null,null,"Betrieb/Betriebsabteilung","Entreprise / secteur d'exploitation","Azienda/settore d'esercizio"]
["Dieses Formular kann für die gewählte Abrechnungsperiode nicht verwendet werden. Gültigkeit: Abrechnungsperioden Januar bis März 2023.",null,null,null,"Dieses Formular kann für die gewählte Abrechnungsperiode nicht verwendet werden. Gültigkeit: Abrechnungsperioden Januar bis März 2023.","Le présent formulaire ne peut pas être utilisé pour la période de décompte saisie. Validité : périodes de décompte de janvier à mars 2023.","Questo modulo non può essere utilizzato per il periodo di conteggio selezionato. Validità: periodi di conteggio da gennaio a marzo 2023."]
["Abrechnungsperiode",null,null,null,"Abrechnungsperiode","Période de décompte","Periodo di conteggio"]
["Eingabefrist",null,null,null,"Eingabefrist","Délai de saisie","Termine di presentazione"]
[{"$f":"CONCATENATE(IF($A$1=3,G109,IF($A$1=2,F109,E109)))","v":"Eingabefrist"},null,null,null,"Eingabefrist","Délai de saisie","Termine di presentaz."]
[{"$f":"CONCATENATE(IF($A$1=3,G110,IF($A$1=2,F110,E110)))","v":"Beginn Kurzarbeit"},null,null,null,"Beginn Kurzarbeit","Début de la réduction de l'horaire","Data inizio del lavoro ridotto"]
[{"$f":"CONCATENATE(IF($A$1=3,G111,IF($A$1=2,F111,E111)))","v":"Ende Kurzarbeit"},null,null,null,"Ende Kurzarbeit","Fin de la réduction de l'horaire","Data fine del lavoro ridotto"]
["Betriebsgrösse",null,null,null,"Betriebsgrösse","Taille de l'entreprise","Dimensione dell'organico"]
["Anzahl Arbeitstage/Jahr",null,null,null,"Anzahl Arbeitstage/Jahr","Nombre jours de travail par année","Numero di giorni lavorativi per anno"]
["Jahresd. wöchentl. Normalarbeitsz.",null,null,null,"Jahresd. wöchentl. Normalarbeitsz.","Moy. ann. durée hebd. norm. de tr.","Media ann. dell'orario di lavoro sett."]
["Max. massgeb. Verdienst",null,null,null,"Max. massgeb. Verdienst","Maximum du gain déterminant","Guadagno massimo assicurato"]
["Saisonal bed. Arbeitsausfall %",null,null,null,"Saisonal bed. Arbeitsausfall %","Perte trav. imp. à des fact.sais. %","Perdita stagionale di ore di lavoro"]
["Karenztage",null,null,null,"Karenztage","Jours d'attente","Periodo di attesa"]
["Beitragssatz AHV/IV/EO/ALV%",null,null,null,"Beitragssatz AHV/IV/EO/ALV%","Taux de coti. AVS/AI/APG/AC %","Aliquota % contrib. AVS/AI/IPG/AD"]
[]
["TCRD Beilage-Nr.",null,null,null,"TCRD Beilage-Nr.","No de l'annexe TCRD","TCRD N.allegato"]
["TCRD Verfügungs-Nr.",null,null,null,"TCRD Verfügungs-Nr.","No de la décision TCRD","TCRD N. decisione"]
["TCRD Kurzzeichen Inspektor",null,null,null,"TCRD Kurzzeichen Inspektor","Nom abrégé de l'inspecteur TCRD","TCRD Abbreviaz. Ispettore"]
[{"$f":"CONCATENATE(IF($A$1=3,G123,IF($A$1=2,F123,E123)))","v":"Formular anwendbar bei Kurzarbeit (ordentliches Verfahren) - Gültig von Januar bis März 2023 "},null,null,null,"Formular anwendbar bei Kurzarbeit (ordentliches Verfahren) - Gültig von Januar bis März 2023 ","Formulaire applicable en cas de RHT (procédure ordinaire) - Valable de janvier à mars 2023","Modulo utilizzabile per il lavoro ridotto (procedura ordinaria) - Valido da gennaio a marzo 2023\n"]
["Farbcode Ein-/Ausgabefelder",null,null,null,"Farbcode Ein-/Ausgabefelder","Couleur champs de saisie / sortie","Codice col. delle celle di inp./outp."]
["Eingabe erforderlich",null,null,null,"Eingabe erforderlich","Saisie obligatoire","Immissione obbligatoria"]
["Wert fehlerhaft",null,null,null,"Wert fehlerhaft","Valeur erronée","Valore erroneo"]
["Ausgabefeld",null,null,null,"Ausgabefeld","Champ de sortie","Cella di output"]
["Mehr Mitarbeiter erfasst als maximale Betriebsgrösse",null,null,null,"Mehr Mitarbeiter erfasst als maximale Betriebsgrösse","Nombre trop élevé d'empl. par rapp. à la taille de l'entrepr.","È stato ins. un num. di coll. che sup. il mass. dell'org."]
["Geben Sie eine Periode im Format MM.JJJJ ein. Beispiel: 02.2009",null,null,null,"Geben Sie eine Periode im Format MM.JJJJ ein. Beispiel: 02.2009","Prière de saisir la période au format MM.AAAA, comme par exemple: 02.2009.","Inserire un periodo nel formato MM.AAAA. Esempio: 02.2009."]
[{"$f":"CONCATENATE(IF($A$1=3,G130,IF($A$1=2,F130,E130)))","v":"Geben Sie ein Datum im Format TT.MM.JJJJ ein."},null,null,null,"Geben Sie ein Datum im Format TT.MM.JJJJ ein.","Prière de saisir la date au format JJ.MM.AAAA.","Inserire una data nel formato GG.MM.AAAA."]
["Wählen Sie die  Betriebsgrösse",null,null,null,"Wählen Sie die  Betriebsgrösse","Prière de sélectionner la taille de l'entreprise.","Selezionare la dimensione dell'azienda."]
["Dieser Wert wird automatisch bestimmt, kann aber überschrieben werden",null,null,null,"Dieser Wert wird automatisch bestimmt, kann aber überschrieben werden","Cette valeur est générée automatiquement, elle peut cependant être modifiée.","Questo valore è determinato in automatico; può essere sovrascritto."]
[]
[null,null,null,"Konstanten Blatt 2"]
[{"$f":"CONCATENATE(IF($A$1=3,G135,IF($A$1=2,F135,E135)))","v":"Betrieb / Betriebsabteilung"},null,null,null,"Betrieb / Betriebsabteilung","Entreprise / secteur d'exploitation","Azienda / settore d'esercizio"]
["Abrechnungsperiode",null,null,null,"Abrechnungsperiode","Période de décompte","Periodo di conteggio"]
[{"$f":"CONCATENATE(IF($A$1=3,G137,IF($A$1=2,F137,E137)))","v":"Beginn / Ende der Kurzarbeit"},null,null,null,"Beginn / Ende der Kurzarbeit","Début / fin de la réduction de l'horaire","Inizio / fine del lavoro ridotto"]
[""]
[""]
[""]
["Versicherten-Nr.",null,null,null,"Versicherten-Nr.","No de l'assuré","Numero d'assicurato"]
[""]
[""]
[""]
["Name",null,null,null,"Name","Nom","Cognome"]
[""]
[""]
[""]
["Vorname",null,null,null,"Vorname","Prénom","Nome"]
[""]
[""]
["Geburts-",null,null,null,"Geburts-","Date de","Data di"]
["datum",null,null,null,"datum","naissance","nascita"]
[""]
[""]
["Monats-",null,null,null,"Monats-","Salaire","Salario"]
["lohn",null,null,null,"lohn","mensuel","mensile"]
[""]
[""]
["Stunden-",null,null,null,"Stunden-","Salaire","Salario"]
["lohn",null,null,null,"lohn","horaire","orario"]
["Anzahl bez.",null,null,null,"Anzahl bez.","Nombre de","Numero"]
["Monate ",null,null,null,"Monate ","mois p. en c.","mesi pagati"]
["pro Jahr",null,null,null,"pro Jahr","par année","all'anno"]
["(12/13)",null,null,null,"(12/13)","(12/13)","(12/13)"]
["Weitere",null,null,null,"Weitere","Autres"]
["Lohn-",null,null,null,"Lohn-","composantes","Altre"]
["bestand-",null,null,null,"bestand-","salaire","componenti"]
["teile p. Jahr",null,null,null,"teile p. Jahr","par an","retributivi"]
["Jahres-",null,null,null,"Jahres-","Moyenne"]
["durchschn.",null,null,null,"durchschn.","par an","Orario"]
["wöchentl.",null,null,null,"wöchentl.","hebd. temps","medio"]
["Arbeitszeit",null,null,null,"Arbeitszeit","de travail","settimanale"]
["",null,null,null,null,"Nombre"]
["Anzahl",null,null,null,"Anzahl","jours de","Numero"]
["Ferientage",null,null,null,"Ferientage","vacances","di giorni"]
["pro Jahr",null,null,null,"pro Jahr","par année","di vacanza"]
["",null,null,null,null,"Nombre"]
["Anzahl",null,null,null,"Anzahl","jours","Numero"]
["Feiertage",null,null,null,"Feiertage","fériés","di giorni"]
["pro Jahr",null,null,null,"pro Jahr","par année","festivi"]
["Anrechen-",null,null,null,"Anrechen-"]
["barer",null,null,null,"barer","Gain horaire","Salario"]
["Stunden-",null,null,null,"Stunden-","à prendre en","orario"]
["Verdienst",null,null,null,"Verdienst","considération","computabile"]
["wurde gekürzt",null,null,null,"wurde gekürzt","a été réduit","è stato decurt."]
[]
[]
[null,null,null,"Konstanten Blatt 3"]
[{"$f":"CONCATENATE(IF($A$1=3,G190,IF($A$1=2,F190,E190)))","v":"Betrieb / Betriebsabteilung"},null,null,null,"Betrieb / Betriebsabteilung","Entreprise / secteur d'exploitation","Azienda / settore d'esercizio"]
["PLZ/Ort",null,null,null,"PLZ/Ort","NPA / Localité","NPA / località"]
["Zeitgleiche Periode des Vorjahres:",null,null,null,"Zeitgleiche Periode des Vorjahres:","Même période de l'année précédente:","Periodo di riferimento dell'anno precedente:"]
[""]
[""]
["Name,Vorname",null,null,null,"Name,Vorname","Nom / Prénom","Cognome / nome"]
["vertragliche",null,null,null,"vertragliche","Durée hebd.","Orario"]
["wöchentliche",null,null,null,"wöchentliche","du travail","contrattuale"]
["Arbeitszeit",null,null,null,"Arbeitszeit","selon contrat","settimanale"]
["Sollstd. zeitgl.",null,null,null,"Sollstd. zeitgl.","Heures à effectuer","Ore"]
["Periode inkl.",null,null,null,"Periode inkl.","y c. les hres acc. ","dovute incl."]
["Vorholzeit",null,null,null,"Vorholzeit","d’avance","comp. anticip."]
["Istzeit",null,null,null,"Istzeit","Temps","Ore"]
["",null,null,null,null,"effectif","effettive"]
[""]
["Bezahlte/",null,null,null,"Bezahlte/","Congés payés","Assenze"]
["Unbezahlte",null,null,null,"Unbezahlte","/ non payés","pagate / non"]
["Absenzen",null,null,null,"Absenzen",null,"pagate"]
["Ausfallstunden",null,null,null,"Ausfallstunden","Heures","Ore perse"]
["",null,null,null,null,"perdues"]
[""]
["Zeitgleiche Periode des vorletzten Jahres:",null,null,null,"Zeitgleiche Periode des vorletzten Jahres:","Même période de l'avant-dernière année:","Periodo di riferimento di due anni prima:"]
[{"$f":"CONCATENATE(IF($A$1=3,G212,IF($A$1=2,F212,E212)))","v":""}]
[""]
["Name,Vorname",null,null,null,"Name,Vorname","Nom / Prénom","Cognome / nome"]
["vertragliche",null,null,null,"vertragliche","Durée hebd.","Orario"]
["wöchentliche",null,null,null,"wöchentliche","du travail","contrattuale"]
["Arbeitszeit",null,null,null,"Arbeitszeit","selon contrat","settimanale"]
["Sollstd. zeitgl.",null,null,null,"Sollstd. zeitgl.","Heures à effectuer","Ore"]
["Periode inkl.",null,null,null,"Periode inkl.","y c. les hres acc. ","dovute incl."]
["Vorholzeit",null,null,null,"Vorholzeit","d’avance","comp. anticip."]
["Istzeit",null,null,null,"Istzeit","Temps","Ore"]
["",null,null,null,null,"effectif","effettive"]
[""]
["Bezahlte/",null,null,null,"Bezahlte/","Congés payés","Assenze"]
["Unbezahlte",null,null,null,"Unbezahlte","/ non payés","pagate / non"]
["Absenzen",null,null,null,"Absenzen",null,"pagate"]
["Ausfallstunden",null,null,null,"Ausfallstunden","Heures","Ore perse"]
["",null,null,null,null,"perdues"]
[""]
["Seitentotal",null,null,null,"Seitentotal","Total de la page","Totale pagine"]
["Total Periode",null,null,null,"Total Periode","Total période","Totale periodo"]
["Total Periode",null,null,null,"Total Periode","Total période","Totale periodo"]
["Prozentualer Ausfall in der Periode",null,null,null,"Prozentualer Ausfall in der Periode","Perte en % pour la période","Perdita di lavoro in per cento nel periodo"]
["Prozentualer Ausfall in der Periode",null,null,null,"Prozentualer Ausfall in der Periode","Perte en % pour la période","Perdita di lavoro in per cento nel periodo"]
["Durchschnittlicher Arbeitsausfall der beiden Vergleichsperioden:",null,null,null,"Durchschnittlicher Arbeitsausfall der beiden Vergleichsperioden:","Perte moyenne pour les deux années de référence:","Perdita di lavoro media in per cento nei due periodi di riferimento:"]
[]
[]
[null,null,null,"Konstanten Blatt 4"]
["Betrieb / Betriebsabteilung",null,null,null,"Betrieb / Betriebsabteilung","Entreprise / secteur d'exploitation","Azienda / settore d'esercizio"]
["Abrechnungsperiode",null,null,null,"Abrechnungsperiode","Période de décompte","Periodo di conteggio"]
["Beginn / Ende der Kurzarbeit",null,null,null,"Beginn / Ende der Kurzarbeit","Début / fin de la réduction de l'horaire","Inizio / fine del lavoro ridotto"]
[""]
[""]
["Name,Vorname",null,null,null,"Name,Vorname","Nom / Prénom","Cognome / nome"]
["anrechen-",null,null,null,"anrechen-","Gain horaire","Guadagno"]
["barer Std.-",null,null,null,"barer Std.-","à prendre","orario com-"]
["Verdienst",null,null,null,"Verdienst","en cons.","putabile"]
["Wöchentl.",null,null,null,"Wöchentl.","Temps d. tr. ","Orario lavoro"]
["Arbeitszeit",null,null,null,"Arbeitszeit","hebdo.","settim"]
["in der AP",null,null,null,"in der AP","durant la PD","nel PCont"]
["Sollstd. Abr.-",null,null,null,"Sollstd. Abr.-","Hres à eff. par","Ore"]
["Periode Inkl.",null,null,null,"Periode Inkl.","pér. décpte y","dovute incl."]
["Vorholzeit",null,null,null,"Vorholzeit","c.hres acc.d'av.","comp. anticip."]
[""]
["",null,null,null,null,"Temps","Ore"]
["Istzeit",null,null,null,"Istzeit","effectif","effettive"]
["Bezahlte/",null,null,null,"Bezahlte/","Congés","Assenze"]
["Unbezahlte",null,null,null,"Unbezahlte","payés / non","pagate /"]
["Absenzen",null,null,null,"Absenzen","payés","non pagate"]
[""]
["Saldo Ende Per.",null,null,null,"Saldo Ende Per.","Solde fin pér.","Saldo term. PC"]
["vorherg.",null,null,null,"vorherg.","préc.","prec."]
[{"$f":"CONCATENATE(IF($A$1=3,G263,IF($A$1=2,F263,E263)))","v":"(nur für Gleitzeit)"},null,null,null,"(nur für Gleitzeit)","(seulement horaire mobile)","(solo per orari flessibili)"]
[""]
["laufend",null,null,null,"laufend","concer.","corr."]
[""]
[""]
["Diff.",null,null,null,"Diff.","Diff.","diff."]
["Ausfall-",null,null,null,"Ausfall-","Total heures","Ore perse"]
["stunden",null,null,null,"stunden","de travail","dovute a"]
["total",null,null,null,"total","perdues","lavoro ridotto"]
["Saldo",null,null,null,"Saldo","Solde hres","Saldo ore"]
["Mehrstd.",null,null,null,"Mehrstd.","en plus mois","supplement."]
["Vormonate",null,null,null,"Vormonate","précedents","mesi prec."]
["Saisonale",null,null,null,"Saisonale","Hres perdues","Perdita "]
["Ausfall-",null,null,null,"Ausfall-","imput. à des","stagionale"]
["stunden",null,null,null,"stunden","fact.saisonniers","ore di lav."]
["Anrechen-",null,null,null,"Anrechen-","Heures","Ore perse"]
["bare Aus-",null,null,null,"bare Aus-","perdues à","computa-"]
["fall-Std.",null,null,null,"fall-Std.","pdr.en cons.","bili"]
["Verdienst-",null,null,null,"Verdienst-","Perte de","Perdita di "]
["ausfall",null,null,null,"ausfall","gain","guadagno"]
["100%",null,null,null,"100%","100%","100%"]
["Verdienst-",null,null,null,"Verdienst-","Perte de","Perdita di "]
["ausfall",null,null,null,"ausfall","gain","guadagno"]
["80%",null,null,null,"80%","80%","80%"]
["Verdienst",null,null,null,"Verdienst","Gain prov.","Reddito da"]
["Zwischen-",null,null,null,"Zwischen-","occupation","occupazione"]
["Beschäftigung",null,null,null,"Beschäftigung","provisoire","provvisoria"]
["Abzug",null,null,null,"Abzug","Déduction","Deduzione"]
["Karenztage",null,null,null,"Karenztage","délai d'att.","periodo"]
["80%",null,null,null,"80%","80%","d'attesa 80%"]
[""]
["Beantragte",null,null,null,"Beantragte","Bonification","Indennità"]
["Vergütung",null,null,null,"Vergütung","revendiquée","rivendicata"]
["Seitentotal",null,null,null,"Seitentotal","Total de la page","Totale pagine"]
["Anzahl bezugsberechtigter Mitarbeiter:",null,null,null,"Anzahl bezugsberechtigter Mitarbeiter:","Nbre de trav. ayant droit aux indemnités:","N. dei lavoratori aventi diritto all'indennità: "]
["Anzahl betroffener Mitarbeiter:",null,null,null,"Anzahl betroffener Mitarbeiter:","Nombre de travailleurs touchés:","N. dei lavoratori interessati: "]
["Arbeitsausfall in Prozent:",null,null,null,"Arbeitsausfall in Prozent:","Perte de travail en pour cent:","Perdita di lavoro in per cento: "]
[""]
["Anspruch: 80%",null,null,null,"Anspruch: 80%","Droit à l'indemnité:80%","Diritto: 80%"]
["Max. VV:",null,null,null,"Max. VV:","GA. max:","GA mass.:"]
["Ausfall",null,null,null,"Ausfall","Perte trav.","Perdita"]
["Ausfall",null,null,null,"Ausfall","Perte trav.","Perdita"]
["Durchschnitt Vorjahre:",null,null,null,"Durchschnitt Vorjahre:","Moyenne année préc.:","Media anni prec.:"]
["Relativer Mehrausfall:",null,null,null,"Relativer Mehrausfall:","Pertes supplémentaires:","Perdita suppl. relativa:"]
["AHV/IV/EO/ALV:",null,null,null,"AHV/IV/EO/ALV:","AVS/AI/APG/AC:","AVS/AI/IPG/AD:"]
["Karenzzeit:",null,null,null,"Karenzzeit:","Délai d'attente:","Per. Attesa:"]
["Tag(e)",null,null,null,"Tag(e)","jour(s)","g./gg."]
["Total:",null,null,null,"Total:","Total:","Totale:"]
[""]
["Kurzarbeitsentschädigung:",null,null,null,"Kurzarbeitsentschädigung:","Indemnité en cas de RHT:","Indennità per lavoro ridotto:"]
[{"$f":"CONCATENATE(IF($A$1=3,G313,IF($A$1=2,F313,E313)))","v":"Mindestausfall 10%"},null,null,null,"Mindestausfall 10%","Perte d'au moins 10%","Perdita minima del"]
[{"$f":"CONCATENATE(IF($A$1=3,G314,IF($A$1=2,F314,E314)))","v":"nicht erreicht"},null,null,null,"nicht erreicht","n'a pas été atteinte","10% non raggiunta"]
[]
[]
[null,null,null,"Konstanten Blatt 5"]
[{"$f":"CONCATENATE(IF($A$1=3,G318,IF($A$1=2,F318,E318)))","v":"Datum"},null,null,null,"Datum","Date","Data"]
["Gültig ab",null,null,null,"Gültig ab","Valable du","Valido dal"]
[]
["Arbeitstage",null,null,null,"Arbeitstage","Jours travail","Giorni lavorativi"]
["pro jahr",null,null,null,"pro jahr","par année","per anno"]
[]
["Max. massgeb.",null,null,null,"Max. massgeb.","Max. du gain","Guadagno"]
["Verdienst",null,null,null,"Verdienst","déterminant","mass. Assicurato"]
[]
["Beitragssatz",null,null,null,"Beitragssatz","Taux de cotisation","Aliquota di contribuzione"]
[]
["Anzahl",null,null,null,"Anzahl","Nombre de","numero di"]
["Mitarbeiter",null,null,null,"Mitarbeiter","travailleurs","collaboratori"]
["a1: bis 18 Mitarbeiter",null,null,null,"a1: bis 18 Mitarbeiter","a1: jusqu'à 18 travailleurs","a1: fino a 18 collaboratori"]
["a2: bis 39 Mitarbeiter",null,null,null,"a2: bis 39 Mitarbeiter","a2: jusqu'à 39 travailleurs","a2: fino a 39 collaboratori"]
["a3: bis 60 Mitarbeiter",null,null,null,"a3: bis 60 Mitarbeiter","a3: jusqu'à 60 travailleurs","a3: fino a 60 collaboratori"]
["a4: bis 81 Mitarbeiter",null,null,null,"a4: bis 81 Mitarbeiter","a4: jusqu'à 81 travailleurs","a4: fino a 81 collaboratori"]
["a5: bis 102 Mitarbeiter",null,null,null,"a5: bis 102 Mitarbeiter","a5: jusqu'à 102 travailleurs","a5: fino a 102 collaboratori"]
["b1: bis 144 Mitarbeiter",null,null,null,"b1: bis 144 Mitarbeiter","b1: jusqu'à 144 travailleurs","b1: fino a 144 collaboratori"]
["b2: bis 186 Mitarbeiter",null,null,null,"b2: bis 186 Mitarbeiter","b2: jusqu'à 186 travailleurs","b2: fino a 186 collaboratori"]
["b3: bis 207 Mitarbeiter",null,null,null,"b3: bis 207 Mitarbeiter","b3: jusqu'à 207 travailleurs","b3: fino a 207 collaboratori"]
["b4: bis 249 Mitarbeiter",null,null,null,"b4: bis 249 Mitarbeiter","b4: jusqu'à 249 travailleurs","b4: fino a 249 collaboratori"]
["b5: bis 291 Mitarbeiter",null,null,null,"b5: bis 291 Mitarbeiter","b5: jusqu'à 291 travailleurs","b5: fino a 291 collaboratori"]
["c1: bis 333 Mitarbeiter",null,null,null,"c1: bis 333 Mitarbeiter","c1: jusqu'à 333 travailleurs","c1: fino a 333 collaboratori"]
["c2: bis 375 Mitarbeiter",null,null,null,"c2: bis 375 Mitarbeiter","c2: jusqu'à 375 travailleurs","c2: fino a 375 collaboratori"]
["c3: bis 417 Mitarbeiter",null,null,null,"c3: bis 417 Mitarbeiter","c3: jusqu'à 417 travailleurs","c3: fino a 417 collaboratori"]
["c4: bis 459 Mitarbeiter",null,null,null,"c4: bis 459 Mitarbeiter","c4: jusqu'à 459 travailleurs","c4: fino a 459 collaboratori"]
["c5: bis 501 Mitarbeiter",null,null,null,"c5: bis 501 Mitarbeiter","c5: jusqu'à 501 travailleurs","c5: fino a 501 collaboratori"]
["d1: bis 564 Mitarbeiter",null,null,null,"d1: bis 564 Mitarbeiter","d1: jusqu'à 564 travailleurs","d1: fino a 564 collaboratori"]
["d2: bis 627 Mitarbeiter",null,null,null,"d2: bis 627 Mitarbeiter","d2: jusqu'à 627 travailleurs","d2: fino a 627 collaboratori"]
["d3: bis 690 Mitarbeiter",null,null,null,"d3: bis 690 Mitarbeiter","d3: jusqu'à 690 travailleurs","d3: fino a 690 collaboratori"]
["d4: bis 753 Mitarbeiter",null,null,null,"d4: bis 753 Mitarbeiter","d4: jusqu'à 753 travailleurs","d4: fino a 753 collaboratori"]
["e1: bis 816 Mitarbeiter",null,null,null,"e1: bis 816 Mitarbeiter","e1: jusqu'à 816 travailleurs","e1: fino a 816 collaboratori"]
["e2: bis 879 Mitarbeiter",null,null,null,"e2: bis 879 Mitarbeiter","e2: jusqu'à 879 travailleurs","e2: fino a 879 collaboratori"]
["e3: bis 942 Mitarbeiter",null,null,null,"e3: bis 942 Mitarbeiter","e3: jusqu'à 942 travailleurs","e3: fino a 942 collaboratori"]
["e4: bis 1005 Mitarbeiter",null,null,null,"e4: bis 1005 Mitarbeiter","e4: jusqu'à 1005 travailleurs","e4: fino a 1005 collaboratori"]
[]
[]
["Sichtbar",null,null,null,"Sichtbar","Visible","Visibile"]
["Anfang",null,null,null,"Anfang","début","Inizio"]
[]
["Erfasst",null,null,null,"Erfasst","Saisi","Registrato"]
[]
["Datum",null,null,null,"Datum","Date","Data"]
[]
["Erste Zeile:",null,null,null,"Erste Zeile:","Première ligne:","Prima riga:"]
["Letzte Zeile:",null,null,null,"Letzte Zeile:","Dernière ligne:","Ultima riga:"]
["Schutzwort:",null,null,null,"Schutzwort:","Mot de protection:","Codice protezione cartella:"]
["AHV-Pflicht ab:",null,null,null,"AHV-Pflicht ab:","Cotisations AVS dès le:","Soggetto alla contribuzione AVS dal: "]
["Version:",null,null,null,"Version:","Version:","Versione:"]
["TCRD (0=nein, 1=ja):",null,null,null,"TCRD (0=nein, 1=ja):","TCRD (0=non, 1=oui):","TCRD (0=no, 1=si):"]
[{"$f":"CONCATENATE(IF($A$1=3,G369,IF($A$1=2,F369,E369)))","v":"TCRD erste Zeile:"},null,null,null,"TCRD erste Zeile:","TCRD première ligne:","TCRD prima riga:"]
[{"$f":"CONCATENATE(IF($A$1=3,G370,IF($A$1=2,F370,E370)))","v":"TCRD letzte Zeile:"},null,null,null,"TCRD letzte Zeile:","TCRD dernière ligne:","TCRD ultima riga:"]
[]
[]
["Karenztage",null,null,null,"Karenztage","Jours d'attente","Periodo di attesa"]
[]
[]
[null,null,null,"Hilfetexte Blatt 3"]
[{"$f":"CONCATENATE(IF($A$1=3,G377,IF($A$1=2,F377,E377)))","v":"Hilfetexte für Saisonale Ausfallstunden"},null,null,null,"Hilfetexte für Saisonale Ausfallstunden","Texte d'aide pour la feuille de calcul \"Décompte concernant la réduction de l'horaire de travail\"","Guida in linea contestuale interattiva per la compilazione de la perdita stagionale"]
["Hilfetexttitel",null,null,null,"Hilfetexttitel","Titre du texte d'aide","Titoli della guida in linea contestuale interattiva "]
["Hilfetext",null,null,null,"Hilfetext","Texte d'aide","Guida in linea contestuale interattiva"]
["Sp. 1: Name/Vorname",null,null,null,"Sp. 1: Name/Vorname","Col. 1: Nom/Prénom","col. 1: cognome/nome"]
["In dieser Kolonne sind alle Arbeitnehmer des Betriebes oder der Betriebsabteilung aufzuführen.",null,null,null,"In dieser Kolonne sind alle Arbeitnehmer des Betriebes oder der Betriebsabteilung aufzuführen.","Inscrire dans cette colonne les noms de tous les travailleurs de l'entreprise ou du secteur d'exploitation.","Immettere tutti i collaboratori dell'azienda o del settore d'esercizio interessati.  "]
[]
["Sp. 2: Vertragliche wöchentliche Arbeitszeit",null,null,null,"Sp. 2: Vertragliche wöchentliche Arbeitszeit","Col. 2: Durée hebdomadaire de travail selon contrat","col. 2: orario contrattuale settimanale"]
["Einzutragen ist die individuelle, vertraglich vereinbarte Arbeitszeit je Arbeitnehmer, ohne allfällige Vorholzeit. Bei unterschiedlich langen Arbeitszeiten innerhalb eines Jahres ist die für die betreffende Abrechnungsperiode gültige Arbeitszeit einzutragen.",null,null,null,"Einzutragen ist die individuelle, vertraglich vereinbarte Arbeitszeit je Arbeitnehmer, ohne allfällige Vorholzeit. Bei unterschiedlich langen Arbeitszeiten innerhalb eines Jahres ist die für die betreffende Abrechnungsperiode gültige Arbeitszeit einzutragen.","Indiquer le temps de travail individuel convenu par contrat pour chaque employé sans les évtl. heures accomplie d'avance. Si le temps de travail varie pendant l'année, indiquer le temps de travail valable pour la période de décompte concernée.","Immettere l'orario individuale stabilito contrattualmente per ogni singolo collaboratore senza un'eventuale compensazione anticipata. Se l'orario contrattuale varia entro l'anno, occorre immettere l'orario vigente nel periodo di riferimento interessato. "]
[]
["Sp. 3: Sollstunden in der zeitgleichen Periode",null,null,null,"Sp. 3: Sollstunden in der zeitgleichen Periode","Col. 3: Temps de travail hebdomadaire durant la PD","col. 3: ore dovute nel periodo di riferimento"]
["Sollstunden in der zeitgleichen Periode des Vorjahres inklusive Vorholzeit.",null,null,null,"Sollstunden in der zeitgleichen Periode des Vorjahres inklusive Vorholzeit.","Temps de travail à effectuer pour la même période de l'année précédente y compris les heures accomplies d'avance.","Immettere le ore dovute compresa un'eventuale compensazione anticipata del periodo di riferimento dell'anno precedente."]
[]
["Sp. 4: Istzeit",null,null,null,"Sp. 4: Istzeit","Col. 4: Temps effectif","col. 4: ore effettive"]
["Einzutragen sind die tatsächlich gearbeiteten Stunden.",null,null,null,"Einzutragen sind die tatsächlich gearbeiteten Stunden.","Indiquer le nombre d'heures effectivement accomplies.","Immettere il numero delle ore di lavoro effettivamente prestate. "]
[]
["Sp. 5: Bezahlte/unbezahlte Absenzen",null,null,null,"Sp. 5: Bezahlte/unbezahlte Absenzen","Col. 5: Congés payés/non payés","col. 5: assenze pagate / non pagate"]
["Einzutragen sind die bezahlten und unbezahlten Absenzstunden für Ferien, Feiertage, freiwilliges Fernbleiben von der Arbeit, Krankheit, Unfall, Militärdienst usw.",null,null,null,"Einzutragen sind die bezahlten und unbezahlten Absenzstunden für Ferien, Feiertage, freiwilliges Fernbleiben von der Arbeit, Krankheit, Unfall, Militärdienst usw.","Indiquer toutes les heures d'absence pour cause de vacances, jours fériés, absence volontaire du travail, maladie, accident, service militaire, etc., payées et non payées.","Immettere il numero delle ore di assenza dal lavoro pagate e non pagate dal lavoro per vacanze, giorni festivi, assenze volontarie dal lavoro, malattia, infortunio, servizio militare, ecc. "]
[]
["Sp. 6: Ausfallstunden",null,null,null,"Sp. 6: Ausfallstunden","Col. 6: Heures perdues","col. 6: ore perse"]
["Ausgefallene Arbeitsstunden. Berechnung: Sp. 3 abzüglich Sp. 4 und 5.",null,null,null,"Ausgefallene Arbeitsstunden. Berechnung: Sp. 3 abzüglich Sp. 4 und 5.","Indiquer les heures de travail perdues. Calcul: col. 3 moins col. 4 et 5.","Numero delle ore di lavoro perse. Calcolo: col. 3 meno le col. 4 e 5."]
[]
["Erläuterungen zum Ausfüllen dieses Arbeitsblattes",null,null,null,"Erläuterungen zum Ausfüllen dieses Arbeitsblattes","Indications pour remplir cette feuille de calcul","Guida  in linea contestuale interattiva per la compilazione del foglio di lavoro"]
[{"$f":"CONCATENATE(B399,CHAR(13),CHAR(13),B400,CHAR(13),CHAR(13),B401,CHAR(13),CHAR(13),B402)","v":"Erläuterungen bekommen Sie, indem Sie den Cursor in die betreffende Spalte positionieren und gleichzeitig die Tasten \"STRG\" und \"h\" drücken. Auf englischen Tastaturen drücken Sie \"CTRL\" und \"h\".\r\rDamit die in einer Abrechnungsperiode geltend gemachten Ausfallstunden in saisonale (nicht entschädigbare) und wirtschaftlich bedingte (grundsätzlich entschädigbare) verteilt werden können, muss der durchschnittliche Arbeitsausfall in den zeitgleichen Perioden der beiden Vorjahre bekannt sein.\r\rZeitgleiche Perioden der Vorjahre: Wird z.B. Kurzarbeit für den Monat Januar 2009 geltend gemacht, dienen die Monate Januar 2007 und Januar 2008 als Vergleichsperioden.\r\rIn der geltend gemachten Abrechnungsperiode werden nur diejenigen Ausfallstunden entschädigt, welche den durchschnittlichen Ausfall der beiden Vergleichsmonate überschreiten."},{"$f":"CONCATENATE(IF($A$1=3,G399,IF($A$1=2,F399,E399)))","v":"Erläuterungen bekommen Sie, indem Sie den Cursor in die betreffende Spalte positionieren und gleichzeitig die Tasten \"STRG\" und \"h\" drücken. Auf englischen Tastaturen drücken Sie \"CTRL\" und \"h\"."},null,null,"Erläuterungen bekommen Sie, indem Sie den Cursor in die betreffende Spalte positionieren und gleichzeitig die Tasten \"STRG\" und \"h\" drücken. Auf englischen Tastaturen drücken Sie \"CTRL\" und \"h\".","Pour obtenir de l'aide, il convient de positionner le curseur dans la colonne du tableau Excel correspondante, puis d’appuyer simultanément sur les touches CTRL+h.","Per visualizzare il testo della guida relativo ad una cella, posizionare il cursore in una cella qualsiasi della colonna Excel interessata e poi premere CTRL+ h. "]
[null,{"$f":"CONCATENATE(IF($A$1=3,G400,IF($A$1=2,F400,E400)))","v":"Damit die in einer Abrechnungsperiode geltend gemachten Ausfallstunden in saisonale (nicht entschädigbare) und wirtschaftlich bedingte (grundsätzlich entschädigbare) verteilt werden können, muss der durchschnittliche Arbeitsausfall in den zeitgleichen Perioden der beiden Vorjahre bekannt sein."},null,null,"Damit die in einer Abrechnungsperiode geltend gemachten Ausfallstunden in saisonale (nicht entschädigbare) und wirtschaftlich bedingte (grundsätzlich entschädigbare) verteilt werden können, muss der durchschnittliche Arbeitsausfall in den zeitgleichen Perioden der beiden Vorjahre bekannt sein.","Pour pouvoir répartir les heures de travail perdues pendant une période de contrôle entre les pertes imputables à des facteurs saisonniers (et donc non indemnisables) et les pertes imputables à des facteurs économiques (et donc en principe indemnisables), il faut connaître le nombre moyen d'heures perdues pendant la même période des deux années précédentes.","Per poter distinguere, in un periodo di conteggio, le ore perse (stagionali) non indennizzabili dalle ore perse (per motivi economici) indennizzabili, occorre essere a conoscenza della perdita di ore di lavoro nei periodi di riferimento dei due anni precedenti. "]
[null,{"$f":"CONCATENATE(IF($A$1=3,G401,IF($A$1=2,F401,E401)))","v":"Zeitgleiche Perioden der Vorjahre: Wird z.B. Kurzarbeit für den Monat Januar 2009 geltend gemacht, dienen die Monate Januar 2007 und Januar 2008 als Vergleichsperioden."},null,null,"Zeitgleiche Perioden der Vorjahre: Wird z.B. Kurzarbeit für den Monat Januar 2009 geltend gemacht, dienen die Monate Januar 2007 und Januar 2008 als Vergleichsperioden.","Même période des années précédentes: Si l'employeur demande l'indemnité en cas de réduction de l'horaire de travail (RHT) par exemple pour le mois de janvier 2009, les mois de janvier 2007 et de janvier 2008 servent de période de référence.","Periodi di riferimento degli anni precedenti. Esempio: se viene chiesta l'indennità per lavoro ridotto per il mese di gennaio 2009, i mesi di gennaio degli anni 2007 e 2008 costituiscono i relativi periodi di riferimento. "]
[null,{"$f":"CONCATENATE(IF($A$1=3,G402,IF($A$1=2,F402,E402)))","v":"In der geltend gemachten Abrechnungsperiode werden nur diejenigen Ausfallstunden entschädigt, welche den durchschnittlichen Ausfall der beiden Vergleichsmonate überschreiten."},null,null,"In der geltend gemachten Abrechnungsperiode werden nur diejenigen Ausfallstunden entschädigt, welche den durchschnittlichen Ausfall der beiden Vergleichsmonate überschreiten.","Pour la période de décompte où l'employeur fait valoir le droit à l'indemnité en cas de RHT, seules seront indemnisées les heures qui dépassent la perte moyenne des deux périodes de référence.","Nel periodo di conteggio per cui viene chiesta l'indennità per lavoro ridotto vengono indennizzate esclusivamente le ore perse che superano la media delle ore perse nei due mesi precedenti.  "]
[]
[{"$f":"CONCATENATE(IF($A$1=3,G404,IF($A$1=2,F404,E404)))","v":"Sp. 1: Name/Vorname"},null,null,null,"Sp. 1: Name/Vorname","Col. 1: Nom/Prénom","col. 1: cognome/nome"]
["In dieser Kolonne sind alle Arbeitnehmer des Betriebes oder der Betriebsabteilung aufzuführen.",null,null,null,"In dieser Kolonne sind alle Arbeitnehmer des Betriebes oder der Betriebsabteilung aufzuführen.","Inscrire dans cette colonne les noms de tous les travailleurs de l'entreprise ou du secteur d'exploitation.","Immettere tutti i collaboratori dell'azienda o del settore d'esercizio interessati.  "]
[]
["Sp. 2: Vertragliche wöchentliche Arbeitszeit",null,null,null,"Sp. 2: Vertragliche wöchentliche Arbeitszeit","Col. 2: Durée hebdomadaire de travail selon contrat","col. 2: orario contrattuale settimanale"]
["Einzutragen ist die individuelle, vertraglich vereinbarte Arbeitszeit je Arbeitnehmer, ohne allfällige Vorholzeit. Bei unterschiedlich langen Arbeitszeiten innerhalb eines Jahres ist die für die betreffende Abrechnungsperiode gültige Arbeitszeit einzutragen.",null,null,null,"Einzutragen ist die individuelle, vertraglich vereinbarte Arbeitszeit je Arbeitnehmer, ohne allfällige Vorholzeit. Bei unterschiedlich langen Arbeitszeiten innerhalb eines Jahres ist die für die betreffende Abrechnungsperiode gültige Arbeitszeit einzutragen.","Indiquer le temps de travail individuel convenu par contrat pour chaque employé sans les évtl. heures accomplie d'avance. Si le temps de travail varie pendant l'année, indiquer le temps de travail valable pour la période de décompte concernée.","Immettere l'orario individuale stabilito contrattualmente per ogni singolo collaboratore senza un'eventuale compensazione anticipata. Se l'orario contrattuale varia entro l'anno, occorre immettere l'orario vigente nel periodo di riferimento interessato. "]
[]
["Sp. 3: Sollstunden in der zeitgleichen Periode",null,null,null,"Sp. 3: Sollstunden in der zeitgleichen Periode","Col. 3: Temps de travail à effectuer pour la même période","col. 3: ore dovute nel periodo di riferimento"]
["Sollstunden in der zeitgleichen Periode des vorletzten Jahres inklusive Vorholzeit.",null,null,null,"Sollstunden in der zeitgleichen Periode des vorletzten Jahres inklusive Vorholzeit.","Temps de travail à effectuer pour la même période de l'avant-dernière année y compris les heures accomplies d'avance.","Immettere le ore dovute compresa un'eventuale compensazione anticipata del periodo di riferimento di due anni prima."]
[]
["Sp. 4: Istzeit",null,null,null,"Sp. 4: Istzeit","Col. 4: Temps effectif","col. 4: ore effettive"]
["Einzutragen sind die tatsächlich gearbeiteten Stunden.",null,null,null,"Einzutragen sind die tatsächlich gearbeiteten Stunden.","Indiquer le nombre d'heures effectivement accomplies.","Immettere il numero delle ore di lavoro effettivamente prestate. "]
[]
["Sp. 5: Bezahlte/unbezahlte Absenzen",null,null,null,"Sp. 5: Bezahlte/unbezahlte Absenzen","Col. 5: Congés payés/non payés","col. 5: assenze pagate / non pagate"]
["Einzutragen sind die bezahlten und unbezahlten Absenzstunden für Ferien, Feiertage, freiwilliges Fernbleiben von der Arbeit, Krankheit, Unfall, Militärdienst usw.",null,null,null,"Einzutragen sind die bezahlten und unbezahlten Absenzstunden für Ferien, Feiertage, freiwilliges Fernbleiben von der Arbeit, Krankheit, Unfall, Militärdienst usw.","Indiquer toutes les heures d'absence pour cause de vacances, jours fériés, absence volontaire du travail, maladie, accident, service militaire, etc., payées et non payées.","Immettere il numero delle ore di assenza dal lavoro pagate e non pagate dal lavoro per vacanze, giorni festivi, assenze volontarie dal lavoro, malattia, infortunio, servizio militare, ecc. "]
[]
["Sp. 6: Ausfallstunden",null,null,null,"Sp. 6: Ausfallstunden","Col. 6: Heures perdues","col. 6: ore perse"]
["Ausgefallene Arbeitsstunden. Berechnung: Sp. 3 abzüglich Sp. 4 und 5.",null,null,null,"Ausgefallene Arbeitsstunden. Berechnung: Sp. 3 abzüglich Sp. 4 und 5.","Indiquer les heures de travail perdues. Calcul: col. 3 moins col. 4 et 5.","Numero delle ore di lavoro perse. Calcolo: col. 3 meno le col. 4 e 5."]
[]
[]
[]
[null,null,null,"Hilfetexte Blatt 4"]
[{"$f":"CONCATENATE(IF($A$1=3,G425,IF($A$1=2,F425,E425)))","v":"Hilfetexte für Abrechnung von Kurzarbeit"},null,null,null,"Hilfetexte für Abrechnung von Kurzarbeit","Texte d'aide pour la feuille de calcul \"Décompte concernant la réduction de l'horaire de travail\"","Guida in linea contestuale interattiva per la compilazione del conteggio sul lavoro ridotto "]
["Hilfetexttitel",null,null,null,"Hilfetexttitel","Titre du texte d'aide","Titoli della guida in linea contestuale interattiva "]
["Hilfetext",null,null,null,"Hilfetext","Texte d'aide","Guida in linea contestuale interattiva"]
["Allgemeine Erläuterungen",null,null,null,"Allgemeine Erläuterungen","Indications d'ordre général","Spiegazioni generali"]
["Erläuterungen bekommen Sie, indem Sie den Cursor in die betreffende Spalte positionieren und gleichzeitig die Tasten \"STRG\" und \"h\" drücken. Auf englischen Tastaturen drücken Sie \"CTRL\" und \"h\".",null,null,null,"Erläuterungen bekommen Sie, indem Sie den Cursor in die betreffende Spalte positionieren und gleichzeitig die Tasten \"STRG\" und \"h\" drücken. Auf englischen Tastaturen drücken Sie \"CTRL\" und \"h\".","Pour obtenir de l'aide, il convient de positionner le curseur dans la colonne du tableau Excel correspondante, puis d’appuyer simultanément sur les touches CTRL+h.","Per visualizzare il testo della guida relativo ad una cella, posizionare il cursore in una cella qualsiasi della colonna Excel interessata e poi premere CTRL+ h. "]
["Sp. 1: Name/Vorname",null,null,null,"Sp. 1: Name/Vorname","Col. 1: Nom/Prénom","col. 1: cognome/nome"]
["Auf der Abrechnung ist pro Abrechnungsperiode jede arbeitnehmende Person des Betriebes/der Betriebsabteilung aufzuführen, ungeachtet, ob er von Kurzarbeit betroffen ist oder nicht. Für die Nichtbetroffenen genügen die Angaben unter Sp. 1, Sp. 4 und Sp. 6.",null,null,null,"Auf der Abrechnung ist pro Abrechnungsperiode jede arbeitnehmende Person des Betriebes/der Betriebsabteilung aufzuführen, ungeachtet, ob er von Kurzarbeit betroffen ist oder nicht. Für die Nichtbetroffenen genügen die Angaben unter Sp. 1, Sp. 4 und Sp. 6.","Sur le décompte, il y a lieu de faire figurer, pour chaque période de décompte, tous les travailleurs de l’entreprise ou du secteur d’exploitation, qu’ils soient touchés ou non par la réduction de l’horaire de travail. Pour ceux qui ne sont pas touchés, il suffit d’inscrire les indications les concernant dans les colonnes 1, 4 et 6.","Per ogni singolo periodo di conteggio devono essere elencati gli estremi di ciascun lavoratore dell'azienda/del settore d'esercizio. La registrazione si effettua indipendentemente dallo stato di avente diritto all’indennità per lavoro ridotto del lavoratore. Per le persone non aventi diritto sono sufficienti le indicazioni contenute nelle col. 1, 4 e 6."]
[]
[{"$f":"CONCATENATE(IF($A$1=3,G433,IF($A$1=2,F433,E433)))","v":"Sp. 2: Anrechenbarer Stundenverdienst"},null,null,null,"Sp. 2: Anrechenbarer Stundenverdienst","Col. 2: Gain horaire à prendre en considération","col. 2: guadagno orario computabile"]
[{"$f":"CONCATENATE(B434,CHAR(13),B435,CHAR(13),CHAR(13),B436)","v":"Massgebend ist der vertraglich vereinbarte Lohn in der letzten Zahltagsperiode vor Beginn der Arbeitsausfälle\r(max. Fr. 10’500.--). Eingeschlossen sind der Anteil des 13. Monatslohnes, die Ferien- und Feiertagsentschädigung, die vertraglich vereinbarten Zulagen, soweit sie nicht während der Kurzarbeit weiter bezahlt werden oder Entschädigungen für arbeitsbedingte Inkonvenienzen sind.\r\rErmittlung des anrechenbaren Stundenverdienstes siehe Broschüre „Info-Service Kurzarbeitsentschädigung“."},{"$f":"CONCATENATE(IF($A$1=3,G434,IF($A$1=2,F434,E434)))","v":"Massgebend ist der vertraglich vereinbarte Lohn in der letzten Zahltagsperiode vor Beginn der Arbeitsausfälle"},null,{"$f":"CONCATENATE(G434,CHAR(13),G435,CHAR(13),CHAR(13),G436)","v":"È determinante il salario convenuto per contratto nell'ultimo intervallo di pagamento del salario prima dell'inizio della perdita di ore di lavoro.\r(al massimo fr. 10 500.--). Sono comprese la parte proporzionale della 13a mensilità, l'indennità di vacanza e per i giorni festivi e le altre componenti retributive nel momento che continuano ad essere pagate anche durante il periodo di lavoro ridotto o costituiscono indennità d'inconvenienza.  \r\rPer la determinazione del guadagno orario computabile, vedi nell'Info-Service ”Indennità per lavoro ridotto“, consultabile soltanto nel sito Internet www.area-lavoro.ch."},"Massgebend ist der vertraglich vereinbarte Lohn in der letzten Zahltagsperiode vor Beginn der Arbeitsausfälle","Est déterminant le salaire contractuel versé pour la dernière période de paie avant le début de la perte de travail.","È determinante il salario convenuto per contratto nell'ultimo intervallo di pagamento del salario prima dell'inizio della perdita di ore di lavoro."]
[null,{"$f":"CONCATENATE(IF($A$1=3,G435,IF($A$1=2,F435,E435)))","v":"(max. Fr. 10’500.--). Eingeschlossen sind der Anteil des 13. Monatslohnes, die Ferien- und Feiertagsentschädigung, die vertraglich vereinbarten Zulagen, soweit sie nicht während der Kurzarbeit weiter bezahlt werden oder Entschädigungen für arbeitsbedingte Inkonvenienzen sind."},null,null,"(max. Fr. 10’500.--). Eingeschlossen sind der Anteil des 13. Monatslohnes, die Ferien- und Feiertagsentschädigung, die vertraglich vereinbarten Zulagen, soweit sie nicht während der Kurzarbeit weiter bezahlt werden oder Entschädigungen für arbeitsbedingte Inkonvenienzen sind.","(Fr. 10'500.– au maximum). Ce salaire déterminant comprend la part du 13e salaire, les indemnités de vacances et pour jours fériés, les allocations convenues contractuellement, du moment qu'elles ne sont pas versées durant la RHT ou qu'elles représentent des indemnités pour inconvénients liés à l’exécution du travail.","(al massimo fr. 10 500.--). Sono comprese la parte proporzionale della 13a mensilità, l'indennità di vacanza e per i giorni festivi e le altre componenti retributive nel momento che continuano ad essere pagate anche durante il periodo di lavoro ridotto o costituiscono indennità d'inconvenienza.  "]
[null,{"$f":"CONCATENATE(IF($A$1=3,G436,IF($A$1=2,F436,E436)))","v":"Ermittlung des anrechenbaren Stundenverdienstes siehe Broschüre „Info-Service Kurzarbeitsentschädigung“."},null,null,"Ermittlung des anrechenbaren Stundenverdienstes siehe Broschüre „Info-Service Kurzarbeitsentschädigung“.","Pour déterminer le gain horaire à prendre en considération, voir la brochure intitulée \"Info-Service L'indemnité en cas de réduction de l'horaire de travail“.","Per la determinazione del guadagno orario computabile, vedi nell'Info-Service ”Indennità per lavoro ridotto“, consultabile soltanto nel sito Internet www.area-lavoro.ch."]
[]
[{"$f":"CONCATENATE(IF($A$1=3,G438,IF($A$1=2,F438,E438)))","v":"Sp. 3: Wöchentliche Arbeitszeit in der AP"},null,null,null,"Sp. 3: Wöchentliche Arbeitszeit in der AP","Col. 3: Temps de travail hebdomadaire durant la PD","col. 3: orario contrattuale settimanale durante il PC"]
[{"$f":"CONCATENATE(IF($A$1=3,G439,IF($A$1=2,F439,E439)))","v":"Einzutragen ist die individuelle, vertraglich vereinbarte Arbeitszeit je arbeitnehmende Person, ohne allfällige Vorholzeit. Bei unterschiedlich langen Arbeitszeiten innerhalb eines Jahres ist die für die betreffende Abrechnungsperiode gültige Arbeitszeit einzutragen."},null,null,null,"Einzutragen ist die individuelle, vertraglich vereinbarte Arbeitszeit je arbeitnehmende Person, ohne allfällige Vorholzeit. Bei unterschiedlich langen Arbeitszeiten innerhalb eines Jahres ist die für die betreffende Abrechnungsperiode gültige Arbeitszeit einzutragen.","Il faut porter dans cette colonne le temps de travail individuel, contractuel, pour chaque travailleur, sans les heures effectuées d’avance. Lorsque la durée du travail varie durant l’année, indiquer le temps de travail valable pour la période de décompte concernée.","Immettere l'orario individuale stabilito contrattualmente per ogni singolo collaboratore senza un'eventuale compensazione anticipata. Se l'orario contrattuale varia entro l'anno, occorre immettere l'orario vigente nel periodo di riferimento interessato."]
[]
[{"$f":"CONCATENATE(IF($A$1=3,G441,IF($A$1=2,F441,E441)))","v":"Sp. 4: Sollstunden der Abrechnungsperiode inklusive Vorholzeit"},null,null,null,"Sp. 4: Sollstunden der Abrechnungsperiode inklusive Vorholzeit","Col. 4: Heures à effectuer pendant la période de décompte y c. les heures accomplies d’avance","col. 4: ore dovute inclusa la compensazione anticipata"]
[{"$f":"CONCATENATE(IF($A$1=3,G442,IF($A$1=2,F442,E442)))","v":"Umfasst die Zahltagsperiode eine, zwei oder vier Wochen, so beträgt die Abrechnungsperiode vier Wochen. In allen übrigen Fällen beträgt die Abrechnungsperiode einen Monat."},null,null,null,"Umfasst die Zahltagsperiode eine, zwei oder vier Wochen, so beträgt die Abrechnungsperiode vier Wochen. In allen übrigen Fällen beträgt die Abrechnungsperiode einen Monat.","Si la période de paie est de une, deux ou quatre semaines, la période de décompte est de quatre semaines. Dans tous les autres cas, la période décompte équivaut à un mois civil. ","Se il salario è pagato ad intervalli di 1, 2 o 4 settimane, il periodo di conteggio è considerato un periodo di tempo di 4 settimane. In tutti gli altri casi, il periodo di conteggio è di un mese."]
[]
[{"$f":"CONCATENATE(IF($A$1=3,G444,IF($A$1=2,F444,E444)))","v":"Sp. 5: Istzeit"},null,null,null,"Sp. 5: Istzeit","Col. 5: Durée effective de travail","col. 5: ore effettive"]
[{"$f":"CONCATENATE(IF($A$1=3,G445,IF($A$1=2,F445,E445)))","v":"Die tatsächlich gearbeiteten Stunden inkl. allfällige in dieser Abrechnungsperiode geleisteten Mehrstunden."},null,null,null,"Die tatsächlich gearbeiteten Stunden inkl. allfällige in dieser Abrechnungsperiode geleisteten Mehrstunden.","Heures effectivement accomplies, y compris les heures supplémentaires accomplies éventuellement pendant la période de décompte concernée.","Numero delle ore di lavoro effettivamente prestate comprese le eventuali ore supplementari prestate nel periodo di conteggio interessato."]
[]
[{"$f":"CONCATENATE(IF($A$1=3,G447,IF($A$1=2,F447,E447)))","v":"Sp. 6: Bezahlte/unbezahlte Absenzen"},null,null,null,"Sp. 6: Bezahlte/unbezahlte Absenzen","Col. 6: Congés payés/non payés","col. 6: assenze pagate / non pagate"]
[{"$f":"CONCATENATE(IF($A$1=3,G448,IF($A$1=2,F448,E448)))","v":"Sämtliche bezahlten und unbezahlten Absenzen (Ferien, Feiertage, freiwilliges Fernbleiben von der Arbeit, Krankheit, Unfall, Militärdienst usw.) in Stunden."},null,null,null,"Sämtliche bezahlten und unbezahlten Absenzen (Ferien, Feiertage, freiwilliges Fernbleiben von der Arbeit, Krankheit, Unfall, Militärdienst usw.) in Stunden.","Ensemble des heures d’absences payées et non payées comme les vacances, jours fériés, absences volontaires, maladie, accidents, service militaire, etc.","Numero delle ore di assenza dal lavoro pagate e non pagate dal lavoro (per vacanze, giorni festivi, assenze volontarie dal lavoro, malattia, infortunio, servizio militare, ecc.)."]
[]
[{"$f":"CONCATENATE(IF($A$1=3,G450,IF($A$1=2,F450,E450)))","v":"Sp. 7: Gleitzeit. Saldo Ende vorhergehende Abrechnungsperiode"},null,null,null,"Sp. 7: Gleitzeit. Saldo Ende vorhergehende Abrechnungsperiode","Col. 7: Horaire mobile. Solde à la fin de la période précédente","col. 7: orario flessibile. Saldo al termine del periodo di conteggio precedente"]
[{"$f":"CONCATENATE(IF($A$1=3,G451,IF($A$1=2,F451,E451)))","v":"Zulässiger Plus-Stundensaldo gemäss betrieblicher Gleitzeitregelung, max. 20 Arbeitsstunden; darüber liegende Stunden gelten als Mehrstunden."},null,null,null,"Zulässiger Plus-Stundensaldo gemäss betrieblicher Gleitzeitregelung, max. 20 Arbeitsstunden; darüber liegende Stunden gelten als Mehrstunden.","Le solde des heures en plus autorisé par le régime d’horaire de travail mobile, est de 20 heures au maximum; les heures excédant le solde maximum du nombre d’heures à effectuer sont considérées comme heures en plus.","Saldo delle ore flessibili a garanzia della flessibilità aziendale e personale (+) fino ad un massimo di 20 ore di lavoro in più; se si supera un'eccedenza di 20 ore, le ore flessibili sono considerate ore straordinarie."]
[]
[{"$f":"CONCATENATE(IF($A$1=3,G453,IF($A$1=2,F453,E453)))","v":"Sp. 7: Gleitzeit. Saldo Ende laufende Abrechnungsperiode"},null,null,null,"Sp. 7: Gleitzeit. Saldo Ende laufende Abrechnungsperiode","Col. 7: Horaire mobile. Solde à la fin de la période concernée","col. 7: orario flessibile. Saldo al termine del periodo di conteggio corrente"]
[{"$f":"CONCATENATE(IF($A$1=3,G454,IF($A$1=2,F454,E454)))","v":"Zulässiger Plus-Stundensaldo gemäss betrieblicher Gleitzeitregelung, max. 20 Arbeitsstunden; darüber liegende Stunden gelten als Mehrstunden."},null,null,null,"Zulässiger Plus-Stundensaldo gemäss betrieblicher Gleitzeitregelung, max. 20 Arbeitsstunden; darüber liegende Stunden gelten als Mehrstunden.","Le solde des heures en plus autorisé selon le régime d’horaire de travail mobile, est de 20 heures au maximum; Les heures excédant le solde maximum du nombre d’heures à effectuer sont considérées comme heures en plus.","Saldo delle ore flessibili a garanzia della flessibilità aziendale e personale (+) fino ad un massimo di 20 ore di lavoro in più; se si supera un'eccedenza di 20 ore, le ore flessibili sono considerate ore straordinarie."]
[]
[{"$f":"CONCATENATE(IF($A$1=3,G456,IF($A$1=2,F456,E456)))","v":"Sp. 7: Gleitzeit. Differenz mit umgekehrten Vorzeichen"},null,null,null,"Sp. 7: Gleitzeit. Differenz mit umgekehrten Vorzeichen","Col. 7: Horaire mobile. La différence sera inscrite en négatif (signe – ) si la différence est positive, en positif (signe +) si elle est négative.","col. 7: orario flessibile. Differenza con segni matematici inversi"]
[{"$f":"CONCATENATE(IF($A$1=3,G457,IF($A$1=2,F457,E457)))","v":"Berechnung: Saldo Ende der vorhergehenden Periode abzüglich Saldo Ende der laufenden Periode."},null,null,null,"Berechnung: Saldo Ende der vorhergehenden Periode abzüglich Saldo Ende der laufenden Periode.","Calcul: Solde à la fin de la période décompte précédente moins le solde à la fin de la période de décompte concernée.","Calcolo: saldo al termine del periodo di conteggio precedente meno il saldo al termine del periodo di conteggio corrente."]
[]
[{"$f":"CONCATENATE(IF($A$1=3,G459,IF($A$1=2,F459,E459)))","v":"Sp. 8: Ausfallstunden total"},null,null,null,"Sp. 8: Ausfallstunden total","Col. 8: Total des heures perdues","col. 8: totale delle ore perse dovute a lavoro ridotto"]
[{"$f":"CONCATENATE(IF($A$1=3,G460,IF($A$1=2,F460,E460)))","v":"Die tatsächlich ausgefallenen, angeordneten Kurzarbeitsstunden, höchstens jedoch die Anzahl Stunden, die sich aus folgender Berechnung ergeben: Sp. 4 abzüglich des Totals von Sp. 5, 6, und 7 (Differenz)."},null,null,null,"Die tatsächlich ausgefallenen, angeordneten Kurzarbeitsstunden, höchstens jedoch die Anzahl Stunden, die sich aus folgender Berechnung ergeben: Sp. 4 abzüglich des Totals von Sp. 5, 6, und 7 (Differenz).","Heures effectivement perdues en raison de la réduction de l’horaire de travail imposée, mais au maximum, le résultat du calcul suivant: Col. 4 moins le total des colonnes 5, 6, et 7 (Différence).","Numero delle ore di lavoro effettivamente perse in seguito alla riduzione del lavoro fino al massimo del numero di ore che risulta dal calcolo seguente: col. 4 meno il totale delle col. 5, 6, e 7 (differenza)."]
[]
[{"$f":"CONCATENATE(IF($A$1=3,G462,IF($A$1=2,F462,E462)))","v":"Sp. 9: Saldo der ausbezahlten und noch nicht ausbezahlten Mehrstunden aus den Vormonaten"},null,null,null,"Sp. 9: Saldo der ausbezahlten und noch nicht ausbezahlten Mehrstunden aus den Vormonaten","Col. 9: Solde des heures supplémentaires déjà payées et pas encore payées, effectuées les mois précédents","col. 9: saldo ore supplementari dei mesi precedenti pagate e non ancora pagate"]
[{"$f":"CONCATENATE(IF($A$1=3,G463,IF($A$1=2,F463,E463)))","v":"Einzutragen sind alle in den sechs Monaten vor Beginn der zweijährigen Rahmenfrist geleisteten und zeitlich nicht ausgeglichenen Mehrstunden. Nach Beginn der Rahmenfrist sind alle innerhalb der Rahmenfrist geleisteten und zeitlich nicht ausgeglichenen Mehrstunden zu erfassen, soweit sie nicht länger als zwölf Monate zurückliegen. Diese Mehrstunden reduzieren die anrechenbaren Ausfallstunden (Sp. 11), soweit sie die nicht entschädigbaren saisonalen Ausfallstunden (Sp. 10) überschreiten; d.h. Mehrstundensaldi werden zuerst durch die saisonalen Ausfallstunden ausgeglichen, bevor die anrechenbaren Ausfallstunden reduziert werden. Mehrstundensaldi, die nicht vollständig durch die saisonalen und anrechenbaren Ausfallstunden ausgeglichen werden können, sind auf die nächste Abrechnungsperiode vorzutragen."},null,null,null,"Einzutragen sind alle in den sechs Monaten vor Beginn der zweijährigen Rahmenfrist geleisteten und zeitlich nicht ausgeglichenen Mehrstunden. Nach Beginn der Rahmenfrist sind alle innerhalb der Rahmenfrist geleisteten und zeitlich nicht ausgeglichenen Mehrstunden zu erfassen, soweit sie nicht länger als zwölf Monate zurückliegen. Diese Mehrstunden reduzieren die anrechenbaren Ausfallstunden (Sp. 11), soweit sie die nicht entschädigbaren saisonalen Ausfallstunden (Sp. 10) überschreiten; d.h. Mehrstundensaldi werden zuerst durch die saisonalen Ausfallstunden ausgeglichen, bevor die anrechenbaren Ausfallstunden reduziert werden. Mehrstundensaldi, die nicht vollständig durch die saisonalen und anrechenbaren Ausfallstunden ausgeglichen werden können, sind auf die nächste Abrechnungsperiode vorzutragen.","Indiquer toutes les heures supplémentaires effectuées les six derniers mois avant le début du délai-cadre de deux ans et qui n'ont pas été compensées par du temps libre. Après le début du délai cadre, compter toutes les heures supplémentaires effectuées pendant ce délai-cadre, mais au plus pendant les douze derniers mois, qui n'ont pas été compensées par du temps libre. Ces heures supplémentaires sont d'abord compensées par les heures perdues imputables à des facteurs saisonniers (col. 10). Le solde éventuel est déduit des heures perdues à prendre en considération (col. 11). Le solde des heures supplémentaires qui n'aura pu être compensé est à reporter sur la période de décompte suivante.","Immettere il numero di ore supplementari prestate nei primi sei mesi anteriori all'inizio del termine quadro biennale e non compensate. Dopo l'inizio del termine quadro occorre immettere tutte le ore supplementari prestate entro il termine quadro e non compensate se risalgono a meno di dodici mesi fa. Tali ore supplementari vanno a ridurre le ore perse computabili (col. 11) a meno che non superano il numero della perdita stagionale di ore di lavoro (col. 10). Ciò significa che i saldi delle ore supplementari vengono compensati con le ore perse computabili prima che vengano ridotte le ore perse computabili. Saldi di ore supplementari che non possono essere compensate pienamente con il numero della perdita stagionale di ore di lavoro computabili sono da riportare al periodo di conteggio successivo."]
[]
[{"$f":"CONCATENATE(IF($A$1=3,G465,IF($A$1=2,F465,E465)))","v":"Sp. 10: Saisonale Ausfallstunden"},null,null,null,"Sp. 10: Saisonale Ausfallstunden","Col. 10: Heures perdues imputables à des facteurs saisonniers","col. 10: perdita stagionale di ore di lavoro"]
[{"$f":"CONCATENATE(B466,CHAR(13),CHAR(13),B467)","v":"Diese Kolonne wird berechnet, wenn die kantonale Amtsstelle in ihrem Entscheid bezüglich der Saisonalität einen Vorbehalt angebracht hat, wonach die Ausfallstunden, die auf die Saisonalität zurückzuführen sind, nicht entschädigt werden können.\r\rDifferenz zwischen Ausfallstunden total (Sp. 8) und anrechenbaren Ausfallstunden (Sp. 11). Es handelt sich um eine Kontrollspalte, da die Mehrstunden-Saldi (Sp. 9) die anrechenbaren Ausfallstunden (Sp. 11) nur reduzieren, soweit sie noch nicht durch die saisonalen Ausfallstunden getilgt werden konnten."},{"$f":"CONCATENATE(IF($A$1=3,G466,IF($A$1=2,F466,E466)))","v":"Diese Kolonne wird berechnet, wenn die kantonale Amtsstelle in ihrem Entscheid bezüglich der Saisonalität einen Vorbehalt angebracht hat, wonach die Ausfallstunden, die auf die Saisonalität zurückzuführen sind, nicht entschädigt werden können."},null,null,"Diese Kolonne wird berechnet, wenn die kantonale Amtsstelle in ihrem Entscheid bezüglich der Saisonalität einen Vorbehalt angebracht hat, wonach die Ausfallstunden, die auf die Saisonalität zurückzuführen sind, nicht entschädigt werden können.","Cette colonne doit être remplie uniquement si l'autorité cantonale a assorti sa décision d'une réserve concernant la saisonnalité disant que les heures perdues imputables à des facteurs saisonniers ne peuvent être indemnisées.","Questa colonna viene calcolata se il servizio competente cantonale ha incluso nella sua decisione una riserva relativa alla stagionalità. Di conseguenza, le ore di lavoro perse per motivi di stagionalità non saranno indennizzate. "]
[null,{"$f":"CONCATENATE(IF($A$1=3,G467,IF($A$1=2,F467,E467)))","v":"Differenz zwischen Ausfallstunden total (Sp. 8) und anrechenbaren Ausfallstunden (Sp. 11). Es handelt sich um eine Kontrollspalte, da die Mehrstunden-Saldi (Sp. 9) die anrechenbaren Ausfallstunden (Sp. 11) nur reduzieren, soweit sie noch nicht durch die saisonalen Ausfallstunden getilgt werden konnten."},null,null,"Differenz zwischen Ausfallstunden total (Sp. 8) und anrechenbaren Ausfallstunden (Sp. 11). Es handelt sich um eine Kontrollspalte, da die Mehrstunden-Saldi (Sp. 9) die anrechenbaren Ausfallstunden (Sp. 11) nur reduzieren, soweit sie noch nicht durch die saisonalen Ausfallstunden getilgt werden konnten.","Différence entre le total des heures perdues (col. 8) et les heures perdues à prendre en considération (col. 11). Il s'agit-là d'une colonne de contrôle puisque les soldes des heures supplémentaires (col. 9) ne sont soustraits des heures perdues à prendre en considération (col. 11) que si ces soldes n'ont pu être compensés par les heures perdues imputables à des facteurs saisonniers.","Differenza tra il totale delle ore perse (col. 8) e le ore perse computabili (col. 11). Si tratta di una colonna di verifica: i saldi delle ore supplementari (col. 9) possono ridurre le ore perse computabili (col. 11) soltanto nella misura in cui queste ultime non sono state compensate dalla perdita stagionale di ore di lavoro. "]
[null,{"$f":"CONCATENATE(IF($A$1=3,G468,IF($A$1=2,F468,E468)))","v":""}]
[{"$f":"CONCATENATE(IF($A$1=3,G469,IF($A$1=2,F469,E469)))","v":"Sp. 11: Anrechenbare Ausfallstunden"},null,null,null,"Sp. 11: Anrechenbare Ausfallstunden","Col. 11: Heures perdues à prendre en considération","col. 11: ore perse computabili"]
[{"$f":"CONCATENATE(B470,CHAR(13),CHAR(13),B471,CHAR(13),CHAR(13),B472)","v":"Hat die kantonale Amtsstelle in ihrem Entscheid bezüglich der Saisonalität einen Vorbehalt angebracht, ist aufgrund der ausgefallenen Arbeitsstunden in den gleichen Perioden der beiden Vorjahre ein Verteilschlüssel zu ermitteln, nach dem die Ausfallstunden in nicht entschädigbare (saisonale) und grundsätzlich entschädigbare zu verteilen sind. Berechnungsanleitung und Anwendung des Verteilschlüssels finden Sie in der Broschüre „Info-Service Kurzarbeitsentschädigung“ und auf dem Arbeitsblatt 'Saisonale Ausfallstunden'.\r\rDie anrechenbaren Ausfallstunden reduzieren sich zudem um die Mehrstundensaldi (Sp. 9), soweit diese nicht durch die saisonalen Ausfallstunden getilgt werden konnten.\r\rHat ein Betrieb weder Mehrstunden aus Vormonaten noch saisonale Ausfallstunden aufzuweisen, entspricht die Kolonne 11 der Kolonne 8."},{"$f":"CONCATENATE(IF($A$1=3,G470,IF($A$1=2,F470,E470)))","v":"Hat die kantonale Amtsstelle in ihrem Entscheid bezüglich der Saisonalität einen Vorbehalt angebracht, ist aufgrund der ausgefallenen Arbeitsstunden in den gleichen Perioden der beiden Vorjahre ein Verteilschlüssel zu ermitteln, nach dem die Ausfallstunden in nicht entschädigbare (saisonale) und grundsätzlich entschädigbare zu verteilen sind. Berechnungsanleitung und Anwendung des Verteilschlüssels finden Sie in der Broschüre „Info-Service Kurzarbeitsentschädigung“ und auf dem Arbeitsblatt 'Saisonale Ausfallstunden'."},null,null,"Hat die kantonale Amtsstelle in ihrem Entscheid bezüglich der Saisonalität einen Vorbehalt angebracht, ist aufgrund der ausgefallenen Arbeitsstunden in den gleichen Perioden der beiden Vorjahre ein Verteilschlüssel zu ermitteln, nach dem die Ausfallstunden in nicht entschädigbare (saisonale) und grundsätzlich entschädigbare zu verteilen sind. Berechnungsanleitung und Anwendung des Verteilschlüssels finden Sie in der Broschüre „Info-Service Kurzarbeitsentschädigung“ und auf dem Arbeitsblatt 'Saisonale Ausfallstunden'.","Si l'autorité cantonale a assorti sa décision d'une réserve concernant la saisonnalité, il faut alors déterminer, sur la base des heures de travail perdues pendant les mêmes périodes des deux années précédentes, la clé selon laquelle répartir les heures perdues entre les pertes saisonnières non indemnisables et les pertes en principe indemnisables. Des indications relatives à ce calcul et à l'utilisation de la clé servant à répartir les heures se trouvent dans la brochure intitulée „Info-Service L'indemnité en cas de réduction de l'horaire de travail“ et sur la feuille de calcul 'Heures perdues imputables à des facteurs saisonniers'.","Se il servizio competente cantonale ha  incluso nella sua decisione una riserva relativa alla stagionalità, occorre determinare una chiave di ripartizione in base ai periodi di riferimento di due anni prima per la ripartizione delle ore perse in ore non indennizzabili (stagionali) e indennizzabili. Istruzioni sul calcolo della chiave di ripartizione e ulteriori informazioni si trovano nell’Info-Service ”Indennità per lavoro ridotto“, consultabile soltanto nel sito Internet www.area-lavoro.ch, e nel foglio di lavoro 'Perdita stagionale'. "]
[null,{"$f":"CONCATENATE(IF($A$1=3,G471,IF($A$1=2,F471,E471)))","v":"Die anrechenbaren Ausfallstunden reduzieren sich zudem um die Mehrstundensaldi (Sp. 9), soweit diese nicht durch die saisonalen Ausfallstunden getilgt werden konnten."},null,null,"Die anrechenbaren Ausfallstunden reduzieren sich zudem um die Mehrstundensaldi (Sp. 9), soweit diese nicht durch die saisonalen Ausfallstunden getilgt werden konnten.","Le solde des heures en plus (col. 9) après compensation par les heures perdues imputables à des facteurs saisonniers est porté en déduction des heures perdues à prendre en considération.","Le ore perse computabili vanno inoltre a ridurre i saldi delle ore supplementari (col. 9) nella misura in cui queste ultime non sono state compensate dalla perdita stagionale di ore di lavoro.  "]
[null,{"$f":"CONCATENATE(IF($A$1=3,G472,IF($A$1=2,F472,E472)))","v":"Hat ein Betrieb weder Mehrstunden aus Vormonaten noch saisonale Ausfallstunden aufzuweisen, entspricht die Kolonne 11 der Kolonne 8."},null,null,"Hat ein Betrieb weder Mehrstunden aus Vormonaten noch saisonale Ausfallstunden aufzuweisen, entspricht die Kolonne 11 der Kolonne 8.","Si une entreprise n'a ni heures en plus des mois précédents, ni heures perdues imputables à des facteurs saisonniers, la colonne 11 est alors identique à la colonne 8.","In assenza di ore supplementari dai mesi precedenti e di una perdita stagionale di ore di lavoro la col. 11 corrisponde al valore della col. 8. "]
[]
[{"$f":"CONCATENATE(IF($A$1=3,G474,IF($A$1=2,F474,E474)))","v":"Sp. 12: Verdienstausfall 100 %"},null,null,null,"Sp. 12: Verdienstausfall 100 %","Col. 12: Perte de gain 100 %","col. 12: perdita di guadagno 100 %"]
[{"$f":"CONCATENATE(IF($A$1=3,G475,IF($A$1=2,F475,E475)))","v":"Multiplikation der Sp. 11 mit Sp. 2. Das Total dieser Kolonne wird um das Total des Verdienstes aus Zwischenbeschäftigung reduziert und diese Differenz mit 6,05% multipliziert, was die Vergütung der Arbeitgeberbeiträge an die AHV/IV/EO/ALV ergibt. Diese Vergütung wird zum Total der Sp. 15 hinzugezählt."},null,null,null,"Multiplikation der Sp. 11 mit Sp. 2. Das Total dieser Kolonne wird um das Total des Verdienstes aus Zwischenbeschäftigung reduziert und diese Differenz mit 6,05% multipliziert, was die Vergütung der Arbeitgeberbeiträge an die AHV/IV/EO/ALV ergibt. Diese Vergütung wird zum Total der Sp. 15 hinzugezählt.","Multiplier la colonne 11 par la colonne 2. Le total de cette colonne doit être soustrait du le total du gain provenant d'une activité provisoire et la différence doit être mutlipliée par 6,05%. Le résultat obtenu correspondant à la bonification de la part patronale des cotisation AVS/AI/APG/AC) est ajouté au total de la col. 15.","Moltiplicazione della col. 11 per la col. 2. Dal totale della colonna viene sottratto il totale del redditto proveniente da un'occupazione provvisoria; la differenza che ne risulta viene moltiplicata per il 6,05%; il risultato così ottenuto corrisponde ai contributi del datore di lavoro alle assicurazioni sociali AVS/AI/IPG/AD. Tale importo viene addizionato al totale della col. 15."]
[]
[{"$f":"CONCATENATE(IF($A$1=3,G477,IF($A$1=2,F477,E477)))","v":"Sp. 13: Verdienstausfall 80 %"},null,null,null,"Sp. 13: Verdienstausfall 80 %","Col. 13: Perte de gain 80 %","col. 13: perdita di guadagno 80 %"]
[{"$f":"CONCATENATE(IF($A$1=3,G478,IF($A$1=2,F478,E478)))","v":"Die Kurzarbeitsentschädigung beträgt für jede arbeitnehmende Person 80 % des Verdienstausfalles."},null,null,null,"Die Kurzarbeitsentschädigung beträgt für jede arbeitnehmende Person 80 % des Verdienstausfalles.","Pour chaque travailleur, l'indemnité en cas de réduction de l'horaire de travail s'élève à 80% de la perte de gain.","L'indennità per lavoro ridotto corrisponde per ogni lavoratore all'80% della perdita di guadagno. "]
[]
[{"$f":"CONCATENATE(IF($A$1=3,G480,IF($A$1=2,F480,E480)))","v":"Verdienst Zwischenbeschäftigung"},null,null,null,"Verdienst Zwischenbeschäftigung","Gain provenant d’une occupation provisoire","Reddito da occupazione provvisoria"]
[{"$f":"CONCATENATE(B481,CHAR(13),CHAR(13),B482,CHAR(13),CHAR(13),B483,CHAR(13),B484,CHAR(13),B485,CHAR(13),B486)","v":"Als Einkommen aus Zwischenbeschäftigung gilt jeder Verdienst aus unselbständiger oder selbständiger Tätigkeit, den ein Kurzarbeitnehmer während seines Arbeitsausfalles zusätzlich erzielt.\r\rDer Arbeitgeber der Zwischenbeschäftigung hat dem ursprünglichen Arbeitgeber monatlich das Einkommen aus Zwischenbeschäftigung mitzuteilen (Art. 41 AVIG).\r\rAnrechenbarer Verdienstausfall 80% (Sp. 13 der Abrechnung)\r+ Verdienst aus Zwischenbeschäftigung (brutto)\r-  Verdienstausfall 100% (Sp. 12 der Abrechnung)\r= Kürzung von Sp. 15 der Abrechnung."},{"$f":"CONCATENATE(IF($A$1=3,G481,IF($A$1=2,F481,E481)))","v":"Als Einkommen aus Zwischenbeschäftigung gilt jeder Verdienst aus unselbständiger oder selbständiger Tätigkeit, den ein Kurzarbeitnehmer während seines Arbeitsausfalles zusätzlich erzielt."},null,null,"Als Einkommen aus Zwischenbeschäftigung gilt jeder Verdienst aus unselbständiger oder selbständiger Tätigkeit, den ein Kurzarbeitnehmer während seines Arbeitsausfalles zusätzlich erzielt.","Par revenu provenant d'une occupation provisoire, il faut entendre tout revenu supplémentaire pour une activité salariée ou indépendante qu'un travailleur obtient durant une interruption de travail en raison de réduction d'horaire.","È considerato reddito da occupazione provvisoria ogni reddito supplementare conseguito dal lavoratore, durante il periodo di lavoro ridotto, grazie a un'occupazione provvisoria o un’attività indipendente."]
[null,"Der Arbeitgeber der Zwischenbeschäftigung hat dem ursprünglichen Arbeitgeber monatlich das Einkommen aus Zwischenbeschäftigung mitzuteilen (Art. 41 AVIG).",null,null,"Der Arbeitgeber der Zwischenbeschäftigung hat dem ursprünglichen Arbeitgeber monatlich das Einkommen aus Zwischenbeschäftigung mitzuteilen (Art. 41 AVIG).","L'employeur procurant l'occupation provisoire doit communiquer chaque mois le revenu obtenu à l'employeur habituel (art. 41 LACI).","Il datore di lavoro dell'occupazione provvisoria deve comunicare al datore di lavoro originario con periodicità mensile il reddito conseguito, durante il periodo di lavoro ridotto, grazie all’occupazione provvisoria (cfr. art. 41 LADI)."]
[null,"Anrechenbarer Verdienstausfall 80% (Sp. 13 der Abrechnung)",null,null,"Anrechenbarer Verdienstausfall 80% (Sp. 13 der Abrechnung)","Perte de gain à prendre en considération de 80% (col. 13 du décompte)","Perdita di guadagno computabile 80% (col. 13)"]
[null,"+ Verdienst aus Zwischenbeschäftigung (brutto)",null,null,"+ Verdienst aus Zwischenbeschäftigung (brutto)","+ revenu provenant d'une occupation provisoire (brut)","+ reddito da occupazione provvisoria (lordo)"]
[null,"-  Verdienstausfall 100% (Sp. 12 der Abrechnung)",null,null,"-  Verdienstausfall 100% (Sp. 12 der Abrechnung)","-  perte de gain 100% (col. 12 du décompte)","-  perdita di guadagno 100% (col. 12)"]
[null,"= Kürzung von Sp. 15 der Abrechnung.",null,null,"= Kürzung von Sp. 15 der Abrechnung.","= Réduction du montant indiqué dans la col. 15 du décompte.","= decurtazione della col. 15"]
[]
[{"$f":"CONCATENATE(IF($A$1=3,G488,IF($A$1=2,F488,E488)))","v":"Sp. 14: Abzug Karenztage 80 %"},null,null,null,"Sp. 14: Abzug Karenztage 80 %","Col. 14: Déduction jours d'attente 80 %","col. 14: deduzione periodo di attesa 80 %"]
[{"$f":"CONCATENATE(IF($A$1=3,G489,IF($A$1=2,F489,E489)))","v":"Karenzzeit zulasten des Arbeitgebers."},null,null,null,"Karenzzeit zulasten des Arbeitgebers.","Délai d'attente à la charge de l'employeur.","Periodo di attesa a carico del datore di lavoro."]
[]
[{"$f":"CONCATENATE(IF($A$1=3,G491,IF($A$1=2,F491,E491)))","v":"Sp. 15: Beantragte Vergütung"},null,null,null,"Sp. 15: Beantragte Vergütung","Col. 15: Bonification revendiquée","col. 15: indennità rivendicata"]
[{"$f":"CONCATENATE(IF($A$1=3,G492,IF($A$1=2,F492,E492)))","v":"Sofern alle Voraussetzungen erfüllt sind, vergütet die Kasse den Betrag der sich aus der Subtraktion der Sp. 14 und des Abzugs aus Zwischenbeschäftigung von der Sp. 13 ergibt. Zum Total dieser Kolonne wird die Vergütung der Arbeitgeberbeiträge an AHV/IV/EO/ALV hinzugezählt."},null,null,null,"Sofern alle Voraussetzungen erfüllt sind, vergütet die Kasse den Betrag der sich aus der Subtraktion der Sp. 14 und des Abzugs aus Zwischenbeschäftigung von der Sp. 13 ergibt. Zum Total dieser Kolonne wird die Vergütung der Arbeitgeberbeiträge an AHV/IV/EO/ALV hinzugezählt.","Pour autant que toutes les autres conditions soient remplies, la caisse bonifie le montant qui résulte de la soustraction suivante: colonne 13 moins colonne 14. Au total de cette colonne s'ajoute la part patronale des cotisations AVS/AI/APG/AC.","Se tutti i presupposti sono adempiuti, la cassa versa l'importo che risulta dalla sottrazione della col. 14 e del reddito derivante da un'occupazione provvisoria dalla col. 13. Al totale della colonna viene aggiunta la rifusione dei contributi del datore di lavoro alle assicurazioni sociali i AVS/AI/IPG/AD."]